Workbook

Sheet synthese
A1: n° | B1: client | C1: sortie usine | D1: entrée client | E1: sortie client | F1: entrée usine | G1: T1 | H1: T2 | I1: T3
A2: 387-4 | B2: SANOFI | C2: 44752 | D2: =IFERROR(INDEX('Source globale'!$A:$D,MATCH(synthese!$A2&"-ENTER "&$B2,'Source globale'!$D:$D,0),3),"") -> 44757 | E2: =IFERROR(INDEX('Source globale'!$A:$D,MATCH(synthese!$A2&"-LEAVE "&$B2,'Source globale'!$D:$D,0),3),"") -> 44762 | F2: 44770 | G2: =D2-C2 -> 5 | H2: =E2-D2 -> 5 | I2: =F2-E2 -> 8
A3: 943-2 | B3: PFIZER | C3: 44753 | D3: =IFERROR(INDEX('Source globale'!$A:$D,MATCH(synthese!$A3&"-ENTER "&$B3,'Source globale'!$D:$D,0),3),"") | E3: =IFERROR(INDEX('Source globale'!$A:$D,MATCH(synthese!$A3&"-LEAVE "&$B3,'Source globale'!$D:$D,0),3),"") | F3: =IFERROR(INDEX('Source globale'!$A:$D,MATCH(synthese!$A3&"-ENTER USINE",'Source globale'!$D:$D,0),3),"") -> 44754 | G3: =D3-C3 -> #VALUE! | H3: =E3-D3 -> #VALUE! | I3: =F3-E3 -> #VALUE!
A4: 215-3 | B4: BAYER | C4: 44754 | D4: =IFERROR(INDEX('Source globale'!$A:$D,MATCH(synthese!$A4&"-ENTER "&$B4,'Source globale'!$D:$D,0),3),"") | E4: =IFERROR(INDEX('Source globale'!$A:$D,MATCH(synthese!$A4&"-LEAVE "&$B4,'Source globale'!$D:$D,0),3),"") -> 44757 | F4: =IFERROR(INDEX('Source globale'!$A:$D,MATCH(synthese!$A4&"-ENTER USINE",'Source globale'!$D:$D,0),3),"") -> 44762 | G4: =D4-C4 -> #VALUE! | H4: =E4-D4 -> #VALUE! | I4: =F4-E4 -> 5
A5: 211-2 | B5: BAYER | C5: =IFERROR(INDEX('Source globale'!$A:$D,MATCH(synthese!$A5&"-LEAVE USINE",'Source globale'!$D:$D,0),3),"") -> 44758 | D5: =IFERROR(INDEX('Source globale'!$A:$D,MATCH(synthese!$A5&"-ENTER "&$B5,'Source globale'!$D:$D,0),3),"") | E5: =IFERROR(INDEX('Source globale'!$A:$D,MATCH(synthese!$A5&"-LEAVE "&$B5,'Source globale'!$D:$D,0),3),"") | F5: =IFERROR(INDEX('Source globale'!$A:$D,MATCH(synthese!$A5&"-ENTER USINE",'Source globale'!$D:$D,0),3),"") | G5: =D5-C5 -> #VALUE! | H5: =E5-D5 -> #VALUE! | I5: =F5-E5 -> #VALUE!
A6: 322-3 | B6: BAYER | C6: 44759 | D6: =IFERROR(INDEX('Source globale'!$A:$D,MATCH(synthese!$A6&"-ENTER "&$B6,'Source globale'!$D:$D,0),3),"") | E6: =IFERROR(INDEX('Source globale'!$A:$D,MATCH(synthese!$A6&"-LEAVE "&$B6,'Source globale'!$D:$D,0),3),"") -> 44770 | F6: =IFERROR(INDEX('Source globale'!$A:$D,MATCH(synthese!$A6&"-ENTER USINE",'Source globale'!$D:$D,0),3),"") | G6: =D6-C6 -> #VALUE! | H6: =E6-D6 -> #VALUE! | I6: =F6-E6 -> #VALUE!
A7: 943-2 | B7: BAYER | C7: 44760 | D7: =IFERROR(INDEX('Source globale'!$A:$D,MATCH(synthese!$A7&"-ENTER "&$B7,'Source globale'!$D:$D,0),3),"") | E7: =IFERROR(INDEX('Source globale'!$A:$D,MATCH(synthese!$A7&"-LEAVE "&$B7,'Source globale'!$D:$D,0),3),"") | F7: =IFERROR(INDEX('Source globale'!$A:$D,MATCH(synthese!$A7&"-ENTER USINE",'Source globale'!$D:$D,0),3),"") -> 44754 | G7: =D7-C7 -> #VALUE! | H7: =E7-D7 -> #VALUE! | I7: =F7-E7 -> #VALUE!
A8: 319-9 | B8: PFIZER | C8: 44761 | D8: =IFERROR(INDEX('Source globale'!$A:$D,MATCH(synthese!$A8&"-ENTER "&$B8,'Source globale'!$D:$D,0),3),"") -> 44766 | E8: 44770 | F8: 44778 | G8: =D8-C8 -> 5 | H8: =E8-D8 -> 4 | I8: =F8-E8 -> 8
A9: 963-3 | B9: SANOFI | C9: =IFERROR(INDEX('Source globale'!$A:$D,MATCH(synthese!$A9&"-LEAVE USINE",'Source globale'!$D:$D,0),3),"") -> 44758 | D9: =IFERROR(INDEX('Source globale'!$A:$D,MATCH(synthese!$A9&"-ENTER "&$B9,'Source globale'!$D:$D,0),3),"") | E9: =IFERROR(INDEX('Source globale'!$A:$D,MATCH(synthese!$A9&"-LEAVE "&$B9,'Source globale'!$D:$D,0),3),"") | F9: =IFERROR(INDEX('Source globale'!$A:$D,MATCH(synthese!$A9&"-ENTER USINE",'Source globale'!$D:$D,0),3),"") | G9: =D9-C9 -> #VALUE! | H9: =E9-D9 -> #VALUE! | I9: =F9-E9 -> #VALUE!
A10: 852-2 | B10: PFIZER | C10: 44732 | D10: =IFERROR(INDEX('Source globale'!$A:$D,MATCH(synthese!$A10&"-ENTER "&$B10,'Source globale'!$D:$D,0),3),"") | E10: =IFERROR(INDEX('Source globale'!$A:$D,MATCH(synthese!$A10&"-LEAVE "&$B10,'Source globale'!$D:$D,0),3),"") | F10: =IFERROR(INDEX('Source globale'!$A:$D,MATCH(synthese!$A10&"-ENTER USINE",'Source globale'!$D:$D,0),3),"") -> 44754 | G10: =D10-C10 -> #VALUE! | H10: =E10-D10 -> #VALUE! | I10: =F10-E10 -> #VALUE!
A11: 741-0 | B11: SANOFI | C11: 44733 | D11: =IFERROR(INDEX('Source globale'!$A:$D,MATCH(synthese!$A11&"-ENTER "&$B11,'Source globale'!$D:$D,0),3),"") | E11: =IFERROR(INDEX('Source globale'!$A:$D,MATCH(synthese!$A11&"-LEAVE "&$B11,'Source globale'!$D:$D,0),3),"") -> 44770 | F11: =IFERROR(INDEX('Source globale'!$A:$D,MATCH(synthese!$A11&"-ENTER USINE",'Source globale'!$D:$D,0),3),"") | G11: =D11-C11 -> #VALUE! | H11: =E11-D11 -> #VALUE! | I11: =F11-E11 -> #VALUE!
A12: 123-3 | B12: PFIZER | C12: 44732 | D12: =IFERROR(INDEX('Source globale'!$A:$D,MATCH(synthese!$A12&"-ENTER "&$B12,'Source globale'!$D:$D,0),3),"") -> 44766 | E12: =IFERROR(INDEX('Source globale'!$A:$D,MATCH(synthese!$A12&"-LEAVE "&$B12,'Source globale'!$D:$D,0),3),"") | F12: =IFERROR(INDEX('Source globale'!$A:$D,MATCH(synthese!$A12&"-ENTER USINE",'Source globale'!$D:$D,0),3),"") | G12: =D12-C12 -> 34 | H12: =E12-D12 -> #VALUE! | I12: =F12-E12 -> #VALUE!
A13: 387-4 | B13: BAYER | C13: 44722 | D13: =IFERROR(INDEX('Source globale'!$A:$D,MATCH(synthese!$A13&"-ENTER "&$B13,'Source globale'!$D:$D,0),3),"") -> 44758 | E13: =IFERROR(INDEX('Source globale'!$A:$D,MATCH(synthese!$A13&"-LEAVE "&$B13,'Source globale'!$D:$D,0),3),"") -> 44759 | F13: =IFERROR(INDEX('Source globale'!$A:$D,MATCH(synthese!$A13&"-ENTER USINE",'Source globale'!$D:$D,0),3),"") | G13: =D13-C13 -> 36 | H13: =E13-D13 -> 1 | I13: =F13-E13 -> #VALUE!

Sheet Analyse
A1: Client | B1: T1 | C1: T2 | D1: T3
A2: =synthese!B2 -> SANOFI | B2: =synthese!G2 -> 5 | C2: =synthese!H2 -> 5 | D2: =synthese!I2 -> 8
A3: =synthese!B3 -> PFIZER | B3: =synthese!G3 -> #VALUE! | C3: =synthese!H3 -> #VALUE! | D3: =synthese!I3 -> #VALUE!
A4: =synthese!B4 -> BAYER | B4: =synthese!G4 -> #VALUE! | C4: =synthese!H4 -> #VALUE! | D4: =synthese!I4 -> 5
A5: =synthese!B5 -> BAYER | B5: =synthese!G5 -> #VALUE! | C5: =synthese!H5 -> #VALUE! | D5: =synthese!I5 -> #VALUE!
A6: =synthese!B6 -> BAYER | B6: =synthese!G6 -> #VALUE! | C6: =synthese!H6 -> #VALUE! | D6: =synthese!I6 -> #VALUE!
A7: =synthese!B7 -> BAYER | B7: =synthese!G7 -> #VALUE! | C7: =synthese!H7 -> #VALUE! | D7: =synthese!I7 -> #VALUE!
A8: =synthese!B8 -> PFIZER | B8: =synthese!G8 -> 5 | C8: =synthese!H8 -> 4 | D8: =synthese!I8 -> 8
A9: =synthese!B9 -> SANOFI | B9: =synthese!G9 -> #VALUE! | C9: =synthese!H9 -> #VALUE! | D9: =synthese!I9 -> #VALUE!
A10: =synthese!B10 -> PFIZER | B10: =synthese!G10 -> #VALUE! | C10: =synthese!H10 -> #VALUE! | D10: =synthese!I10 -> #VALUE!
A11: =synthese!B11 -> SANOFI | B11: =synthese!G11 -> #VALUE! | C11: =synthese!H11 -> #VALUE! | D11: =synthese!I11 -> #VALUE!
A12: =synthese!B12 -> PFIZER | B12: =synthese!G12 -> 34 | C12: =synthese!H12 -> #VALUE! | D12: =synthese!I12 -> #VALUE!
A13: =synthese!B13 -> BAYER | B13: =synthese!G13 -> 36 | C13: =synthese!H13 -> 1 | D13: =synthese!I13 -> #VALUE!

Sheet Source globale
A1: n° | B1: alarme | C1: date | D1: concat
A2: 387-4 | B2: ENTER SANOFI | C2: 44757 | D2: =A2&"-"&B2 -> 387-4-ENTER SANOFI
A3: 211-2 | B3: LEAVE USINE | C3: 44758 | D3: =A3&"-"&B3 -> 211-2-LEAVE USINE
A4: 943-2 | B4: ENTER USINE | C4: 44754 | D4: =A4&"-"&B4 -> 943-2-ENTER USINE
A5: 322-3 | B5: LEAVE BAYER | C5: 44770 | D5: =A5&"-"&B5 -> 322-3-LEAVE BAYER
A6: 319-9 | B6: ENTER PFIZER | C6: 44766 | D6: =A6&"-"&B6 -> 319-9-ENTER PFIZER
A7: 387-4 | B7: LEAVE SANOFI | C7: 44762 | D7: =A7&"-"&B7 -> 387-4-LEAVE SANOFI
A8: 387-4 | B8: ENTER BAYER | C8: 44758 | D8: =A8&"-"&B8 -> 387-4-ENTER BAYER
A9: 387-4 | B9: LEAVE BAYER | C9: 44759 | D9: =A9&"-"&B9 -> 387-4-LEAVE BAYER
A10: 215-3 | B10: LEAVE BAYER | C10: 44757 | D10: =A10&"-"&B10 -> 215-3-LEAVE BAYER
A11: 963-3 | B11: LEAVE USINE | C11: 44758 | D11: =A11&"-"&B11 -> 963-3-LEAVE USINE
A12: 852-2 | B12: ENTER USINE | C12: 44754 | D12: =A12&"-"&B12 -> 852-2-ENTER USINE
A13: 741-0 | B13: LEAVE SANOFI | C13: 44770 | D13: =A13&"-"&B13 -> 741-0-LEAVE SANOFI
... A15: 215-3 | B15: ENTER USINE | C15: 44762 | D15: =A15&"-"&B15 -> 215-3-ENTER USINE

Sheet SOURCE 1
A1: n° | B1: alarme | C1: date | D1: concat
A2: 387-4 | B2: ENTER SANOFI | C2: 44757 | D2: =A2&"-"&B2 -> 387-4-ENTER SANOFI
A3: 211-2 | B3: LEAVE USINE | C3: 44758 | D3: =A3&"-"&B3 -> 211-2-LEAVE USINE
A4: 943-2 | B4: ENTER USINE | C4: 44754 | D4: =A4&"-"&B4 -> 943-2-ENTER USINE
A5: 322-3 | B5: LEAVE BAYER | C5: 44770 | D5: =A5&"-"&B5 -> 322-3-LEAVE BAYER
A6: 319-9 | B6: ENTER PFIZER | C6: 44766 | D6: =A6&"-"&B6 -> 319-9-ENTER PFIZER
A7: 387-4 | B7: LEAVE SANOFI | C7: 44762 | D7: =A7&"-"&B7 -> 387-4-LEAVE SANOFI
A8: 387-4 | B8: ENTER BAYER | C8: 44758 | D8: =A8&"-"&B8 -> 387-4-ENTER BAYER
A9: 387-4 | B9: LEAVE BAYER | C9: 44759 | D9: =A9&"-"&B9 -> 387-4-LEAVE BAYER

Sheet SOURCE 2
A1: n° | B1: alarme | C1: date | D1: concat
A2: 215-3 | B2: LEAVE BAYER | C2: 44757 | D2: =A2&"-"&B2 -> 215-3-LEAVE BAYER
A3: 963-3 | B3: LEAVE USINE | C3: 44758 | D3: =A3&"-"&B3 -> 963-3-LEAVE USINE
A4: 852-2 | B4: ENTER USINE | C4: 44754 | D4: =A4&"-"&B4 -> 852-2-ENTER USINE
A5: 741-0 | B5: LEAVE SANOFI | C5: 44770 | D5: =A5&"-"&B5 -> 741-0-LEAVE SANOFI
A6: 123-3 | B6: ENTER PFIZER | C6: 44766 | D6: =A6&"-"&B6 -> 123-3-ENTER PFIZER
A7: 215-3 | B7: ENTER USINE | C7: 44762 | D7: =A7&"-"&B7 -> 215-3-ENTER USINE
