Workbook

Sheet MB times
B2: Level name | C2: My times | D2: WR times | E2: Kuskis | F2: adi | G2: AKB | H2: akesateR | I2: Bismuth | J2: Bludek | K2: BoneLESS | L2: Dash | M2: gimp | N2: GRob | O2: Jaytea | P2: kabii | Q2: Kazan | R2: Kazeta | S2: Kingy | T2: Leeland | U2: Madness | V2: markoppl | W2: Mawane | X2: mikl | Y2: Milty | Z2: Mochi | AA2: Morgan | AB2: Moszat | AC2: Pab | AD2: Pigman | AE2: Prank | AF2: Punxer | AG2: Ramzi | AH2: Roope | AI2: Stini | AJ2: Thunder | AK2: Ulaanaa | AL2: weetya | AM2: Xiphias | AN2: ylenshpigel | AO2: Zero
B3: Total Time | C3: =W3 -> 0.013921609 | D3: =SUM(D6:D135) -> 0.013248924 | E3: All | F3: =IF(F2="","",IF(F4=130, SUM(F6:F135), "N/A")) -> N/A | G3: =IF(G2="","",IF(G4=130, SUM(G6:G135), "N/A")) -> N/A | H3: =IF(H2="","",IF(H4=130, SUM(H6:H135), "N/A")) -> N/A | I3: =IF(I2="","",IF(I4=130, SUM(I6:I135), "N/A")) -> N/A | J3: =IF(J2="","",IF(J4=130, SUM(J6:J135), "N/A")) -> N/A | K3: =IF(K2="","",IF(K4=130, SUM(K6:K135), "N/A")) -> N/A | L3: =IF(L2="","",IF(L4=130, SUM(L6:L135), "N/A")) -> N/A | M3: =IF(M2="","",IF(M4=130, SUM(M6:M135), "N/A")) -> N/A | ... AO3: =IF(AO2="","",IF(AO4=130, SUM(AO6:AO135), "N/A")) -> N/A
B4: Levs finished | C4: =W4 -> 130 | D4: =COUNT(D6:D135) -> 130 | F4: =IF(COUNT(F6:F135)>0,COUNT(F6:F135),"") -> 1 | G4: =IF(COUNT(G6:G135)>0,COUNT(G6:G135),"") -> 1 | H4: =IF(COUNT(H6:H135)>0,COUNT(H6:H135),"") -> 28 | I4: =IF(COUNT(I6:I135)>0,COUNT(I6:I135),"") -> 11 | J4: =IF(COUNT(J6:J135)>0,COUNT(J6:J135),"") -> 7 | K4: =IF(COUNT(K6:K135)>0,COUNT(K6:K135),"") -> 1 | L4: =IF(COUNT(L6:L135)>0,COUNT(L6:L135),"") -> 1 | M4: =IF(COUNT(M6:M135)>0,COUNT(M6:M135),"") -> 1 | ... AO4: =IF(COUNT(AO6:AO135)>0,COUNT(AO6:AO135),"") -> 1
B5: WR amount | C5: =W5 -> 6 | D5: =SUM(F5:AO5) -> 130 | F5: =IF(COUNTIF($E$6:$E$135,F2)>0,COUNTIF($E$6:$E$135,F2),"") | G5: =IF(COUNTIF($E$6:$E$135,G2)>0,COUNTIF($E$6:$E$135,G2),"") | H5: =IF(COUNTIF($E$6:$E$135,H2)>0,COUNTIF($E$6:$E$135,H2),"") | I5: =IF(COUNTIF($E$6:$E$135,I2)>0,COUNTIF($E$6:$E$135,I2),"") | J5: =IF(COUNTIF($E$6:$E$135,J2)>0,COUNTIF($E$6:$E$135,J2),"") -> 1 | K5: =IF(COUNTIF($E$6:$E$135,K2)>0,COUNTIF($E$6:$E$135,K2),"") | L5: =IF(COUNTIF($E$6:$E$135,L2)>0,COUNTIF($E$6:$E$135,L2),"") | M5: =IF(COUNTIF($E$6:$E$135,M2)>0,COUNTIF($E$6:$E$135,M2),"") | ... AM5: =IF(COUNTIF($E$6:$E$135,AM2)>0,COUNTIF($E$6:$E$135,AM2),"") -> 7 | AO5: =IF(COUNTIF($E$6:$E$135,AO2)>0,COUNTIF($E$6:$E$135,AO2),"") -> 1
B6: MB0001 | C6: =W6 -> 8.3148148e-05 | D6: =MIN(F6:AO6) -> 8.1180556e-05 | E6: Madness | T6: 8.3055556e-05 | U6: 8.1180556e-05 | W6: 8.3148148e-05 | AC6: 8.28125e-05 | AJ6: 8.2384259e-05 | AM6: 8.1724537e-05
B7: MB0002 | C7: =W7 -> 8.681713e-05 | D7: =MIN(F7:AO7) -> 8.681713e-05 | E7: Mawane | S7: 8.96875e-05 | T7: 8.7997685e-05 | W7: 8.681713e-05 | AC7: 9.0243056e-05 | AJ7: 8.775463e-05 | AM7: 9.099537e-05
B8: MB0003 | C8: =W8 -> 0.00013127315 | D8: =MIN(F8:AO8) -> 0.00012320602 | E8: Pab | T8: 0.00012918981 | W8: 0.00013127315 | AC8: 0.00012320602 | AJ8: 0.00012711806 | AM8: 0.0001293287
B9: MB0004 | C9: =W9 -> 9.4502315e-05 | D9: =MIN(F9:AO9) -> 9.4502315e-05 | E9: Mawane | T9: 9.8391204e-05 | W9: 9.4502315e-05 | AC9: 0.00011230324 | AJ9: 9.6481481e-05
B10: MB0005 | C10: =W10 -> 7.4976852e-05 | D10: =MIN(F10:AO10) -> 7.3831019e-05 | E10: Xiphias | G10: 7.4525463e-05 | H10: 7.6006944e-05 | N10: 7.5416667e-05 | T10: 7.4641204e-05 | W10: 7.4976852e-05 | AC10: 7.5949074e-05 | AJ10: 7.5578704e-05 | AK10: 7.4814815e-05 | AM10: 7.3831019e-05
B11: MB0006 | C11: =W11 -> 7.5694444e-05 | D11: =MIN(F11:AO11) -> 7.3703704e-05 | E11: Kazeta | H11: 8.8645833e-05 | R11: 7.3703704e-05 | T11: 7.4560185e-05 | W11: 7.5694444e-05 | AC11: 7.8368056e-05 | AJ11: 7.7083333e-05 | AM11: 7.7233796e-05
B12: MB0007 | C12: =W12 -> 9.3263889e-05 | D12: =MIN(F12:AO12) -> 9.1782407e-05 | E12: Thunder | I12: 0.00010275463 | T12: 9.2569444e-05 | W12: 9.3263889e-05 | AC12: 0.00011694444 | AJ12: 9.1782407e-05 | AK12: 9.9768519e-05 | AM12: 9.5335648e-05
B13: MB0008 | C13: =W13 -> 6.2337963e-05 | D13: =MIN(F13:AO13) -> 6.2175926e-05 | E13: Leeland | S13: 6.3101852e-05 | T13: 6.2175926e-05 | W13: 6.2337963e-05 | AC13: 6.25e-05 | AJ13: 6.4155093e-05 | AM13: 6.2303241e-05
B14: MB0009 | C14: =W14 -> 8.9270833e-05 | D14: =MIN(F14:AO14) -> 8.7928241e-05 | E14: Thunder | S14: 8.9803241e-05 | T14: 8.8136574e-05 | W14: 8.9270833e-05 | AC14: 9.0081019e-05 | AJ14: 8.7928241e-05 | AK14: 9.224537e-05 | AM14: 8.9328704e-05
B15: MB0010 | C15: =W15 -> 8.1990741e-05 | D15: =MIN(F15:AO15) -> 7.9710648e-05 | E15: Thunder | M15: 7.9907407e-05 | S15: 8.0833333e-05 | T15: 8.0416667e-05 | W15: 8.1990741e-05 | AC15: 8.056713e-05 | AJ15: 7.9710648e-05 | AM15: 8.0787037e-05
B16: MB0011 | C16: =W16 -> 8.3206019e-05 | D16: =MIN(F16:AO16) -> 7.4155093e-05 | E16: Thunder | H16: 8.1886574e-05 | S16: 7.6053241e-05 | T16: 7.4525463e-05 | W16: 8.3206019e-05 | AC16: 8.0775463e-05 | AJ16: 7.4155093e-05 | AK16: 8.7743056e-05 | AM16: 7.943287e-05
B17: MB0012 | C17: =W17 -> 6.9212963e-05 | D17: =MIN(F17:AO17) -> 6.119213e-05 | E17: Pab | S17: 6.3599537e-05 | T17: 6.1689815e-05 | W17: 6.9212963e-05 | AC17: 6.119213e-05 | AJ17: 6.4421296e-05 | AM17: 6.2303241e-05
B18: MB0013 | C18: =W18 -> 0.00021553241 | D18: =MIN(F18:AO18) -> 0.00020824074 | E18: Madness | H18: 0.00021457176 | I18: 0.00022175926 | S18: 0.0002150463 | T18: 0.0002093287 | U18: 0.00020824074 | W18: 0.00021553241 | AB18: 0.00020956019 | AC18: 0.0002118287 | AJ18: 0.00020827546 | AM18: 0.00021103009
B19: MB0014 | C19: =W19 -> 0.00011951389 | D19: =MIN(F19:AO19) -> 0.000114375 | E19: markoppl | H19: 0.00012171296 | T19: 0.00011561343 | V19: 0.000114375 | W19: 0.00011951389 | AC19: 0.00011747685 | AJ19: 0.00011462963 | AK19: 0.00013041667 | AM19: 0.00011685185
B20: MB0015 | C20: =W20 -> 8.9247685e-05 | D20: =MIN(F20:AO20) -> 8.0034722e-05 | E20: Leeland | Q20: 8.1203704e-05 | S20: 8.3333333e-05 | T20: 8.0034722e-05 | W20: 8.9247685e-05 | AC20: 8.4722222e-05 | AJ20: 8.0706019e-05 | AM20: 8.0532407e-05 | AN20: 8.3564815e-05
B21: MB0016 | C21: =W21 -> 5.1134259e-05 | D21: =MIN(F21:AO21) -> 4.8564815e-05 | E21: Xiphias | S21: 4.8900463e-05 | T21: 4.9965278e-05 | W21: 5.1134259e-05 | AC21: 4.9456019e-05 | AJ21: 5.0532407e-05 | AM21: 4.8564815e-05
B22: MB0017 | C22: =W22 -> 8.2002315e-05 | D22: =MIN(F22:AO22) -> 7.4618056e-05 | E22: Pab | H22: 8.7997685e-05 | T22: 8.2650463e-05 | W22: 8.2002315e-05 | AC22: 7.4618056e-05 | AD22: 7.9108796e-05 | AJ22: 7.6018519e-05 | AK22: 8.4976852e-05 | AM22: 8.1666667e-05
B23: MB0018 | C23: =W23 -> 0.0001972338 | D23: =MIN(F23:AO23) -> 0.00019457176 | E23: Xiphias | T23: 0.00020618056 | W23: 0.0001972338 | AC23: 0.00020230324 | AJ23: 0.00019685185 | AM23: 0.00019457176
B24: MB0019 | C24: =W24 -> 0.00013181713 | D24: =MIN(F24:AO24) -> 0.00012621528 | E24: Madness | T24: 0.0001284375 | U24: 0.00012621528 | W24: 0.00013181713 | AC24: 0.0001275 | AJ24: 0.00012700231 | AM24: 0.00013164352
B25: MB0020 | C25: =W25 -> 9.5694444e-05 | D25: =MIN(F25:AO25) -> 9.1770833e-05 | E25: Madness | J25: 9.2592593e-05 | N25: 9.5e-05 | T25: 9.3287037e-05 | U25: 9.1770833e-05 | W25: 9.5694444e-05 | AC25: 9.3449074e-05 | AJ25: 9.4155093e-05 | AM25: 9.8969907e-05
B26: MB0021 | C26: =W26 -> 9.1261574e-05 | D26: =MIN(F26:AO26) -> 8.1875e-05 | E26: Leeland | H26: 9.4363426e-05 | N26: 8.8414352e-05 | S26: 8.7349537e-05 | T26: 8.1875e-05 | W26: 9.1261574e-05 | AC26: 8.4733796e-05 | AJ26: 8.3321759e-05 | AK26: 0.00010752315 | AM26: 8.6956019e-05
B27: MB0022 | C27: =W27 -> 0.00014130787 | D27: =MIN(F27:AO27) -> 0.00013729167 | E27: Thunder | N27: 0.00014157407 | S27: 0.00014268519 | T27: 0.00014304398 | W27: 0.00014130787 | AC27: 0.0001405787 | AH27: 0.00013899306 | AJ27: 0.00013729167 | AM27: 0.00013858796
B28: MB0023 | C28: =W28 -> 0.00010487269 | D28: =MIN(F28:AO28) -> 0.00010402778 | E28: Madness | H28: 0.00011538194 | N28: 0.00010828704 | S28: 0.00011159722 | T28: 0.00010421296 | U28: 0.00010402778 | W28: 0.00010487269 | AC28: 0.00010579861 | AJ28: 0.0001050463 | AM28: 0.00010518519
B29: MB0024 | C29: =W29 -> 0.00012878472 | D29: =MIN(F29:AO29) -> 0.00012376157 | E29: Thunder | H29: 0.00012959491 | T29: 0.0001244213 | W29: 0.00012878472 | AC29: 0.00012547454 | AJ29: 0.00012376157 | AM29: 0.00013385417
B30: MB0025 | C30: =W30 -> 0.00010109954 | D30: =MIN(F30:AO30) -> 9.1782407e-05 | E30: Mochi | H30: 0.0001147338 | N30: 9.9016204e-05 | P30: 9.7858796e-05 | S30: 9.7395833e-05 | T30: 9.8819444e-05 | W30: 0.00010109954 | Z30: 9.1782407e-05 | AC30: 9.8321759e-05 | AJ30: 9.2418981e-05 | AM30: 9.3159722e-05
B31: MB0026 | C31: =W31 -> 0.00012233796 | D31: =MIN(F31:AO31) -> 0.00011592593 | E31: Thunder | H31: 0.0001215625 | N31: 0.00011922454 | S31: 0.00011782407 | T31: 0.00011709491 | U31: 0.00011688657 | W31: 0.00012233796 | AC31: 0.00011846065 | AJ31: 0.00011592593 | AM31: 0.00012399306
B32: MB0027 | C32: =W32 -> 0.00010997685 | D32: =MIN(F32:AO32) -> 9.6180556e-05 | E32: Leeland | S32: 0.00011144676 | T32: 0.0001000463 | W32: 0.00010997685 | AC32: 0.00010310185 | AJ32: 9.6655093e-05 | AM32: 9.6180556e-05
B33: MB0028 | C33: =W33 -> 0.00017225694 | D33: =MIN(F33:AO33) -> 0.00015844907 | E33: Thunder | S33: 0.00017684028 | T33: 0.00016197917 | W33: 0.00017225694 | AC33: 0.00016967593 | AJ33: 0.00015844907 | AM33: 0.00016511574
B34: MB0029 | C34: =W34 -> 8.0729167e-05 | D34: =MIN(F34:AO34) -> 7.900463e-05 | E34: Leeland | S34: 8.2152778e-05 | T34: 7.900463e-05 | W34: 8.0729167e-05 | AC34: 8.2835648e-05 | AJ34: 8.0046296e-05 | AM34: 8.0208333e-05
B35: MB0030 | C35: =W35 -> 0.00017850694 | D35: =MIN(F35:AO35) -> 0.00017390046 | E35: Leeland | H35: 0.00019625 | T35: 0.00017390046 | U35: 0.00017765046 | W35: 0.00017850694 | AC35: 0.00018209491 | AJ35: 0.00017717593
B36: MB0031 | C36: =W36 -> 9.7916667e-05 | D36: =MIN(F36:AO36) -> 9.2395833e-05 | E36: Thunder | S36: 9.6319444e-05 | T36: 9.2708333e-05 | W36: 9.7916667e-05 | AC36: 9.6574074e-05 | AJ36: 9.2395833e-05 | AK36: 0.00010989583 | AM36: 9.6944444e-05
B37: MB0032 | C37: =W37 -> 0.00010715278 | D37: =MIN(F37:AO37) -> 0.00010003472 | E37: Thunder | S37: 0.00010481481 | T37: 0.00010600694 | W37: 0.00010715278 | AC37: 0.00010263889 | AJ37: 0.00010003472 | AM37: 0.00010085648
B38: MB0033 | C38: =W38 -> 9.8784722e-05 | D38: =MIN(F38:AO38) -> 9.0104167e-05 | E38: Thunder | T38: 9.7523148e-05 | W38: 9.8784722e-05 | AC38: 0.00010127315 | AJ38: 9.0104167e-05
B39: MB0034 | C39: =W39 -> 8.0138889e-05 | D39: =MIN(F39:AO39) -> 7.2928241e-05 | E39: Xiphias | T39: 7.6643519e-05 | W39: 8.0138889e-05 | AC39: 8.1319444e-05 | AJ39: 7.6099537e-05 | AK39: 8.7384259e-05 | AM39: 7.2928241e-05
B40: MB0035 | C40: =W40 -> 0.00010083333 | D40: =MIN(F40:AO40) -> 8.9837963e-05 | E40: Leeland | I40: 0.00013509259 | T40: 8.9837963e-05 | W40: 0.00010083333 | AC40: 9.0740741e-05 | AJ40: 9.8923611e-05
B41: MB0036 | C41: =W41 -> 0.00015162037 | D41: =MIN(F41:AO41) -> 0.00014943287 | E41: Thunder | H41: 0.00015462963 | N41: 0.00015387731 | T41: 0.00015462963 | W41: 0.00015162037 | AC41: 0.00015853009 | AJ41: 0.00014943287 | AK41: 0.00015284722
B42: MB0037 | C42: =W42 -> 0.00013016204 | D42: =MIN(F42:AO42) -> 0.00012266204 | E42: Thunder | T42: 0.00012701389 | W42: 0.00013016204 | AC42: 0.0001362037 | AJ42: 0.00012266204
B43: MB0038 | C43: =W43 -> 8.0138889e-05 | D43: =MIN(F43:AO43) -> 7.9039352e-05 | E43: Pab | T43: 7.9849537e-05 | W43: 8.0138889e-05 | AC43: 7.9039352e-05 | AH43: 8.1458333e-05 | AJ43: 8.025463e-05
B44: MB0039 | C44: =W44 -> 0.00018385417 | D44: =MIN(F44:AO44) -> 0.00018114583 | E44: Thunder | T44: 0.00018356481 | W44: 0.00018385417 | AC44: 0.00019857639 | AJ44: 0.00018114583 | AK44: 0.00022645833
B45: MB0040 | C45: =W45 -> 0.00016462963 | D45: =MIN(F45:AO45) -> 0.00016085648 | E45: Thunder | T45: 0.00018560185 | W45: 0.00016462963 | AC45: 0.00017505787 | AJ45: 0.00016085648
B46: MB0041 | C46: =W46 -> 6.9664352e-05 | D46: =MIN(F46:AO46) -> 6.65625e-05 | E46: Madness | S46: 6.9699074e-05 | T46: 7.28125e-05 | U46: 6.65625e-05 | W46: 6.9664352e-05 | AC46: 6.9861111e-05 | AJ46: 6.75e-05
B47: MB0042 | C47: =W47 -> 7.9259259e-05 | D47: =MIN(F47:AO47) -> 7.7372685e-05 | E47: Thunder | T47: 8.9849537e-05 | W47: 7.9259259e-05 | AC47: 7.9328704e-05 | AJ47: 7.7372685e-05
B48: MB0043 | C48: =W48 -> 0.00011689815 | D48: =MIN(F48:AO48) -> 0.00011420139 | E48: weetya | H48: 0.00012128472 | J48: 0.0001149537 | N48: 0.00011596065 | S48: 0.00011540509 | T48: 0.00011478009 | W48: 0.00011689815 | AA48: 0.00011452546 | AC48: 0.00011575231 | AJ48: 0.00011453704 | AK48: 0.00012055556 | AL48: 0.00011420139
B49: MB0044 | C49: =W49 -> 0.0001446412 | D49: =MIN(F49:AO49) -> 0.00013990741 | E49: Madness | S49: 0.00014206019 | T49: 0.00014346065 | U49: 0.00013990741 | W49: 0.0001446412 | AC49: 0.0001399537 | AJ49: 0.00014020833 | AM49: 0.00015391204
B50: MB0045 | C50: =W50 -> 8.7974537e-05 | D50: =MIN(F50:AO50) -> 8.7835648e-05 | E50: Thunder | S50: 9.5e-05 | T50: 9.0127315e-05 | W50: 8.7974537e-05 | AC50: 9.3599537e-05 | AJ50: 8.7835648e-05 | AM50: 8.7905093e-05
B51: MB0046 | C51: =W51 -> 7.4409722e-05 | D51: =MIN(F51:AO51) -> 7.1030093e-05 | E51: Pab | H51: 7.6886574e-05 | N51: 7.3344907e-05 | S51: 7.3877315e-05 | T51: 7.2719907e-05 | W51: 7.4409722e-05 | AC51: 7.1030093e-05 | AJ51: 7.2824074e-05 | AM51: 7.4074074e-05
B52: MB0047 | C52: =W52 -> 0.00015783565 | D52: =MIN(F52:AO52) -> 0.00014667824 | E52: Madness | H52: 0.00016803241 | T52: 0.00016641204 | U52: 0.00014667824 | W52: 0.00015783565 | AA52: 0.00014997685 | AC52: 0.00016145833 | AJ52: 0.00015501157
B53: MB0048 | C53: =W53 -> 7.3483796e-05 | D53: =MIN(F53:AO53) -> 6.6041667e-05 | E53: Bludek | J53: 6.6041667e-05 | O53: 6.8506944e-05 | S53: 7.2523148e-05 | T53: 7.0844907e-05 | W53: 7.3483796e-05 | AC53: 7.0023148e-05 | AJ53: 6.7430556e-05 | AM53: 6.837963e-05
B54: MB0049 | C54: =W54 -> 0.00014090278 | D54: =MIN(F54:AO54) -> 0.0001371412 | E54: Xiphias | T54: 0.00015002315 | W54: 0.00014090278 | AC54: 0.00015700231 | AJ54: 0.00014636574 | AM54: 0.0001371412
B55: MB0050 | C55: =W55 -> 7.5775463e-05 | D55: =MIN(F55:AO55) -> 7.5335648e-05 | E55: Madness | I55: 7.7696759e-05 | T55: 7.8472222e-05 | U55: 7.5335648e-05 | W55: 7.5775463e-05 | AC55: 7.9074074e-05 | AJ55: 7.6574074e-05
B56: MB0051 | C56: =W56 -> 4.4780093e-05 | D56: =MIN(F56:AO56) -> 4.4143519e-05 | E56: Moszat | H56: 4.8194444e-05 | J56: 4.474537e-05 | Q56: 4.4189815e-05 | R56: 4.4398148e-05 | S56: 4.5798611e-05 | T56: 4.474537e-05 | U56: 4.4594907e-05 | W56: 4.4780093e-05 | AB56: 4.4143519e-05 | AC56: 4.4490741e-05 | AJ56: 4.4791667e-05
B57: MB0052 | C57: =W57 -> 6.2662037e-05 | D57: =MIN(F57:AO57) -> 6.1712963e-05 | E57: Pab | N57: 6.2256944e-05 | S57: 6.3263889e-05 | T57: 6.6608796e-05 | W57: 6.2662037e-05 | AC57: 6.1712963e-05 | AJ57: 6.400463e-05 | AM57: 6.318287e-05
B58: MB0053 | C58: =W58 -> 7.7986111e-05 | D58: =MIN(F58:AO58) -> 7.5289352e-05 | E58: Pab | T58: 7.6122685e-05 | W58: 7.7986111e-05 | AC58: 7.5289352e-05 | AJ58: 7.7152778e-05 | AM58: 7.7638889e-05
B59: MB0054 | C59: =W59 -> 0.00018157407 | D59: =MIN(F59:AO59) -> 0.00016162037 | E59: jaytea | O59: 0.00016162037 | T59: 0.00016263889 | W59: 0.00018157407 | AC59: 0.00017444444 | AJ59: 0.00017070602 | AM59: 0.00016803241
B60: MB0055 | C60: =W60 -> 9.7928241e-05 | D60: =MIN(F60:AO60) -> 9.2303241e-05 | E60: markoppl | N60: 9.6898148e-05 | O60: 9.4780093e-05 | Q60: 9.3611111e-05 | R60: 9.3252315e-05 | S60: 9.6597222e-05 | T60: 9.3900463e-05 | V60: 9.2303241e-05 | W60: 9.7928241e-05 | AC60: 9.619213e-05 | AH60: 9.7824074e-05 | AJ60: 9.3229167e-05 | AK60: 0.00010128472
B61: MB0056 | C61: =W61 -> 0.00010725694 | D61: =MIN(F61:AO61) -> 9.0810185e-05 | E61: Thunder | T61: 9.1516204e-05 | W61: 0.00010725694 | AC61: 0.00010055556 | AJ61: 9.0810185e-05
B62: MB0057 | C62: =W62 -> 0.00011644676 | D62: =MIN(F62:AO62) -> 0.00011355324 | E62: Thunder | H62: 0.0001203125 | T62: 0.00011556713 | U62: 0.00011408565 | W62: 0.00011644676 | AC62: 0.00011847222 | AJ62: 0.00011355324 | AK62: 0.00011773148
B63: MB0058 | C63: 6.3877315e-05 | D63: =MIN(F63:AO63) -> 6.0659722e-05 | E63: Leeland | T63: 6.0659722e-05 | W63: 6.5023148e-05 | AC63: 6.6203704e-05 | AJ63: 6.1828704e-05
B64: MB0059 | C64: =W64 -> 6.8668981e-05 | D64: =MIN(F64:AO64) -> 6.5601852e-05 | E64: Thunder | N64: 7.0127315e-05 | P64: 6.650463e-05 | T64: 7.2418981e-05 | W64: 6.8668981e-05 | AC64: 6.7824074e-05 | AJ64: 6.5601852e-05
B65: MB0060 | C65: =W65 -> 8.84375e-05 | D65: =MIN(F65:AO65) -> 8.6516204e-05 | E65: Moszat | I65: 8.8263889e-05 | S65: 8.9768519e-05 | T65: 8.7858796e-05 | U65: 8.6898148e-05 | W65: 8.84375e-05 | AB65: 8.6516204e-05 | AC65: 9.5486111e-05 | AJ65: 9.0543981e-05 | AK65: 9.7326389e-05
B66: MB0061 | C66: =W66 -> 9.9328704e-05 | D66: =MIN(F66:AO66) -> 9.431713e-05 | E66: Thunder | H66: 0.00010090278 | N66: 9.5868056e-05 | T66: 9.4965278e-05 | W66: 9.9328704e-05 | AC66: 0.00011741898 | AJ66: 9.431713e-05
B67: MB0062 | C67: =W67 -> 7.9097222e-05 | D67: =MIN(F67:AO67) -> 7.2986111e-05 | E67: Thunder | S67: 8.287037e-05 | T67: 7.3657407e-05 | W67: 7.9097222e-05 | AC67: 7.6342593e-05 | AJ67: 7.2986111e-05 | AK67: 8.5335648e-05
B68: MB0063 | C68: =W68 -> 8.5138889e-05 | D68: =MIN(F68:AO68) -> 7.7511574e-05 | E68: Thunder | T68: 8.0138889e-05 | W68: 8.5138889e-05 | AC68: 7.7824074e-05 | AJ68: 7.7511574e-05
B69: MB0064 | C69: =W69 -> 0.00013335648 | D69: =MIN(F69:AO69) -> 0.00012420139 | E69: Thunder | N69: 0.00012597222 | S69: 0.00012421296 | T69: 0.00012436343 | W69: 0.00013335648 | AC69: 0.00012730324 | AJ69: 0.00012420139
B70: MB0065 | C70: =W70 -> 0.00011640046 | D70: =MIN(F70:AO70) -> 8.8842593e-05 | E70: Leeland | S70: 9.412037e-05 | T70: 8.8842593e-05 | W70: 0.00011640046 | AC70: 0.00010295139 | AJ70: 9.9016204e-05
B71: MB0066 | C71: =W71 -> 0.00010528935 | D71: =MIN(F71:AO71) -> 9.4884259e-05 | E71: Pab | L71: 0.00010789352 | N71: 0.00011479167 | S71: 0.00011094907 | T71: 0.00011476852 | W71: 0.00010528935 | AC71: 9.4884259e-05 | AI71: 0.00010265046 | AJ71: 0.00011023148
B72: MB0067 | C72: =W72 -> 0.0001259375 | D72: =MIN(F72:AO72) -> 0.00012364583 | E72: Kazan | F72: 0.0001249537 | H72: 0.00013003472 | I72: 0.00013685185 | N72: 0.00012574074 | Q72: 0.00012364583 | S72: 0.0001334838 | T72: 0.00012628472 | W72: 0.0001259375 | AC72: 0.00012395833 | AJ72: 0.00012634259
B73: MB0068 | C73: =W73 -> 0.00012886574 | D73: =MIN(F73:AO73) -> 0.00012369213 | E73: Kazan | H73: 0.00014177083 | Q73: 0.00012369213 | T73: 0.00012373843 | W73: 0.00012886574 | AC73: 0.00012664352 | AJ73: 0.00012659722
B74: MB0069 | C74: =W74 -> 7.4328704e-05 | D74: =MIN(F74:AO74) -> 6.931713e-05 | E74: Thunder | N74: 7.7256944e-05 | T74: 7.4560185e-05 | W74: 7.4328704e-05 | AC74: 7.5104167e-05 | AJ74: 6.931713e-05
B75: MB0070 | C75: =W75 -> 0.00011487269 | D75: =MIN(F75:AO75) -> 0.00011100694 | E75: Thunder | I75: 0.00012056713 | J75: 0.00011229167 | T75: 0.00011453704 | W75: 0.00011487269 | AC75: 0.00011461806 | AJ75: 0.00011100694
B76: MB0071 | C76: =W76 -> 9.0509259e-05 | D76: =MIN(F76:AO76) -> 8.9247685e-05 | E76: Kazan | N76: 9.3009259e-05 | Q76: 8.9247685e-05 | S76: 9.193287e-05 | T76: 9.1145833e-05 | W76: 9.0509259e-05 | AC76: 9.1064815e-05 | AJ76: 9.0104167e-05
B77: MB0072 | C77: =W77 -> 8.4247685e-05 | D77: =MIN(F77:AO77) -> 7.7280093e-05 | E77: Pab | T77: 8.3333333e-05 | W77: 8.4247685e-05 | AC77: 7.7280093e-05 | AJ77: 8.6851852e-05
B78: MB0073 | C78: =W78 -> 5.9756944e-05 | D78: =MIN(F78:AO78) -> 5.9328704e-05 | E78: Thunder | I78: 6.3576389e-05 | T78: 6.3981481e-05 | W78: 5.9756944e-05 | AC78: 6.2986111e-05 | AJ78: 5.9328704e-05
B79: MB0074 | C79: =W79 -> 6.087963e-05 | D79: =MIN(F79:AO79) -> 5.90625e-05 | E79: Thunder | H79: 6.5381944e-05 | T79: 5.9456019e-05 | W79: 6.087963e-05 | AC79: 9.5833333e-05 | AJ79: 5.90625e-05 | AM79: 6.6469907e-05
B80: MB0075 | C80: =W80 -> 9.056713e-05 | D80: =MIN(F80:AO80) -> 8.8981481e-05 | E80: Kazan | N80: 9.3113426e-05 | Q80: 8.8981481e-05 | T80: 9.0740741e-05 | W80: 9.056713e-05 | AC80: 9.4872685e-05 | AJ80: 9.0914352e-05
B81: MB0076 | C81: =W81 -> 0.00012408565 | D81: =MIN(F81:AO81) -> 0.00011758102 | E81: Leeland | T81: 0.00011758102 | W81: 0.00012408565 | AC81: 0.00011778935 | AJ81: 0.0001205787
B82: MB0077 | C82: =W82 -> 0.00011909722 | D82: =MIN(F82:AO82) -> 0.00011539352 | E82: Pab | T82: 0.00011831019 | W82: 0.00011909722 | AC82: 0.00011539352 | AH82: 0.00012609954 | AJ82: 0.00012042824
B83: MB0078 | C83: =W83 -> 8.4224537e-05 | D83: =MIN(F83:AO83) -> 8.181713e-05 | E83: Xiphias | H83: 9.4282407e-05 | S83: 8.4976852e-05 | T83: 8.3645833e-05 | W83: 8.4224537e-05 | AC83: 8.2673611e-05 | AJ83: 8.5162037e-05 | AM83: 8.181713e-05
B84: MB0079 | C84: =W84 -> 9.0277778e-05 | D84: =MIN(F84:AO84) -> 8.9282407e-05 | E84: Kazeta | H84: 9.7534722e-05 | N84: 9.5208333e-05 | R84: 8.9282407e-05 | S84: 0.00010373843 | T84: 9.6041667e-05 | W84: 9.0277778e-05 | AC84: 8.9953704e-05 | AJ84: 9.3506944e-05
B85: MB0080 | C85: =W85 -> 9.9826389e-05 | D85: =MIN(F85:AO85) -> 9.2662037e-05 | E85: Pab | N85: 9.9467593e-05 | T85: 9.4456019e-05 | W85: 9.9826389e-05 | AC85: 9.2662037e-05 | AJ85: 9.494213e-05
B86: MB0081 | C86: =W86 -> 9.6979167e-05 | D86: =MIN(F86:AO86) -> 9.3287037e-05 | E86: Thunder | T86: 9.4097222e-05 | W86: 9.6979167e-05 | AC86: 9.5763889e-05 | AJ86: 9.3287037e-05
B87: MB0082 | C87: =W87 -> 0.00012915509 | D87: =MIN(F87:AO87) -> 0.00012915509 | E87: Mawane | N87: 0.00012978009 | T87: 0.00013103009 | W87: 0.00012915509 | AC87: 0.00012916667 | AJ87: 0.00013200231 | AK87: 0.00014987269
B88: MB0083 | C88: =W88 -> 0.00012880787 | D88: =MIN(F88:AO88) -> 0.00012680556 | E88: Kazan | I88: 0.00015836806 | K88: 0.00013715278 | N88: 0.00013377315 | Q88: 0.00012680556 | T88: 0.00013032407 | W88: 0.00012880787 | AC88: 0.00013748843 | AJ88: 0.00013380787 | AK88: 0.00014498843
B89: MB0084 | C89: =W89 -> 6.2314815e-05 | D89: =MIN(F89:AO89) -> 6.0081019e-05 | E89: Prank | H89: 6.3657407e-05 | N89: 6.1979167e-05 | P89: 6.2152778e-05 | S89: 6.1597222e-05 | T89: 6.1076389e-05 | W89: 6.2314815e-05 | AC89: 6.0138889e-05 | AE89: 6.0081019e-05 | AJ89: 6.1921296e-05 | AM89: 6.1041667e-05
B90: MB0085 | C90: =W90 -> 0.00025390046 | D90: =MIN(F90:AO90) -> 0.00024143519 | E90: Thunder | J90: 0.00025152778 | Q90: 0.00024233796 | T90: 0.00025167824 | W90: 0.00025390046 | AC90: 0.00025221065 | AJ90: 0.00024143519 | AK90: 0.00028042824 | AM90: 0.00024782407
B91: MB0086 | C91: =W91 -> 0.00010856481 | D91: =MIN(F91:AO91) -> 0.00010407407 | E91: Pab | N91: 0.00010634259 | S91: 0.0001072338 | T91: 0.00010762731 | W91: 0.00010856481 | AC91: 0.00010407407 | AJ91: 0.00010539352 | AM91: 0.00010765046
B92: MB0087 | C92: =W92 -> 6.3298611e-05 | D92: =MIN(F92:AO92) -> 6.3298611e-05 | E92: Mawane | N92: 6.6215278e-05 | T92: 6.4340278e-05 | W92: 6.3298611e-05 | AC92: 6.3877315e-05 | AJ92: 6.6875e-05 | AM92: 6.4490741e-05
B93: MB0088 | C93: =W93 -> 8.4236111e-05 | D93: =MIN(F93:AO93) -> 8.4027778e-05 | E93: Madness | I93: 8.5648148e-05 | T93: 8.5474537e-05 | U93: 8.4027778e-05 | W93: 8.4236111e-05 | AC93: 8.5034722e-05 | AJ93: 8.5706019e-05 | AK93: 0.00010685185 | AM93: 8.4328704e-05
B94: MB0089 | C94: =W94 -> 0.00012811343 | D94: =MIN(F94:AO94) -> 0.00012431713 | E94: Xiphias | T94: 0.00012456019 | W94: 0.00012811343 | AC94: 0.00012638889 | AJ94: 0.00012556713 | AK94: 0.00012765046 | AM94: 0.00012431713
B95: MB0090 | C95: =W95 -> 7.1388889e-05 | D95: =MIN(F95:AO95) -> 6.8321759e-05 | E95: Kazan | N95: 7.1238426e-05 | P95: 7.1030093e-05 | Q95: 6.8321759e-05 | S95: 7.2615741e-05 | T95: 7.2905093e-05 | U95: 7.068287e-05 | W95: 7.1388889e-05 | AC95: 7.1759259e-05 | AJ95: 7.130787e-05 | AK95: 7.8055556e-05 | AM95: 7.1828704e-05
B96: MB0091 | C96: =W96 -> 7.9097222e-05 | D96: =MIN(F96:AO96) -> 7.6226852e-05 | E96: Thunder | N96: 7.9699074e-05 | O96: 7.7002315e-05 | S96: 8.0972222e-05 | T96: 8.4375e-05 | W96: 7.9097222e-05 | AC96: 7.8969907e-05 | AF96: 8.0763889e-05 | AJ96: 7.6226852e-05 | AM96: 7.8993056e-05
B97: MB0092 | C97: =W97 -> 0.00010549769 | D97: =MIN(F97:AO97) -> 0.00010298611 | E97: Madness | Q97: 0.0001031713 | T97: 0.00010674769 | U97: 0.00010298611 | W97: 0.00010549769 | AC97: 0.00010892361 | AJ97: 0.00010561343 | AM97: 0.00010324074
B98: MB0093 | C98: =W98 -> 5.2094907e-05 | D98: =MIN(F98:AO98) -> 4.6736111e-05 | E98: Madness | T98: 4.912037e-05 | U98: 4.6736111e-05 | W98: 5.2094907e-05 | AC98: 4.9212963e-05 | AJ98: 4.8877315e-05 | AM98: 4.8900463e-05
B99: MB0094 | C99: =W99 -> 9.1574074e-05 | D99: =MIN(F99:AO99) -> 8.7638889e-05 | E99: Kazan | H99: 0.00010850694 | Q99: 8.7638889e-05 | T99: 9.0960648e-05 | W99: 9.1574074e-05 | AC99: 9.1238426e-05 | AJ99: 9.0104167e-05 | AK99: 0.00010961806 | AM99: 9.462963e-05
B100: MB0095 | C100: =W100 -> 8.8263889e-05 | D100: =MIN(F100:AO100) -> 8.5092593e-05 | E100: Pab | T100: 8.8310185e-05 | W100: 8.8263889e-05 | AC100: 8.5092593e-05 | AJ100: 8.775463e-05 | AM100: 8.5671296e-05
B101: MB0096 | C101: =W101 -> 0.00012084491 | D101: =MIN(F101:AO101) -> 0.00011493056 | E101: markoppl | H101: 0.00012959491 | Q101: 0.00011612269 | T101: 0.00011859954 | V101: 0.00011493056 | W101: 0.00012084491 | AB101: 0.00011509259 | AC101: 0.00012247685 | AJ101: 0.00011773148 | AM101: 0.00011701389
...

Sheet Stats
B2: Exact time | E2: Rounded .25s | H2: Rounded .5s | K2: Rounded 1s | N2: Position | O2: Time | P2: Rounded .25 | Q2: Rounded .5 | R2: Rounded 1 | S2: Level
B3: Shortest level | C3: =MIN('MB times'!D6:D135) -> 4.4143519e-05 | E3: Mode | F3: =MODE(P3:P132) -> 8.9699074e-05 | H3: Mode | I3: =MODE(Q3:Q132) -> 8.6805556e-05 | K3: Mode | L3: =MODE(R3:R132) -> 9.2592593e-05 | N3: 1 | O3: 4.4780093e-05 | P3: =MROUND(O3,2.89351851851852E-06) -> 4.3402778e-05 | Q3: =MROUND(O3,5.78703703703704E-06) -> 4.6296296e-05 | R3: =MROUND(O3,0.0000115740740740741) -> 4.6296296e-05 | S3: MB0051
B4: Longuest level | C4: =MAX('MB times'!D6:D135) -> 0.00024143519 | E4: Median | F4: =MEDIAN(P3:P132) -> 9.837963e-05 | H4: Median | I4: =MEDIAN(Q3:Q132) -> 9.837963e-05 | K4: Median | L4: =MEDIAN(R3:R132) -> 9.837963e-05 | N4: 2 | O4: 5.1134259e-05 | P4: =MROUND(O4,2.89351851851852E-06) -> 5.2083333e-05 | Q4: =MROUND(O4,5.78703703703704E-06) -> 5.2083333e-05 | R4: =MROUND(O4,0.0000115740740740741) -> 4.6296296e-05 | S4: MB0016
B5: Mode | C5: =MODE(O3:O132) -> 7.9097222e-05 | E5: Average | F5: =MROUND(AVERAGE('MB times'!D6:D135),2.89351851851852E-06) -> 0.00010127315 | H5: Average | I5: =MROUND(AVERAGE(Q3:Q132),(2.89351851851852E-06*2)) -> 0.0001099537 | K5: Average | L5: =MROUND(AVERAGE(R3:R132),(2.89351851851852E-06*4)) -> 0.00010416667 | N5: 3 | O5: 5.2094907e-05 | P5: =MROUND(O5,2.89351851851852E-06) -> 5.2083333e-05 | Q5: =MROUND(O5,5.78703703703704E-06) -> 5.2083333e-05 | R5: =MROUND(O5,0.0000115740740740741) -> 5.787037e-05 | S5: MB0093
B6: Median | C6: =MEDIAN('MB times'!D6:D135) -> 9.2042824e-05 | E6: Time | F6: Frequency | H6: Time | I6: Frequency | K6: Time | L6: Frequency | N6: 4 | O6: 5.2152778e-05 | P6: =MROUND(O6,2.89351851851852E-06) -> 5.2083333e-05 | Q6: =MROUND(O6,5.78703703703704E-06) -> 5.2083333e-05 | R6: =MROUND(O6,0.0000115740740740741) -> 5.787037e-05 | S6: MB0111
B7: Average time | C7: =AVERAGE('MB times'!D6:D135) -> 0.0001019148 | E7: Total | F7: =SUM(F8:F84) -> 130 | H7: Total | I7: =SUM(I8:I46) -> 130 | K7: Total | L7: =SUM(L8:L28) -> 130 | N7: 5 | O7: 5.9756944e-05 | P7: =MROUND(O7,2.89351851851852E-06) -> 6.0763889e-05 | Q7: =MROUND(O7,5.78703703703704E-06) -> 5.787037e-05 | R7: =MROUND(O7,0.0000115740740740741) -> 5.787037e-05 | S7: MB0073
B8: Standart deviation | C8: =STDEVP('MB times'!D6:D135) -> 3.4199464e-05 | E8: 3.4722222e-05 | F8: =COUNTIF($O$3:$O$132,">="&L29)-COUNTIF($O$3:$O$132,">="&L42) -> 0 | H8: 3.4722222e-05 | I8: =COUNTIF($O$3:$O$132,">="&K29)-COUNTIF($O$3:$O$132,">="&K36) -> 0 | K8: 3.4722222e-05 | L8: =COUNTIF($O$3:$O$132,">="&I48)-COUNTIF($O$3:$O$132,">="&I52) -> 0 | N8: 6 | O8: 6.087963e-05 | P8: =MROUND(O8,2.89351851851852E-06) -> 6.0763889e-05 | Q8: =MROUND(O8,5.78703703703704E-06) -> 6.3657407e-05 | R8: =MROUND(O8,0.0000115740740740741) -> 5.787037e-05 | S8: MB0074
E9: 3.7615741e-05 | F9: =COUNTIF($O$3:$O$132,">="&L42)-COUNTIF($O$3:$O$132,">="&L43) -> 0 | H9: 4.0509259e-05 | I9: =COUNTIF($O$3:$O$132,">="&K36)-COUNTIF($O$3:$O$132,">="&K37) -> 0 | K9: 4.6296296e-05 | L9: =COUNTIF($O$3:$O$132,">="&I52)-COUNTIF($O$3:$O$132,">="&I53) -> 2 | N9: 7 | O9: 6.1689815e-05 | P9: =MROUND(O9,2.89351851851852E-06) -> 6.0763889e-05 | Q9: =MROUND(O9,5.78703703703704E-06) -> 6.3657407e-05 | R9: =MROUND(O9,0.0000115740740740741) -> 5.787037e-05 | S9: MB0130
B10: Scroll right and down | E10: 4.0509259e-05 | F10: =COUNTIF($O$3:$O$132,">="&L43)-COUNTIF($O$3:$O$132,">="&L44) -> 0 | H10: 4.6296296e-05 | I10: =COUNTIF($O$3:$O$132,">="&K37)-COUNTIF($O$3:$O$132,">="&K38) -> 1 | K10: 5.787037e-05 | L10: =COUNTIF($O$3:$O$132,">="&I53)-COUNTIF($O$3:$O$132,">="&I54) -> 9 | N10: 8 | O10: 6.2314815e-05 | P10: =MROUND(O10,2.89351851851852E-06) -> 6.3657407e-05 | Q10: =MROUND(O10,5.78703703703704E-06) -> 6.3657407e-05 | R10: =MROUND(O10,0.0000115740740740741) -> 5.787037e-05 | S10: MB0084
B11: for more stats :) | E11: 4.3402778e-05 | F11: =COUNTIF($O$3:$O$132,">="&L44)-COUNTIF($O$3:$O$132,">="&L45) -> 1 | H11: 5.2083333e-05 | I11: =COUNTIF($O$3:$O$132,">="&K38)-COUNTIF($O$3:$O$132,">="&K39) -> 3 | K11: 6.9444444e-05 | L11: =COUNTIF($O$3:$O$132,">="&I54)-COUNTIF($O$3:$O$132,">="&I55) -> 10 | N11: 9 | O11: 6.2337963e-05 | P11: =MROUND(O11,2.89351851851852E-06) -> 6.3657407e-05 | Q11: =MROUND(O11,5.78703703703704E-06) -> 6.3657407e-05 | R11: =MROUND(O11,0.0000115740740740741) -> 5.787037e-05 | S11: MB0008
E12: 4.6296296e-05 | F12: =COUNTIF($O$3:$O$132,">="&L45)-COUNTIF($O$3:$O$132,">="&L46) -> 0 | H12: 5.787037e-05 | I12: =COUNTIF($O$3:$O$132,">="&K39)-COUNTIF($O$3:$O$132,">="&K40) -> 1 | K12: 8.1018519e-05 | L12: =COUNTIF($O$3:$O$132,">="&I55)-COUNTIF($O$3:$O$132,">="&I56) -> 20 | N12: 10 | O12: 6.2662037e-05 | P12: =MROUND(O12,2.89351851851852E-06) -> 6.3657407e-05 | Q12: =MROUND(O12,5.78703703703704E-06) -> 6.3657407e-05 | R12: =MROUND(O12,0.0000115740740740741) -> 5.787037e-05 | S12: MB0052
E13: 4.9189815e-05 | F13: =COUNTIF($O$3:$O$132,">="&L46)-COUNTIF($O$3:$O$132,">="&L47) -> 0 | H13: 6.3657407e-05 | I13: =COUNTIF($O$3:$O$132,">="&K40)-COUNTIF($O$3:$O$132,">="&K41) -> 7 | K13: 9.2592593e-05 | L13: =COUNTIF($O$3:$O$132,">="&I56)-COUNTIF($O$3:$O$132,">="&I57) -> 24 | N13: 11 | O13: 6.3298611e-05 | P13: =MROUND(O13,2.89351851851852E-06) -> 6.3657407e-05 | Q13: =MROUND(O13,5.78703703703704E-06) -> 6.3657407e-05 | R13: =MROUND(O13,0.0000115740740740741) -> 5.787037e-05 | S13: MB0087
E14: 5.2083333e-05 | F14: =COUNTIF($O$3:$O$132,">="&L47)-COUNTIF($O$3:$O$132,">="&L48) -> 3 | H14: 6.9444444e-05 | I14: =COUNTIF($O$3:$O$132,">="&K41)-COUNTIF($O$3:$O$132,">="&K42) -> 5 | K14: 0.00010416667 | L14: =COUNTIF($O$3:$O$132,">="&I57)-COUNTIF($O$3:$O$132,">="&I58) -> 15 | N14: 12 | O14: 6.3877315e-05 | P14: =MROUND(O14,2.89351851851852E-06) -> 6.3657407e-05 | Q14: =MROUND(O14,5.78703703703704E-06) -> 6.3657407e-05 | R14: =MROUND(O14,0.0000115740740740741) -> 6.9444444e-05 | S14: MB0058
E15: 5.4976852e-05 | F15: =COUNTIF($O$3:$O$132,">="&L48)-COUNTIF($O$3:$O$132,">="&L49) -> 0 | H15: 7.5231481e-05 | I15: =COUNTIF($O$3:$O$132,">="&K42)-COUNTIF($O$3:$O$132,">="&K43) -> 7 | K15: 0.00011574074 | L15: =COUNTIF($O$3:$O$132,">="&I58)-COUNTIF($O$3:$O$132,">="&I59) -> 11 | N15: 13 | O15: 6.8668981e-05 | P15: =MROUND(O15,2.89351851851852E-06) -> 6.9444444e-05 | Q15: =MROUND(O15,5.78703703703704E-06) -> 6.9444444e-05 | R15: =MROUND(O15,0.0000115740740740741) -> 6.9444444e-05 | S15: MB0059
E16: 5.787037e-05 | F16: =COUNTIF($O$3:$O$132,">="&L49)-COUNTIF($O$3:$O$132,">="&L50) -> 0 | H16: 8.1018519e-05 | I16: =COUNTIF($O$3:$O$132,">="&K43)-COUNTIF($O$3:$O$132,">="&K44) -> 12 | K16: 0.00012731481 | L16: =COUNTIF($O$3:$O$132,">="&I59)-COUNTIF($O$3:$O$132,">="&I60) -> 14 | N16: 14 | O16: 6.9108796e-05 | P16: =MROUND(O16,2.89351851851852E-06) -> 6.9444444e-05 | Q16: =MROUND(O16,5.78703703703704E-06) -> 6.9444444e-05 | R16: =MROUND(O16,0.0000115740740740741) -> 6.9444444e-05 | S16: MB0123
E17: 6.0763889e-05 | F17: =COUNTIF($O$3:$O$132,">="&L50)-COUNTIF($O$3:$O$132,">="&L51) -> 3 | H17: 8.6805556e-05 | I17: =COUNTIF($O$3:$O$132,">="&K44)-COUNTIF($O$3:$O$132,">="&K45) -> 13 | K17: 0.00013888889 | L17: =COUNTIF($O$3:$O$132,">="&I60)-COUNTIF($O$3:$O$132,">="&I61) -> 10 | N17: 15 | O17: 6.9212963e-05 | P17: =MROUND(O17,2.89351851851852E-06) -> 6.9444444e-05 | Q17: =MROUND(O17,5.78703703703704E-06) -> 6.9444444e-05 | R17: =MROUND(O17,0.0000115740740740741) -> 6.9444444e-05 | S17: MB0012
E18: 6.3657407e-05 | F18: =COUNTIF($O$3:$O$132,">="&L51)-COUNTIF($O$3:$O$132,">="&L52) -> 5 | H18: 9.2592593e-05 | I18: =COUNTIF($O$3:$O$132,">="&K45)-COUNTIF($O$3:$O$132,">="&K46) -> 11 | K18: 0.00015046296 | L18: =COUNTIF($O$3:$O$132,">="&I61)-COUNTIF($O$3:$O$132,">="&I62) -> 3 | N18: 16 | O18: 6.9664352e-05 | P18: =MROUND(O18,2.89351851851852E-06) -> 6.9444444e-05 | Q18: =MROUND(O18,5.78703703703704E-06) -> 6.9444444e-05 | R18: =MROUND(O18,0.0000115740740740741) -> 6.9444444e-05 | S18: MB0041
E19: 6.6550926e-05 | F19: =COUNTIF($O$3:$O$132,">="&L52)-COUNTIF($O$3:$O$132,">="&L53) -> 0 | H19: 9.837963e-05 | I19: =COUNTIF($O$3:$O$132,">="&K46)-COUNTIF($O$3:$O$132,">="&K47) -> 10 | K19: 0.00016203704 | L19: =COUNTIF($O$3:$O$132,">="&I62)-COUNTIF($O$3:$O$132,">="&I63) -> 4 | N19: 17 | O19: 7.1388889e-05 | P19: =MROUND(O19,2.89351851851852E-06) -> 7.2337963e-05 | Q19: =MROUND(O19,5.78703703703704E-06) -> 6.9444444e-05 | R19: =MROUND(O19,0.0000115740740740741) -> 6.9444444e-05 | S19: MB0090
E20: 6.9444444e-05 | F20: =COUNTIF($O$3:$O$132,">="&L53)-COUNTIF($O$3:$O$132,">="&L54) -> 4 | H20: 0.00010416667 | I20: =COUNTIF($O$3:$O$132,">="&K47)-COUNTIF($O$3:$O$132,">="&K48) -> 5 | K20: 0.00017361111 | L20: =COUNTIF($O$3:$O$132,">="&I63)-COUNTIF($O$3:$O$132,">="&I64) -> 2 | N20: 18 | O20: 7.3483796e-05 | P20: =MROUND(O20,2.89351851851852E-06) -> 7.2337963e-05 | Q20: =MROUND(O20,5.78703703703704E-06) -> 7.5231481e-05 | R20: =MROUND(O20,0.0000115740740740741) -> 6.9444444e-05 | S20: MB0048
E21: 7.2337963e-05 | F21: =COUNTIF($O$3:$O$132,">="&L54)-COUNTIF($O$3:$O$132,">="&L55) -> 2 | H21: 0.0001099537 | I21: =COUNTIF($O$3:$O$132,">="&K48)-COUNTIF($O$3:$O$132,">="&K49) -> 6 | K21: 0.00018518519 | L21: =COUNTIF($O$3:$O$132,">="&I64)-COUNTIF($O$3:$O$132,">="&I65) -> 2 | N21: 19 | O21: 7.4328704e-05 | P21: =MROUND(O21,2.89351851851852E-06) -> 7.5231481e-05 | Q21: =MROUND(O21,5.78703703703704E-06) -> 7.5231481e-05 | R21: =MROUND(O21,0.0000115740740740741) -> 6.9444444e-05 | S21: MB0069
E22: 7.5231481e-05 | F22: =COUNTIF($O$3:$O$132,">="&L55)-COUNTIF($O$3:$O$132,">="&L56) -> 5 | H22: 0.00011574074 | I22: =COUNTIF($O$3:$O$132,">="&K49)-COUNTIF($O$3:$O$132,">="&K50) -> 5 | K22: 0.00019675926 | L22: =COUNTIF($O$3:$O$132,">="&I65)-COUNTIF($O$3:$O$132,">="&I66) -> 1 | N22: 20 | O22: 7.4409722e-05 | P22: =MROUND(O22,2.89351851851852E-06) -> 7.5231481e-05 | Q22: =MROUND(O22,5.78703703703704E-06) -> 7.5231481e-05 | R22: =MROUND(O22,0.0000115740740740741) -> 6.9444444e-05 | S22: MB0046
E23: 7.8125e-05 | F23: =COUNTIF($O$3:$O$132,">="&L56)-COUNTIF($O$3:$O$132,">="&L57) -> 4 | H23: 0.00012152778 | I23: =COUNTIF($O$3:$O$132,">="&K50)-COUNTIF($O$3:$O$132,">="&K51) -> 7 | K23: 0.00020833333 | L23: =COUNTIF($O$3:$O$132,">="&I66)-COUNTIF($O$3:$O$132,">="&I67) -> 1 | N23: 21 | O23: 7.4976852e-05 | P23: =MROUND(O23,2.89351851851852E-06) -> 7.5231481e-05 | Q23: =MROUND(O23,5.78703703703704E-06) -> 7.5231481e-05 | R23: =MROUND(O23,0.0000115740740740741) -> 6.9444444e-05 | S23: MB0005
... E27: 8.9699074e-05 | F27: =COUNTIF($O$3:$O$132,">="&L60)-COUNTIF($O$3:$O$132,">="&L61) -> 8 | H27: 0.00014467593 | I27: =COUNTIF($O$3:$O$132,">="&K54)-COUNTIF($O$3:$O$132,">="&K55) -> 4 | K27: 0.00025462963 | L27: =COUNTIF($O$3:$O$132,">="&I70)-COUNTIF($O$3:$O$132,">="&I71) -> 1 | N27: 25 | O27: 7.9097222e-05 | P27: =MROUND(O27,2.89351851851852E-06) -> 7.8125e-05 | Q27: =MROUND(O27,5.78703703703704E-06) -> 8.1018519e-05 | R27: =MROUND(O27,0.0000115740740740741) -> 8.1018519e-05 | S27: MB0062
E28: 9.2592593e-05 | F28: =COUNTIF($O$3:$O$132,">="&L61)-COUNTIF($O$3:$O$132,">="&L62) -> 7 | H28: 0.00015046296 | I28: =COUNTIF($O$3:$O$132,">="&K55)-COUNTIF($O$3:$O$132,">="&K56) -> 1 | N28: 26 | O28: 7.9097222e-05 | P28: =MROUND(O28,2.89351851851852E-06) -> 7.8125e-05 | Q28: =MROUND(O28,5.78703703703704E-06) -> 8.1018519e-05 | R28: =MROUND(O28,0.0000115740740740741) -> 8.1018519e-05 | S28: MB0091
E29: 9.5486111e-05 | F29: =COUNTIF($O$3:$O$132,">="&L62)-COUNTIF($O$3:$O$132,">="&L63) -> 2 | H29: 0.00015625 | I29: =COUNTIF($O$3:$O$132,">="&K56)-COUNTIF($O$3:$O$132,">="&K57) -> 2 | K29: 0 | L29: 0 | N29: 27 | O29: 7.9259259e-05 | P29: =MROUND(O29,2.89351851851852E-06) -> 7.8125e-05 | Q29: =MROUND(O29,5.78703703703704E-06) -> 8.1018519e-05 | R29: =MROUND(O29,0.0000115740740740741) -> 8.1018519e-05 | S29: MB0042
E30: 9.837963e-05 | F30: =COUNTIF($O$3:$O$132,">="&L63)-COUNTIF($O$3:$O$132,">="&L64) -> 6 | H30: 0.00016203704 | I30: =COUNTIF($O$3:$O$132,">="&K57)-COUNTIF($O$3:$O$132,">="&K58) -> 2 | K30: 2.8935185e-06 | L30: 1.4467593e-06 | N30: 28 | O30: 8.0138889e-05 | P30: =MROUND(O30,2.89351851851852E-06) -> 8.1018519e-05 | Q30: =MROUND(O30,5.78703703703704E-06) -> 8.1018519e-05 | R30: =MROUND(O30,0.0000115740740740741) -> 8.1018519e-05 | S30: MB0034
E31: 0.00010127315 | F31: =COUNTIF($O$3:$O$132,">="&L64)-COUNTIF($O$3:$O$132,">="&L65) -> 3 | H31: 0.00016782407 | I31: =COUNTIF($O$3:$O$132,">="&K58)-COUNTIF($O$3:$O$132,">="&K59) -> 1 | K31: =K30+5.78703703703704E-06 -> 8.6805556e-06 | L31: =L30+2.89351851851852E-06 -> 4.3402778e-06 | N31: 29 | O31: 8.0138889e-05 | P31: =MROUND(O31,2.89351851851852E-06) -> 8.1018519e-05 | Q31: =MROUND(O31,5.78703703703704E-06) -> 8.1018519e-05 | R31: =MROUND(O31,0.0000115740740740741) -> 8.1018519e-05 | S31: MB0038
E32: 0.00010416667 | F32: =COUNTIF($O$3:$O$132,">="&L65)-COUNTIF($O$3:$O$132,">="&L66) -> 5 | H32: 0.00017361111 | I32: =COUNTIF($O$3:$O$132,">="&K59)-COUNTIF($O$3:$O$132,">="&K60) -> 1 | K32: =K31+5.78703703703704E-06 -> 1.4467593e-05 | L32: =L31+2.89351851851852E-06 -> 7.2337963e-06 | N32: 30 | O32: 8.0729167e-05 | P32: =MROUND(O32,2.89351851851852E-06) -> 8.1018519e-05 | Q32: =MROUND(O32,5.78703703703704E-06) -> 8.1018519e-05 | R32: =MROUND(O32,0.0000115740740740741) -> 8.1018519e-05 | S32: MB0029
E33: 0.00010706019 | F33: =COUNTIF($O$3:$O$132,">="&L66)-COUNTIF($O$3:$O$132,">="&L67) -> 2 | H33: 0.00017939815 | I33: =COUNTIF($O$3:$O$132,">="&K60)-COUNTIF($O$3:$O$132,">="&K61) -> 2 | K33: =K32+5.78703703703704E-06 -> 2.025463e-05 | L33: =L32+2.89351851851852E-06 -> 1.0127315e-05 | N33: 31 | O33: 8.1655093e-05 | P33: =MROUND(O33,2.89351851851852E-06) -> 8.1018519e-05 | Q33: =MROUND(O33,5.78703703703704E-06) -> 8.1018519e-05 | R33: =MROUND(O33,0.0000115740740740741) -> 8.1018519e-05 | S33: MB0107
E34: 0.0001099537 | F34: =COUNTIF($O$3:$O$132,">="&L67)-COUNTIF($O$3:$O$132,">="&L68) -> 4 | H34: 0.00018518519 | I34: =COUNTIF($O$3:$O$132,">="&K61)-COUNTIF($O$3:$O$132,">="&K62) -> 1 | K34: =K33+5.78703703703704E-06 -> 2.6041667e-05 | L34: =L33+2.89351851851852E-06 -> 1.3020833e-05 | N34: 32 | O34: 8.1990741e-05 | P34: =MROUND(O34,2.89351851851852E-06) -> 8.1018519e-05 | Q34: =MROUND(O34,5.78703703703704E-06) -> 8.1018519e-05 | R34: =MROUND(O34,0.0000115740740740741) -> 8.1018519e-05 | S34: MB0010
E35: 0.00011284722 | F35: =COUNTIF($O$3:$O$132,">="&L68)-COUNTIF($O$3:$O$132,">="&L69) -> 0 | H35: 0.00019097222 | I35: =COUNTIF($O$3:$O$132,">="&K62)-COUNTIF($O$3:$O$132,">="&K63) -> 0 | K35: =K34+5.78703703703704E-06 -> 3.1828704e-05 | L35: =L34+2.89351851851852E-06 -> 1.5914352e-05 | N35: 33 | O35: 8.2002315e-05 | P35: =MROUND(O35,2.89351851851852E-06) -> 8.1018519e-05 | Q35: =MROUND(O35,5.78703703703704E-06) -> 8.1018519e-05 | R35: =MROUND(O35,0.0000115740740740741) -> 8.1018519e-05 | S35: MB0017
E36: 0.00011574074 | F36: =COUNTIF($O$3:$O$132,">="&L69)-COUNTIF($O$3:$O$132,">="&L70) -> 5 | H36: 0.00019675926 | I36: =COUNTIF($O$3:$O$132,">="&K63)-COUNTIF($O$3:$O$132,">="&K64) -> 1 | K36: =K35+5.78703703703704E-06 -> 3.7615741e-05 | L36: =L35+2.89351851851852E-06 -> 1.880787e-05 | N36: 34 | O36: 8.3148148e-05 | P36: =MROUND(O36,2.89351851851852E-06) -> 8.3912037e-05 | Q36: =MROUND(O36,5.78703703703704E-06) -> 8.1018519e-05 | R36: =MROUND(O36,0.0000115740740740741) -> 8.1018519e-05 | S36: MB0001
E37: 0.00011863426 | F37: =COUNTIF($O$3:$O$132,">="&L70)-COUNTIF($O$3:$O$132,">="&L71) -> 3 | H37: 0.0002025463 | I37: =COUNTIF($O$3:$O$132,">="&K64)-COUNTIF($O$3:$O$132,">="&K65) -> 1 | K37: =K36+5.78703703703704E-06 -> 4.3402778e-05 | L37: =L36+2.89351851851852E-06 -> 2.1701389e-05 | N37: 35 | O37: 8.3206019e-05 | P37: =MROUND(O37,2.89351851851852E-06) -> 8.3912037e-05 | Q37: =MROUND(O37,5.78703703703704E-06) -> 8.1018519e-05 | R37: =MROUND(O37,0.0000115740740740741) -> 8.1018519e-05 | S37: MB0011
E38: 0.00012152778 | F38: =COUNTIF($O$3:$O$132,">="&L71)-COUNTIF($O$3:$O$132,">="&L72) -> 3 | H38: 0.00020833333 | I38: =COUNTIF($O$3:$O$132,">="&K65)-COUNTIF($O$3:$O$132,">="&K66) -> 0 | K38: =K37+5.78703703703704E-06 -> 4.9189815e-05 | L38: =L37+2.89351851851852E-06 -> 2.4594907e-05 | N38: 36 | O38: 8.3611111e-05 | P38: =MROUND(O38,2.89351851851852E-06) -> 8.3912037e-05 | Q38: =MROUND(O38,5.78703703703704E-06) -> 8.1018519e-05 | R38: =MROUND(O38,0.0000115740740740741) -> 8.1018519e-05 | S38: MB0114
E39: 0.0001244213 | F39: =COUNTIF($O$3:$O$132,">="&L72)-COUNTIF($O$3:$O$132,">="&L73) -> 2 | H39: 0.00021412037 | I39: =COUNTIF($O$3:$O$132,">="&K66)-COUNTIF($O$3:$O$132,">="&K67) -> 1 | K39: =K38+5.78703703703704E-06 -> 5.4976852e-05 | L39: =L38+2.89351851851852E-06 -> 2.7488426e-05 | N39: 37 | O39: 8.4224537e-05 | P39: =MROUND(O39,2.89351851851852E-06) -> 8.3912037e-05 | Q39: =MROUND(O39,5.78703703703704E-06) -> 8.6805556e-05 | R39: =MROUND(O39,0.0000115740740740741) -> 8.1018519e-05 | S39: MB0078
E40: 0.00012731481 | F40: =COUNTIF($O$3:$O$132,">="&L73)-COUNTIF($O$3:$O$132,">="&L74) -> 2 | H40: 0.00021990741 | I40: =COUNTIF($O$3:$O$132,">="&K67)-COUNTIF($O$3:$O$132,">="&K68) -> 0 | K40: =K39+5.78703703703704E-06 -> 6.0763889e-05 | L40: =L39+2.89351851851852E-06 -> 3.0381944e-05 | N40: 38 | O40: 8.4236111e-05 | P40: =MROUND(O40,2.89351851851852E-06) -> 8.3912037e-05 | Q40: =MROUND(O40,5.78703703703704E-06) -> 8.6805556e-05 | R40: =MROUND(O40,0.0000115740740740741) -> 8.1018519e-05 | S40: MB0088
E41: 0.00013020833 | F41: =COUNTIF($O$3:$O$132,">="&L74)-COUNTIF($O$3:$O$132,">="&L75) -> 7 | H41: 0.00022569444 | I41: =COUNTIF($O$3:$O$132,">="&K68)-COUNTIF($O$3:$O$132,">="&K69) -> 0 | K41: =K40+5.78703703703704E-06 -> 6.6550926e-05 | L41: =L40+2.89351851851852E-06 -> 3.3275463e-05 | N41: 39 | O41: 8.4247685e-05 | P41: =MROUND(O41,2.89351851851852E-06) -> 8.3912037e-05 | Q41: =MROUND(O41,5.78703703703704E-06) -> 8.6805556e-05 | R41: =MROUND(O41,0.0000115740740740741) -> 8.1018519e-05 | S41: MB0072
E42: 0.00013310185 | F42: =COUNTIF($O$3:$O$132,">="&L75)-COUNTIF($O$3:$O$132,">="&L76) -> 3 | H42: 0.00023148148 | I42: =COUNTIF($O$3:$O$132,">="&K69)-COUNTIF($O$3:$O$132,">="&K70) -> 0 | K42: =K41+5.78703703703704E-06 -> 7.2337963e-05 | L42: =L41+2.89351851851852E-06 -> 3.6168981e-05 | N42: 40 | O42: 8.5138889e-05 | P42: =MROUND(O42,2.89351851851852E-06) -> 8.3912037e-05 | Q42: =MROUND(O42,5.78703703703704E-06) -> 8.6805556e-05 | R42: =MROUND(O42,0.0000115740740740741) -> 8.1018519e-05 | S42: MB0063
... E46: 0.00014467593 | F46: =COUNTIF($O$3:$O$132,">="&L79)-COUNTIF($O$3:$O$132,">="&L80) -> 3 | H46: 0.00025462963 | I46: =COUNTIF($O$3:$O$132,">="&K73)-COUNTIF($O$3:$O$132,">="&K74) -> 1 | K46: =K45+5.78703703703704E-06 -> 9.5486111e-05 | L46: =L45+2.89351851851852E-06 -> 4.7743056e-05 | N46: 44 | O46: 8.7974537e-05 | P46: =MROUND(O46,2.89351851851852E-06) -> 8.6805556e-05 | Q46: =MROUND(O46,5.78703703703704E-06) -> 8.6805556e-05 | R46: =MROUND(O46,0.0000115740740740741) -> 9.2592593e-05 | S46: MB0045
E47: 0.00014756944 | F47: =COUNTIF($O$3:$O$132,">="&L80)-COUNTIF($O$3:$O$132,">="&L81) -> 0 | K47: =K46+5.78703703703704E-06 -> 0.00010127315 | L47: =L46+2.89351851851852E-06 -> 5.0636574e-05 | N47: 45 | O47: 8.8263889e-05 | P47: =MROUND(O47,2.89351851851852E-06) -> 8.9699074e-05 | Q47: =MROUND(O47,5.78703703703704E-06) -> 8.6805556e-05 | R47: =MROUND(O47,0.0000115740740740741) -> 9.2592593e-05 | S47: MB0095
E48: 0.00015046296 | F48: =COUNTIF($O$3:$O$132,">="&L81)-COUNTIF($O$3:$O$132,">="&L82) -> 1 | I48: 0 | K48: =K47+5.78703703703704E-06 -> 0.00010706019 | L48: =L47+2.89351851851852E-06 -> 5.3530093e-05 | N48: 46 | O48: 8.84375e-05 | P48: =MROUND(O48,2.89351851851852E-06) -> 8.9699074e-05 | Q48: =MROUND(O48,5.78703703703704E-06) -> 8.6805556e-05 | R48: =MROUND(O48,0.0000115740740740741) -> 9.2592593e-05 | S48: MB0060
E49: 0.00015335648 | F49: =COUNTIF($O$3:$O$132,">="&L82)-COUNTIF($O$3:$O$132,">="&L83) -> 1 | I49: 5.787037e-06 | K49: =K48+5.78703703703704E-06 -> 0.00011284722 | L49: =L48+2.89351851851852E-06 -> 5.6423611e-05 | N49: 47 | O49: 8.9085648e-05 | P49: =MROUND(O49,2.89351851851852E-06) -> 8.9699074e-05 | Q49: =MROUND(O49,5.78703703703704E-06) -> 8.6805556e-05 | R49: =MROUND(O49,0.0000115740740740741) -> 9.2592593e-05 | S49: MB0124
E50: 0.00015625 | F50: =COUNTIF($O$3:$O$132,">="&L83)-COUNTIF($O$3:$O$132,">="&L84) -> 0 | I50: =I49+0.0000115740740740741 -> 1.7361111e-05 | K50: =K49+5.78703703703704E-06 -> 0.00011863426 | L50: =L49+2.89351851851852E-06 -> 5.931713e-05 | N50: 48 | O50: 8.9247685e-05 | P50: =MROUND(O50,2.89351851851852E-06) -> 8.9699074e-05 | Q50: =MROUND(O50,5.78703703703704E-06) -> 8.6805556e-05 | R50: =MROUND(O50,0.0000115740740740741) -> 9.2592593e-05 | S50: MB0015
E51: 0.00015914352 | F51: =COUNTIF($O$3:$O$132,">="&L84)-COUNTIF($O$3:$O$132,">="&L85) -> 1 | I51: =I50+0.0000115740740740741 -> 2.8935185e-05 | K51: =K50+5.78703703703704E-06 -> 0.0001244213 | L51: =L50+2.89351851851852E-06 -> 6.2210648e-05 | N51: 49 | O51: 8.9270833e-05 | P51: =MROUND(O51,2.89351851851852E-06) -> 8.9699074e-05 | Q51: =MROUND(O51,5.78703703703704E-06) -> 8.6805556e-05 | R51: =MROUND(O51,0.0000115740740740741) -> 9.2592593e-05 | S51: MB0009
E52: 0.00016203704 | F52: =COUNTIF($O$3:$O$132,">="&L85)-COUNTIF($O$3:$O$132,">="&L86) -> 1 | I52: =I51+0.0000115740740740741 -> 4.0509259e-05 | K52: =K51+5.78703703703704E-06 -> 0.00013020833 | L52: =L51+2.89351851851852E-06 -> 6.5104167e-05 | N52: 50 | O52: 9.0277778e-05 | P52: =MROUND(O52,2.89351851851852E-06) -> 8.9699074e-05 | Q52: =MROUND(O52,5.78703703703704E-06) -> 9.2592593e-05 | R52: =MROUND(O52,0.0000115740740740741) -> 9.2592593e-05 | S52: MB0079
E53: 0.00016493056 | F53: =COUNTIF($O$3:$O$132,">="&L86)-COUNTIF($O$3:$O$132,">="&L87) -> 1 | I53: =I52+0.0000115740740740741 -> 5.2083333e-05 | K53: =K52+5.78703703703704E-06 -> 0.00013599537 | L53: =L52+2.89351851851852E-06 -> 6.7997685e-05 | N53: 51 | O53: 9.0509259e-05 | P53: =MROUND(O53,2.89351851851852E-06) -> 8.9699074e-05 | Q53: =MROUND(O53,5.78703703703704E-06) -> 9.2592593e-05 | R53: =MROUND(O53,0.0000115740740740741) -> 9.2592593e-05 | S53: MB0071
E54: 0.00016782407 | F54: =COUNTIF($O$3:$O$132,">="&L87)-COUNTIF($O$3:$O$132,">="&L88) -> 1 | I54: =I53+0.0000115740740740741 -> 6.3657407e-05 | K54: =K53+5.78703703703704E-06 -> 0.00014178241 | L54: =L53+2.89351851851852E-06 -> 7.0891204e-05 | N54: 52 | O54: 9.056713e-05 | P54: =MROUND(O54,2.89351851851852E-06) -> 8.9699074e-05 | Q54: =MROUND(O54,5.78703703703704E-06) -> 9.2592593e-05 | R54: =MROUND(O54,0.0000115740740740741) -> 9.2592593e-05 | S54: MB0075
E55: 0.00017071759 | F55: =COUNTIF($O$3:$O$132,">="&L88)-COUNTIF($O$3:$O$132,">="&L89) -> 0 | I55: =I54+0.0000115740740740741 -> 7.5231481e-05 | K55: =K54+5.78703703703704E-06 -> 0.00014756944 | L55: =L54+2.89351851851852E-06 -> 7.3784722e-05 | N55: 53 | O55: 9.1261574e-05 | P55: =MROUND(O55,2.89351851851852E-06) -> 9.2592593e-05 | Q55: =MROUND(O55,5.78703703703704E-06) -> 9.2592593e-05 | R55: =MROUND(O55,0.0000115740740740741) -> 9.2592593e-05 | S55: MB0021
E56: 0.00017361111 | F56: =COUNTIF($O$3:$O$132,">="&L89)-COUNTIF($O$3:$O$132,">="&L90) -> 1 | I56: =I55+0.0000115740740740741 -> 8.6805556e-05 | K56: =K55+5.78703703703704E-06 -> 0.00015335648 | L56: =L55+2.89351851851852E-06 -> 7.6678241e-05 | N56: 54 | O56: 9.1574074e-05 | P56: =MROUND(O56,2.89351851851852E-06) -> 9.2592593e-05 | Q56: =MROUND(O56,5.78703703703704E-06) -> 9.2592593e-05 | R56: =MROUND(O56,0.0000115740740740741) -> 9.2592593e-05 | S56: MB0094
E57: 0.00017650463 | F57: =COUNTIF($O$3:$O$132,">="&L90)-COUNTIF($O$3:$O$132,">="&L91) -> 0 | I57: =I56+0.0000115740740740741 -> 9.837963e-05 | K57: =K56+5.78703703703704E-06 -> 0.00015914352 | L57: =L56+2.89351851851852E-06 -> 7.9571759e-05 | N57: 55 | O57: 9.2997685e-05 | P57: =MROUND(O57,2.89351851851852E-06) -> 9.2592593e-05 | Q57: =MROUND(O57,5.78703703703704E-06) -> 9.2592593e-05 | R57: =MROUND(O57,0.0000115740740740741) -> 9.2592593e-05 | S57: MB0102
E58: 0.00017939815 | F58: =COUNTIF($O$3:$O$132,">="&L91)-COUNTIF($O$3:$O$132,">="&L92) -> 1 | I58: =I57+0.0000115740740740741 -> 0.0001099537 | K58: =K57+5.78703703703704E-06 -> 0.00016493056 | L58: =L57+2.89351851851852E-06 -> 8.2465278e-05 | N58: 56 | O58: 9.3263889e-05 | P58: =MROUND(O58,2.89351851851852E-06) -> 9.2592593e-05 | Q58: =MROUND(O58,5.78703703703704E-06) -> 9.2592593e-05 | R58: =MROUND(O58,0.0000115740740740741) -> 9.2592593e-05 | S58: MB0007
E59: 0.00018229167 | F59: =COUNTIF($O$3:$O$132,">="&L92)-COUNTIF($O$3:$O$132,">="&L93) -> 1 | I59: =I58+0.0000115740740740741 -> 0.00012152778 | K59: =K58+5.78703703703704E-06 -> 0.00017071759 | L59: =L58+2.89351851851852E-06 -> 8.5358796e-05 | N59: 57 | O59: 9.3472222e-05 | P59: =MROUND(O59,2.89351851851852E-06) -> 9.2592593e-05 | Q59: =MROUND(O59,5.78703703703704E-06) -> 9.2592593e-05 | R59: =MROUND(O59,0.0000115740740740741) -> 9.2592593e-05 | S59: MB0110
E60: 0.00018518519 | F60: =COUNTIF($O$3:$O$132,">="&L93)-COUNTIF($O$3:$O$132,">="&L94) -> 1 | I60: =I59+0.0000115740740740741 -> 0.00013310185 | K60: =K59+5.78703703703704E-06 -> 0.00017650463 | L60: =L59+2.89351851851852E-06 -> 8.8252315e-05 | N60: 58 | O60: 9.3622685e-05 | P60: =MROUND(O60,2.89351851851852E-06) -> 9.2592593e-05 | Q60: =MROUND(O60,5.78703703703704E-06) -> 9.2592593e-05 | R60: =MROUND(O60,0.0000115740740740741) -> 9.2592593e-05 | S60: MB0118
E61: 0.0001880787 | F61: =COUNTIF($O$3:$O$132,">="&L94)-COUNTIF($O$3:$O$132,">="&L95) -> 0 | I61: =I60+0.0000115740740740741 -> 0.00014467593 | K61: =K60+5.78703703703704E-06 -> 0.00018229167 | L61: =L60+2.89351851851852E-06 -> 9.1145833e-05 | N61: 59 | O61: 9.3726852e-05 | P61: =MROUND(O61,2.89351851851852E-06) -> 9.2592593e-05 | Q61: =MROUND(O61,5.78703703703704E-06) -> 9.2592593e-05 | R61: =MROUND(O61,0.0000115740740740741) -> 9.2592593e-05 | S61: MB0128
... E71: 0.00021701389 | F71: =COUNTIF($O$3:$O$132,">="&L104)-COUNTIF($O$3:$O$132,">="&L105) -> 0 | I71: =I70+0.0000115740740740741 -> 0.00026041667 | K71: =K70+5.78703703703704E-06 -> 0.00024016204 | L71: =L70+2.89351851851852E-06 -> 0.00012008102 | N71: 69 | O71: 0.00010083333 | P71: =MROUND(O71,2.89351851851852E-06) -> 0.00010127315 | Q71: =MROUND(O71,5.78703703703704E-06) -> 9.837963e-05 | R71: =MROUND(O71,0.0000115740740740741) -> 0.00010416667 | S71: MB0035
E72: 0.00021990741 | F72: =COUNTIF($O$3:$O$132,">="&L105)-COUNTIF($O$3:$O$132,">="&L106) -> 0 | K72: =K71+5.78703703703704E-06 -> 0.00024594907 | L72: =L71+2.89351851851852E-06 -> 0.00012297454 | N72: 70 | O72: 0.00010109954 | P72: =MROUND(O72,2.89351851851852E-06) -> 0.00010127315 | Q72: =MROUND(O72,5.78703703703704E-06) -> 9.837963e-05 | R72: =MROUND(O72,0.0000115740740740741) -> 0.00010416667 | S72: MB0025
E73: 0.00022280093 | F73: =COUNTIF($O$3:$O$132,">="&L106)-COUNTIF($O$3:$O$132,">="&L107) -> 0 | K73: =K72+5.78703703703704E-06 -> 0.00025173611 | L73: =L72+2.89351851851852E-06 -> 0.00012586806 | N73: 71 | O73: 0.00010384259 | P73: =MROUND(O73,2.89351851851852E-06) -> 0.00010416667 | Q73: =MROUND(O73,5.78703703703704E-06) -> 0.00010416667 | R73: =MROUND(O73,0.0000115740740740741) -> 0.00010416667 | S73: MB0109
E74: 0.00022569444 | F74: =COUNTIF($O$3:$O$132,">="&L107)-COUNTIF($O$3:$O$132,">="&L108) -> 0 | K74: =K73+5.78703703703704E-06 -> 0.00025752315 | L74: =L73+2.89351851851852E-06 -> 0.00012876157 | N74: 72 | O74: 0.00010454861 | P74: =MROUND(O74,2.89351851851852E-06) -> 0.00010416667 | Q74: =MROUND(O74,5.78703703703704E-06) -> 0.00010416667 | R74: =MROUND(O74,0.0000115740740740741) -> 0.00010416667 | S74: MB0100
E75: 0.00022858796 | F75: =COUNTIF($O$3:$O$132,">="&L108)-COUNTIF($O$3:$O$132,">="&L109) -> 0 | L75: =L74+2.89351851851852E-06 -> 0.00013165509 | N75: 73 | O75: 0.00010487269 | P75: =MROUND(O75,2.89351851851852E-06) -> 0.00010416667 | Q75: =MROUND(O75,5.78703703703704E-06) -> 0.00010416667 | R75: =MROUND(O75,0.0000115740740740741) -> 0.00010416667 | S75: MB0023
E76: 0.00023148148 | F76: =COUNTIF($O$3:$O$132,">="&L109)-COUNTIF($O$3:$O$132,">="&L110) -> 0 | L76: =L75+2.89351851851852E-06 -> 0.00013454861 | N76: 74 | O76: 0.00010528935 | P76: =MROUND(O76,2.89351851851852E-06) -> 0.00010416667 | Q76: =MROUND(O76,5.78703703703704E-06) -> 0.00010416667 | R76: =MROUND(O76,0.0000115740740740741) -> 0.00010416667 | S76: MB0066
E77: 0.000234375 | F77: =COUNTIF($O$3:$O$132,">="&L110)-COUNTIF($O$3:$O$132,">="&L111) -> 0 | L77: =L76+2.89351851851852E-06 -> 0.00013744213 | N77: 75 | O77: 0.00010549769 | P77: =MROUND(O77,2.89351851851852E-06) -> 0.00010416667 | Q77: =MROUND(O77,5.78703703703704E-06) -> 0.00010416667 | R77: =MROUND(O77,0.0000115740740740741) -> 0.00010416667 | S77: MB0092
E78: 0.00023726852 | F78: =COUNTIF($O$3:$O$132,">="&L111)-COUNTIF($O$3:$O$132,">="&L112) -> 0 | L78: =L77+2.89351851851852E-06 -> 0.00014033565 | N78: 76 | O78: 0.00010715278 | P78: =MROUND(O78,2.89351851851852E-06) -> 0.00010706019 | Q78: =MROUND(O78,5.78703703703704E-06) -> 0.0001099537 | R78: =MROUND(O78,0.0000115740740740741) -> 0.00010416667 | S78: MB0032
E79: 0.00024016204 | F79: =COUNTIF($O$3:$O$132,">="&L112)-COUNTIF($O$3:$O$132,">="&L113) -> 0 | L79: =L78+2.89351851851852E-06 -> 0.00014322917 | N79: 77 | O79: 0.00010725694 | P79: =MROUND(O79,2.89351851851852E-06) -> 0.00010706019 | Q79: =MROUND(O79,5.78703703703704E-06) -> 0.0001099537 | R79: =MROUND(O79,0.0000115740740740741) -> 0.00010416667 | S79: MB0056
E80: 0.00024305556 | F80: =COUNTIF($O$3:$O$132,">="&L113)-COUNTIF($O$3:$O$132,">="&L114) -> 0 | L80: =L79+2.89351851851852E-06 -> 0.00014612269 | N80: 78 | O80: 0.00010856481 | P80: =MROUND(O80,2.89351851851852E-06) -> 0.0001099537 | Q80: =MROUND(O80,5.78703703703704E-06) -> 0.0001099537 | R80: =MROUND(O80,0.0000115740740740741) -> 0.00010416667 | S80: MB0086
E81: 0.00024594907 | F81: =COUNTIF($O$3:$O$132,">="&L114)-COUNTIF($O$3:$O$132,">="&L115) -> 0 | L81: =L80+2.89351851851852E-06 -> 0.0001490162 | N81: 79 | O81: 0.00010988426 | P81: =MROUND(O81,2.89351851851852E-06) -> 0.0001099537 | Q81: =MROUND(O81,5.78703703703704E-06) -> 0.0001099537 | R81: =MROUND(O81,0.0000115740740740741) -> 0.00010416667 | S81: MB0125
E82: 0.00024884259 | F82: =COUNTIF($O$3:$O$132,">="&L115)-COUNTIF($O$3:$O$132,">="&L116) -> 0 | L82: =L81+2.89351851851852E-06 -> 0.00015190972 | N82: 80 | O82: 0.00010993056 | P82: =MROUND(O82,2.89351851851852E-06) -> 0.0001099537 | Q82: =MROUND(O82,5.78703703703704E-06) -> 0.0001099537 | R82: =MROUND(O82,0.0000115740740740741) -> 0.00010416667 | S82: MB0105
E83: 0.00025173611 | F83: =COUNTIF($O$3:$O$132,">="&L116)-COUNTIF($O$3:$O$132,">="&L117) -> 0 | L83: =L82+2.89351851851852E-06 -> 0.00015480324 | N83: 81 | O83: 0.00010997685 | P83: =MROUND(O83,2.89351851851852E-06) -> 0.0001099537 | Q83: =MROUND(O83,5.78703703703704E-06) -> 0.0001099537 | R83: =MROUND(O83,0.0000115740740740741) -> 0.00011574074 | S83: MB0027
E84: 0.00025462963 | F84: =COUNTIF($O$3:$O$132,">="&L117)-COUNTIF($O$3:$O$132,">="&L118) -> 1 | L84: =L83+2.89351851851852E-06 -> 0.00015769676 | N84: 82 | O84: 0.00011487269 | P84: =MROUND(O84,2.89351851851852E-06) -> 0.00011574074 | Q84: =MROUND(O84,5.78703703703704E-06) -> 0.00011574074 | R84: =MROUND(O84,0.0000115740740740741) -> 0.00011574074 | S84: MB0070
L85: =L84+2.89351851851852E-06 -> 0.00016059028 | N85: 83 | O85: 0.00011640046 | P85: =MROUND(O85,2.89351851851852E-06) -> 0.00011574074 | Q85: =MROUND(O85,5.78703703703704E-06) -> 0.00011574074 | R85: =MROUND(O85,0.0000115740740740741) -> 0.00011574074 | S85: MB0065
L86: =L85+2.89351851851852E-06 -> 0.0001634838 | N86: 84 | O86: 0.00011644676 | P86: =MROUND(O86,2.89351851851852E-06) -> 0.00011574074 | Q86: =MROUND(O86,5.78703703703704E-06) -> 0.00011574074 | R86: =MROUND(O86,0.0000115740740740741) -> 0.00011574074 | S86: MB0057
L87: =L86+2.89351851851852E-06 -> 0.00016637731 | N87: 85 | O87: 0.00011689815 | P87: =MROUND(O87,2.89351851851852E-06) -> 0.00011574074 | Q87: =MROUND(O87,5.78703703703704E-06) -> 0.00011574074 | R87: =MROUND(O87,0.0000115740740740741) -> 0.00011574074 | S87: MB0043
L88: =L87+2.89351851851852E-06 -> 0.00016927083 | N88: 86 | O88: 0.00011694444 | P88: =MROUND(O88,2.89351851851852E-06) -> 0.00011574074 | Q88: =MROUND(O88,5.78703703703704E-06) -> 0.00011574074 | R88: =MROUND(O88,0.0000115740740740741) -> 0.00011574074 | S88: MB0115
L89: =L88+2.89351851851852E-06 -> 0.00017216435 | N89: 87 | O89: 0.00011909722 | P89: =MROUND(O89,2.89351851851852E-06) -> 0.00011863426 | Q89: =MROUND(O89,5.78703703703704E-06) -> 0.00012152778 | R89: =MROUND(O89,0.0000115740740740741) -> 0.00011574074 | S89: MB0077
L90: =L89+2.89351851851852E-06 -> 0.00017505787 | N90: 88 | O90: 0.00011943287 | P90: =MROUND(O90,2.89351851851852E-06) -> 0.00011863426 | Q90: =MROUND(O90,5.78703703703704E-06) -> 0.00012152778 | R90: =MROUND(O90,0.0000115740740740741) -> 0.00011574074 | S90: MB0117
L91: =L90+2.89351851851852E-06 -> 0.00017795139 | N91: 89 | O91: 0.00011951389 | P91: =MROUND(O91,2.89351851851852E-06) -> 0.00011863426 | Q91: =MROUND(O91,5.78703703703704E-06) -> 0.00012152778 | R91: =MROUND(O91,0.0000115740740740741) -> 0.00011574074 | S91: MB0014
L92: =L91+2.89351851851852E-06 -> 0.00018084491 | N92: 90 | O92: 0.00012084491 | P92: =MROUND(O92,2.89351851851852E-06) -> 0.00012152778 | Q92: =MROUND(O92,5.78703703703704E-06) -> 0.00012152778 | R92: =MROUND(O92,0.0000115740740740741) -> 0.00011574074 | S92: MB0096
L93: =L92+2.89351851851852E-06 -> 0.00018373843 | N93: 91 | O93: 0.00012100694 | P93: =MROUND(O93,2.89351851851852E-06) -> 0.00012152778 | Q93: =MROUND(O93,5.78703703703704E-06) -> 0.00012152778 | R93: =MROUND(O93,0.0000115740740740741) -> 0.00011574074 | S93: MB0097
L94: =L93+2.89351851851852E-06 -> 0.00018663194 | N94: 92 | O94: 0.00012233796 | P94: =MROUND(O94,2.89351851851852E-06) -> 0.00012152778 | Q94: =MROUND(O94,5.78703703703704E-06) -> 0.00012152778 | R94: =MROUND(O94,0.0000115740740740741) -> 0.00012731481 | S94: MB0026
L95: =L94+2.89351851851852E-06 -> 0.00018952546 | N95: 93 | O95: 0.00012408565 | P95: =MROUND(O95,2.89351851851852E-06) -> 0.0001244213 | Q95: =MROUND(O95,5.78703703703704E-06) -> 0.00012152778 | R95: =MROUND(O95,0.0000115740740740741) -> 0.00012731481 | S95: MB0076
L96: =L95+2.89351851851852E-06 -> 0.00019241898 | N96: 94 | O96: 0.00012515046 | P96: =MROUND(O96,2.89351851851852E-06) -> 0.0001244213 | Q96: =MROUND(O96,5.78703703703704E-06) -> 0.00012731481 | R96: =MROUND(O96,0.0000115740740740741) -> 0.00012731481 | S96: MB0122
... L118: =L117+2.89351851851852E-06 -> 0.00025607639 | N118: 116 | O118: 0.00014519676 | P118: =MROUND(O118,2.89351851851852E-06) -> 0.00014467593 | Q118: =MROUND(O118,5.78703703703704E-06) -> 0.00014467593 | R118: =MROUND(O118,0.0000115740740740741) -> 0.00015046296 | S118: MB0106
N119: 117 | O119: 0.00015162037 | P119: =MROUND(O119,2.89351851851852E-06) -> 0.00015046296 | Q119: =MROUND(O119,5.78703703703704E-06) -> 0.00015046296 | R119: =MROUND(O119,0.0000115740740740741) -> 0.00015046296 | S119: MB0036
N120: 118 | O120: 0.00015447917 | P120: =MROUND(O120,2.89351851851852E-06) -> 0.00015335648 | Q120: =MROUND(O120,5.78703703703704E-06) -> 0.00015625 | R120: =MROUND(O120,0.0000115740740740741) -> 0.00015046296 | S120: MB0098
N121: 119 | O121: 0.00015783565 | P121: =MROUND(O121,2.89351851851852E-06) -> 0.00015914352 | Q121: =MROUND(O121,5.78703703703704E-06) -> 0.00015625 | R121: =MROUND(O121,0.0000115740740740741) -> 0.00016203704 | S121: MB0047
N122: 120 | O122: 0.00016291667 | P122: =MROUND(O122,2.89351851851852E-06) -> 0.00016203704 | Q122: =MROUND(O122,5.78703703703704E-06) -> 0.00016203704 | R122: =MROUND(O122,0.0000115740740740741) -> 0.00016203704 | S122: MB0121
N123: 121 | O123: 0.00016462963 | P123: =MROUND(O123,2.89351851851852E-06) -> 0.00016493056 | Q123: =MROUND(O123,5.78703703703704E-06) -> 0.00016203704 | R123: =MROUND(O123,0.0000115740740740741) -> 0.00016203704 | S123: MB0040
N124: 122 | O124: 0.00016703704 | P124: =MROUND(O124,2.89351851851852E-06) -> 0.00016782407 | Q124: =MROUND(O124,5.78703703703704E-06) -> 0.00016782407 | R124: =MROUND(O124,0.0000115740740740741) -> 0.00016203704 | S124: MB0126
N125: 123 | O125: 0.00017225694 | P125: =MROUND(O125,2.89351851851852E-06) -> 0.00017361111 | Q125: =MROUND(O125,5.78703703703704E-06) -> 0.00017361111 | R125: =MROUND(O125,0.0000115740740740741) -> 0.00017361111 | S125: MB0028
N126: 124 | O126: 0.00017850694 | P126: =MROUND(O126,2.89351851851852E-06) -> 0.00017939815 | Q126: =MROUND(O126,5.78703703703704E-06) -> 0.00017939815 | R126: =MROUND(O126,0.0000115740740740741) -> 0.00017361111 | S126: MB0030
N127: 125 | O127: 0.00018157407 | P127: =MROUND(O127,2.89351851851852E-06) -> 0.00018229167 | Q127: =MROUND(O127,5.78703703703704E-06) -> 0.00017939815 | R127: =MROUND(O127,0.0000115740740740741) -> 0.00018518519 | S127: MB0054
N128: 126 | O128: 0.00018385417 | P128: =MROUND(O128,2.89351851851852E-06) -> 0.00018518519 | Q128: =MROUND(O128,5.78703703703704E-06) -> 0.00018518519 | R128: =MROUND(O128,0.0000115740740740741) -> 0.00018518519 | S128: MB0039
N129: 127 | O129: 0.0001972338 | P129: =MROUND(O129,2.89351851851852E-06) -> 0.00019675926 | Q129: =MROUND(O129,5.78703703703704E-06) -> 0.00019675926 | R129: =MROUND(O129,0.0000115740740740741) -> 0.00019675926 | S129: MB0018
N130: 128 | O130: 0.00020334491 | P130: =MROUND(O130,2.89351851851852E-06) -> 0.0002025463 | Q130: =MROUND(O130,5.78703703703704E-06) -> 0.0002025463 | R130: =MROUND(O130,0.0000115740740740741) -> 0.00020833333 | S130: MB0129
... N132: 130 | O132: 0.00025390046 | P132: =MROUND(O132,2.89351851851852E-06) -> 0.00025462963 | Q132: =MROUND(O132,5.78703703703704E-06) -> 0.00025462963 | R132: =MROUND(O132,0.0000115740740740741) -> 0.00025462963 | S132: MB0085
