Workbook

Sheet MB times
B2: Level name | C2: My times | D2: WR times | E2: Kuskis | F2: adi | G2: AKB | H2: akesateR | I2: Bismuth | J2: Bludek | K2: BoneLESS | L2: Dash | M2: gimp | N2: GRob | O2: Jaytea | P2: kabii | Q2: Kazan | R2: Kazeta | S2: Kingy | T2: Leeland | U2: Madness | V2: markoppl | W2: Mawane | X2: mikl | Y2: Milty | Z2: Mochi | AA2: Morgan | AB2: Moszat | AC2: Pab | AD2: Pigman | AE2: Prank | AF2: Punxer | AG2: Ramzi | AH2: Roope | AI2: Stini | AJ2: Thunder | AK2: Ulaanaa | AL2: weetya | AM2: Xiphias | AN2: ylenshpigel | AO2: Zero
B3: Total Time | C3: =W3 -> 0.013921609 | D3: =SUM(D6:D135) -> 0.013248924 | E3: All | F3: =IF(F2="","",IF(F4=130, SUM(F6:F135), "N/A")) -> N/A | G3: =IF(G2="","",IF(G4=130, SUM(G6:G135), "N/A")) -> N/A | H3: =IF(H2="","",IF(H4=130, SUM(H6:H135), "N/A")) -> N/A | I3: =IF(I2="","",IF(I4=130, SUM(I6:I135), "N/A")) -> N/A | J3: =IF(J2="","",IF(J4=130, SUM(J6:J135), "N/A")) -> N/A | K3: =IF(K2="","",IF(K4=130, SUM(K6:K135), "N/A")) -> N/A | L3: =IF(L2="","",IF(L4=130, SUM(L6:L135), "N/A")) -> N/A | M3: =IF(M2="","",IF(M4=130, SUM(M6:M135), "N/A")) -> N/A | ... AO3: =IF(AO2="","",IF(AO4=130, SUM(AO6:AO135), "N/A")) -> N/A
B4: Levs finished | C4: =W4 -> 130 | D4: =COUNT(D6:D135) -> 130 | F4: =IF(COUNT(F6:F135)>0,COUNT(F6:F135),"") -> 1 | G4: =IF(COUNT(G6:G135)>0,COUNT(G6:G135),"") -> 1 | H4: =IF(COUNT(H6:H135)>0,COUNT(H6:H135),"") -> 28 | I4: =IF(COUNT(I6:I135)>0,COUNT(I6:I135),"") -> 11 | J4: =IF(COUNT(J6:J135)>0,COUNT(J6:J135),"") -> 7 | K4: =IF(COUNT(K6:K135)>0,COUNT(K6:K135),"") -> 1 | L4: =IF(COUNT(L6:L135)>0,COUNT(L6:L135),"") -> 1 | M4: =IF(COUNT(M6:M135)>0,COUNT(M6:M135),"") -> 1 | ... AO4: =IF(COUNT(AO6:AO135)>0,COUNT(AO6:AO135),"") -> 1
B5: WR amount | C5: =W5 -> 6 | D5: =SUM(F5:AO5) -> 130 | F5: =IF(COUNTIF($E$6:$E$135,F2)>0,COUNTIF($E$6:$E$135,F2),"") | G5: =IF(COUNTIF($E$6:$E$135,G2)>0,COUNTIF($E$6:$E$135,G2),"") | H5: =IF(COUNTIF($E$6:$E$135,H2)>0,COUNTIF($E$6:$E$135,H2),"") | I5: =IF(COUNTIF($E$6:$E$135,I2)>0,COUNTIF($E$6:$E$135,I2),"") | J5: =IF(COUNTIF($E$6:$E$135,J2)>0,COUNTIF($E$6:$E$135,J2),"") -> 1 | K5: =IF(COUNTIF($E$6:$E$135,K2)>0,COUNTIF($E$6:$E$135,K2),"") | L5: =IF(COUNTIF($E$6:$E$135,L2)>0,COUNTIF($E$6:$E$135,L2),"") | M5: =IF(COUNTIF($E$6:$E$135,M2)>0,COUNTIF($E$6:$E$135,M2),"") | ... AM5: =IF(COUNTIF($E$6:$E$135,AM2)>0,COUNTIF($E$6:$E$135,AM2),"") -> 7 | AO5: =IF(COUNTIF($E$6:$E$135,AO2)>0,COUNTIF($E$6:$E$135,AO2),"") -> 1
B6: MB0001 | C6: =W6 -> 8.3148148e-05 | D6: =MIN(F6:AO6) -> 8.1180556e-05 | E6: Madness | T6: 8.3055556e-05 | U6: 8.1180556e-05 | W6: 8.3148148e-05 | AC6: 8.28125e-05 | AJ6: 8.2384259e-05 | AM6: 8.1724537e-05
B7: MB0002 | C7: =W7 -> 8.681713e-05 | D7: =MIN(F7:AO7) -> 8.681713e-05 | E7: Mawane | S7: 8.96875e-05 | T7: 8.7997685e-05 | W7: 8.681713e-05 | AC7: 9.0243056e-05 | AJ7: 8.775463e-05 | AM7: 9.099537e-05
B8: MB0003 | C8: =W8 -> 0.00013127315 | D8: =MIN(F8:AO8) -> 0.00012320602 | E8: Pab | T8: 0.00012918981 | W8: 0.00013127315 | AC8: 0.00012320602 | AJ8: 0.00012711806 | AM8: 0.0001293287
B9: MB0004 | C9: =W9 -> 9.4502315e-05 | D9: =MIN(F9:AO9) -> 9.4502315e-05 | E9: Mawane | T9: 9.8391204e-05 | W9: 9.4502315e-05 | AC9: 0.00011230324 | AJ9: 9.6481481e-05
B10: MB0005 | C10: =W10 -> 7.4976852e-05 | D10: =MIN(F10:AO10) -> 7.3831019e-05 | E10: Xiphias | G10: 7.4525463e-05 | H10: 7.6006944e-05 | N10: 7.5416667e-05 | T10: 7.4641204e-05 | W10: 7.4976852e-05 | AC10: 7.5949074e-05 | AJ10: 7.5578704e-05 | AK10: 7.4814815e-05 | AM10: 7.3831019e-05
B11: MB0006 | C11: =W11 -> 7.5694444e-05 | D11: =MIN(F11:AO11) -> 7.3703704e-05 | E11: Kazeta | H11: 8.8645833e-05 | R11: 7.3703704e-05 | T11: 7.4560185e-05 | W11: 7.5694444e-05 | AC11: 7.8368056e-05 | AJ11: 7.7083333e-05 | AM11: 7.7233796e-05
B12: MB0007 | C12: =W12 -> 9.3263889e-05 | D12: =MIN(F12:AO12) -> 9.1782407e-05 | E12: Thunder | I12: 0.00010275463 | T12: 9.2569444e-05 | W12: 9.3263889e-05 | AC12: 0.00011694444 | AJ12: 9.1782407e-05 | AK12: 9.9768519e-05 | AM12: 9.5335648e-05
B13: MB0008 | C13: =W13 -> 6.2337963e-05 | D13: =MIN(F13:AO13) -> 6.2175926e-05 | E13: Leeland | S13: 6.3101852e-05 | T13: 6.2175926e-05 | W13: 6.2337963e-05 | AC13: 6.25e-05 | AJ13: 6.4155093e-05 | AM13: 6.2303241e-05
B14: MB0009 | C14: =W14 -> 8.9270833e-05 | D14: =MIN(F14:AO14) -> 8.7928241e-05 | E14: Thunder | S14: 8.9803241e-05 | T14: 8.8136574e-05 | W14: 8.9270833e-05 | AC14: 9.0081019e-05 | AJ14: 8.7928241e-05 | AK14: 9.224537e-05 | AM14: 8.9328704e-05
B15: MB0010 | C15: =W15 -> 8.1990741e-05 | D15: =MIN(F15:AO15) -> 7.9710648e-05 | E15: Thunder | M15: 7.9907407e-05 | S15: 8.0833333e-05 | T15: 8.0416667e-05 | W15: 8.1990741e-05 | AC15: 8.056713e-05 | AJ15: 7.9710648e-05 | AM15: 8.0787037e-05
B16: MB0011 | C16: =W16 -> 8.3206019e-05 | D16: =MIN(F16:AO16) -> 7.4155093e-05 | E16: Thunder | H16: 8.1886574e-05 | S16: 7.6053241e-05 | T16: 7.4525463e-05 | W16: 8.3206019e-05 | AC16: 8.0775463e-05 | AJ16: 7.4155093e-05 | AK16: 8.7743056e-05 | AM16: 7.943287e-05
B17: MB0012 | C17: =W17 -> 6.9212963e-05 | D17: =MIN(F17:AO17) -> 6.119213e-05 | E17: Pab | S17: 6.3599537e-05 | T17: 6.1689815e-05 | W17: 6.9212963e-05 | AC17: 6.119213e-05 | AJ17: 6.4421296e-05 | AM17: 6.2303241e-05
B18: MB0013 | C18: =W18 -> 0.00021553241 | D18: =MIN(F18:AO18) -> 0.00020824074 | E18: Madness | H18: 0.00021457176 | I18: 0.00022175926 | S18: 0.0002150463 | T18: 0.0002093287 | U18: 0.00020824074 | W18: 0.00021553241 | AB18: 0.00020956019 | AC18: 0.0002118287 | AJ18: 0.00020827546 | AM18: 0.00021103009
B19: MB0014 | C19: =W19 -> 0.00011951389 | D19: =MIN(F19:AO19) -> 0.000114375 | E19: markoppl | H19: 0.00012171296 | T19: 0.00011561343 | V19: 0.000114375 | W19: 0.00011951389 | AC19: 0.00011747685 | AJ19: 0.00011462963 | AK19: 0.00013041667 | AM19: 0.00011685185
B20: MB0015 | C20: =W20 -> 8.9247685e-05 | D20: =MIN(F20:AO20) -> 8.0034722e-05 | E20: Leeland | Q20: 8.1203704e-05 | S20: 8.3333333e-05 | T20: 8.0034722e-05 | W20: 8.9247685e-05 | AC20: 8.4722222e-05 | AJ20: 8.0706019e-05 | AM20: 8.0532407e-05 | AN20: 8.3564815e-05
B21: MB0016 | C21: =W21 -> 5.1134259e-05 | D21: =MIN(F21:AO21) -> 4.8564815e-05 | E21: Xiphias | S21: 4.8900463e-05 | T21: 4.9965278e-05 | W21: 5.1134259e-05 | AC21: 4.9456019e-05 | AJ21: 5.0532407e-05 | AM21: 4.8564815e-05
B22: MB0017 | C22: =W22 -> 8.2002315e-05 | D22: =MIN(F22:AO22) -> 7.4618056e-05 | E22: Pab | H22: 8.7997685e-05 | T22: 8.2650463e-05 | W22: 8.2002315e-05 | AC22: 7.4618056e-05 | AD22: 7.9108796e-05 | AJ22: 7.6018519e-05 | AK22: 8.4976852e-05 | AM22: 8.1666667e-05
B23: MB0018 | C23: =W23 -> 0.0001972338 | D23: =MIN(F23:AO23) -> 0.00019457176 | E23: Xiphias | T23: 0.00020618056 | W23: 0.0001972338 | AC23: 0.00020230324 | AJ23: 0.00019685185 | AM23: 0.00019457176
B24: MB0019 | C24: =W24 -> 0.00013181713 | D24: =MIN(F24:AO24) -> 0.00012621528 | E24: Madness | T24: 0.0001284375 | U24: 0.00012621528 | W24: 0.00013181713 | AC24: 0.0001275 | AJ24: 0.00012700231 | AM24: 0.00013164352
B25: MB0020 | C25: =W25 -> 9.5694444e-05 | D25: =MIN(F25:AO25) -> 9.1770833e-05 | E25: Madness | J25: 9.2592593e-05 | N25: 9.5e-05 | T25: 9.3287037e-05 | U25: 9.1770833e-05 | W25: 9.5694444e-05 | AC25: 9.3449074e-05 | AJ25: 9.4155093e-05 | AM25: 9.8969907e-05
B26: MB0021 | C26: =W26 -> 9.1261574e-05 | D26: =MIN(F26:AO26) -> 8.1875e-05 | E26: Leeland | H26: 9.4363426e-05 | N26: 8.8414352e-05 | S26: 8.7349537e-05 | T26: 8.1875e-05 | W26: 9.1261574e-05 | AC26: 8.4733796e-05 | AJ26: 8.3321759e-05 | AK26: 0.00010752315 | AM26: 8.6956019e-05
B27: MB0022 | C27: =W27 -> 0.00014130787 | D27: =MIN(F27:AO27) -> 0.00013729167 | E27: Thunder | N27: 0.00014157407 | S27: 0.00014268519 | T27: 0.00014304398 | W27: 0.00014130787 | AC27: 0.0001405787 | AH27: 0.00013899306 | AJ27: 0.00013729167 | AM27: 0.00013858796
B28: MB0023 | C28: =W28 -> 0.00010487269 | D28: =MIN(F28:AO28) -> 0.00010402778 | E28: Madness | H28: 0.00011538194 | N28: 0.00010828704 | S28: 0.00011159722 | T28: 0.00010421296 | U28: 0.00010402778 | W28: 0.00010487269 | AC28: 0.00010579861 | AJ28: 0.0001050463 | AM28: 0.00010518519
B29: MB0024 | C29: =W29 -> 0.00012878472 | D29: =MIN(F29:AO29) -> 0.00012376157 | E29: Thunder | H29: 0.00012959491 | T29: 0.0001244213 | W29: 0.00012878472 | AC29: 0.00012547454 | AJ29: 0.00012376157 | AM29: 0.00013385417
B30: MB0025 | C30: =W30 -> 0.00010109954 | D30: =MIN(F30:AO30) -> 9.1782407e-05 | E30: Mochi | H30: 0.0001147338 | N30: 9.9016204e-05 | P30: 9.7858796e-05 | S30: 9.7395833e-05 | T30: 9.8819444e-05 | W30: 0.00010109954 | Z30: 9.1782407e-05 | AC30: 9.8321759e-05 | AJ30: 9.2418981e-05 | AM30: 9.3159722e-05
B31: MB0026 | C31: =W31 -> 0.00012233796 | D31: =MIN(F31:AO31) -> 0.00011592593 | E31: Thunder | H31: 0.0001215625 | N31: 0.00011922454 | S31: 0.00011782407 | T31: 0.00011709491 | U31: 0.00011688657 | W31: 0.00012233796 | AC31: 0.00011846065 | AJ31: 0.00011592593 | AM31: 0.00012399306
B32: MB0027 | C32: =W32 -> 0.00010997685 | D32: =MIN(F32:AO32) -> 9.6180556e-05 | E32: Leeland | S32: 0.00011144676 | T32: 0.0001000463 | W32: 0.00010997685 | AC32: 0.00010310185 | AJ32: 9.6655093e-05 | AM32: 9.6180556e-05
B33: MB0028 | C33: =W33 -> 0.00017225694 | D33: =MIN(F33:AO33) -> 0.00015844907 | E33: Thunder | S33: 0.00017684028 | T33: 0.00016197917 | W33: 0.00017225694 | AC33: 0.00016967593 | AJ33: 0.00015844907 | AM33: 0.00016511574
B34: MB0029 | C34: =W34 -> 8.0729167e-05 | D34: =MIN(F34:AO34) -> 7.900463e-05 | E34: Leeland | S34: 8.2152778e-05 | T34: 7.900463e-05 | W34: 8.0729167e-05 | AC34: 8.2835648e-05 | AJ34: 8.0046296e-05 | AM34: 8.0208333e-05
B35: MB0030 | C35: =W35 -> 0.00017850694 | D35: =MIN(F35:AO35) -> 0.00017390046 | E35: Leeland | H35: 0.00019625 | T35: 0.00017390046 | U35: 0.00017765046 | W35: 0.00017850694 | AC35: 0.00018209491 | AJ35: 0.00017717593
B36: MB0031 | C36: =W36 -> 9.7916667e-05 | D36: =MIN(F36:AO36) -> 9.2395833e-05 | E36: Thunder | S36: 9.6319444e-05 | T36: 9.2708333e-05 | W36: 9.7916667e-05 | AC36: 9.6574074e-05 | AJ36: 9.2395833e-05 | AK36: 0.00010989583 | AM36: 9.6944444e-05
B37: MB0032 | C37: =W37 -> 0.00010715278 | D37: =MIN(F37:AO37) -> 0.00010003472 | E37: Thunder | S37: 0.00010481481 | T37: 0.00010600694 | W37: 0.00010715278 | AC37: 0.00010263889 | AJ37: 0.00010003472 | AM37: 0.00010085648
B38: MB0033 | C38: =W38 -> 9.8784722e-05 | D38: =MIN(F38:AO38) -> 9.0104167e-05 | E38: Thunder | T38: 9.7523148e-05 | W38: 9.8784722e-05 | AC38: 0.00010127315 | AJ38: 9.0104167e-05
B39: MB0034 | C39: =W39 -> 8.0138889e-05 | D39: =MIN(F39:AO39) -> 7.2928241e-05 | E39: Xiphias | T39: 7.6643519e-05 | W39: 8.0138889e-05 | AC39: 8.1319444e-05 | AJ39: 7.6099537e-05 | AK39: 8.7384259e-05 | AM39: 7.2928241e-05
B40: MB0035 | C40: =W40 -> 0.00010083333 | D40: =MIN(F40:AO40) -> 8.9837963e-05 | E40: Leeland | I40: 0.00013509259 | T40: 8.9837963e-05 | W40: 0.00010083333 | AC40: 9.0740741e-05 | AJ40: 9.8923611e-05
B41: MB0036 | C41: =W41 -> 0.00015162037 | D41: =MIN(F41:AO41) -> 0.00014943287 | E41: Thunder | H41: 0.00015462963 | N41: 0.00015387731 | T41: 0.00015462963 | W41: 0.00015162037 | AC41: 0.00015853009 | AJ41: 0.00014943287 | AK41: 0.00015284722
...

Sheet Stats
B2: Exact time | E2: Rounded .25s | H2: Rounded .5s | K2: Rounded 1s | N2: Position | O2: Time | P2: Rounded .25 | Q2: Rounded .5 | R2: Rounded 1 | S2: Level
B3: Shortest level | C3: =MIN('MB times'!D6:D135) -> 4.4143519e-05 | E3: Mode | F3: =MODE(P3:P132) -> 8.9699074e-05 | H3: Mode | I3: =MODE(Q3:Q132) -> 8.6805556e-05 | K3: Mode | L3: =MODE(R3:R132) -> 9.2592593e-05 | N3: 1 | O3: 4.4780093e-05 | P3: =MROUND(O3,2.89351851851852E-06) -> 4.3402778e-05 | Q3: =MROUND(O3,5.78703703703704E-06) -> 4.6296296e-05 | R3: =MROUND(O3,0.0000115740740740741) -> 4.6296296e-05 | S3: MB0051
B4: Longuest level | C4: =MAX('MB times'!D6:D135) -> 0.00024143519 | E4: Median | F4: =MEDIAN(P3:P132) -> 9.837963e-05 | H4: Median | I4: =MEDIAN(Q3:Q132) -> 9.837963e-05 | K4: Median | L4: =MEDIAN(R3:R132) -> 9.837963e-05 | N4: 2 | O4: 5.1134259e-05 | P4: =MROUND(O4,2.89351851851852E-06) -> 5.2083333e-05 | Q4: =MROUND(O4,5.78703703703704E-06) -> 5.2083333e-05 | R4: =MROUND(O4,0.0000115740740740741) -> 4.6296296e-05 | S4: MB0016
B5: Mode | C5: =MODE(O3:O132) -> 7.9097222e-05 | E5: Average | F5: =MROUND(AVERAGE('MB times'!D6:D135),2.89351851851852E-06) -> 0.00010127315 | H5: Average | I5: =MROUND(AVERAGE(Q3:Q132),(2.89351851851852E-06*2)) -> 0.0001099537 | K5: Average | L5: =MROUND(AVERAGE(R3:R132),(2.89351851851852E-06*4)) -> 0.00010416667 | N5: 3 | O5: 5.2094907e-05 | P5: =MROUND(O5,2.89351851851852E-06) -> 5.2083333e-05 | Q5: =MROUND(O5,5.78703703703704E-06) -> 5.2083333e-05 | R5: =MROUND(O5,0.0000115740740740741) -> 5.787037e-05 | S5: MB0093
B6: Median | C6: =MEDIAN('MB times'!D6:D135) -> 9.2042824e-05 | E6: Time | F6: Frequency | H6: Time | I6: Frequency | K6: Time | L6: Frequency | N6: 4 | O6: 5.2152778e-05 | P6: =MROUND(O6,2.89351851851852E-06) -> 5.2083333e-05 | Q6: =MROUND(O6,5.78703703703704E-06) -> 5.2083333e-05 | R6: =MROUND(O6,0.0000115740740740741) -> 5.787037e-05 | S6: MB0111
B7: Average time | C7: =AVERAGE('MB times'!D6:D135) -> 0.0001019148 | E7: Total | F7: =SUM(F8:F84) -> 130 | H7: Total | I7: =SUM(I8:I46) -> 130 | K7: Total | L7: =SUM(L8:L28) -> 130 | N7: 5 | O7: 5.9756944e-05 | P7: =MROUND(O7,2.89351851851852E-06) -> 6.0763889e-05 | Q7: =MROUND(O7,5.78703703703704E-06) -> 5.787037e-05 | R7: =MROUND(O7,0.0000115740740740741) -> 5.787037e-05 | S7: MB0073
B8: Standart deviation | C8: =STDEVP('MB times'!D6:D135) -> 3.4199464e-05 | E8: 3.4722222e-05 | F8: =COUNTIF($O$3:$O$132,">="&L29)-COUNTIF($O$3:$O$132,">="&L42) -> 0 | H8: 3.4722222e-05 | I8: =COUNTIF($O$3:$O$132,">="&K29)-COUNTIF($O$3:$O$132,">="&K36) -> 0 | K8: 3.4722222e-05 | L8: =COUNTIF($O$3:$O$132,">="&I48)-COUNTIF($O$3:$O$132,">="&I52) -> 0 | N8: 6 | O8: 6.087963e-05 | P8: =MROUND(O8,2.89351851851852E-06) -> 6.0763889e-05 | Q8: =MROUND(O8,5.78703703703704E-06) -> 6.3657407e-05 | R8: =MROUND(O8,0.0000115740740740741) -> 5.787037e-05 | S8: MB0074
E9: 3.7615741e-05 | F9: =COUNTIF($O$3:$O$132,">="&L42)-COUNTIF($O$3:$O$132,">="&L43) -> 0 | H9: 4.0509259e-05 | I9: =COUNTIF($O$3:$O$132,">="&K36)-COUNTIF($O$3:$O$132,">="&K37) -> 0 | K9: 4.6296296e-05 | L9: =COUNTIF($O$3:$O$132,">="&I52)-COUNTIF($O$3:$O$132,">="&I53) -> 2 | N9: 7 | O9: 6.1689815e-05 | P9: =MROUND(O9,2.89351851851852E-06) -> 6.0763889e-05 | Q9: =MROUND(O9,5.78703703703704E-06) -> 6.3657407e-05 | R9: =MROUND(O9,0.0000115740740740741) -> 5.787037e-05 | S9: MB0130
B10: Scroll right and down | E10: 4.0509259e-05 | F10: =COUNTIF($O$3:$O$132,">="&L43)-COUNTIF($O$3:$O$132,">="&L44) -> 0 | H10: 4.6296296e-05 | I10: =COUNTIF($O$3:$O$132,">="&K37)-COUNTIF($O$3:$O$132,">="&K38) -> 1 | K10: 5.787037e-05 | L10: =COUNTIF($O$3:$O$132,">="&I53)-COUNTIF($O$3:$O$132,">="&I54) -> 9 | N10: 8 | O10: 6.2314815e-05 | P10: =MROUND(O10,2.89351851851852E-06) -> 6.3657407e-05 | Q10: =MROUND(O10,5.78703703703704E-06) -> 6.3657407e-05 | R10: =MROUND(O10,0.0000115740740740741) -> 5.787037e-05 | S10: MB0084
B11: for more stats :) | E11: 4.3402778e-05 | F11: =COUNTIF($O$3:$O$132,">="&L44)-COUNTIF($O$3:$O$132,">="&L45) -> 1 | H11: 5.2083333e-05 | I11: =COUNTIF($O$3:$O$132,">="&K38)-COUNTIF($O$3:$O$132,">="&K39) -> 3 | K11: 6.9444444e-05 | L11: =COUNTIF($O$3:$O$132,">="&I54)-COUNTIF($O$3:$O$132,">="&I55) -> 10 | N11: 9 | O11: 6.2337963e-05 | P11: =MROUND(O11,2.89351851851852E-06) -> 6.3657407e-05 | Q11: =MROUND(O11,5.78703703703704E-06) -> 6.3657407e-05 | R11: =MROUND(O11,0.0000115740740740741) -> 5.787037e-05 | S11: MB0008
E12: 4.6296296e-05 | F12: =COUNTIF($O$3:$O$132,">="&L45)-COUNTIF($O$3:$O$132,">="&L46) -> 0 | H12: 5.787037e-05 | I12: =COUNTIF($O$3:$O$132,">="&K39)-COUNTIF($O$3:$O$132,">="&K40) -> 1 | K12: 8.1018519e-05 | L12: =COUNTIF($O$3:$O$132,">="&I55)-COUNTIF($O$3:$O$132,">="&I56) -> 20 | N12: 10 | O12: 6.2662037e-05 | P12: =MROUND(O12,2.89351851851852E-06) -> 6.3657407e-05 | Q12: =MROUND(O12,5.78703703703704E-06) -> 6.3657407e-05 | R12: =MROUND(O12,0.0000115740740740741) -> 5.787037e-05 | S12: MB0052
E13: 4.9189815e-05 | F13: =COUNTIF($O$3:$O$132,">="&L46)-COUNTIF($O$3:$O$132,">="&L47) -> 0 | H13: 6.3657407e-05 | I13: =COUNTIF($O$3:$O$132,">="&K40)-COUNTIF($O$3:$O$132,">="&K41) -> 7 | K13: 9.2592593e-05 | L13: =COUNTIF($O$3:$O$132,">="&I56)-COUNTIF($O$3:$O$132,">="&I57) -> 24 | N13: 11 | O13: 6.3298611e-05 | P13: =MROUND(O13,2.89351851851852E-06) -> 6.3657407e-05 | Q13: =MROUND(O13,5.78703703703704E-06) -> 6.3657407e-05 | R13: =MROUND(O13,0.0000115740740740741) -> 5.787037e-05 | S13: MB0087
E14: 5.2083333e-05 | F14: =COUNTIF($O$3:$O$132,">="&L47)-COUNTIF($O$3:$O$132,">="&L48) -> 3 | H14: 6.9444444e-05 | I14: =COUNTIF($O$3:$O$132,">="&K41)-COUNTIF($O$3:$O$132,">="&K42) -> 5 | K14: 0.00010416667 | L14: =COUNTIF($O$3:$O$132,">="&I57)-COUNTIF($O$3:$O$132,">="&I58) -> 15 | N14: 12 | O14: 6.3877315e-05 | P14: =MROUND(O14,2.89351851851852E-06) -> 6.3657407e-05 | Q14: =MROUND(O14,5.78703703703704E-06) -> 6.3657407e-05 | R14: =MROUND(O14,0.0000115740740740741) -> 6.9444444e-05 | S14: MB0058
E15: 5.4976852e-05 | F15: =COUNTIF($O$3:$O$132,">="&L48)-COUNTIF($O$3:$O$132,">="&L49) -> 0 | H15: 7.5231481e-05 | I15: =COUNTIF($O$3:$O$132,">="&K42)-COUNTIF($O$3:$O$132,">="&K43) -> 7 | K15: 0.00011574074 | L15: =COUNTIF($O$3:$O$132,">="&I58)-COUNTIF($O$3:$O$132,">="&I59) -> 11 | N15: 13 | O15: 6.8668981e-05 | P15: =MROUND(O15,2.89351851851852E-06) -> 6.9444444e-05 | Q15: =MROUND(O15,5.78703703703704E-06) -> 6.9444444e-05 | R15: =MROUND(O15,0.0000115740740740741) -> 6.9444444e-05 | S15: MB0059
E16: 5.787037e-05 | F16: =COUNTIF($O$3:$O$132,">="&L49)-COUNTIF($O$3:$O$132,">="&L50) -> 0 | H16: 8.1018519e-05 | I16: =COUNTIF($O$3:$O$132,">="&K43)-COUNTIF($O$3:$O$132,">="&K44) -> 12 | K16: 0.00012731481 | L16: =COUNTIF($O$3:$O$132,">="&I59)-COUNTIF($O$3:$O$132,">="&I60) -> 14 | N16: 14 | O16: 6.9108796e-05 | P16: =MROUND(O16,2.89351851851852E-06) -> 6.9444444e-05 | Q16: =MROUND(O16,5.78703703703704E-06) -> 6.9444444e-05 | R16: =MROUND(O16,0.0000115740740740741) -> 6.9444444e-05 | S16: MB0123
E17: 6.0763889e-05 | F17: =COUNTIF($O$3:$O$132,">="&L50)-COUNTIF($O$3:$O$132,">="&L51) -> 3 | H17: 8.6805556e-05 | I17: =COUNTIF($O$3:$O$132,">="&K44)-COUNTIF($O$3:$O$132,">="&K45) -> 13 | K17: 0.00013888889 | L17: =COUNTIF($O$3:$O$132,">="&I60)-COUNTIF($O$3:$O$132,">="&I61) -> 10 | N17: 15 | O17: 6.9212963e-05 | P17: =MROUND(O17,2.89351851851852E-06) -> 6.9444444e-05 | Q17: =MROUND(O17,5.78703703703704E-06) -> 6.9444444e-05 | R17: =MROUND(O17,0.0000115740740740741) -> 6.9444444e-05 | S17: MB0012
E18: 6.3657407e-05 | F18: =COUNTIF($O$3:$O$132,">="&L51)-COUNTIF($O$3:$O$132,">="&L52) -> 5 | H18: 9.2592593e-05 | I18: =COUNTIF($O$3:$O$132,">="&K45)-COUNTIF($O$3:$O$132,">="&K46) -> 11 | K18: 0.00015046296 | L18: =COUNTIF($O$3:$O$132,">="&I61)-COUNTIF($O$3:$O$132,">="&I62) -> 3 | N18: 16 | O18: 6.9664352e-05 | P18: =MROUND(O18,2.89351851851852E-06) -> 6.9444444e-05 | Q18: =MROUND(O18,5.78703703703704E-06) -> 6.9444444e-05 | R18: =MROUND(O18,0.0000115740740740741) -> 6.9444444e-05 | S18: MB0041
E19: 6.6550926e-05 | F19: =COUNTIF($O$3:$O$132,">="&L52)-COUNTIF($O$3:$O$132,">="&L53) -> 0 | H19: 9.837963e-05 | I19: =COUNTIF($O$3:$O$132,">="&K46)-COUNTIF($O$3:$O$132,">="&K47) -> 10 | K19: 0.00016203704 | L19: =COUNTIF($O$3:$O$132,">="&I62)-COUNTIF($O$3:$O$132,">="&I63) -> 4 | N19: 17 | O19: 7.1388889e-05 | P19: =MROUND(O19,2.89351851851852E-06) -> 7.2337963e-05 | Q19: =MROUND(O19,5.78703703703704E-06) -> 6.9444444e-05 | R19: =MROUND(O19,0.0000115740740740741) -> 6.9444444e-05 | S19: MB0090
E20: 6.9444444e-05 | F20: =COUNTIF($O$3:$O$132,">="&L53)-COUNTIF($O$3:$O$132,">="&L54) -> 4 | H20: 0.00010416667 | I20: =COUNTIF($O$3:$O$132,">="&K47)-COUNTIF($O$3:$O$132,">="&K48) -> 5 | K20: 0.00017361111 | L20: =COUNTIF($O$3:$O$132,">="&I63)-COUNTIF($O$3:$O$132,">="&I64) -> 2 | N20: 18 | O20: 7.3483796e-05 | P20: =MROUND(O20,2.89351851851852E-06) -> 7.2337963e-05 | Q20: =MROUND(O20,5.78703703703704E-06) -> 7.5231481e-05 | R20: =MROUND(O20,0.0000115740740740741) -> 6.9444444e-05 | S20: MB0048
E21: 7.2337963e-05 | F21: =COUNTIF($O$3:$O$132,">="&L54)-COUNTIF($O$3:$O$132,">="&L55) -> 2 | H21: 0.0001099537 | I21: =COUNTIF($O$3:$O$132,">="&K48)-COUNTIF($O$3:$O$132,">="&K49) -> 6 | K21: 0.00018518519 | L21: =COUNTIF($O$3:$O$132,">="&I64)-COUNTIF($O$3:$O$132,">="&I65) -> 2 | N21: 19 | O21: 7.4328704e-05 | P21: =MROUND(O21,2.89351851851852E-06) -> 7.5231481e-05 | Q21: =MROUND(O21,5.78703703703704E-06) -> 7.5231481e-05 | R21: =MROUND(O21,0.0000115740740740741) -> 6.9444444e-05 | S21: MB0069
E22: 7.5231481e-05 | F22: =COUNTIF($O$3:$O$132,">="&L55)-COUNTIF($O$3:$O$132,">="&L56) -> 5 | H22: 0.00011574074 | I22: =COUNTIF($O$3:$O$132,">="&K49)-COUNTIF($O$3:$O$132,">="&K50) -> 5 | K22: 0.00019675926 | L22: =COUNTIF($O$3:$O$132,">="&I65)-COUNTIF($O$3:$O$132,">="&I66) -> 1 | N22: 20 | O22: 7.4409722e-05 | P22: =MROUND(O22,2.89351851851852E-06) -> 7.5231481e-05 | Q22: =MROUND(O22,5.78703703703704E-06) -> 7.5231481e-05 | R22: =MROUND(O22,0.0000115740740740741) -> 6.9444444e-05 | S22: MB0046
E23: 7.8125e-05 | F23: =COUNTIF($O$3:$O$132,">="&L56)-COUNTIF($O$3:$O$132,">="&L57) -> 4 | H23: 0.00012152778 | I23: =COUNTIF($O$3:$O$132,">="&K50)-COUNTIF($O$3:$O$132,">="&K51) -> 7 | K23: 0.00020833333 | L23: =COUNTIF($O$3:$O$132,">="&I66)-COUNTIF($O$3:$O$132,">="&I67) -> 1 | N23: 21 | O23: 7.4976852e-05 | P23: =MROUND(O23,2.89351851851852E-06) -> 7.5231481e-05 | Q23: =MROUND(O23,5.78703703703704E-06) -> 7.5231481e-05 | R23: =MROUND(O23,0.0000115740740740741) -> 6.9444444e-05 | S23: MB0005
... E27: 8.9699074e-05 | F27: =COUNTIF($O$3:$O$132,">="&L60)-COUNTIF($O$3:$O$132,">="&L61) -> 8 | H27: 0.00014467593 | I27: =COUNTIF($O$3:$O$132,">="&K54)-COUNTIF($O$3:$O$132,">="&K55) -> 4 | K27: 0.00025462963 | L27: =COUNTIF($O$3:$O$132,">="&I70)-COUNTIF($O$3:$O$132,">="&I71) -> 1 | N27: 25 | O27: 7.9097222e-05 | P27: =MROUND(O27,2.89351851851852E-06) -> 7.8125e-05 | Q27: =MROUND(O27,5.78703703703704E-06) -> 8.1018519e-05 | R27: =MROUND(O27,0.0000115740740740741) -> 8.1018519e-05 | S27: MB0062
E28: 9.2592593e-05 | F28: =COUNTIF($O$3:$O$132,">="&L61)-COUNTIF($O$3:$O$132,">="&L62) -> 7 | H28: 0.00015046296 | I28: =COUNTIF($O$3:$O$132,">="&K55)-COUNTIF($O$3:$O$132,">="&K56) -> 1 | N28: 26 | O28: 7.9097222e-05 | P28: =MROUND(O28,2.89351851851852E-06) -> 7.8125e-05 | Q28: =MROUND(O28,5.78703703703704E-06) -> 8.1018519e-05 | R28: =MROUND(O28,0.0000115740740740741) -> 8.1018519e-05 | S28: MB0091
E29: 9.5486111e-05 | F29: =COUNTIF($O$3:$O$132,">="&L62)-COUNTIF($O$3:$O$132,">="&L63) -> 2 | H29: 0.00015625 | I29: =COUNTIF($O$3:$O$132,">="&K56)-COUNTIF($O$3:$O$132,">="&K57) -> 2 | K29: 0 | L29: 0 | N29: 27 | O29: 7.9259259e-05 | P29: =MROUND(O29,2.89351851851852E-06) -> 7.8125e-05 | Q29: =MROUND(O29,5.78703703703704E-06) -> 8.1018519e-05 | R29: =MROUND(O29,0.0000115740740740741) -> 8.1018519e-05 | S29: MB0042
E30: 9.837963e-05 | F30: =COUNTIF($O$3:$O$132,">="&L63)-COUNTIF($O$3:$O$132,">="&L64) -> 6 | H30: 0.00016203704 | I30: =COUNTIF($O$3:$O$132,">="&K57)-COUNTIF($O$3:$O$132,">="&K58) -> 2 | K30: 2.8935185e-06 | L30: 1.4467593e-06 | N30: 28 | O30: 8.0138889e-05 | P30: =MROUND(O30,2.89351851851852E-06) -> 8.1018519e-05 | Q30: =MROUND(O30,5.78703703703704E-06) -> 8.1018519e-05 | R30: =MROUND(O30,0.0000115740740740741) -> 8.1018519e-05 | S30: MB0034
E31: 0.00010127315 | F31: =COUNTIF($O$3:$O$132,">="&L64)-COUNTIF($O$3:$O$132,">="&L65) -> 3 | H31: 0.00016782407 | I31: =COUNTIF($O$3:$O$132,">="&K58)-COUNTIF($O$3:$O$132,">="&K59) -> 1 | K31: =K30+5.78703703703704E-06 -> 8.6805556e-06 | L31: =L30+2.89351851851852E-06 -> 4.3402778e-06 | N31: 29 | O31: 8.0138889e-05 | P31: =MROUND(O31,2.89351851851852E-06) -> 8.1018519e-05 | Q31: =MROUND(O31,5.78703703703704E-06) -> 8.1018519e-05 | R31: =MROUND(O31,0.0000115740740740741) -> 8.1018519e-05 | S31: MB0038
E32: 0.00010416667 | F32: =COUNTIF($O$3:$O$132,">="&L65)-COUNTIF($O$3:$O$132,">="&L66) -> 5 | H32: 0.00017361111 | I32: =COUNTIF($O$3:$O$132,">="&K59)-COUNTIF($O$3:$O$132,">="&K60) -> 1 | K32: =K31+5.78703703703704E-06 -> 1.4467593e-05 | L32: =L31+2.89351851851852E-06 -> 7.2337963e-06 | N32: 30 | O32: 8.0729167e-05 | P32: =MROUND(O32,2.89351851851852E-06) -> 8.1018519e-05 | Q32: =MROUND(O32,5.78703703703704E-06) -> 8.1018519e-05 | R32: =MROUND(O32,0.0000115740740740741) -> 8.1018519e-05 | S32: MB0029
E33: 0.00010706019 | F33: =COUNTIF($O$3:$O$132,">="&L66)-COUNTIF($O$3:$O$132,">="&L67) -> 2 | H33: 0.00017939815 | I33: =COUNTIF($O$3:$O$132,">="&K60)-COUNTIF($O$3:$O$132,">="&K61) -> 2 | K33: =K32+5.78703703703704E-06 -> 2.025463e-05 | L33: =L32+2.89351851851852E-06 -> 1.0127315e-05 | N33: 31 | O33: 8.1655093e-05 | P33: =MROUND(O33,2.89351851851852E-06) -> 8.1018519e-05 | Q33: =MROUND(O33,5.78703703703704E-06) -> 8.1018519e-05 | R33: =MROUND(O33,0.0000115740740740741) -> 8.1018519e-05 | S33: MB0107
E34: 0.0001099537 | F34: =COUNTIF($O$3:$O$132,">="&L67)-COUNTIF($O$3:$O$132,">="&L68) -> 4 | H34: 0.00018518519 | I34: =COUNTIF($O$3:$O$132,">="&K61)-COUNTIF($O$3:$O$132,">="&K62) -> 1 | K34: =K33+5.78703703703704E-06 -> 2.6041667e-05 | L34: =L33+2.89351851851852E-06 -> 1.3020833e-05 | N34: 32 | O34: 8.1990741e-05 | P34: =MROUND(O34,2.89351851851852E-06) -> 8.1018519e-05 | Q34: =MROUND(O34,5.78703703703704E-06) -> 8.1018519e-05 | R34: =MROUND(O34,0.0000115740740740741) -> 8.1018519e-05 | S34: MB0010
E35: 0.00011284722 | F35: =COUNTIF($O$3:$O$132,">="&L68)-COUNTIF($O$3:$O$132,">="&L69) -> 0 | H35: 0.00019097222 | I35: =COUNTIF($O$3:$O$132,">="&K62)-COUNTIF($O$3:$O$132,">="&K63) -> 0 | K35: =K34+5.78703703703704E-06 -> 3.1828704e-05 | L35: =L34+2.89351851851852E-06 -> 1.5914352e-05 | N35: 33 | O35: 8.2002315e-05 | P35: =MROUND(O35,2.89351851851852E-06) -> 8.1018519e-05 | Q35: =MROUND(O35,5.78703703703704E-06) -> 8.1018519e-05 | R35: =MROUND(O35,0.0000115740740740741) -> 8.1018519e-05 | S35: MB0017
E36: 0.00011574074 | F36: =COUNTIF($O$3:$O$132,">="&L69)-COUNTIF($O$3:$O$132,">="&L70) -> 5 | H36: 0.00019675926 | I36: =COUNTIF($O$3:$O$132,">="&K63)-COUNTIF($O$3:$O$132,">="&K64) -> 1 | K36: =K35+5.78703703703704E-06 -> 3.7615741e-05 | L36: =L35+2.89351851851852E-06 -> 1.880787e-05 | N36: 34 | O36: 8.3148148e-05 | P36: =MROUND(O36,2.89351851851852E-06) -> 8.3912037e-05 | Q36: =MROUND(O36,5.78703703703704E-06) -> 8.1018519e-05 | R36: =MROUND(O36,0.0000115740740740741) -> 8.1018519e-05 | S36: MB0001
E37: 0.00011863426 | F37: =COUNTIF($O$3:$O$132,">="&L70)-COUNTIF($O$3:$O$132,">="&L71) -> 3 | H37: 0.0002025463 | I37: =COUNTIF($O$3:$O$132,">="&K64)-COUNTIF($O$3:$O$132,">="&K65) -> 1 | K37: =K36+5.78703703703704E-06 -> 4.3402778e-05 | L37: =L36+2.89351851851852E-06 -> 2.1701389e-05 | N37: 35 | O37: 8.3206019e-05 | P37: =MROUND(O37,2.89351851851852E-06) -> 8.3912037e-05 | Q37: =MROUND(O37,5.78703703703704E-06) -> 8.1018519e-05 | R37: =MROUND(O37,0.0000115740740740741) -> 8.1018519e-05 | S37: MB0011
E38: 0.00012152778 | F38: =COUNTIF($O$3:$O$132,">="&L71)-COUNTIF($O$3:$O$132,">="&L72) -> 3 | H38: 0.00020833333 | I38: =COUNTIF($O$3:$O$132,">="&K65)-COUNTIF($O$3:$O$132,">="&K66) -> 0 | K38: =K37+5.78703703703704E-06 -> 4.9189815e-05 | L38: =L37+2.89351851851852E-06 -> 2.4594907e-05 | N38: 36 | O38: 8.3611111e-05 | P38: =MROUND(O38,2.89351851851852E-06) -> 8.3912037e-05 | Q38: =MROUND(O38,5.78703703703704E-06) -> 8.1018519e-05 | R38: =MROUND(O38,0.0000115740740740741) -> 8.1018519e-05 | S38: MB0114
E39: 0.0001244213 | F39: =COUNTIF($O$3:$O$132,">="&L72)-COUNTIF($O$3:$O$132,">="&L73) -> 2 | H39: 0.00021412037 | I39: =COUNTIF($O$3:$O$132,">="&K66)-COUNTIF($O$3:$O$132,">="&K67) -> 1 | K39: =K38+5.78703703703704E-06 -> 5.4976852e-05 | L39: =L38+2.89351851851852E-06 -> 2.7488426e-05 | N39: 37 | O39: 8.4224537e-05 | P39: =MROUND(O39,2.89351851851852E-06) -> 8.3912037e-05 | Q39: =MROUND(O39,5.78703703703704E-06) -> 8.6805556e-05 | R39: =MROUND(O39,0.0000115740740740741) -> 8.1018519e-05 | S39: MB0078
E40: 0.00012731481 | F40: =COUNTIF($O$3:$O$132,">="&L73)-COUNTIF($O$3:$O$132,">="&L74) -> 2 | H40: 0.00021990741 | I40: =COUNTIF($O$3:$O$132,">="&K67)-COUNTIF($O$3:$O$132,">="&K68) -> 0 | K40: =K39+5.78703703703704E-06 -> 6.0763889e-05 | L40: =L39+2.89351851851852E-06 -> 3.0381944e-05 | N40: 38 | O40: 8.4236111e-05 | P40: =MROUND(O40,2.89351851851852E-06) -> 8.3912037e-05 | Q40: =MROUND(O40,5.78703703703704E-06) -> 8.6805556e-05 | R40: =MROUND(O40,0.0000115740740740741) -> 8.1018519e-05 | S40: MB0088
E41: 0.00013020833 | F41: =COUNTIF($O$3:$O$132,">="&L74)-COUNTIF($O$3:$O$132,">="&L75) -> 7 | H41: 0.00022569444 | I41: =COUNTIF($O$3:$O$132,">="&K68)-COUNTIF($O$3:$O$132,">="&K69) -> 0 | K41: =K40+5.78703703703704E-06 -> 6.6550926e-05 | L41: =L40+2.89351851851852E-06 -> 3.3275463e-05 | N41: 39 | O41: 8.4247685e-05 | P41: =MROUND(O41,2.89351851851852E-06) -> 8.3912037e-05 | Q41: =MROUND(O41,5.78703703703704E-06) -> 8.6805556e-05 | R41: =MROUND(O41,0.0000115740740740741) -> 8.1018519e-05 | S41: MB0072
E42: 0.00013310185 | F42: =COUNTIF($O$3:$O$132,">="&L75)-COUNTIF($O$3:$O$132,">="&L76) -> 3 | H42: 0.00023148148 | I42: =COUNTIF($O$3:$O$132,">="&K69)-COUNTIF($O$3:$O$132,">="&K70) -> 0 | K42: =K41+5.78703703703704E-06 -> 7.2337963e-05 | L42: =L41+2.89351851851852E-06 -> 3.6168981e-05 | N42: 40 | O42: 8.5138889e-05 | P42: =MROUND(O42,2.89351851851852E-06) -> 8.3912037e-05 | Q42: =MROUND(O42,5.78703703703704E-06) -> 8.6805556e-05 | R42: =MROUND(O42,0.0000115740740740741) -> 8.1018519e-05 | S42: MB0063
... E46: 0.00014467593 | F46: =COUNTIF($O$3:$O$132,">="&L79)-COUNTIF($O$3:$O$132,">="&L80) -> 3 | H46: 0.00025462963 | I46: =COUNTIF($O$3:$O$132,">="&K73)-COUNTIF($O$3:$O$132,">="&K74) -> 1 | K46: =K45+5.78703703703704E-06 -> 9.5486111e-05 | L46: =L45+2.89351851851852E-06 -> 4.7743056e-05 | N46: 44 | O46: 8.7974537e-05 | P46: =MROUND(O46,2.89351851851852E-06) -> 8.6805556e-05 | Q46: =MROUND(O46,5.78703703703704E-06) -> 8.6805556e-05 | R46: =MROUND(O46,0.0000115740740740741) -> 9.2592593e-05 | S46: MB0045
E47: 0.00014756944 | F47: =COUNTIF($O$3:$O$132,">="&L80)-COUNTIF($O$3:$O$132,">="&L81) -> 0 | K47: =K46+5.78703703703704E-06 -> 0.00010127315 | L47: =L46+2.89351851851852E-06 -> 5.0636574e-05 | N47: 45 | O47: 8.8263889e-05 | P47: =MROUND(O47,2.89351851851852E-06) -> 8.9699074e-05 | Q47: =MROUND(O47,5.78703703703704E-06) -> 8.6805556e-05 | R47: =MROUND(O47,0.0000115740740740741) -> 9.2592593e-05 | S47: MB0095
...
