Workbook

Sheet Cards List
A1: id | B1: extAbbreviation | C1: extensionEN | D1: extensionFR | E1: nameEN | F1: nameFR | G1: type | H1: tribe | I1: cost | J1: power | K1: capacity | L1: previewCapa | M1: effectEN | N1: effectFR
A2: BI1 | B2: B | C2: Basic Edition | D2: Édition de base | G2: Invocation | H2: Azemos | I2: 1 | J2: 1 | K2: CB1 CB4 CB16 | L2: {=_xlfn.TEXTJOIN(", ",TRUE,IFERROR(IF(SEARCH(" "&'Capacities List'!$A$2:$A$31&" "," "&K2&" ")>0,'Capacities List'!$C$2:$C$31,""),""))} -> Assistance, Rétribution, Déplacement
A3: BI2 | B3: B | C3: Basic Edition | D3: Édition de base | G3: Invocation | H3: Azemos | I3: 2 | J3: 1 | L3: {=_xlfn.TEXTJOIN(", ",TRUE,IFERROR(IF(SEARCH(" "&'Capacities List'!$A$2:$A$31&" "," "&K3&" ")>0,'Capacities List'!$C$2:$C$31,""),""))}
A4: BI3 | B4: B | C4: Basic Edition | D4: Édition de base | G4: Invocation | H4: Azemos | I4: 3 | J4: 1 | K4: CB2 | L4: {=_xlfn.TEXTJOIN(", ",TRUE,IFERROR(IF(SEARCH(" "&'Capacities List'!$A$2:$A$31&" "," "&K4&" ")>0,'Capacities List'!$C$2:$C$31,""),""))} -> Hostilité
A5: BI4 | B5: B | C5: Basic Edition | D5: Édition de base | G5: Invocation | H5: Azemos | I5: 4 | J5: 1 | K5: CB20 | L5: {=_xlfn.TEXTJOIN(", ",TRUE,IFERROR(IF(SEARCH(" "&'Capacities List'!$A$2:$A$31&" "," "&K5&" ")>0,'Capacities List'!$C$2:$C$31,""),""))} -> Prémonition
A6: BI5 | B6: B | C6: Basic Edition | D6: Édition de base | G6: Invocation | H6: Azemos | I6: 5 | J6: 1 | K6: CB1 CB2 | L6: {=_xlfn.TEXTJOIN(", ",TRUE,IFERROR(IF(SEARCH(" "&'Capacities List'!$A$2:$A$31&" "," "&K6&" ")>0,'Capacities List'!$C$2:$C$31,""),""))} -> Assistance, Hostilité
A7: BI6 | B7: B | C7: Basic Edition | D7: Édition de base | G7: Invocation | H7: Azemos | I7: 6 | J7: 1 | K7: CB12 | L7: {=_xlfn.TEXTJOIN(", ",TRUE,IFERROR(IF(SEARCH(" "&'Capacities List'!$A$2:$A$31&" "," "&K7&" ")>0,'Capacities List'!$C$2:$C$31,""),""))} -> Vigilance
A8: BI7 | B8: B | C8: Basic Edition | D8: Édition de base | G8: Invocation | H8: Eldari | I8: 1 | J8: 1 | L8: {=_xlfn.TEXTJOIN(", ",TRUE,IFERROR(IF(SEARCH(" "&'Capacities List'!$A$2:$A$31&" "," "&K8&" ")>0,'Capacities List'!$C$2:$C$31,""),""))}
A9: BI8 | B9: B | C9: Basic Edition | D9: Édition de base | G9: Invocation | H9: Eldari | I9: 2 | J9: 1 | K9: CB8 CB15 CB19 CB20 | L9: {=_xlfn.TEXTJOIN(", ",TRUE,IFERROR(IF(SEARCH(" "&'Capacities List'!$A$2:$A$31&" "," "&K9&" ")>0,'Capacities List'!$C$2:$C$31,""),""))} -> Encouragement, Miracle, Échange, Prémonition
A10: BI9 | B10: B | C10: Basic Edition | D10: Édition de base | G10: Invocation | H10: Eldari | I10: 3 | J10: 1 | L10: {=_xlfn.TEXTJOIN(", ",TRUE,IFERROR(IF(SEARCH(" "&'Capacities List'!$A$2:$A$31&" "," "&K10&" ")>0,'Capacities List'!$C$2:$C$31,""),""))}
A11: BI10 | B11: B | C11: Basic Edition | D11: Édition de base | G11: Invocation | H11: Eldari | I11: 4 | J11: 1 | L11: {=_xlfn.TEXTJOIN(", ",TRUE,IFERROR(IF(SEARCH(" "&'Capacities List'!$A$2:$A$31&" "," "&K11&" ")>0,'Capacities List'!$C$2:$C$31,""),""))}
A12: BI11 | B12: B | C12: Basic Edition | D12: Édition de base | G12: Invocation | H12: Eldari | I12: 5 | J12: 1 | L12: {=_xlfn.TEXTJOIN(", ",TRUE,IFERROR(IF(SEARCH(" "&'Capacities List'!$A$2:$A$31&" "," "&K12&" ")>0,'Capacities List'!$C$2:$C$31,""),""))}
A13: BI12 | B13: B | C13: Basic Edition | D13: Édition de base | G13: Invocation | H13: Eldari | I13: 6 | J13: 1 | L13: {=_xlfn.TEXTJOIN(", ",TRUE,IFERROR(IF(SEARCH(" "&'Capacities List'!$A$2:$A$31&" "," "&K13&" ")>0,'Capacities List'!$C$2:$C$31,""),""))}
A14: BI13 | B14: B | C14: Basic Edition | D14: Édition de base | G14: Invocation | H14: Feleon | I14: 1 | J14: 1 | L14: {=_xlfn.TEXTJOIN(", ",TRUE,IFERROR(IF(SEARCH(" "&'Capacities List'!$A$2:$A$31&" "," "&K14&" ")>0,'Capacities List'!$C$2:$C$31,""),""))}
A15: BI14 | B15: B | C15: Basic Edition | D15: Édition de base | G15: Invocation | H15: Feleon | I15: 2 | J15: 1 | L15: {=_xlfn.TEXTJOIN(", ",TRUE,IFERROR(IF(SEARCH(" "&'Capacities List'!$A$2:$A$31&" "," "&K15&" ")>0,'Capacities List'!$C$2:$C$31,""),""))}
A16: BI15 | B16: B | C16: Basic Edition | D16: Édition de base | G16: Invocation | H16: Feleon | I16: 3 | J16: 1 | L16: {=_xlfn.TEXTJOIN(", ",TRUE,IFERROR(IF(SEARCH(" "&'Capacities List'!$A$2:$A$31&" "," "&K16&" ")>0,'Capacities List'!$C$2:$C$31,""),""))}
A17: BI16 | B17: B | C17: Basic Edition | D17: Édition de base | G17: Invocation | H17: Feleon | I17: 4 | J17: 1 | L17: {=_xlfn.TEXTJOIN(", ",TRUE,IFERROR(IF(SEARCH(" "&'Capacities List'!$A$2:$A$31&" "," "&K17&" ")>0,'Capacities List'!$C$2:$C$31,""),""))}
A18: BI17 | B18: B | C18: Basic Edition | D18: Édition de base | G18: Invocation | H18: Feleon | I18: 5 | J18: 1 | L18: {=_xlfn.TEXTJOIN(", ",TRUE,IFERROR(IF(SEARCH(" "&'Capacities List'!$A$2:$A$31&" "," "&K18&" ")>0,'Capacities List'!$C$2:$C$31,""),""))}
A19: BI18 | B19: B | C19: Basic Edition | D19: Édition de base | G19: Invocation | H19: Feleon | I19: 6 | J19: 1 | L19: {=_xlfn.TEXTJOIN(", ",TRUE,IFERROR(IF(SEARCH(" "&'Capacities List'!$A$2:$A$31&" "," "&K19&" ")>0,'Capacities List'!$C$2:$C$31,""),""))}
A20: BI19 | B20: B | C20: Basic Edition | D20: Édition de base | G20: Invocation | H20: Kuro | I20: 1 | J20: 1 | K20: CB2 | L20: {=_xlfn.TEXTJOIN(", ",TRUE,IFERROR(IF(SEARCH(" "&'Capacities List'!$A$2:$A$31&" "," "&K20&" ")>0,'Capacities List'!$C$2:$C$31,""),""))} -> Hostilité
A21: BI20 | B21: B | C21: Basic Edition | D21: Édition de base | G21: Invocation | H21: Kuro | I21: 2 | J21: 1 | L21: {=_xlfn.TEXTJOIN(", ",TRUE,IFERROR(IF(SEARCH(" "&'Capacities List'!$A$2:$A$31&" "," "&K21&" ")>0,'Capacities List'!$C$2:$C$31,""),""))}
A22: BI21 | B22: B | C22: Basic Edition | D22: Édition de base | G22: Invocation | H22: Kuro | I22: 3 | J22: 1 | L22: {=_xlfn.TEXTJOIN(", ",TRUE,IFERROR(IF(SEARCH(" "&'Capacities List'!$A$2:$A$31&" "," "&K22&" ")>0,'Capacities List'!$C$2:$C$31,""),""))}
A23: BI22 | B23: B | C23: Basic Edition | D23: Édition de base | G23: Invocation | H23: Kuro | I23: 4 | J23: 1 | L23: {=_xlfn.TEXTJOIN(", ",TRUE,IFERROR(IF(SEARCH(" "&'Capacities List'!$A$2:$A$31&" "," "&K23&" ")>0,'Capacities List'!$C$2:$C$31,""),""))}
A24: BI23 | B24: B | C24: Basic Edition | D24: Édition de base | G24: Invocation | H24: Kuro | I24: 5 | J24: 1 | L24: {=_xlfn.TEXTJOIN(", ",TRUE,IFERROR(IF(SEARCH(" "&'Capacities List'!$A$2:$A$31&" "," "&K24&" ")>0,'Capacities List'!$C$2:$C$31,""),""))}
A25: BI24 | B25: B | C25: Basic Edition | D25: Édition de base | G25: Invocation | H25: Kuro | I25: 6 | J25: 1 | L25: {=_xlfn.TEXTJOIN(", ",TRUE,IFERROR(IF(SEARCH(" "&'Capacities List'!$A$2:$A$31&" "," "&K25&" ")>0,'Capacities List'!$C$2:$C$31,""),""))}
A26: BI25 | B26: B | C26: Basic Edition | D26: Édition de base | G26: Invocation | H26: Tsolac | I26: 1 | J26: 1 | L26: {=_xlfn.TEXTJOIN(", ",TRUE,IFERROR(IF(SEARCH(" "&'Capacities List'!$A$2:$A$31&" "," "&K26&" ")>0,'Capacities List'!$C$2:$C$31,""),""))}
A27: BI26 | B27: B | C27: Basic Edition | D27: Édition de base | G27: Invocation | H27: Tsolac | I27: 2 | J27: 1 | L27: {=_xlfn.TEXTJOIN(", ",TRUE,IFERROR(IF(SEARCH(" "&'Capacities List'!$A$2:$A$31&" "," "&K27&" ")>0,'Capacities List'!$C$2:$C$31,""),""))}
A28: BI27 | B28: B | C28: Basic Edition | D28: Édition de base | G28: Invocation | H28: Tsolac | I28: 3 | J28: 1 | L28: {=_xlfn.TEXTJOIN(", ",TRUE,IFERROR(IF(SEARCH(" "&'Capacities List'!$A$2:$A$31&" "," "&K28&" ")>0,'Capacities List'!$C$2:$C$31,""),""))}
A29: BI28 | B29: B | C29: Basic Edition | D29: Édition de base | G29: Invocation | H29: Tsolac | I29: 4 | J29: 1 | L29: {=_xlfn.TEXTJOIN(", ",TRUE,IFERROR(IF(SEARCH(" "&'Capacities List'!$A$2:$A$31&" "," "&K29&" ")>0,'Capacities List'!$C$2:$C$31,""),""))}
A30: BI29 | B30: B | C30: Basic Edition | D30: Édition de base | G30: Invocation | H30: Tsolac | I30: 5 | J30: 1 | L30: {=_xlfn.TEXTJOIN(", ",TRUE,IFERROR(IF(SEARCH(" "&'Capacities List'!$A$2:$A$31&" "," "&K30&" ")>0,'Capacities List'!$C$2:$C$31,""),""))}
A31: BI30 | B31: B | C31: Basic Edition | D31: Édition de base | G31: Invocation | H31: Tsolac | I31: 6 | J31: 1 | L31: {=_xlfn.TEXTJOIN(", ",TRUE,IFERROR(IF(SEARCH(" "&'Capacities List'!$A$2:$A$31&" "," "&K31&" ")>0,'Capacities List'!$C$2:$C$31,""),""))}
A32: BS1 | B32: B | C32: Basic Edition | D32: Édition de base | E32: Dodge | F32: Esquive | G32: Spell | I32: 3 | N32: Annule les blessures infligées par une invocation.
A33: BS2 | B33: B | C33: Basic Edition | D33: Édition de base | E33: Deflexion | F33: Déflexion | G33: Spell | I33: 5 | N33: Redistribue les blessures infligées par une invocation à une invocation d’un slot adjacent.
A34: BS3 | B34: B | C34: Basic Edition | D34: Édition de base | E34: Mirror | F34: Miroir | G34: Spell | I34: 4 | N34: Renvoie les blessures infligées par une invocation sur elle-même.
A35: BS4 | B35: B | C35: Basic Edition | D35: Édition de base | E35: Transfer | F35: Transfert | G35: Spell | I35: 3 | N35: Interchange deux invocations d’un slot adjacent.
A36: BS5 | B36: B | C36: Basic Edition | D36: Édition de base | E36: Teleportation | F36: Téléportation | G36: Spell | I36: 3 | N36: Interchange deux invocations non adjacentes.
A37: BS6 | B37: B | C37: Basic Edition | D37: Édition de base | E37: Dissociation | F37: Dissociation | G37: Spell | I37: 5 | N37: Associe l’enchantement d’une invocation à une autre.
A38: BS7 | B38: B | C38: Basic Edition | D38: Édition de base | E38: Transmutation | F38: Transmutation | G38: Spell | I38: 5 | N38: Échange le contrôle de deux invocations d’un même slot.
A39: BS8 | B39: B | C39: Basic Edition | D39: Édition de base | E39: Disenchantment | F39: Désenchantement | G39: Spell | I39: 4 | N39: Place un enchantement dans la fosse de son propriétaire.
A40: BS9 | B40: B | C40: Basic Edition | D40: Édition de base | E40: Counterspell | F40: Contresort | G40: Spell | I40: 3 | N40: Empêche un sortilège de se résoudre.
...

Sheet Capacities List
A1: id | B1: nameEN | C1: nameFR | D1: cost | E1: effectEN | F1: effectFR
A2: CB1 | B2: Support | C2: Assistance | D2: 1 | F2: Double la force des autres invocations attaquantes du joueur si la porteuse de la capacité attaque également.
A3: CB2 | B3: Hostility | C3: Hostilité | D3: 2 | F3: Double la force de l’invocation lorsqu’elle attaque.
A4: CB3 | B4: Protection | C4: Protection | D4: 1 | F4: Double la force de l’invocation lorsqu’elle défend.
A5: CB4 | B5: Retribution | C5: Rétribution | D5: 1 | F5: Lorsque l’invocation envoie une autre invocation dans la fosse, le joueur pioche une carte.
A6: CB5 | B6: Fatal blow | C6: Coup fatal | D6: 3 | F6: La moindre blessure infligée à une invocation par la porteuse de la capacité suffit à l’envoyer dans la fosse.
A7: CB6 | B7: Perseverance | C7: Persévérance | D7: 1 | F7: Lorsqu’une invocation adverse défend, toutes blessures infligées sur celle-ci supérieure à sa force est infligée à l'adversaire.
A8: CB7 | B8: Intimidation | C8: Intimidation | D8: 2 | F8: Aucune défense ne peut être présente sur le même slot durant l‘attaque de l’invocation.
A9: CB8 | B9: Encouragement | C9: Encouragement | D9: 1 | F9: Double la force des invocations de la même tribu que la porteuse de la capacité.
A10: CB9 | B10: Ubiquity | C10: Ubiquité | D10: 1 | F10: Le joueur choisit l’invocation qui recevra les blessures infligées par la porteuse de la capacité lorsqu’elle attaque.
A11: CB10 | B11: Rescue | C11: Sauvetage | D11: 1 | F11: Place l’invocation en dessous du deck du joueur lorsqu’elle est envoyée dans la fosse.
A12: CB11 | B12: Donation | C12: Donation | D12: 1 | F12: Transmet l’enchantement à une invocation d’un slot adjacent.
A13: CB12 | B13: Vigilance | C13: Vigilance | D13: 1 | F13: L’invocation passe en position défensive.
... A21: CB20 | B21: Premonition | C21: Prémonition | D21: 1 | F21: Regardez un nombre de cartes du dessus de votre deck équivalent au nombre d'invocations contrôlées dans l'arène puis remettez les sur le dessus, dans l'ordre voulu.
A22: CB21 | D22: 1 | F22: Réduisez le coût des sortilèges de 1 d'éther par invocation de la même tribu qui défend.
A23: CB22 | D23: 1 | F23: Réduisez le coût des enchantements de 1 d'éther par invocation de la même tribu qui ?.
A24: CB23 | F24: Réduisez le coût des invocations de 1 d'éther par invocation de la même tribu qui ?.
A25: CB24
A26: CB25
A27: CB26
A28: CB27
A29: CB28
A30: CB29
A31: CB30
