Workbook

Sheet Inscriptions
A1: Liste des participants(es)
A2: Code Inscription | B2: Nom prénom | C2: Adresse | D2: Âge | E2: Sexe
A3: LeD30-BM | B3: Lemieux Dominik | C3: 10 Place St-Pierre, Chateauguay, Québec | D3: 30 | E3: M
A4: DrE38-GM | B4: Drien Eric | C4: 1021 rue Fleury, Longueuil, Québec | D4: 38 | E4: M
A5: BeR27-AM | B5: Belcher Raul | C5: 1021 rue Fleury, Montpelier, Québec | D5: 27 | E5: M
A6: AyM43-DF | B6: Ayotte Maryse | C6: 104 rue Des Sables, Carignan, Québec | D6: 43 | E6: F
A7: RoB28-AM | B7: Ross Bryan | C7: 112 rue Notre Dame O, Montreal, Québec | D7: 28 | E7: M
A8: LaS39-GM | B8: Lavoie Steve | C8: 112 rue Tachereau E, St-Hubert, Québec | D8: 39 | E8: M
A9: DeT33-BM | B9: Desruisseaux Tom | C9: 1156 Bd Montréal, Québec, Québec | D9: 33 | E9: M
A10: BlP31-BF | B10: Blais Pascale | C10: 1175 rue Saint-Vallier, Québec, Québec | D10: 31 | E10: F
A11: DeS41-DM | B11: Demers Steve | C11: 118 Avenue Menard, Beaconsfield, Québec | D11: 41 | E11: M
A12: SeM20-AM | B12: Setlack Matt | C12: 12 2e Avenue, Cold Lake, Alberta | D12: 20 | E12: M
A13: BiO34-BM | B13: Bibor Olivier | C13: 12 7e Ave, Montréal, Québec | D13: 34 | E13: M
A14: CoH36-GM | B14: Corning Hadrian | C14: 12 Bd. University, Westmount, Québec | D14: 36 | E14: M
... A127: GiB23-AF | B127: Gibson Breanne | C127: 99 Coppard Ave, Markham, Ontario | D127: 23 | E127: F

Sheet Liste sponsors
B1: Liste des sponsors
A2: Num. | B2: Nom du sponsor | C2: Catégorie des primes - Inscription
C3: Homme | D3: Femme | E3: <=25 ans | F3: entre 26 et 35 ans | G3: >=36 ans
A4: 1 | B4: Métro | C4: 500 | D4: 350 | E4: 100 | F4: 150 | G4: 200
A5: 2 | B5: Hôtel PALACE | C5: 200 | D5: 250 | E5: 0 | F5: 0 | G5: 0
A6: 3 | B6: Hydro-Québec | C6: 600 | D6: 600 | E6: 0 | F6: 0 | G6: 0
A7: 4 | B7: Pétro-Canada | C7: 350 | D7: 300 | E7: 50 | F7: 75 | G7: 100
A8: 5 | B8: Shell | C8: 450 | D8: 500 | E8: 90 | F8: 45 | G8: 60
A9: 6 | B9: Boutique Zones | C9: 300 | D9: 350 | E9: 0 | F9: 0 | G9: 0
A10: 7 | B10: Sports Experts | C10: 200 | D10: 250 | E10: 60 | F10: 45 | G10: 50
A11: 8 | B11: Banque CIBC | C11: 600 | D11: 500 | E11: 0 | F11: 0 | G11: 0
A12: 9 | B12: Atmosphère | C12: 250 | D12: 300 | E12: 40 | F12: 50 | G12: 60
A13: 10 | B13: Sears | C13: 150 | D13: 200 | E13: 0 | F13: 0 | G13: 0

Sheet Temps participants
A1: Temps des participants(es)
A2: Nom | B2: Prénom | C2: Nage | D2: Velo | E2: Course
A3: Aita | B3: Luce | C3: 0.019814815 | D3: 0.053842593 | E3: 0.034108796
A4: Arpin | B4: Roxane | C4: 0.020810185 | D4: 0.057430556 | E4: 0.036608796
A5: Arsenault | B5: Denis | C5: 0.019097222 | D5: 0.049386574 | E5: 0.03212963
A6: Asselin | B6: Charles | C6: 0.016724537 | D6: 0.047430556 | E6: 0.028414352
A7: Ayotte | B7: Maryse | C7: 0.018634259 | D7: 0.054027778 | E7: 0.033726852
A8: Beauregard | B8: Patrick | C8: 0.01755787 | D8: 0.050451389 | E8: 0.035520833
A9: Beausoleil | B9: Francis | C9: 0.020902778 | D9: 0.046261574 | E9: 0.038298611
A10: Belanger | B10: Frederic | C10: 0.019583333 | D10: 0.04375 | E10: 0.033298611
A11: Belcher | B11: Raul | C11: 0.018217593 | D11: 0.052071759 | E11: 0.038449074
A12: Bellavance | B12: Dany | C12: 0.016342593 | D12: 0.045509259 | E12: 0.027523148
A13: Bello | B13: Andrea | C13: 0.020833333 | D13: 0.048518519 | E13: 0.036400463
A14: Bergeron | B14: Eric | C14: 0.021608796 | D14: 0.053032407 | E14: 0.034386574
... A127: Yarish | B127: Keane | C127: 0.019710648 | D127: 0.053020833 | E127: 0.033229167

Sheet Catégories
A1: Nombre participants par catégorie d'âge
E2: Nombre participants
A3: Âge min | B3: Plage d'âge | C3: Catégories d'âge | D3: Total par catégorie | E3: Hommes | F3: Femmes
A4: 20 | B4: 20 à 29 | C4: Alpha | D4: =COUNTIFS(Inscriptions!D3:D127,"<=29",Inscriptions!D3:D127,">=20") -> 29 | E4: =COUNTIFS(Inscriptions!D3:D127,"<=29",Inscriptions!D3:D127,">=20",Inscriptions!E3:E127,"M") -> 17 | F4: =COUNTIFS(Inscriptions!D3:D127,"<=29",Inscriptions!D3:D127,">=20",Inscriptions!E3:E127,"F") -> 12
A5: 30 | B5: 30 à 34 | C5: Bêta | D5: =COUNTIFS(Inscriptions!D3:D127,"<=34",Inscriptions!D3:D127,">=30") -> 34 | E5: =COUNTIFS(Inscriptions!D3:D127,"<=34",Inscriptions!D3:D127,">=30",Inscriptions!E3:E127,"M") -> 20 | F5: =COUNTIFS(Inscriptions!D3:D127,"<=34",Inscriptions!D3:D127,">=30",Inscriptions!E3:E127,"F") -> 14
A6: 35 | B6: 35 à 39 | C6: Gamma | D6: =COUNTIFS(Inscriptions!D3:D127,"<=39",Inscriptions!D3:D127,">=35") -> 37 | E6: =COUNTIFS(Inscriptions!D3:D127,"<=39",Inscriptions!D3:D127,">=35",Inscriptions!E3:E127,"M") -> 26 | F6: =COUNTIFS(Inscriptions!D3:D127,"<=39",Inscriptions!D3:D127,">=35",Inscriptions!E3:E127,"F") -> 11
A7: 40 | B7: 40 à 44 | C7: Delta | D7: =COUNTIFS(Inscriptions!D3:D127,"<=44",Inscriptions!D3:D127,">=40") -> 25 | E7: =COUNTIFS(Inscriptions!D3:D127,"<=44",Inscriptions!D3:D127,">=40",Inscriptions!E3:E127,"M") -> 17 | F7: =COUNTIFS(Inscriptions!D3:D127,"<=44",Inscriptions!D3:D127,">=40",Inscriptions!E3:E127,"F") -> 8
C8: Total | D8: =D4+D5+D6+D7 -> 125 | E8: =E4+E5+E6+E7 -> 80 | F8: =F4+F5+F6+F7 -> 45

Sheet Groupes
A1: Groupes de temps
A2: Temps min | B2: Nom du groupe
A3: 0.076388889 | B3: Groupe 1
A4: =$A3+"00:10:00" -> 0.083333333 | B4: Groupe 2
A5: =$A4+"00:10:00" -> 0.090277778 | B5: Groupe 3
A6: =$A5+"00:10:00" -> 0.097222222 | B6: Groupe 4
A7: =$A6+"00:10:00" -> 0.10416667 | B7: Groupe 5
A8: =$A7+"00:10:00" -> 0.11111111 | B8: Groupe 6
A9: =$A8+"00:10:00" -> 0.11805556 | B9: Groupe 7

Sheet Q2
B1: Liste des participants(es)
A2: Num. | B2: Code Inscription | C2: Nom | D2: prénom | E2: Numéro et rue | F2: Ville | G2: Province | H2: Âge | I2: Sexe
A3: =ROW(A3:$A$127)-2 -> 1 | B3: LeD30-BM | C3: Lemieux | D3: Dominik | E3: 10 Place St-Pierre | F3: Chateauguay | G3: Québec | H3: 30 | I3: M
A4: =ROW(A4:$A$127)-2 -> 2 | B4: DrE38-GM | C4: Drien | D4: Eric | E4: 1021 rue Fleury | F4: Longueuil | G4: Québec | H4: 38 | I4: M
A5: =ROW(A5:$A$127)-2 -> 3 | B5: BeR27-AM | C5: Belcher | D5: Raul | E5: 1021 rue Fleury | F5: Montpelier | G5: Québec | H5: 27 | I5: M
A6: =ROW(A6:$A$127)-2 -> 4 | B6: AyM43-DF | C6: Ayotte | D6: Maryse | E6: 104 rue Des Sables | F6: Carignan | G6: Québec | H6: 43 | I6: F
A7: =ROW(A7:$A$127)-2 -> 5 | B7: RoB28-AM | C7: Ross | D7: Bryan | E7: 112 rue Notre Dame O | F7: Montreal | G7: Québec | H7: 28 | I7: M
A8: =ROW(A8:$A$127)-2 -> 6 | B8: LaS39-GM | C8: Lavoie | D8: Steve | E8: 112 rue Tachereau E | F8: St-Hubert | G8: Québec | H8: 39 | I8: M
A9: =ROW(A9:$A$127)-2 -> 7 | B9: DeT33-BM | C9: Desruisseaux | D9: Tom | E9: 1156 Bd Montréal | F9: Québec | G9: Québec | H9: 33 | I9: M
A10: =ROW(A10:$A$127)-2 -> 8 | B10: BlP31-BF | C10: Blais | D10: Pascale | E10: 1175 rue Saint-Vallier | F10: Québec | G10: Québec | H10: 31 | I10: F
A11: =ROW(A11:$A$127)-2 -> 9 | B11: DeS41-DM | C11: Demers | D11: Steve | E11: 118 Avenue Menard | F11: Beaconsfield | G11: Québec | H11: 41 | I11: M
A12: =ROW(A12:$A$127)-2 -> 10 | B12: SeM20-AM | C12: Setlack | D12: Matt | E12: 12 2e Avenue | F12: Cold Lake | G12: Alberta | H12: 20 | I12: M
A13: =ROW(A13:$A$127)-2 -> 11 | B13: BiO34-BM | C13: Bibor | D13: Olivier | E13: 12 7e Ave | F13: Montréal | G13: Québec | H13: 34 | I13: M
A14: =ROW(A14:$A$127)-2 -> 12 | B14: CoH36-GM | C14: Corning | D14: Hadrian | E14: 12 Bd. University | F14: Westmount | G14: Québec | H14: 36 | I14: M
... A127: =ROW(A127:$A$127)-2 -> 125 | B127: GiB23-AF | C127: Gibson | D127: Breanne | E127: 99 Coppard Ave | F127: Markham | G127: Ontario | H127: 23 | I127: F

Sheet Prime d'inscription
B1: Liste des participants(es)
A2: Num. | B2: Code Inscription | C2: Nom | D2: prénom | E2: Numéro et rue | F2: Ville | G2: Province | H2: Âge | I2: Sexe | J2: Num.sponsor | K2: Nom sponsor | L2: Prime d'inscription
A3: =ROW(A3:$A$127)-2 -> 1 | B3: AiL35-GF | C3: Lemieux | D3: Dominik | E3: 10 Place St-Pierre | F3: Chateauguay | G3: Québec | H3: 30 | I3: M | J3: =RANDBETWEEN(1,10) -> 3 | K3: =VLOOKUP(J3,'Liste sponsors'!A4:B13,2) -> Hydro-Québec
A4: =ROW(A4:$A$127)-2 -> 2 | B4: ArD43-DM | C4: Drien | D4: Eric | E4: 1021 rue Fleury | F4: Longueuil | G4: Québec | H4: 38 | I4: M | J4: =RANDBETWEEN(1,10) -> 6
A5: =ROW(A5:$A$127)-2 -> 3 | B5: ArR26-AF | C5: Belcher | D5: Raul | E5: 1021 rue Fleury | F5: Montpelier | G5: Québec | H5: 27 | I5: M | J5: =RANDBETWEEN(1,10) -> 8
A6: =ROW(A6:$A$127)-2 -> 4 | B6: AsC30-BM | C6: Ayotte | D6: Maryse | E6: 104 rue Des Sables | F6: Carignan | G6: Québec | H6: 43 | I6: F | J6: =RANDBETWEEN(1,10) -> 4
A7: =ROW(A7:$A$127)-2 -> 5 | B7: AyM43-DF | C7: Ross | D7: Bryan | E7: 112 rue Notre Dame O | F7: Montreal | G7: Québec | H7: 28 | I7: M | J7: =RANDBETWEEN(1,10) -> 4
A8: =ROW(A8:$A$127)-2 -> 6 | B8: BeA32-BM | C8: Lavoie | D8: Steve | E8: 112 rue Tachereau E | F8: St-Hubert | G8: Québec | H8: 39 | I8: M | J8: =RANDBETWEEN(1,10) -> 1
A9: =ROW(A9:$A$127)-2 -> 7 | B9: BeD38-GM | C9: Desruisseaux | D9: Tom | E9: 1156 Bd Montréal | F9: Québec | G9: Québec | H9: 33 | I9: M | J9: =RANDBETWEEN(1,10) -> 1
A10: =ROW(A10:$A$127)-2 -> 8 | B10: BeE33-BM | C10: Blais | D10: Pascale | E10: 1175 rue Saint-Vallier | F10: Québec | G10: Québec | H10: 31 | I10: F | J10: =RANDBETWEEN(1,10) -> 10
A11: =ROW(A11:$A$127)-2 -> 9 | B11: BeF32-BM | C11: Demers | D11: Steve | E11: 118 Avenue Menard | F11: Beaconsfield | G11: Québec | H11: 41 | I11: M | J11: =RANDBETWEEN(1,10) -> 10
A12: =ROW(A12:$A$127)-2 -> 10 | B12: BeF42-DM | C12: Setlack | D12: Matt | E12: 12 2e Avenue | F12: Cold Lake | G12: Alberta | H12: 20 | I12: M | J12: =RANDBETWEEN(1,10) -> 10
A13: =ROW(A13:$A$127)-2 -> 11 | B13: BeG30-BM | C13: Bibor | D13: Olivier | E13: 12 7e Ave | F13: Montréal | G13: Québec | H13: 34 | I13: M | J13: =RANDBETWEEN(1,10) -> 1
A14: =ROW(A14:$A$127)-2 -> 12 | B14: BeL42-DM | C14: Corning | D14: Hadrian | E14: 12 Bd. University | F14: Westmount | G14: Québec | H14: 36 | I14: M | J14: =RANDBETWEEN(1,10) -> 5
A15: =ROW(A15:$A$127)-2 -> 13 | B15: BeP39-GM | C15: Marzano | D15: Anna-Maria | E15: 120 Av Louise-Cloutier | F15: Boisbriand | G15: Québec | H15: 42 | I15: F | J15: =RANDBETWEEN(1,10) -> 4
... A127: =ROW(A127:$A$127)-2 -> 125 | B127: YaK25-AM | C127: Gibson | D127: Breanne | E127: 99 Coppard Ave | F127: Markham | G127: Ontario | H127: 23 | I127: F | J127: =RANDBETWEEN(1,10) -> 1

Sheet Temps obtenus
B1: Temps des participants(es)
A2: Code participant | B2: Nom | C2: Prénom | D2: Nage | E2: Velo | F2: Course | G2: Temps total | H2: Rang Nage | I2: Rang Velo | J2: Rang Course | K2: Rang Total
B3: Aita | C3: Luce | D3: 0.019814815 | E3: 0.053842593 | F3: 0.034108796 | G3: =$D3+$E3+$F3 -> 0.1077662
B4: Arpin | C4: Roxane | D4: 0.020810185 | E4: 0.057430556 | F4: 0.036608796 | G4: =$D4+$E4+$F4 -> 0.11484954
B5: Arsenault | C5: Denis | D5: 0.019097222 | E5: 0.049386574 | F5: 0.03212963 | G5: =$D5+$E5+$F5 -> 0.10061343
B6: Asselin | C6: Charles | D6: 0.016724537 | E6: 0.047430556 | F6: 0.028414352 | G6: =$D6+$E6+$F6 -> 0.092569444
B7: Ayotte | C7: Maryse | D7: 0.018634259 | E7: 0.054027778 | F7: 0.033726852 | G7: =$D7+$E7+$F7 -> 0.10638889
B8: Beauregard | C8: Patrick | D8: 0.01755787 | E8: 0.050451389 | F8: 0.035520833 | G8: =$D8+$E8+$F8 -> 0.10353009
B9: Beausoleil | C9: Francis | D9: 0.020902778 | E9: 0.046261574 | F9: 0.038298611 | G9: =$D9+$E9+$F9 -> 0.10546296
B10: Belanger | C10: Frederic | D10: 0.019583333 | E10: 0.04375 | F10: 0.033298611 | G10: =$D10+$E10+$F10 -> 0.096631944
B11: Belcher | C11: Raul | D11: 0.018217593 | E11: 0.052071759 | F11: 0.038449074 | G11: =$D11+$E11+$F11 -> 0.10873843
B12: Bellavance | C12: Dany | D12: 0.016342593 | E12: 0.045509259 | F12: 0.027523148 | G12: =$D12+$E12+$F12 -> 0.089375
B13: Bello | C13: Andrea | D13: 0.020833333 | E13: 0.048518519 | F13: 0.036400463 | G13: =$D13+$E13+$F13 -> 0.10575231
B14: Bergeron | C14: Eric | D14: 0.021608796 | E14: 0.053032407 | F14: 0.034386574 | G14: =$D14+$E14+$F14 -> 0.10902778
... B127: Yarish | C127: Keane | D127: 0.019710648 | E127: 0.053020833 | F127: 0.033229167 | G127: =$D127+$E127+$F127 -> 0.10596065

Sheet Feuil1
