Workbook

Sheet Réponses au formulaire 1
A1: Horodateur | B1: Question sans titre

Sheet Feuille 1
A1: SEMAINE | B1: USER STORY | C1: SPRINT | D1: JOUR DEBUT | E1: JOUR FIN
A2: 1 | B2: XX alex | C2: =IFS(A2=1,"Sprint 1",A2=22,"Sprint 2") -> Sprint 1 | D2: 44754 | E2: 44754
A3: 1 | B3: Customer 360 view | C3: =IFS(A3=1,"Sprint 1",A3=22,"Sprint 2") -> Sprint 1 | D3: 44754 | E3: 44754
A4: 1 | B4: Bank account | C4: =IFS(A4=1,"Sprint 1",A4=22,"Sprint 2") -> Sprint 1 | D4: 44755 | E4: 44755
A5: 1 | B5: Employees (PIVO RH>eTemptation) | C5: =IFS(A5=1,"Sprint 1",A5=22,"Sprint 2") -> Sprint 1 | D5: 44756 | E5: 44756
A6: 1 | B6: Vacations (PIVO RH>eTemptation) | C6: =IFS(A6=1,"Sprint 1",A6=22,"Sprint 2") -> Sprint 1 | D6: 44757 | E6: 44757
A7: 1 | B7: Training booking | C7: =IFS(A7=1,"Sprint 1",A7=22,"Sprint 2") -> Sprint 1 | D7: 44757 | E7: 44757
A8: 1 | B8: Training booking | C8: =IFS(A8=1,"Sprint 1",A8=22,"Sprint 2") -> Sprint 1 | D8: 44757 | E8: 44757
A9: 1 | B9: Asset serial SIC>MS | C9: =IFS(A9=1,"Sprint 1",A9=22,"Sprint 2") -> Sprint 1 | D9: 44757 | E9: 44757
A10: 1 | B10: // | C10: =IFS(A10=1,"Sprint 1",A10=22,"Sprint 2") -> Sprint 1 | D10: 44757 | E10: 44757
A11: 1 | B11: Exposition des numéros de série | C11: =IFS(A11=1,"Sprint 1",A11=22,"Sprint 2") -> Sprint 1 | D11: 44757 | E11: 44757
A12: 1 | B12: Asset activation | C12: =IFS(A12=1,"Sprint 1",A12=22,"Sprint 2") -> Sprint 1 | D12: 44757 | E12: 44757
A13: 1 | B13: Services Rules | C13: =IFS(A13=1,"Sprint 1",A13=22,"Sprint 2") -> Sprint 1 | D13: 44757 | E13: 44757
... A21: 22 | B21: Création/Modification des Clients | C21: =IFS(A21=1,"Sprint 1",A21=22,"Sprint 2") -> Sprint 2 | D21: 44758 | E21: 44758
A22: 22 | B22: Envoi des commandes BuyMe | D22: 44758 | E22: 44758
A23: 22 | B23: Création des contacts Clients à créer avec les commandes | D23: 44758 | E23: 44758
A24: 22 | B24: Mandats vers Store | D24: 44758 | E24: 44758
A25: 22 | B25: User certification | D25: 44758 | E25: 44758
A26: 22 | B26: ServiceNow-UserCertification | D26: 44758 | E26: 44758
A27: 22 | B27: Clients vers Store | D27: 44758 | E27: 44758
A28: 22 | B28: Organisation des ventes | D28: 44758 | E28: 44758
A29: 22 | B29: gestion finalité vente interface souscription | D29: 44758 | E29: 44758
A30: 24 | B30: new mapping for product RatePlan | D30: 44781 | E30: 44781
A31: 24 | B31: Amend existing subscription from a Salesforce order | D31: 44781 | E31: 44781
A32: 24 | B32: Souscription | D32: 44781 | E32: 44781
A33: 25 | B33: Implémentation logs | D33: 44784 | E33: 44784
... A143: 62 | B143: Exchange rate (XRP>MS) | D143: 44894 | E143: 44894
B144: Training book (Store>XRP) | D144: 44895 | E144: 44895
B145: Order/Amendment vers SAAS Subscription proxy | D145: 44896 | E145: 44896
B146: Synchro order | D146: 44897 | E146: 44897
B147: Poc Order | D147: 44898 | E147: 44898
B148: API Experience ODATA pour les souscriptions Zuora | D148: 44899 | E148: 44899
B149: API expérience pour création d'admin SaaS | D149: 44900 | E149: 44900
B150: Read existing subscription for Upsell (post subscription in Salesforce) | D150: 44901 | E150: 44901
B151: Filter ServiceLevel 999 | D151: 44902 | E151: 44902
B152: Webservice interrogation asset SNOW | D152: 44903 | E152: 44903
B153: Mulesoft - Perte de "repères" dans l'enchainement du code | D153: 44904 | E153: 44904
B154: Flux XRP <> Qualtrics | D154: 44905 | E154: 44905
B155: XRP <> 360 Learning | D155: 44906 | E155: 44906
... B170: Mise à jour CI BuyMe/XRP | D170: 44921 | E170: 44921
...

Sheet Feuille 2
A1: SEMAINE | B1: DATE DE DEBUT | C1: DATE DE FIN | D1: USER STORY | E1: SPRINT ( resultat attendu ) | F1: SPRINT G (Sprint global ) | G1: FEELING PROJET | H1: Méteo SPRINT | I1: METEO DU PROJET | J1: En cours ( nombre de ticket en cours) | K1: Don ( nombre de ticket fini )
A2: 1 | B2: 44298 | C2: 44301 | D2: XX alex | E2: SPRINT 1 | F2: SPRINT 1
A3: 1 | B3: 44299 | C3: 44301 | D3: Customer 360 view | E3: SPRINT 1 | F3: XX alex | G3: 0 | H3: MAL | I3: =IF(I3,0, MAL) -> #REF!
A4: 1 | B4: 44300 | C4: 44301 | D4: Bank account | E4: SPRINT 1 | F4: Customer 360 view | G4: 1 | H4: NORMAL | I4: Normal
A5: 2 | B5: 44309 | C5: 44301 | D5: Employees (PIVO RH>eTemptation) | E5: SPRINT 2 | F5: Bank account | G5: 1 | H5: NORMAL | I5: Normal
A6: 1 | B6: 44302 | C6: 44301 | D6: Vacations (PIVO RH>eTemptation) | E6: SPRINT 1 | F6: Vacations (PIVO RH>eTemptation) | G6: 0 | H6: MAL | I6: Normal
A7: 1 | B7: 44303 | C7: 44301 | D7: Training booking | E7: SPRINT 1 | F7: Training booking | G7: 2 | H7: BIEN | I7: Normal
A8: 3 | B8: 44304 | C8: 44301 | D8: Training booking | E8: SPRINT 3 | F8: SPRINT 2
A9: 4 | D9: Asset serial SIC>MS | E9: SPRINT 4 | F9: Employees (PIVO RH>eTemptation) | G9: 2 | H9: BIEN | I9: Normal
A10: 5 | B10: 00/01/1900 | C10: 44317 | D10: //LOVE TECK | E10: SPRINT 5 | F10: Asset activation | G10: 1 | H10: NORMAL | I10: Normal
A11: 5 | B11: 44310 | C11: 44317 | D11: Exposition des numéros de série | E11: SPRINT 5 | F11: SPRINT 3
A12: 2 | B12: 44310 | C12: 44317 | D12: Asset activation | E12: SPRINT 2 | F12: Training booking | G12: 1 | H12: NORMAL | I12: Normal
A13: 5 | B13: 44311 | C13: 44317 | D13: Services Rules | E13: SPRINT 5 | F13: SPRINT 4
A14: 6 | D14: Training Session (>SFA) | E14: SPRINT 6 | F14: Asset serial SIC>MS | G14: 1 | H14: NORMAL | I14: Normal
A15: 6 | B15: 00/01/1900 | C15: 44317 | D15: Create customer contact | E15: SPRINT 6 | F15: SPRINT 5
A16: 6 | B16: 44315 | C16: 44317 | D16: Create subscriptions | E16: SPRINT 6 | F16: //LOVE TECK | G16: 0 | H16: MAL | I16: MAL
A17: 7 | D17: Read customer status | E17: SPRINT 7 | F17: Exposition des numéros de série | G17: 0 | H17: MAL | I17: MAL
A18: 7 | B18: 00/01/1900 | C18: 44317 | D18: Detect customer/tiers Creation/Update with hierarchy | E18: SPRINT 7 | F18: Services Rules | G18: 1 | H18: NORMAL | I18: MAL
A19: 7 | B19: 44316 | C19: 44317 | D19: Création/Modification des articles (Catalogue) | E19: SPRINT 7 | F19: SPRINT 6
A20: 8 | B20: 44317 | C20: 44348 | D20: Creation Subscriptions Infos Reglement de Comptes CPQ - XRP | E20: SPRINT 8 | F20: Training Session (>SFA) | G20: 1 | H20: NORMAL | I20: Normal
A21: 8 | B21: 44323 | C21: 44348 | D21: Création/Modification des Clients | E21: SPRINT 8 | F21: Create customer contact | G21: 1 | H21: NORMAL | I21: Normal
A22: 8 | B22: 44319 | C22: 44348 | D22: Envoi des commandes BuyMe | E22: SPRINT 8 | F22: Create subscriptions | G22: 1 | H22: NORMAL | I22: Normal
A23: 9 | B23: 44320 | C23: 44348 | D23: Création des contacts Clients à créer avec les commandes | E23: SPRINT 9 | F23: SPRINT 7
A24: 10 | B24: 44321 | C24: 44364 | D24: Mandats vers Store | E24: SPRINT 10 | F24: Read customer status | G24: 2 | H24: BIEN | I24: BIEN
A25: 11 | D25: User certification | E25: SPRINT 11 | F25: Detect customer/tiers Creation/Update with hierarchy | G25: 2 | H25: BIEN | I25: BIEN
A26: 11 | B26: 44323 | C26: 44364 | D26: User certification | F26: Création/Modification des articles (Catalogue) | G26: 2 | H26: BIEN | I26: BIEN
A27: 11 | B27: 44326 | C27: 44364 | D27: User certification | F27: SPRINT 8
A28: 11 | D28: XX alex2 | F28: Creation Subscriptions Infos Reglement de Comptes CPQ - XRP | G28: 0 | H28: MAL | I28: MAL
F29: Création/Modification des Clients | G29: 0 | H29: MAL | I29: MAL
F30: Envoi des commandes BuyMe | G30: 0 | H30: MAL | I30: MAL
F31: SPRINT 9
F32: Création des contacts Clients à créer avec les commandes | G32: 1 | H32: NORMAL | I32: Normal
F33: SPRINT 10
F34: Mandats vers Store | G34: 1 | H34: NORMAL | I34: Normal
F35: SPRINT 11
F36: User certification | G36: 1 | H36: NORMAL | I36: NORMAL
F37: User certification | G37: 2 | H37: BIEN | I37: NORMAL
F38: XX alex | G38: 2 | H38: BIEN | I38: NORMAL

Sheet Feuille 3
A1: SEMAINE | B1: DATE DE DEBUT | C1: DATE DE FIN | D1: USER STORY | E1: SPRINT ( resultat attendu ) | F1: SPRINT G (Sprint global ) | G1: FEELING PROJET ( 0= mal; 1= normal ; 2 = trop bien ) | H1: Méteo SPRINT | I1: METEO DU PROJET | J1: En cours ( nombre de ticket en cours) | K1: Don ( nombre de ticket fini )
A2: 1 | B2: 44298 | C2: 44301 | D2: XX alex | E2: SPRINT 1 | F2: SPRINT 1 | J2: =NB.SI.ENS(D2:D30;J2:J30"";) -> #ERROR! | K2: Read customer status
A3: 1 | B3: 44299 | C3: 44301 | D3: Customer 360 view | E3: SPRINT 1 | F3: XX alex | G3: 0 | H3: MAL | I3: Normal | J3: =NB.SI(J3:J41;"=" DATE(15/04/2021)) ")" -> #ERROR! | K3: Asset serial SIC>MS
A4: 1 | B4: 44300 | C4: 44301 | D4: Bank account | E4: SPRINT 1 | F4: Customer 360 view | G4: 1 | H4: NORMAL | I4: Normal | K4: Vacations (PIVO RH>eTemptation)
A5: 2 | B5: 44309 | C5: 44301 | D5: Employees (PIVO RH>eTemptation) | E5: SPRINT 2 | F5: Bank account | G5: 1 | H5: NORMAL | I5: Normal | K5: User certification
A6: 1 | B6: 44302 | C6: 44301 | D6: Vacations (PIVO RH>eTemptation) | E6: SPRINT 1 | F6: Vacations (PIVO RH>eTemptation) | G6: 0 | H6: MAL | I6: Normal
A7: 1 | B7: 44303 | C7: 44301 | D7: Training booking | E7: SPRINT 1 | F7: Training booking | G7: 2 | H7: BIEN | I7: Normal
A8: 3 | B8: 44304 | C8: 44301 | D8: Training booking | E8: SPRINT 3 | F8: SPRINT 2
A9: 4 | D9: Asset serial SIC>MS | E9: SPRINT 4 | F9: Employees (PIVO RH>eTemptation) | G9: 2 | H9: BIEN | I9: Normal
A10: 5 | B10: 00/01/1900 | C10: 44317 | D10: //LOVE TECK | E10: SPRINT 5 | F10: Asset activation | G10: 1 | H10: NORMAL | I10: Normal | K10: User certification
A11: 5 | B11: 44310 | C11: 44317 | D11: Exposition des numéros de série | E11: SPRINT 5 | F11: SPRINT 3
A12: 2 | B12: 44310 | C12: 44317 | D12: Asset activation | E12: SPRINT 2 | F12: Training booking | G12: 1 | H12: NORMAL | I12: Normal
A13: 5 | B13: 44311 | C13: 44317 | D13: Services Rules | E13: SPRINT 5 | F13: SPRINT 4
A14: 6 | D14: Training Session (>SFA) | E14: SPRINT 6 | F14: Asset serial SIC>MS | G14: 1 | H14: NORMAL | I14: Normal
A15: 6 | B15: 00/01/1900 | C15: 44317 | D15: Create customer contact | E15: SPRINT 6 | F15: SPRINT 5
A16: 6 | B16: 44315 | C16: 44317 | D16: Create subscriptions | E16: SPRINT 6 | F16: //LOVE TECK | G16: 0 | H16: MAL | I16: MAL
A17: 7 | D17: Read customer status | E17: SPRINT 7 | F17: Exposition des numéros de série | G17: 0 | H17: MAL | I17: MAL
A18: 7 | B18: 00/01/1900 | C18: 44317 | D18: Detect customer/tiers Creation/Update with hierarchy | E18: SPRINT 7 | F18: Services Rules | G18: 1 | H18: NORMAL | I18: MAL
A19: 7 | B19: 44316 | C19: 44317 | D19: Création/Modification des articles (Catalogue) | E19: SPRINT 7 | F19: SPRINT 6
A20: 8 | B20: 44317 | C20: 44348 | D20: Creation Subscriptions Infos Reglement de Comptes CPQ - XRP | E20: SPRINT 8 | F20: Training Session (>SFA) | G20: 1 | H20: NORMAL | I20: Normal
A21: 8 | B21: 44323 | C21: 44348 | D21: Création/Modification des Clients | E21: SPRINT 8 | F21: Create customer contact | G21: 1 | H21: NORMAL | I21: Normal | K21: Create subscriptions
A22: 8 | B22: 44319 | C22: 44348 | D22: Envoi des commandes BuyMe | E22: SPRINT 8 | F22: Create subscriptions | G22: 1 | H22: NORMAL | I22: Normal
A23: 9 | B23: 44320 | C23: 44348 | D23: Création des contacts Clients à créer avec les commandes | E23: SPRINT 9 | F23: SPRINT 7
A24: 10 | B24: 44321 | C24: 44364 | D24: Mandats vers Store | E24: SPRINT 10 | F24: Read customer status | G24: 2 | H24: BIEN | I24: BIEN
A25: 11 | D25: User certification | E25: SPRINT 11 | F25: Detect customer/tiers Creation/Update with hierarchy | G25: 2 | H25: BIEN | I25: BIEN
A26: 11 | B26: 44323 | C26: 44364 | D26: User certification | F26: Création/Modification des articles (Catalogue) | G26: 2 | H26: BIEN | I26: BIEN
A27: 11 | B27: 44326 | C27: 44364 | D27: User certification | F27: SPRINT 8
A28: 11 | D28: XX alex2 | F28: Creation Subscriptions Infos Reglement de Comptes CPQ - XRP | G28: 0 | H28: MAL | I28: MAL
F29: Création/Modification des Clients | G29: 0 | H29: MAL | I29: MAL
F30: Envoi des commandes BuyMe | G30: 0 | H30: MAL | I30: MAL
F31: SPRINT 9
F32: Création des contacts Clients à créer avec les commandes | G32: 1 | H32: NORMAL | I32: Normal
F33: SPRINT 10
F34: Mandats vers Store | G34: 1 | H34: NORMAL | I34: Normal
F35: SPRINT 11
F36: User certification | G36: 1 | H36: NORMAL | I36: NORMAL
F37: User certification | G37: 2 | H37: BIEN | I37: NORMAL
F38: XX alex | G38: 2 | H38: BIEN | I38: NORMAL

Sheet Feuille 4
A1: DATEF | B1: NOMBRE DE FLUX PLANIFIE | C1: NOMBRE REEL DE FLUX TERMINE
A2: 44301 | B2: =COUNTIFS('Feuille 3'!D:D,"><",'Feuille 3'!C:C,A2) -> 7 | C2: =COUNTIFS('Feuille 3'!K:K,"><",'Feuille 3'!C:C,A2) -> 4
A3: 44317 | B3: =COUNTIFS('Feuille 3'!D:D,"><",'Feuille 3'!C:C,A3) -> 7 | C3: =COUNTIFS('Feuille 3'!K:K,"><",'Feuille 3'!C:C,A3) -> 1
A4: 44348 | B4: =COUNTIFS('Feuille 3'!D:D,"><",'Feuille 3'!C:C,A4) -> 4 | C4: =COUNTIFS('Feuille 3'!K:K,"><",'Feuille 3'!C:C,A4) -> 1
A5: 44364 | B5: =COUNTIFS('Feuille 3'!D:D,"><",'Feuille 3'!C:C,A5) -> 3 | C5: =COUNTIFS('Feuille 3'!K:K,"><",'Feuille 3'!C:C,A5) -> 0
B6: =COUNTIFS('Feuille 3'!D:D,"><",'Feuille 3'!C:C,A6) -> 0
