Workbook

Sheet Model
A1: Fiche de Pointage
A2: BOTREL CHRISTOPHE | F2: JOUR | G2: MOIS | H2: ANNEE
F3: 1 | G3: 1 | H3: 2022
A5: =TEXT(B5,"jjj") -> sam | B5: =DATE(H3,G3,F3) -> 43100 | I5: =H5 -> 0 | J5: =IF(A5="dim",I5,"")
A6: =TEXT(B6,"jjj") -> dim | B6: =B5+1 -> 43101 | H6: =(G6-F6)+(D6-C6) -> 0 | I6: =IF(A6="lun",H6,H6+I5) -> 0 | J6: =IF(A6="dim",I6,"") -> 0
A7: =TEXT(B7,"jjj") -> lun | B7: =B6+1 -> 43102 | I7: =IF(A7="lun",H7,H7+I6) -> 0 | J7: =IF(A7="dim",I7,"")
A8: =TEXT(B8,"jjj") -> mar | B8: =B7+1 -> 43103 | I8: =IF(A8="lun",H8,H8+I7) -> 0 | J8: =IF(A8="dim",I8,"")
A9: =TEXT(B9,"jjj") -> mer | B9: =B8+1 -> 43104 | I9: =IF(A9="lun",H9,H9+I8) -> 0 | J9: =IF(A9="dim",I9,"")
A10: =TEXT(B10,"jjj") -> jeu | B10: =B9+1 -> 43105 | I10: =IF(A10="lun",H10,H10+I9) -> 0 | J10: =IF(A10="dim",I10,"")
A11: =TEXT(B11,"jjj") -> ven | B11: =B10+1 -> 43106 | I11: =IF(A11="lun",H11,H11+I10) -> 0 | J11: =IF(A11="dim",I11,"")
A12: =TEXT(B12,"jjj") -> sam | B12: =B11+1 -> 43107 | H12: =(D12-C12)+(G12-F12) -> 0 | I12: =IF(A12="lun",H12,H12+I11) -> 0 | J12: =IF(A12="dim",I12,"")
A13: =TEXT(B13,"jjj") -> dim | B13: =B12+1 -> 43108 | H13: =(D13-C13)+(G13-F13) -> 0 | I13: =IF(A13="lun",H13,H13+I12) -> 0 | J13: =IF(A13="dim",I13,"") -> 0
A14: =TEXT(B14,"jjj") -> lun | B14: =B13+1 -> 43109 | H14: =(D14-C14)+(G14-F14) -> 0 | I14: =IF(A14="lun",H14,H14+I13) -> 0 | J14: =IF(A14="dim",I14,"")
A15: =TEXT(B15,"jjj") -> mar | B15: =B14+1 -> 43110 | H15: =(D15-C15)+(G15-F15) -> 0 | I15: =IF(A15="lun",H15,H15+I14) -> 0 | J15: =IF(A15="dim",I15,"")
A16: =TEXT(B16,"jjj") -> mer | B16: =B15+1 -> 43111 | H16: =(D16-C16)+(G16-F16) -> 0 | I16: =IF(A16="lun",H16,H16+I15) -> 0 | J16: =IF(A16="dim",I16,"")
A17: =TEXT(B17,"jjj") -> jeu | B17: =B16+1 -> 43112 | H17: =(D17-C17)+(G17-F17) -> 0 | I17: =IF(A17="lun",H17,H17+I16) -> 0 | J17: =IF(A17="dim",I17,"")
A18: =TEXT(B18,"jjj") -> ven | B18: =B17+1 -> 43113 | H18: =(D18-C18)+(G18-F18) -> 0 | I18: =IF(A18="lun",H18,H18+I17) -> 0 | J18: =IF(A18="dim",I18,"")
A19: =TEXT(B19,"jjj") -> sam | B19: =B18+1 -> 43114 | H19: =(D19-C19)+(G19-F19) -> 0 | I19: =IF(A19="lun",H19,H19+I18) -> 0 | J19: =IF(A19="dim",I19,"")
A20: =TEXT(B20,"jjj") -> dim | B20: =B19+1 -> 43115 | H20: =(D20-C20)+(G20-F20) -> 0 | I20: =IF(A20="lun",H20,H20+I19) -> 0 | J20: =IF(A20="dim",I20,"") -> 0
A21: =TEXT(B21,"jjj") -> lun | B21: =B20+1 -> 43116 | H21: =(D21-C21)+(G21-F21) -> 0 | I21: =IF(A21="lun",H21,H21+I20) -> 0 | J21: =IF(A21="dim",I21,"")
A22: =TEXT(B22,"jjj") -> mar | B22: =B21+1 -> 43117 | H22: =(D22-C22)+(G22-F22) -> 0 | I22: =IF(A22="lun",H22,H22+I21) -> 0 | J22: =IF(A22="dim",I22,"")
A23: =TEXT(B23,"jjj") -> mer | B23: =B22+1 -> 43118 | H23: =(D23-C23)+(G23-F23) -> 0 | I23: =IF(A23="lun",H23,H23+I22) -> 0 | J23: =IF(A23="dim",I23,"")
... A34: =TEXT(B34,"jjj") -> dim | B34: =B33+1 -> 43129 | H34: =(D34-C34)+(G34-F34) -> 0 | I34: =IF(A34="lun",H34,H34+I33) -> 0 | J34: =IF(A34="dim",I34,"") -> 0
A35: =TEXT(B35,"jjj") -> lun | B35: =B34+1 -> 43130 | H35: =(D35-C35)+(G35-F35) -> 0 | I35: =IF(A35="lun",H35,H35+I34) -> 0 | J35: =I35 -> 0
G37: =SUM(J5:J35) -> 0
B39: REPOS
G40: =G37-L37 -> 0
B41: FERIE

Sheet Janvier
A1: Fiche de Pointage
A2: BOTREL CHRISTOPHE | F2: JOUR | G2: MOIS | H2: ANNEE
F3: 1 | G3: 1 | H3: 2023
A5: =TEXT(B5,"jjj") -> dim | B5: =DATE(H3,G3,F3) -> 43465 | I5: =H5 -> 0 | J5: =IF(A5="dim",I5,"") -> 0
A6: =TEXT(B6,"jjj") -> lun | B6: =B5+1 -> 43466 | C6: 0.25 | D6: 0.5 | F6: 0.54166667 | G6: 0.75763889 | H6: =(G6-F6)+(D6-C6) -> 0.46597222 | I6: =IF(A6="lun",H6,H6+I5) -> 0.46597222 | J6: =IF(A6="dim",I6,"")
A7: =TEXT(B7,"jjj") -> mar | B7: =B6+1 -> 43467 | C7: 0.29166667 | D7: 0.5 | F7: 0.54166667 | G7: 0.75763889 | H7: =(G7-F7)+(D7-C7) -> 0.42430556 | I7: =IF(A7="lun",H7,H7+I6) -> 0.89027778 | J7: =IF(A7="dim",I7,"")
A8: =TEXT(B8,"jjj") -> mer | B8: =B7+1 -> 43468 | H8: =(G8-F8)+(D8-C8) -> 0 | I8: =IF(A8="lun",H8,H8+I7) -> 0.89027778 | J8: =IF(A8="dim",I8,"")
A9: =TEXT(B9,"jjj") -> jeu | B9: =B8+1 -> 43469 | H9: =(G9-F9)+(D9-C9) -> 0 | I9: =IF(A9="lun",H9,H9+I8) -> 0.89027778 | J9: =IF(A9="dim",I9,"")
A10: =TEXT(B10,"jjj") -> ven | B10: =B9+1 -> 43470 | C10: 0.33819444 | D10: 0.5 | F10: 0.54166667 | G10: 0.74097222 | H10: =(G10-F10)+(D10-C10) -> 0.36111111 | I10: =IF(A10="lun",H10,H10+I9) -> 1.2513889 | J10: =IF(A10="dim",I10,"")
A11: =TEXT(B11,"jjj") -> sam | B11: =B10+1 -> 43471 | H11: =(G11-F11)+(D11-C11) -> 0 | I11: =IF(A11="lun",H11,H11+I10) -> 1.2513889 | J11: =IF(A11="dim",I11,"")
A12: =TEXT(B12,"jjj") -> dim | B12: =B11+1 -> 43472 | H12: =(D12-C12)+(G12-F12) -> 0 | I12: =IF(A12="lun",H12,H12+I11) -> 1.2513889 | J12: =IF(A12="dim",I12,"") -> 1.2513889 | K12: 1.4583333 | L12: =SUM(J12-K12) -> -0.20694444
A13: =TEXT(B13,"jjj") -> lun | B13: =B12+1 -> 43473 | C13: 0.30208333 | D13: 0.5 | F13: 0.54166667 | G13: 0.68541667 | H13: =(D13-C13)+(G13-F13) -> 0.34166667 | I13: =IF(A13="lun",H13,H13+I12) -> 0.34166667 | J13: =IF(A13="dim",I13,"")
A14: =TEXT(B14,"jjj") -> mar | B14: =B13+1 -> 43474 | C14: 0.30416667 | D14: 0.5 | F14: 0.54166667 | G14: 0.77291667 | H14: =(D14-C14)+(G14-F14) -> 0.42708333 | I14: =IF(A14="lun",H14,H14+I13) -> 0.76875 | J14: =IF(A14="dim",I14,"")
A15: =TEXT(B15,"jjj") -> mer | B15: =B14+1 -> 43475 | C15: 0.30277778 | D15: 0.5 | F15: 0.54166667 | G15: 0.74791667 | H15: =(D15-C15)+(G15-F15) -> 0.40347222 | I15: =IF(A15="lun",H15,H15+I14) -> 1.1722222 | J15: =IF(A15="dim",I15,"")
A16: =TEXT(B16,"jjj") -> jeu | B16: =B15+1 -> 43476 | C16: 0.32152778 | D16: 0.5 | F16: 0.54166667 | G16: 0.73333333 | H16: =(D16-C16)+(G16-F16) -> 0.37013889 | I16: =IF(A16="lun",H16,H16+I15) -> 1.5423611 | J16: =IF(A16="dim",I16,"")
A17: =TEXT(B17,"jjj") -> ven | B17: =B16+1 -> 43477 | H17: =(D17-C17)+(G17-F17) -> 0 | I17: =IF(A17="lun",H17,H17+I16) -> 1.5423611 | J17: =IF(A17="dim",I17,"")
A18: =TEXT(B18,"jjj") -> sam | B18: =B17+1 -> 43478 | H18: =(D18-C18)+(G18-F18) -> 0 | I18: =IF(A18="lun",H18,H18+I17) -> 1.5423611 | J18: =IF(A18="dim",I18,"")
A19: =TEXT(B19,"jjj") -> dim | B19: =B18+1 -> 43479 | H19: =(D19-C19)+(G19-F19) -> 0 | I19: =IF(A19="lun",H19,H19+I18) -> 1.5423611 | J19: =IF(A19="dim",I19,"") -> 1.5423611 | K19: 1.4583333 | L19: =SUM(J19-K19) -> 0.084027778 | M19: =SUM(L12+L19) -> -0.12291667
A20: =TEXT(B20,"jjj") -> lun | B20: =B19+1 -> 43480 | H20: =(D20-C20)+(G20-F20) -> 0 | I20: =IF(A20="lun",H20,H20+I19) -> 0 | J20: =IF(A20="dim",I20,"")
A21: =TEXT(B21,"jjj") -> mar | B21: =B20+1 -> 43481 | C21: 0.37361111 | D21: 0.5 | F21: 0.54166667 | G21: 0.76111111 | H21: =(D21-C21)+(G21-F21) -> 0.34583333 | I21: =IF(A21="lun",H21,H21+I20) -> 0.34583333 | J21: =IF(A21="dim",I21,"")
A22: =TEXT(B22,"jjj") -> mer | B22: =B21+1 -> 43482 | C22: 0.30208333 | D22: 0.5 | F22: 0.54166667 | G22: 0.64791667 | H22: =(D22-C22)+(G22-F22) -> 0.30416667 | I22: =IF(A22="lun",H22,H22+I21) -> 0.65 | J22: =IF(A22="dim",I22,"")
A23: =TEXT(B23,"jjj") -> jeu | B23: =B22+1 -> 43483 | C23: 0.32708333 | D23: 0.5 | F23: 0.54166667 | G23: 0.725 | H23: =(D23-C23)+(G23-F23) -> 0.35625 | I23: =IF(A23="lun",H23,H23+I22) -> 1.00625 | J23: =IF(A23="dim",I23,"")
A24: =TEXT(B24,"jjj") -> ven | B24: =B23+1 -> 43484 | C24: 0.33194444 | D24: 0.5 | F24: 0.54166667 | G24: 0.71388889 | H24: =(D24-C24)+(G24-F24) -> 0.34027778 | I24: =IF(A24="lun",H24,H24+I23) -> 1.3465278 | J24: =IF(A24="dim",I24,"")
A25: =TEXT(B25,"jjj") -> sam | B25: =B24+1 -> 43485 | H25: =(D25-C25)+(G25-F25) -> 0 | I25: =IF(A25="lun",H25,H25+I24) -> 1.3465278 | J25: =IF(A25="dim",I25,"")
A26: =TEXT(B26,"jjj") -> dim | B26: =B25+1 -> 43486 | H26: =(D26-C26)+(G26-F26) -> 0 | I26: =IF(A26="lun",H26,H26+I25) -> 1.3465278 | J26: =IF(A26="dim",I26,"") -> 1.3465278 | K26: 1.4583333 | L26: =SUM(J26-K26) -> -0.11180556 | M26: =SUM(M19+L26) -> -0.23472222
A27: =TEXT(B27,"jjj") -> lun | B27: =B26+1 -> 43487 | C27: 0.31319444 | D27: 0.5 | F27: 0.54166667 | G27: 0.75555556 | H27: =(D27-C27)+(G27-F27) -> 0.40069444 | I27: =IF(A27="lun",H27,H27+I26) -> 0.40069444 | J27: =IF(A27="dim",I27,"")
A28: =TEXT(B28,"jjj") -> mar | B28: =B27+1 -> 43488 | H28: =(D28-C28)+(G28-F28) -> 0 | I28: =IF(A28="lun",H28,H28+I27) -> 0.40069444 | J28: =IF(A28="dim",I28,"")
A29: =TEXT(B29,"jjj") -> mer | B29: =B28+1 -> 43489 | C29: 0.29722222 | D29: 0.5 | F29: 0.54166667 | G29: 0.73125 | H29: =(D29-C29)+(G29-F29) -> 0.39236111 | I29: =IF(A29="lun",H29,H29+I28) -> 0.79305556 | J29: =IF(A29="dim",I29,"")
A30: =TEXT(B30,"jjj") -> jeu | B30: =B29+1 -> 43490 | C30: 0.33611111 | D30: 0.5 | F30: 0.54166667 | G30: 0.80069444 | H30: =(D30-C30)+(G30-F30) -> 0.42291667 | I30: =IF(A30="lun",H30,H30+I29) -> 1.2159722 | J30: =IF(A30="dim",I30,"")
A31: =TEXT(B31,"jjj") -> ven | B31: =B30+1 -> 43491 | C31: 0.33194444 | D31: 0.5 | F31: 0.54166667 | G31: 0.73125 | H31: =(D31-C31)+(G31-F31) -> 0.35763889 | I31: =IF(A31="lun",H31,H31+I30) -> 1.5736111 | J31: =IF(A31="dim",I31,"")
A32: =TEXT(B32,"jjj") -> sam | B32: =B31+1 -> 43492 | H32: =(D32-C32)+(G32-F32) -> 0 | I32: =IF(A32="lun",H32,H32+I31) -> 1.5736111 | J32: =IF(A32="dim",I32,"")
A33: =TEXT(B33,"jjj") -> dim | B33: =B32+1 -> 43493 | H33: =(D33-C33)+(G33-F33) -> 0 | I33: =IF(A33="lun",H33,H33+I32) -> 1.5736111 | J33: =IF(A33="dim",I33,"") -> 1.5736111 | K33: 1.4583333 | L33: =SUM(J33-K33) -> 0.11527778 | M33: =SUM(M26+L33) -> -0.11944444
A34: =TEXT(B34,"jjj") -> lun | B34: =B33+1 -> 43494 | C34: 0.32083333 | D34: 0.5 | F34: 0.54166667 | G34: 0.77986111 | H34: =(D34-C34)+(G34-F34) -> 0.41736111 | I34: =IF(A34="lun",H34,H34+I33) -> 0.41736111 | J34: =IF(A34="dim",I34,"")
A35: =TEXT(B35,"jjj") -> mar | B35: =B34+1 -> 43495 | C35: 0.31111111 | D35: 0.5 | F35: 0.54166667 | G35: 0.7625 | H35: =(D35-C35)+(G35-F35) -> 0.40972222 | I35: =IF(A35="lun",H35,H35+I34) -> 0.82708333 | J35: =I35 -> 0.82708333 | K35: 0.58333333 | L35: =SUM(J35-K35) -> 0.24375 | M35: =SUM(M33+L35) -> 0.12430556
G37: =SUM(J5:J35) -> 6.5409722 | L37: 0.12430556
B39: REPOS
G40: =G37-L37 -> 6.4166667
B41: FERIE

Sheet Fevrier
A1: Fiche de Pointage
A2: BOTREL CHRISTOPHE | F2: JOUR | G2: MOIS | H2: ANNEE
F3: 1 | G3: 2 | H3: 2023
A5: =TEXT(B5,"jjj") -> mer | B5: =DATE(H3,G3,F3) -> 43496 | C5: 0.31458333 | D5: 0.5 | F5: 0.54166667 | G5: 0.77361111 | H5: =(D5-C5)+(G5-F5) -> 0.41736111 | I5: =H5 -> 0.41736111 | J5: =IF(A5="dim",I5,"")
A6: =TEXT(B6,"jjj") -> jeu | B6: =B5+1 -> 43497 | C6: 0.32430556 | D6: 0.5 | F6: 0.54166667 | G6: 0.70833333 | H6: =(D6-C6)+(G6-F6) -> 0.34236111 | I6: =IF(A6="lun",H6,H6+I5) -> 0.75972222 | J6: =IF(A6="dim",I6,"")
A7: =TEXT(B7,"jjj") -> ven | B7: =B6+1 -> 43498 | H7: =(D7-C7)+(G7-F7) -> 0 | I7: =IF(A7="lun",H7,H7+I6) -> 0.75972222 | J7: =IF(A7="dim",I7,"")
A8: =TEXT(B8,"jjj") -> sam | B8: =B7+1 -> 43499 | H8: =(D8-C8)+(G8-F8) -> 0 | I8: =IF(A8="lun",H8,H8+I7) -> 0.75972222 | J8: =IF(A8="dim",I8,"")
A9: =TEXT(B9,"jjj") -> dim | B9: =B8+1 -> 43500 | H9: =(D9-C9)+(G9-F9) -> 0 | I9: =IF(A9="lun",H9,H9+I8) -> 0.75972222 | J9: =IF(A9="dim",I9,"") -> 0.75972222 | K9: 0.875 | L9: =SUM(J9-K9) -> -0.11527778
A10: =TEXT(B10,"jjj") -> lun | B10: =B9+1 -> 43501 | H10: =(D10-C10)+(G10-F10) -> 0 | I10: =IF(A10="lun",H10,H10+I9) -> 0 | J10: =IF(A10="dim",I10,"")
A11: =TEXT(B11,"jjj") -> mar | B11: =B10+1 -> 43502 | C11: 0.34097222 | D11: 0.5 | F11: 0.54166667 | G11: 0.7625 | H11: =(D11-C11)+(G11-F11) -> 0.37986111 | I11: =IF(A11="lun",H11,H11+I10) -> 0.37986111 | J11: =IF(A11="dim",I11,"")
A12: =TEXT(B12,"jjj") -> mer | B12: =B11+1 -> 43503 | C12: 0.3125 | D12: 0.5 | F12: 0.54166667 | G12: 0.74652778 | H12: =(D12-C12)+(G12-F12) -> 0.39236111 | I12: =IF(A12="lun",H12,H12+I11) -> 0.77222222 | J12: =IF(A12="dim",I12,"")
A13: =TEXT(B13,"jjj") -> jeu | B13: =B12+1 -> 43504 | C13: 0.33333333 | D13: 0.5 | F13: 0.54166667 | G13: 0.77083333 | H13: =(D13-C13)+(G13-F13) -> 0.39583333 | I13: =IF(A13="lun",H13,H13+I12) -> 1.1680556 | J13: =IF(A13="dim",I13,"")
A14: =TEXT(B14,"jjj") -> ven | B14: =B13+1 -> 43505 | C14: 0.33680556 | D14: 0.5 | F14: 0.54166667 | G14: 0.76597222 | H14: =(D14-C14)+(G14-F14) -> 0.3875 | I14: =IF(A14="lun",H14,H14+I13) -> 1.5555556 | J14: =IF(A14="dim",I14,"")
A15: =TEXT(B15,"jjj") -> sam | B15: =B14+1 -> 43506 | H15: =(D15-C15)+(G15-F15) -> 0 | I15: =IF(A15="lun",H15,H15+I14) -> 1.5555556 | J15: =IF(A15="dim",I15,"")
A16: =TEXT(B16,"jjj") -> dim | B16: =B15+1 -> 43507 | H16: =(D16-C16)+(G16-F16) -> 0 | I16: =IF(A16="lun",H16,H16+I15) -> 1.5555556 | J16: =IF(A16="dim",I16,"") -> 1.5555556 | K16: 1.4583333 | L16: =SUM(J16-K16) -> 0.097222222 | M16: =SUM(L9+L16) -> -0.018055556
A17: =TEXT(B17,"jjj") -> lun | B17: =B16+1 -> 43508 | C17: 0.33472222 | D17: 0.5 | F17: 0.54166667 | G17: 0.73472222 | H17: =(D17-C17)+(G17-F17) -> 0.35833333 | I17: =IF(A17="lun",H17,H17+I16) -> 0.35833333 | J17: =IF(A17="dim",I17,"")
A18: =TEXT(B18,"jjj") -> mar | B18: =B17+1 -> 43509 | C18: 0.31458333 | D18: 0.5 | F18: 0.54166667 | G18: 0.80694444 | H18: =(D18-C18)+(G18-F18) -> 0.45069444 | I18: =IF(A18="lun",H18,H18+I17) -> 0.80902778 | J18: =IF(A18="dim",I18,"")
A19: =TEXT(B19,"jjj") -> mer | B19: =B18+1 -> 43510 | H19: =(D19-C19)+(G19-F19) -> 0 | I19: =IF(A19="lun",H19,H19+I18) -> 0.80902778 | J19: =IF(A19="dim",I19,"")
A20: =TEXT(B20,"jjj") -> jeu | B20: =B19+1 -> 43511 | C20: 0.33125 | D20: 0.5 | F20: 0.54166667 | G20: 0.76111111 | H20: =(D20-C20)+(G20-F20) -> 0.38819444 | I20: =IF(A20="lun",H20,H20+I19) -> 1.1972222 | J20: =IF(A20="dim",I20,"")
A21: =TEXT(B21,"jjj") -> ven | B21: =B20+1 -> 43512 | C21: 0.32361111 | D21: 0.5 | F21: 0.54166667 | G21: 0.78333333 | H21: =(D21-C21)+(G21-F21) -> 0.41805556 | I21: =IF(A21="lun",H21,H21+I20) -> 1.6152778 | J21: =IF(A21="dim",I21,"")
A22: =TEXT(B22,"jjj") -> sam | B22: =B21+1 -> 43513 | H22: =(D22-C22)+(G22-F22) -> 0 | I22: =IF(A22="lun",H22,H22+I21) -> 1.6152778 | J22: =IF(A22="dim",I22,"")
A23: =TEXT(B23,"jjj") -> dim | B23: =B22+1 -> 43514 | H23: =(D23-C23)+(G23-F23) -> 0 | I23: =IF(A23="lun",H23,H23+I22) -> 1.6152778 | J23: =IF(A23="dim",I23,"") -> 1.6152778 | K23: 1.4583333 | L23: =SUM(J23-K23) -> 0.15694444 | M23: =SUM(M16+L23) -> 0.13888889
A24: =TEXT(B24,"jjj") -> lun | B24: =B23+1 -> 43515 | C24: 0.33402778 | D24: 0.5 | F24: 0.54166667 | G24: 0.76111111 | H24: =(D24-C24)+(G24-F24) -> 0.38541667 | I24: =IF(A24="lun",H24,H24+I23) -> 0.38541667 | J24: =IF(A24="dim",I24,"")
A25: =TEXT(B25,"jjj") -> mar | B25: =B24+1 -> 43516 | C25: 0.33402778 | D25: 0.5 | F25: 0.54166667 | G25: 0.72986111 | H25: =(D25-C25)+(G25-F25) -> 0.35416667 | I25: =IF(A25="lun",H25,H25+I24) -> 0.73958333 | J25: =IF(A25="dim",I25,"")
A26: =TEXT(B26,"jjj") -> mer | B26: =B25+1 -> 43517 | C26: 0.32708333 | D26: 0.5 | F26: 0.54166667 | G26: 0.75416667 | H26: =(D26-C26)+(G26-F26) -> 0.38541667 | I26: =IF(A26="lun",H26,H26+I25) -> 1.125 | J26: =IF(A26="dim",I26,"")
A27: =TEXT(B27,"jjj") -> jeu | B27: =B26+1 -> 43518 | C27: 0.29375 | D27: 0.5 | F27: 0.54166667 | G27: 0.75972222 | H27: =(D27-C27)+(G27-F27) -> 0.42430556 | I27: =IF(A27="lun",H27,H27+I26) -> 1.5493056 | J27: =IF(A27="dim",I27,"")
A28: =TEXT(B28,"jjj") -> ven | B28: =B27+1 -> 43519 | H28: =(D28-C28)+(G28-F28) -> 0 | I28: =IF(A28="lun",H28,H28+I27) -> 1.5493056 | J28: =IF(A28="dim",I28,"")
A29: =TEXT(B29,"jjj") -> sam | B29: =B28+1 -> 43520 | H29: =(D29-C29)+(G29-F29) -> 0 | I29: =IF(A29="lun",H29,H29+I28) -> 1.5493056 | J29: =IF(A29="dim",I29,"")
A30: =TEXT(B30,"jjj") -> dim | B30: =B29+1 -> 43521 | H30: =(D30-C30)+(G30-F30) -> 0 | I30: =IF(A30="lun",H30,H30+I29) -> 1.5493056 | J30: =IF(A30="dim",I30,"") -> 1.5493056 | K30: 1.4583333 | L30: =SUM(J30-K30) -> 0.090972222 | M30: =SUM(M23+L30) -> 0.22986111
A31: =TEXT(B31,"jjj") -> lun | B31: =B30+1 -> 43522 | C31: 0.32083333 | D31: 0.5 | F31: 0.54166667 | G31: 0.75486111 | H31: =(D31-C31)+(G31-F31) -> 0.39236111 | I31: =IF(A31="lun",H31,H31+I30) -> 0.39236111 | J31: =IF(A31="dim",I31,"")
A32: =TEXT(B32,"jjj") -> mar | B32: =B31+1 -> 43523 | C32: 0.33125 | D32: 0.5 | F32: 0.54166667 | G32: 0.77152778 | H32: =(D32-C32)+(G32-F32) -> 0.39861111 | I32: =IF(A32="lun",H32,H32+I31) -> 0.79097222 | J32: 0.79097222 | K32: 0.58333333 | L32: =SUM(J32-K32) -> 0.20763889 | M32: =SUM(M30+L32) -> 0.4375
J33: =IF(A33="dim",I33,"")
J34: =IF(A34="dim",I34,"")
G37: =SUM(J5:J32) -> 6.2708333 | L37: =SUM(G37-G40) -> 0.4375
B39: REPOS
G40: =SUM(K9,K16,K23,K30,K32) -> 5.8333333
B41: FERIE

Sheet Mars
A1: Fiche de Pointage
A2: BOTREL CHRISTOPHE | F2: JOUR | G2: MOIS | H2: ANNEE
F3: 1 | G3: 3 | H3: 2023
A5: =TEXT(B5,"jjj") -> mer | B5: =DATE(H3,G3,F3) -> 43524 | C5: 0.32152778 | D5: 0.5 | F5: 0.54166667 | G5: 0.75486111 | H5: =(D5-C5)+(G5-F5) -> 0.39166667 | I5: =H5 -> 0.39166667 | J5: =IF(A5="dim",I5,"")
A6: =TEXT(B6,"jjj") -> jeu | B6: =B5+1 -> 43525 | H6: =(D6-C6)+(G6-F6) -> 0 | I6: =IF(A6="lun",H6,H6+I5) -> 0.39166667 | J6: =IF(A6="dim",I6,"")
A7: =TEXT(B7,"jjj") -> ven | B7: =B6+1 -> 43526 | H7: =(D7-C7)+(G7-F7) -> 0 | I7: =IF(A7="lun",H7,H7+I6) -> 0.39166667 | J7: =IF(A7="dim",I7,"")
A8: =TEXT(B8,"jjj") -> sam | B8: =B7+1 -> 43527 | H8: =(D8-C8)+(G8-F8) -> 0 | I8: =IF(A8="lun",H8,H8+I7) -> 0.39166667 | J8: =IF(A8="dim",I8,"")
A9: =TEXT(B9,"jjj") -> dim | B9: =B8+1 -> 43528 | H9: =(D9-C9)+(G9-F9) -> 0 | I9: =IF(A9="lun",H9,H9+I8) -> 0.39166667 | J9: =IF(A9="dim",I9,"") -> 0.39166667 | K9: 0.875 | L9: =SUM(J9-K9) -> -0.48333333
A10: =TEXT(B10,"jjj") -> lun | B10: =B9+1 -> 43529 | C10: 0.33611111 | D10: 0.5 | F10: 0.54166667 | G10: 0.77916667 | H10: =(D10-C10)+(G10-F10) -> 0.40138889 | I10: =IF(A10="lun",H10,H10+I9) -> 0.40138889 | J10: =IF(A10="dim",I10,"")
A11: =TEXT(B11,"jjj") -> mar | B11: =B10+1 -> 43530 | C11: 0.30555556 | D11: 0.5 | F11: 0.54166667 | G11: 0.72638889 | H11: =(D11-C11)+(G11-F11) -> 0.37916667 | I11: =IF(A11="lun",H11,H11+I10) -> 0.78055556 | J11: =IF(A11="dim",I11,"")
A12: =TEXT(B12,"jjj") -> mer | B12: =B11+1 -> 43531 | C12: 0.32569444 | D12: 0.5 | F12: 0.54166667 | G12: 0.72361111 | H12: =(D12-C12)+(G12-F12) -> 0.35625 | I12: =IF(A12="lun",H12,H12+I11) -> 1.1368056 | J12: =IF(A12="dim",I12,"")
A13: =TEXT(B13,"jjj") -> jeu | B13: =B12+1 -> 43532 | C13: 0.32916667 | D13: 0.5 | F13: 0.54166667 | G13: 0.75833333 | H13: =(D13-C13)+(G13-F13) -> 0.3875 | I13: =IF(A13="lun",H13,H13+I12) -> 1.5243056 | J13: =IF(A13="dim",I13,"")
A14: =TEXT(B14,"jjj") -> ven | B14: =B13+1 -> 43533 | H14: =(D14-C14)+(G14-F14) -> 0 | I14: =IF(A14="lun",H14,H14+I13) -> 1.5243056 | J14: =IF(A14="dim",I14,"")
A15: =TEXT(B15,"jjj") -> sam | B15: =B14+1 -> 43534 | H15: =(D15-C15)+(G15-F15) -> 0 | I15: =IF(A15="lun",H15,H15+I14) -> 1.5243056 | J15: =IF(A15="dim",I15,"")
A16: =TEXT(B16,"jjj") -> dim | B16: =B15+1 -> 43535 | H16: =(D16-C16)+(G16-F16) -> 0 | I16: =IF(A16="lun",H16,H16+I15) -> 1.5243056 | J16: =IF(A16="dim",I16,"") -> 1.5243056 | K16: 1.4583333 | L16: =SUM(J16-K16) -> 0.065972222 | M16: =SUM(L9+L16) -> -0.41736111
A17: =TEXT(B17,"jjj") -> lun | B17: =B16+1 -> 43536 | H17: =(D17-C17)+(G17-F17) -> 0 | I17: =IF(A17="lun",H17,H17+I16) -> 0 | J17: =IF(A17="dim",I17,"")
A18: =TEXT(B18,"jjj") -> mar | B18: =B17+1 -> 43537 | C18: 0.33680556 | D18: 0.5 | F18: 0.54166667 | G18: 0.72430556 | H18: =(D18-C18)+(G18-F18) -> 0.34583333 | I18: =IF(A18="lun",H18,H18+I17) -> 0.34583333 | J18: =IF(A18="dim",I18,"")
A19: =TEXT(B19,"jjj") -> mer | B19: =B18+1 -> 43538 | C19: 0.29513889 | D19: 0.5 | F19: 0.54166667 | G19: 0.77847222 | H19: =(D19-C19)+(G19-F19) -> 0.44166667 | I19: =IF(A19="lun",H19,H19+I18) -> 0.7875 | J19: =IF(A19="dim",I19,"")
A20: =TEXT(B20,"jjj") -> jeu | B20: =B19+1 -> 43539 | C20: 0.30208333 | D20: 0.5 | F20: 0.54166667 | G20: 0.70069444 | H20: =(D20-C20)+(G20-F20) -> 0.35694444 | I20: =IF(A20="lun",H20,H20+I19) -> 1.1444444 | J20: =IF(A20="dim",I20,"")
A21: =TEXT(B21,"jjj") -> ven | B21: =B20+1 -> 43540 | C21: 0.30972222 | D21: 0.5 | F21: 0.54166667 | G21: 0.77430556 | H21: =(D21-C21)+(G21-F21) -> 0.42291667 | I21: =IF(A21="lun",H21,H21+I20) -> 1.5673611 | J21: =IF(A21="dim",I21,"")
A22: =TEXT(B22,"jjj") -> sam | B22: =B21+1 -> 43541 | H22: =(D22-C22)+(G22-F22) -> 0 | I22: =IF(A22="lun",H22,H22+I21) -> 1.5673611 | J22: =IF(A22="dim",I22,"")
A23: =TEXT(B23,"jjj") -> dim | B23: =B22+1 -> 43542 | H23: =(D23-C23)+(G23-F23) -> 0 | I23: =IF(A23="lun",H23,H23+I22) -> 1.5673611 | J23: =IF(A23="dim",I23,"") -> 1.5673611 | K23: 1.4583333 | L23: =SUM(J23-K23) -> 0.10902778 | M23: =SUM(M16+L23) -> -0.30833333
A24: =TEXT(B24,"jjj") -> lun | B24: =B23+1 -> 43543 | H24: =(D24-C24)+(G24-F24) -> 0 | I24: =IF(A24="lun",H24,H24+I23) -> 0 | J24: =IF(A24="dim",I24,"")
A25: =TEXT(B25,"jjj") -> mar | B25: =B24+1 -> 43544 | H25: =(D25-C25)+(G25-F25) -> 0 | I25: =IF(A25="lun",H25,H25+I24) -> 0 | J25: =IF(A25="dim",I25,"")
A26: =TEXT(B26,"jjj") -> mer | B26: =B25+1 -> 43545 | H26: =(D26-C26)+(G26-F26) -> 0 | I26: =IF(A26="lun",H26,H26+I25) -> 0 | J26: =IF(A26="dim",I26,"")
A27: =TEXT(B27,"jjj") -> jeu | B27: =B26+1 -> 43546 | H27: =(D27-C27)+(G27-F27) -> 0 | I27: =IF(A27="lun",H27,H27+I26) -> 0 | J27: =IF(A27="dim",I27,"")
A28: =TEXT(B28,"jjj") -> ven | B28: =B27+1 -> 43547 | H28: =(D28-C28)+(G28-F28) -> 0 | I28: =IF(A28="lun",H28,H28+I27) -> 0 | J28: =IF(A28="dim",I28,"")
A29: =TEXT(B29,"jjj") -> sam | B29: =B28+1 -> 43548 | H29: =(D29-C29)+(G29-F29) -> 0 | I29: =IF(A29="lun",H29,H29+I28) -> 0 | J29: =IF(A29="dim",I29,"")
A30: =TEXT(B30,"jjj") -> dim | B30: =B29+1 -> 43549 | H30: =(D30-C30)+(G30-F30) -> 0 | I30: =IF(A30="lun",H30,H30+I29) -> 0 | J30: =IF(A30="dim",I30,"") -> 0 | K30: 1.4583333 | L30: =SUM(J30-K30) -> -1.4583333 | M30: =SUM(M23+L30) -> -1.7666667
A31: =TEXT(B31,"jjj") -> lun | B31: =B30+1 -> 43550 | C31: 0.33055556 | D31: 0.5 | F31: 0.54166667 | G31: 0.75138889 | H31: =(D31-C31)+(G31-F31) -> 0.37916667 | I31: =IF(A31="lun",H31,H31+I30) -> 0.37916667 | J31: =IF(A31="dim",I31,"")
A32: =TEXT(B32,"jjj") -> mar | B32: =B31+1 -> 43551 | C32: 0.31597222 | D32: 0.5 | F32: 0.54166667 | G32: 0.75763889 | H32: =(D32-C32)+(G32-F32) -> 0.4 | I32: =IF(A32="lun",H32,H32+I31) -> 0.77916667 | J32: =IF(A32="dim",I32,"")
A33: =TEXT(B33,"jjj") -> mer | B33: =B32+1 -> 43552 | C33: 0.33472222 | D33: 0.5 | F33: 0.54166667 | G33: 0.75972222 | H33: =(D33-C33)+(G33-F33) -> 0.38333333 | I33: =IF(A33="lun",H33,H33+I32) -> 1.1625 | J33: =IF(A33="dim",I33,"")
A34: =TEXT(B34,"jjj") -> jeu | B34: =B33+1 -> 43553 | C34: 0.33611111 | D34: 0.5 | F34: 0.54166667 | G34: 0.81388889 | H34: =(D34-C34)+(G34-F34) -> 0.43611111 | I34: =IF(A34="lun",H34,H34+I33) -> 1.5986111 | J34: =IF(A34="dim",I34,"")
A35: =TEXT(B35,"jjj") -> ven | B35: =B34+1 -> 43554 | H35: =(D35-C35)+(G35-F35) -> 0 | I35: =IF(A35="lun",H35,H35+I34) -> 1.5986111 | J35: =I35 -> 1.5986111 | K35: 1.4583333 | L35: =SUM(J35-K35) -> 0.14027778 | M35: =SUM(M30+L35) -> -1.6263889
G37: =SUM(J5:J35) -> 5.0819444 | L37: =SUM(L9,L16,L23,L30,L35) -> -1.6263889
B39: REPOS
G40: =SUM(K10+K17+K16+K30+K35) -> 4.375
B41: FERIE

Sheet Avril
A1: Fiche de Pointage
A2: BOTREL CHRISTOPHE | F2: JOUR | G2: MOIS | H2: ANNEE
F3: 1 | G3: 4 | H3: 2023
A5: =TEXT(B5,"jjj") -> sam | B5: =DATE(H3,G3,F3) -> 43555 | H5: =(D5-C5)+(G5-F5) -> 0 | I5: =H5 -> 0 | J5: =IF(A5="dim",I5,"")
A6: =TEXT(B6,"jjj") -> dim | B6: =B5+1 -> 43556 | H6: =(D6-C6)+(G6-F6) -> 0 | I6: =IF(A6="lun",H6,H6+I5) -> 0
A7: =TEXT(B7,"jjj") -> lun | B7: =B6+1 -> 43557 | H7: =(D7-C7)+(G7-F7) -> 0 | I7: =IF(A7="lun",H7,H7+I6) -> 0 | J7: =IF(A7="dim",I7,"")
A8: =TEXT(B8,"jjj") -> mar | B8: =B7+1 -> 43558 | C8: 0.33541667 | D8: 0.5 | F8: 0.54166667 | G8: 0.70833333 | H8: =(D8-C8)+(G8-F8) -> 0.33125 | I8: =IF(A8="lun",H8,H8+I7) -> 0.33125 | J8: =IF(A8="dim",I8,"")
A9: =TEXT(B9,"jjj") -> mer | B9: =B8+1 -> 43559 | C9: 0.32847222 | D9: 0.5 | F9: 0.54166667 | G9: 0.72430556 | H9: =(D9-C9)+(G9-F9) -> 0.35416667 | I9: =IF(A9="lun",H9,H9+I8) -> 0.68541667 | J9: =IF(A9="dim",I9,"")
A10: =TEXT(B10,"jjj") -> jeu | B10: =B9+1 -> 43560 | C10: 0.32152778 | D10: 0.5 | F10: 0.54166667 | G10: 0.75416667 | H10: =(D10-C10)+(G10-F10) -> 0.39097222 | I10: =IF(A10="lun",H10,H10+I9) -> 1.0763889 | J10: =IF(A10="dim",I10,"")
A11: =TEXT(B11,"jjj") -> ven | B11: =B10+1 -> 43561 | C11: 0.29583333 | D11: 0.5 | F11: 0.54166667 | G11: 0.69722222 | H11: =(D11-C11)+(G11-F11) -> 0.35972222 | I11: =IF(A11="lun",H11,H11+I10) -> 1.4361111 | J11: =IF(A11="dim",I11,"")
A12: =TEXT(B12,"jjj") -> sam | B12: =B11+1 -> 43562 | H12: =(D12-C12)+(G12-F12) -> 0 | I12: =IF(A12="lun",H12,H12+I11) -> 1.4361111 | J12: =IF(A12="dim",I12,"")
A13: =TEXT(B13,"jjj") -> dim | B13: =B12+1 -> 43563 | H13: =(D13-C13)+(G13-F13) -> 0 | I13: =IF(A13="lun",H13,H13+I12) -> 1.4361111 | J13: =IF(A13="dim",I13,"") -> 1.4361111 | K13: 1.4583333 | L13: =SUM(J13-K13) -> -0.022222222 | M13: =L13 -> -0.022222222
A14: =TEXT(B14,"jjj") -> lun | B14: =B13+1 -> 43564 | C14: Lundi de Pâques | H14: 0 | I14: =IF(A14="lun",H14,H14+I13) -> 0 | J14: =IF(A14="dim",I14,"")
A15: =TEXT(B15,"jjj") -> mar | B15: =B14+1 -> 43565 | C15: 0.29791667 | D15: 0.5 | F15: 0.54166667 | G15: 0.74375 | H15: =(D15-C15)+(G15-F15) -> 0.40416667 | I15: =IF(A15="lun",H15,H15+I14) -> 0.40416667 | J15: =IF(A15="dim",I15,"")
A16: =TEXT(B16,"jjj") -> mer | B16: =B15+1 -> 43566 | H16: =(D16-C16)+(G16-F16) -> 0 | I16: =IF(A16="lun",H16,H16+I15) -> 0.40416667 | J16: =IF(A16="dim",I16,"")
A17: =TEXT(B17,"jjj") -> jeu | B17: =B16+1 -> 43567 | C17: 0.31875 | D17: 0.5 | F17: 0.54166667 | G17: 0.74791667 | H17: =(D17-C17)+(G17-F17) -> 0.3875 | I17: =IF(A17="lun",H17,H17+I16) -> 0.79166667 | J17: =IF(A17="dim",I17,"")
A18: =TEXT(B18,"jjj") -> ven | B18: =B17+1 -> 43568 | C18: 0.30138889 | D18: 0.5 | F18: 0.54166667 | G18: 0.72152778 | H18: =(D18-C18)+(G18-F18) -> 0.37847222 | I18: =IF(A18="lun",H18,H18+I17) -> 1.1701389 | J18: =IF(A18="dim",I18,"")
A19: =TEXT(B19,"jjj") -> sam | B19: =B18+1 -> 43569 | H19: =(D19-C19)+(G19-F19) -> 0 | I19: =IF(A19="lun",H19,H19+I18) -> 1.1701389 | J19: =IF(A19="dim",I19,"")
A20: =TEXT(B20,"jjj") -> dim | B20: =B19+1 -> 43570 | H20: =(D20-C20)+(G20-F20) -> 0 | I20: =IF(A20="lun",H20,H20+I19) -> 1.1701389 | J20: =IF(A20="dim",I20,"") -> 1.1701389 | K20: 1.1666667 | L20: =SUM(J20-K20) -> 0.0034722222 | M20: =SUM(M13+L20) -> -0.01875
A21: =TEXT(B21,"jjj") -> lun | B21: =B20+1 -> 43571 | C21: 0.30833333 | D21: 0.5 | F21: 0.54166667 | G21: 0.74097222 | H21: =(D21-C21)+(G21-F21) -> 0.39097222 | I21: =IF(A21="lun",H21,H21+I20) -> 0.39097222
A22: =TEXT(B22,"jjj") -> mar | B22: =B21+1 -> 43572 | C22: 0.28958333 | D22: 0.5 | F22: 0.54166667 | G22: 0.75972222 | H22: =(D22-C22)+(G22-F22) -> 0.42847222 | I22: =IF(A22="lun",H22,H22+I21) -> 0.81944444 | J22: =IF(A22="dim",I22,"")
A23: =TEXT(B23,"jjj") -> mer | B23: =B22+1 -> 43573 | C23: 0.34305556 | D23: 0.5 | F23: 0.54166667 | G23: 0.77847222 | H23: =(D23-C23)+(G23-F23) -> 0.39375 | I23: =IF(A23="lun",H23,H23+I22) -> 1.2131944 | J23: =IF(A23="dim",I23,"")
A24: =TEXT(B24,"jjj") -> jeu | B24: =B23+1 -> 43574 | C24: 0.30486111 | D24: 0.5 | F24: 0.54166667 | G24: 0.76944444 | H24: =(D24-C24)+(G24-F24) -> 0.42291667 | I24: =IF(A24="lun",H24,H24+I23) -> 1.6361111 | J24: =IF(A24="dim",I24,"")
A25: =TEXT(B25,"jjj") -> ven | B25: =B24+1 -> 43575 | H25: =(D25-C25)+(G25-F25) -> 0 | I25: =IF(A25="lun",H25,H25+I24) -> 1.6361111 | J25: =IF(A25="dim",I25,"")
A26: =TEXT(B26,"jjj") -> sam | B26: =B25+1 -> 43576 | H26: =(D26-C26)+(G26-F26) -> 0 | I26: =IF(A26="lun",H26,H26+I25) -> 1.6361111 | J26: =IF(A26="dim",I26,"")
A27: =TEXT(B27,"jjj") -> dim | B27: =B26+1 -> 43577 | H27: =(D27-C27)+(G27-F27) -> 0 | I27: =IF(A27="lun",H27,H27+I26) -> 1.6361111 | J27: =IF(A27="dim",I27,"") -> 1.6361111 | K27: 1.4583333 | L27: =SUM(J27-K27) -> 0.17777778 | M27: =SUM(M20+L27) -> 0.15902778
A28: =TEXT(B28,"jjj") -> lun | B28: =B27+1 -> 43578 | C28: 0.33333333 | D28: 0.5 | F28: 0.54166667 | G28: 0.66666667 | H28: =(D28-C28)+(G28-F28) -> 0.29166667 | I28: =IF(A28="lun",H28,H28+I27) -> 0.29166667 | J28: =IF(A28="dim",I28,"")
A29: =TEXT(B29,"jjj") -> mar | B29: =B28+1 -> 43579 | C29: 0.33333333 | D29: 0.5 | F29: 0.54166667 | G29: 0.66666667 | H29: =(D29-C29)+(G29-F29) -> 0.29166667 | I29: =IF(A29="lun",H29,H29+I28) -> 0.58333333 | J29: =IF(A29="dim",I29,"")
A30: =TEXT(B30,"jjj") -> mer | B30: =B29+1 -> 43580 | C30: 0.33333333 | D30: 0.5 | F30: 0.54166667 | G30: 0.66666667 | H30: =(D30-C30)+(G30-F30) -> 0.29166667 | I30: =IF(A30="lun",H30,H30+I29) -> 0.875 | J30: =IF(A30="dim",I30,"")
A31: =TEXT(B31,"jjj") -> jeu | B31: =B30+1 -> 43581 | C31: 0.33333333 | D31: 0.5 | F31: 0.54166667 | G31: 0.66666667 | H31: =(D31-C31)+(G31-F31) -> 0.29166667 | I31: =IF(A31="lun",H31,H31+I30) -> 1.1666667 | J31: =IF(A31="dim",I31,"")
A32: =TEXT(B32,"jjj") -> ven | B32: =B31+1 -> 43582 | C32: 0.33333333 | D32: 0.5 | F32: 0.54166667 | G32: 0.66666667 | H32: =(D32-C32)+(G32-F32) -> 0.29166667 | I32: =IF(A32="lun",H32,H32+I31) -> 1.4583333 | J32: =IF(A32="dim",I32,"")
A33: =TEXT(B33,"jjj") -> sam | B33: =B32+1 -> 43583 | H33: =(D33-C33)+(G33-F33) -> 0 | I33: =IF(A33="lun",H33,H33+I32) -> 1.4583333 | J33: =IF(A33="dim",I33,"")
A34: =TEXT(B34,"jjj") -> dim | B34: =B33+1 -> 43584 | H34: =(D34-C34)+(G34-F34) -> 0 | I34: =IF(A34="lun",H34,H34+I33) -> 1.4583333 | J34: =IF(A34="dim",I34,"") -> 1.4583333 | K34: 1.4583333 | L34: =SUM(J34-K34) -> 2.220446e-16 | M34: =SUM(M27+L34) -> 0.15902778
G37: =SUM(J5:J35) -> 5.7006944
L38: =M34 -> 0.15902778
B39: REPOS
G40: =G37-L37 -> 5.7006944
B41: FERIE
B43: CP

Sheet Heures Sup
B2: Mois D'Annee
B4: Janvier | G4: =Janvier!L37 -> 0.12430556
B5: Fevrier | G5: =Fevrier!L37 -> 0.4375 | I5: =SUM(G4+G5) -> 0.56180556
B6: Mars | G6: =Mars!L37 -> -1.6263889 | I6: =SUM(I5+G6) -> -1.0645833
B7: Avril | G7: =Avril!L38 -> 0.15902778 | I7: =SUM(I6+G7) -> -0.90555556 | K7: au 10/04 -23:39
B8: Mai | G8: =Mai!L39 -> 0.090277778 | I8: =SUM(I7+G8) -> -0.81527778
B9: Juin | G9: =Juin!L37 -> 0.58541667 | I9: =SUM(I8+G9) -> -0.22986111
B10: Juillet | G10: =Juillet!L37 -> 1.6145833 | I10: =SUM(I9+G10) -> 1.3847222
B11: Août | G11: =Août!L37 -> -2.9694444 | I11: =SUM(I10+G11) -> -1.5847222
B12: Septembre | G12: =Septembre!L37 -> -6.125 | I12: =SUM(I11+G12) -> -7.7097222
B13: Octobre | G13: =Octobre!L37 -> 0.39375 | I13: =SUM(I12+G13) -> -7.3159722
B14: Novembre | G14: =Novembre!L37 -> #VALUE! | I14: =SUM(I13+G14) -> #VALUE!
B15: Decembre | G15: =Decembre!L37 -> 0 | I15: =SUM(I14+G15) -> #VALUE!

Sheet Feuil1
B4: Monter | C4: Descente | F4: Descente | O4: Monter
C5: 10 | E5: R3 Gr B | F5: 0
E6: R3 Gr C | F6: 3
E7: R3 Gr D | F7: 3
E8: R3 Gr E | F8: 3
E9: R3 Gr J | F9: 1
B11: 6 | C11: 16 | E11: D1 Gr A | F11: TREDREZ LOCQUEM AS | H11: PLOUMILIAU AS | J11: PLOUNERIN U O TREGOR | O11: PLESTIN A.S.
E12: D1 Gr B | F12: BOQUEHO ETL | H12: PEDERNEC MBS | J12: LANVOLLON JS 2 | L12: LEZARDRIEUX US TRIEU | O12: PLELO A.S
E13: D1 Gr C | F13: TREVE SP. | H13: PLOUGUERNEVEL K BZH | J13: LE FOEIL E.S. | O13: LA PLOEUCOISE | R13: FC LIE PLOUGUENAST
E14: D1 Gr D | F14: TREGUEUX AS 2 | H14: COETMIEUX GOUESSANT | J14: TREMUSON A.S. | O14: ST CARREUC HENON US
E15: D1 Gr E | F15: PLOUASNE ST JUVAT US | H15: TRELIVAN AS 2 | J15: ST CAST LE GUILDO ES | O15: VALLEES FC JUGON
B17: 11 | C17: 18 | E17: D2 Gr A | F17: BELLE ISLE AS | H17: LOGUIVY PLOUN A | J17: PEDERNEC MBS 2 | R17: ST QUAY PERROS
E18: D2 Gr B | F18: PLOURIVO AV DU GOELO 2 | H18: TREGLAMUS US | J18: GUINGAMP MAYOTTE | O18: PABU A.S.
E19: D2 Gr C | F19: KERIEN MAGOAR A.S. | H19: LANFAINS A.S. | O19: PLUSSULIEN AS | R19: SAINT NICOLAS USAP
E20: D2 Gr D | F20: PLOUMAGOAR RC 3 | H20: TREMUSON AS 2 | O20: PLUDUAL AS | R20: LANTIC FC
E21: D2 Gr E | F21: QUESSOY US 3 | H21: YFFINIAC UF | O21: ST BRIEUC COBSP 3 | R21: SAINT BRIEUC RACING
E22: D2 Gr F | F22: PLEMET CENTRE BGNE 2 | H22: UZEL MERLEAC AS 3 | O22: BREHAND EVRON FC 2
E23: D2 Gr G | F23: TREMOREL LOSCOUET FC | H23: BROONS TREMEUR AS 2 | O23: PENGUILY DAHUS MBA 2
E24: D2 Gr H | F24: DINAN LEHON FC 4 | H24: PLOUASNE ST JUVAT US 2 | O24: COETQUEN ST HELEN
B26: 10 | C26: 13 | E26: D3 Gr A | F26: US PAYS ROCHOIS LANG 3 | H26: PLOUGUIEL LIZILDRY | O26: ROSPEZ CS 2
E27: D3 Gr B | F27: ROSTRENEN FC 3 | H27: LOUARGAT US 2 | O27: LA CHAPELLE NEUVE FC | R27: PLOUGRAS ES
E28: D3 Gr C | H28: ETABLES AS TAGARINE | O28: S.C. TREDARZEC
E29: D3 Gr D | H29: PLOUAGAT CHAT LAN FC 3 | O29: ST JULIEN AS 2
E30: D3 Gr E | F30: PLEMET CENTRE BGNE 3 | H30: MERDRIGNAC CS 3 | O30: MENÉ FC
E31: D3 Gr F | F31: BREHAND EVRON FC 3 | H31: YFFINIAC UF 2 | O31: PLEDRAN CS 3
E32: D3 Gr G | F32: SEVIGNAC ROUILLAC JS | H32: PLELAN VILDE FC 3 | O32: HENANSAL HDB
E33: D3 Gr H | H33: QUEVERT FC 2 | O33: DINAN RC | R33: TREVRON LE HINGLE FC
B35: 8 | E35: D4E Gr A | O35: PLOULECH ES
E36: D4E Gr B | O36: PABU AS 2
E37: D4E Gr C | O37: Plehedel sports
E38: D4E Gr D | O38: BOURBRIAC US 2
E39: D4E Gr E | O39: LOUDEAC ST BUG FC 3
E40: D4E Gr F | O40: LOUDÉAC ASC HIPPOCAM
E41: D4E Gr G | O41: ERQUY US 3
E42: D4E Gr H | O42: DINAN RC 2

Sheet Mai
A1: Fiche de Pointage
A2: BOTREL CHRISTOPHE | F2: JOUR | G2: MOIS | H2: ANNEE
F3: 1 | G3: 5 | H3: 2023
A5: =TEXT(B5,"jjj") -> lun | B5: =DATE(H3,G3,F3) -> 43585 | C5: Fete de Travail | H5: 0.29166667 | I5: 0
A6: =TEXT(B6,"jjj") -> mar | B6: =B5+1 -> 43586 | C6: 0.33333333 | D6: 0.5 | F6: 0.54166667 | G6: 0.66666667 | H6: =(D6-C6)+(G6-F6) -> 0.29166667 | I6: =IF(A6="lun",H6,H6+I5) -> 0.29166667 | J6: =IF(A6="dim",I6,"")
A7: =TEXT(B7,"jjj") -> mer | B7: =B6+1 -> 43587 | C7: 0.31388889 | D7: 0.5 | F7: 0.54166667 | G7: 0.74097222 | H7: =(D7-C7)+(G7-F7) -> 0.38541667 | I7: =IF(A7="lun",H7,H7+I6) -> 0.67708333 | J7: =IF(A7="dim",I7,"")
A8: =TEXT(B8,"jjj") -> jeu | B8: =B7+1 -> 43588 | C8: 0.33958333 | D8: 0.5 | F8: 0.54166667 | G8: 0.82569444 | H8: =(D8-C8)+(G8-F8) -> 0.44444444 | I8: =IF(A8="lun",H8,H8+I7) -> 1.1215278 | J8: =IF(A8="dim",I8,"")
A9: =TEXT(B9,"jjj") -> ven | B9: =B8+1 -> 43589 | H9: =(D9-C9)+(G9-F9) -> 0 | I9: =IF(A9="lun",H9,H9+I8) -> 1.1215278 | J9: =IF(A9="dim",I9,"")
A10: =TEXT(B10,"jjj") -> sam | B10: =B9+1 -> 43590 | H10: =(D10-C10)+(G10-F10) -> 0 | I10: =IF(A10="lun",H10,H10+I9) -> 1.1215278 | J10: =IF(A10="dim",I10,"")
A11: =TEXT(B11,"jjj") -> dim | B11: =B10+1 -> 43591 | H11: =(D11-C11)+(G11-F11) -> 0 | I11: =IF(A11="lun",H11,H11+I10) -> 1.1215278 | J11: =IF(A11="dim",I11,"") -> 1.1215278 | K11: 1.1666667 | L11: =SUM(J11-K11) -> -0.045138889 | M11: =L11 -> -0.045138889
A12: =TEXT(B12,"jjj") -> lun | B12: =B11+1 -> 43592 | C12: Victoire 1945 | H12: 0.29166667 | I12: 0 | J12: =IF(A12="dim",I12,"")
A13: =TEXT(B13,"jjj") -> mar | B13: =B12+1 -> 43593 | C13: 0.3125 | D13: 0.5 | F13: 0.54166667 | G13: 0.71041667 | H13: =(D13-C13)+(G13-F13) -> 0.35625 | I13: =IF(A13="lun",H13,H13+I12) -> 0.35625 | J13: =IF(A13="dim",I13,"")
A14: =TEXT(B14,"jjj") -> mer | B14: =B13+1 -> 43594 | C14: 0.25486111 | D14: 0.5 | F14: 0.54166667 | G14: 0.77291667 | H14: =(D14-C14)+(G14-F14) -> 0.47638889 | I14: =IF(A14="lun",H14,H14+I13) -> 0.83263889 | J14: =IF(A14="dim",I14,"")
A15: =TEXT(B15,"jjj") -> jeu | B15: =B14+1 -> 43595 | C15: 0.33888889 | D15: 0.5 | F15: 0.54166667 | G15: 0.72916667 | H15: =(D15-C15)+(G15-F15) -> 0.34861111 | I15: =IF(A15="lun",H15,H15+I14) -> 1.18125 | J15: =IF(A15="dim",I15,"")
A16: =TEXT(B16,"jjj") -> ven | B16: =B15+1 -> 43596 | H16: =(D16-C16)+(G16-F16) -> 0 | I16: =IF(A16="lun",H16,H16+I15) -> 1.18125 | J16: =IF(A16="dim",I16,"")
A17: =TEXT(B17,"jjj") -> sam | B17: =B16+1 -> 43597 | H17: =(D17-C17)+(G17-F17) -> 0 | I17: =IF(A17="lun",H17,H17+I16) -> 1.18125 | J17: =IF(A17="dim",I17,"")
A18: =TEXT(B18,"jjj") -> dim | B18: =B17+1 -> 43598 | H18: =(D18-C18)+(G18-F18) -> 0 | I18: =IF(A18="lun",H18,H18+I17) -> 1.18125 | J18: =IF(A18="dim",I18,"") -> 1.18125 | K18: 1.1666667 | L18: =SUM(J18-K18) -> 0.014583333 | M18: =M11+L18 -> -0.030555556
A19: =TEXT(B19,"jjj") -> lun | B19: =B18+1 -> 43599 | C19: 0.30763889 | D19: 0.5 | F19: 0.54166667 | G19: 0.77013889 | H19: =(D19-C19)+(G19-F19) -> 0.42083333 | I19: =IF(A19="lun",H19,H19+I18) -> 0.42083333 | J19: =IF(A19="dim",I19,"")
A20: =TEXT(B20,"jjj") -> mar | B20: =B19+1 -> 43600 | C20: 0.31180556 | D20: 0.5 | F20: 0.54166667 | G20: 0.75138889 | H20: =(D20-C20)+(G20-F20) -> 0.39791667 | I20: =IF(A20="lun",H20,H20+I19) -> 0.81875 | J20: =IF(A20="dim",I20,"")
A21: =TEXT(B21,"jjj") -> mer | B21: =B20+1 -> 43601 | C21: 0.30763889 | D21: 0.5 | F21: 0.54166667 | G21: 0.7 | H21: =(D21-C21)+(G21-F21) -> 0.35069444 | I21: =IF(A21="lun",H21,H21+I20) -> 1.1694444 | J21: =IF(A21="dim",I21,"")
A22: =TEXT(B22,"jjj") -> jeu | B22: =B21+1 -> 43602 | C22: Ascension | H22: 0 | I22: =IF(A22="lun",H22,H22+I21) -> 1.1694444 | J22: =IF(A22="dim",I22,"")
A23: =TEXT(B23,"jjj") -> ven | B23: =B22+1 -> 43603 | H23: =(D23-C23)+(G23-F23) -> 0 | I23: =IF(A23="lun",H23,H23+I22) -> 1.1694444 | J23: =IF(A23="dim",I23,"")
A24: =TEXT(B24,"jjj") -> sam | B24: =B23+1 -> 43604 | H24: =(D24-C24)+(G24-F24) -> 0 | I24: =IF(A24="lun",H24,H24+I23) -> 1.1694444 | J24: =IF(A24="dim",I24,"")
A25: =TEXT(B25,"jjj") -> dim | B25: =B24+1 -> 43605 | H25: =(D25-C25)+(G25-F25) -> 0 | I25: =IF(A25="lun",H25,H25+I24) -> 1.1694444 | J25: =IF(A25="dim",I25,"") -> 1.1694444 | K25: 1.1666667 | L25: =SUM(J25-K25) -> 0.0027777778 | M25: =M18+L25 -> -0.027777778
A26: =TEXT(B26,"jjj") -> lun | B26: =B25+1 -> 43606 | C26: 0.32430556 | D26: 0.5 | F26: 0.54166667 | G26: 0.77777778 | H26: =(D26-C26)+(G26-F26) -> 0.41180556 | I26: =IF(A26="lun",H26,H26+I25) -> 0.41180556 | J26: =IF(A26="dim",I26,"")
A27: =TEXT(B27,"jjj") -> mar | B27: =B26+1 -> 43607 | C27: 0.30555556 | D27: 0.5 | F27: 0.54166667 | G27: 0.72708333 | H27: =(D27-C27)+(G27-F27) -> 0.37986111 | I27: =IF(A27="lun",H27,H27+I26) -> 0.79166667 | J27: =IF(A27="dim",I27,"")
A28: =TEXT(B28,"jjj") -> mer | B28: =B27+1 -> 43608 | C28: 0.30833333 | D28: 0.5 | F28: 0.54166667 | G28: 0.76527778 | H28: =(D28-C28)+(G28-F28) -> 0.41527778 | I28: =IF(A28="lun",H28,H28+I27) -> 1.2069444 | J28: =IF(A28="dim",I28,"")
A29: =TEXT(B29,"jjj") -> jeu | B29: =B28+1 -> 43609 | C29: 0.33888889 | D29: 0.5 | F29: 0.54166667 | G29: 0.75 | H29: =(D29-C29)+(G29-F29) -> 0.36944444 | I29: =IF(A29="lun",H29,H29+I28) -> 1.5763889 | J29: =IF(A29="dim",I29,"")
A30: =TEXT(B30,"jjj") -> ven | B30: =B29+1 -> 43610 | H30: =(D30-C30)+(G30-F30) -> 0 | I30: =IF(A30="lun",H30,H30+I29) -> 1.5763889 | J30: =IF(A30="dim",I30,"")
A31: =TEXT(B31,"jjj") -> sam | B31: =B30+1 -> 43611 | H31: =(D31-C31)+(G31-F31) -> 0 | I31: =IF(A31="lun",H31,H31+I30) -> 1.5763889 | J31: =IF(A31="dim",I31,"")
A32: =TEXT(B32,"jjj") -> dim | B32: =B31+1 -> 43612 | H32: =(D32-C32)+(G32-F32) -> 0 | I32: =IF(A32="lun",H32,H32+I31) -> 1.5763889 | J32: =IF(A32="dim",I32,"") -> 1.5763889 | K32: 1.4583333 | L32: =SUM(J32-K32) -> 0.11805556 | M32: =M25+L32 -> 0.090277778
A33: =TEXT(B33,"jjj") -> lun | B33: =B32+1 -> 43613 | C33: Lundi de Pentecôte | H33: 0 | I33: =IF(A33="lun",H33,H33+I32) -> 0 | J33: =IF(A33="dim",I33,"")
A34: =TEXT(B34,"jjj") -> mar | B34: =B33+1 -> 43614 | C34: 0.33333333 | D34: 0.5 | F34: 0.54166667 | G34: 0.66666667 | H34: =(D34-C34)+(G34-F34) -> 0.29166667 | I34: =IF(A34="lun",H34,H34+I33) -> 0.29166667 | J34: =IF(A34="dim",I34,"")
A35: =TEXT(B35,"jjj") -> mer | B35: =B34+1 -> 43615 | C35: 0.33333333 | D35: 0.5 | F35: 0.54166667 | G35: 0.66666667 | H35: =(D35-C35)+(G35-F35) -> 0.29166667 | I35: =IF(A35="lun",H35,H35+I34) -> 0.58333333 | J35: =I35 -> 0.58333333 | K35: 0.58333333 | L35: =SUM(J35-K35) -> 0 | M35: =M32+L35 -> 0.090277778
G37: =SUM(J5:J35) -> 5.6319444
B39: REPOS | L39: =M35 -> 0.090277778
G40: =G37-L39 -> 5.5416667
B41: FERIE
B43: CP

Sheet Juin
A1: Fiche de Pointage
A2: BOTREL CHRISTOPHE | F2: JOUR | G2: MOIS | H2: ANNEE
F3: 1 | G3: 6 | H3: 2023
A5: =TEXT(B5,"jjj") -> jeu | B5: =DATE(H3,G3,F3) -> 43616 | C5: 0.33333333 | D5: 0.5 | F5: 0.54166667 | G5: 0.66666667 | H5: =(D5-C5)+(G5-F5) -> 0.29166667 | I5: =H5 -> 0.29166667 | J5: =IF(A5="dim",I5,"")
A6: =TEXT(B6,"jjj") -> ven | B6: =B5+1 -> 43617 | C6: 0.33333333 | D6: 0.5 | F6: 0.54166667 | G6: 0.66666667 | H6: =(D6-C6)+(G6-F6) -> 0.29166667 | I6: =IF(A6="lun",H6,H6+I5) -> 0.58333333 | J6: =IF(A6="dim",I6,"")
A7: =TEXT(B7,"jjj") -> sam | B7: =B6+1 -> 43618 | H7: =(D7-C7)+(G7-F7) -> 0 | I7: =IF(A7="lun",H7,H7+I6) -> 0.58333333 | J7: =IF(A7="dim",I7,"")
A8: =TEXT(B8,"jjj") -> dim | B8: =B7+1 -> 43619 | H8: =(D8-C8)+(G8-F8) -> 0 | I8: =IF(A8="lun",H8,H8+I7) -> 0.58333333 | J8: =IF(A8="dim",I8,"") -> 0.58333333 | K8: 0.58333333 | L8: =SUM(J8-K8) -> 0 | M8: =SUM(J8-K8) -> 0
A9: =TEXT(B9,"jjj") -> lun | B9: =B8+1 -> 43620 | H9: =(D9-C9)+(G9-F9) -> 0 | I9: =IF(A9="lun",H9,H9+I8) -> 0 | J9: =IF(A9="dim",I9,"")
A10: =TEXT(B10,"jjj") -> mar | B10: =B9+1 -> 43621 | C10: 0.32777778 | D10: 0.5 | F10: 0.54166667 | G10: 0.75347222 | H10: =(D10-C10)+(G10-F10) -> 0.38402778 | I10: =IF(A10="lun",H10,H10+I9) -> 0.38402778 | J10: =IF(A10="dim",I10,"")
A11: =TEXT(B11,"jjj") -> mer | B11: =B10+1 -> 43622 | C11: 0.31944444 | D11: 0.5 | F11: 0.54166667 | G11: 0.71180556 | H11: =(D11-C11)+(G11-F11) -> 0.35069444 | I11: =IF(A11="lun",H11,H11+I10) -> 0.73472222 | J11: =IF(A11="dim",I11,"")
A12: =TEXT(B12,"jjj") -> jeu | B12: =B11+1 -> 43623 | C12: 0.32152778 | D12: 0.5 | F12: 0.54166667 | G12: 0.75902778 | H12: =(D12-C12)+(G12-F12) -> 0.39583333 | I12: =IF(A12="lun",H12,H12+I11) -> 1.1305556 | J12: =IF(A12="dim",I12,"")
A13: =TEXT(B13,"jjj") -> ven | B13: =B12+1 -> 43624 | C13: 0.31041667 | D13: 0.5 | F13: 0.54166667 | G13: 0.77083333 | H13: =(D13-C13)+(G13-F13) -> 0.41875 | I13: =IF(A13="lun",H13,H13+I12) -> 1.5493056 | J13: =IF(A13="dim",I13,"")
A14: =TEXT(B14,"jjj") -> sam | B14: =B13+1 -> 43625 | H14: =(D14-C14)+(G14-F14) -> 0 | I14: =IF(A14="lun",H14,H14+I13) -> 1.5493056 | J14: =IF(A14="dim",I14,"")
A15: =TEXT(B15,"jjj") -> dim | B15: =B14+1 -> 43626 | H15: =(D15-C15)+(G15-F15) -> 0 | I15: =IF(A15="lun",H15,H15+I14) -> 1.5493056 | J15: =IF(A15="dim",I15,"") -> 1.5493056 | K15: 1.4583333 | L15: =SUM(J15-K15) -> 0.090972222 | M15: =SUM(M8+L15) -> 0.090972222
A16: =TEXT(B16,"jjj") -> lun | B16: =B15+1 -> 43627 | H16: =(D16-C16)+(G16-F16) -> 0 | I16: =IF(A16="lun",H16,H16+I15) -> 0 | J16: =IF(A16="dim",I16,"")
A17: =TEXT(B17,"jjj") -> mar | B17: =B16+1 -> 43628 | C17: 0.26180556 | D17: 0.5 | F17: 0.54166667 | G17: 0.68263889 | H17: =(D17-C17)+(G17-F17) -> 0.37916667 | I17: =IF(A17="lun",H17,H17+I16) -> 0.37916667 | J17: =IF(A17="dim",I17,"")
A18: =TEXT(B18,"jjj") -> mer | B18: =B17+1 -> 43629 | C18: 0.30763889 | D18: 0.5 | F18: 0.54166667 | G18: 0.74861111 | H18: =(D18-C18)+(G18-F18) -> 0.39930556 | I18: =IF(A18="lun",H18,H18+I17) -> 0.77847222 | J18: =IF(A18="dim",I18,"")
A19: =TEXT(B19,"jjj") -> jeu | B19: =B18+1 -> 43630 | C19: 0.33958333 | D19: 0.5 | F19: 0.54166667 | G19: 0.70694444 | H19: =(D19-C19)+(G19-F19) -> 0.32569444 | I19: =IF(A19="lun",H19,H19+I18) -> 1.1041667 | J19: =IF(A19="dim",I19,"")
A20: =TEXT(B20,"jjj") -> ven | B20: =B19+1 -> 43631 | C20: 0.33402778 | D20: 0.5 | F20: 0.54166667 | G20: 0.76597222 | H20: =(D20-C20)+(G20-F20) -> 0.39027778 | I20: =IF(A20="lun",H20,H20+I19) -> 1.4944444 | J20: =IF(A20="dim",I20,"")
A21: =TEXT(B21,"jjj") -> sam | B21: =B20+1 -> 43632 | C21: 0.33333333 | D21: 0.5 | H21: =(D21-C21)+(G21-F21) -> 0.16666667 | I21: =IF(A21="lun",H21,H21+I20) -> 1.6611111 | J21: =IF(A21="dim",I21,"")
A22: =TEXT(B22,"jjj") -> dim | B22: =B21+1 -> 43633 | H22: =(D22-C22)+(G22-F22) -> 0 | I22: =IF(A22="lun",H22,H22+I21) -> 1.6611111 | J22: =IF(A22="dim",I22,"") -> 1.6611111 | K22: 1.4583333 | L22: =SUM(J22-K22) -> 0.20277778 | M22: =SUM(M15+L22) -> 0.29375
A23: =TEXT(B23,"jjj") -> lun | B23: =B22+1 -> 43634 | C23: 0.29861111 | D23: 0.5 | F23: 0.54166667 | G23: 0.76458333 | H23: =(D23-C23)+(G23-F23) -> 0.42430556 | I23: =IF(A23="lun",H23,H23+I22) -> 0.42430556 | J23: =IF(A23="dim",I23,"")
A24: =TEXT(B24,"jjj") -> mar | B24: =B23+1 -> 43635 | C24: 0.32291667 | D24: 0.5 | F24: 0.54166667 | G24: 0.77361111 | H24: =(D24-C24)+(G24-F24) -> 0.40902778 | I24: =IF(A24="lun",H24,H24+I23) -> 0.83333333 | J24: =IF(A24="dim",I24,"")
A25: =TEXT(B25,"jjj") -> mer | B25: =B24+1 -> 43636 | C25: 0.32569444 | D25: 0.5 | F25: 0.54166667 | G25: 0.74444444 | H25: =(D25-C25)+(G25-F25) -> 0.37708333 | I25: =IF(A25="lun",H25,H25+I24) -> 1.2104167 | J25: =IF(A25="dim",I25,"")
A26: =TEXT(B26,"jjj") -> jeu | B26: =B25+1 -> 43637 | C26: 0.29583333 | D26: 0.5 | F26: 0.54166667 | G26: 0.75902778 | H26: =(D26-C26)+(G26-F26) -> 0.42152778 | I26: =IF(A26="lun",H26,H26+I25) -> 1.6319444 | J26: =IF(A26="dim",I26,"")
A27: =TEXT(B27,"jjj") -> ven | B27: =B26+1 -> 43638 | H27: =(D27-C27)+(G27-F27) -> 0 | I27: =IF(A27="lun",H27,H27+I26) -> 1.6319444 | J27: =IF(A27="dim",I27,"")
A28: =TEXT(B28,"jjj") -> sam | B28: =B27+1 -> 43639 | H28: =(D28-C28)+(G28-F28) -> 0 | I28: =IF(A28="lun",H28,H28+I27) -> 1.6319444 | J28: =IF(A28="dim",I28,"")
A29: =TEXT(B29,"jjj") -> dim | B29: =B28+1 -> 43640 | H29: =(D29-C29)+(G29-F29) -> 0 | I29: =IF(A29="lun",H29,H29+I28) -> 1.6319444 | J29: =IF(A29="dim",I29,"") -> 1.6319444 | K29: 1.4583333 | L29: =SUM(J29-K29) -> 0.17361111 | M29: =SUM(M22+L29) -> 0.46736111
A30: =TEXT(B30,"jjj") -> lun | B30: =B29+1 -> 43641 | H30: =(D30-C30)+(G30-F30) -> 0 | I30: =IF(A30="lun",H30,H30+I29) -> 0 | J30: =IF(A30="dim",I30,"")
A31: =TEXT(B31,"jjj") -> mar | B31: =B30+1 -> 43642 | C31: 0.29861111 | D31: 0.5 | F31: 0.54166667 | G31: 0.70694444 | H31: =(D31-C31)+(G31-F31) -> 0.36666667 | I31: =IF(A31="lun",H31,H31+I30) -> 0.36666667 | J31: =IF(A31="dim",I31,"")
A32: =TEXT(B32,"jjj") -> mer | B32: =B31+1 -> 43643 | C32: 0.33819444 | D32: 0.5 | F32: 0.54166667 | G32: 0.81805556 | H32: =(D32-C32)+(G32-F32) -> 0.43819444 | I32: =IF(A32="lun",H32,H32+I31) -> 0.80486111 | J32: =IF(A32="dim",I32,"")
A33: =TEXT(B33,"jjj") -> jeu | B33: =B32+1 -> 43644 | C33: 0.33819444 | D33: 0.5 | F33: 0.54166667 | G33: 0.74375 | H33: =(D33-C33)+(G33-F33) -> 0.36388889 | I33: =IF(A33="lun",H33,H33+I32) -> 1.16875 | J33: =IF(A33="dim",I33,"")
A34: =TEXT(B34,"jjj") -> ven | B34: =B33+1 -> 43645 | C34: 0.30694444 | D34: 0.5 | F34: 0.54166667 | G34: 0.75625 | H34: =(D34-C34)+(G34-F34) -> 0.40763889 | I34: =IF(A34="lun",H34,H34+I33) -> 1.5763889 | J34: 1.5763889 | K34: 1.4583333 | L34: =SUM(I34-K34) -> 0.11805556 | M34: =SUM(M29+L34) -> 0.58541667
G37: =SUM(J5:J35) -> 7.0020833 | L37: =SUM(G37-G40) -> 0.58541667
B39: REPOS
G40: =SUM(K8+K15+K22+K29+K34) -> 6.4166667
B41: FERIE
B43: AM

Sheet Juillet
A1: Fiche de Pointage
A2: BOTREL CHRISTOPHE | F2: JOUR | G2: MOIS | H2: ANNEE
F3: 1 | G3: 7 | H3: 2023
A5: =TEXT(B5,"jjj") -> sam | B5: =DATE(H3,G3,F3) -> 43646 | H5: =(D5-C5)+(G5-F5) -> 0 | I5: =H5 -> 0 | J5: =IF(A5="dim",I5,"")
A6: =TEXT(B6,"jjj") -> dim | B6: =B5+1 -> 43647 | H6: =(D6-C6)+(G6-F6) -> 0 | I6: =IF(A6="lun",H6,H6+I5) -> 0 | J6: =IF(A6="dim",I6,"") -> 0 | K6: 0 | L6: =SUM(J6-K6) -> 0 | M6: =SUM(J6-K6) -> 0
A7: =TEXT(B7,"jjj") -> lun | B7: =B6+1 -> 43648 | C7: 0.29236111 | D7: 0.5 | F7: 0.54166667 | G7: 0.76319444 | H7: =(D7-C7)+(G7-F7) -> 0.42916667 | I7: =IF(A7="lun",H7,H7+I6) -> 0.42916667 | J7: =IF(A7="dim",I7,"")
A8: =TEXT(B8,"jjj") -> mar | B8: =B7+1 -> 43649 | C8: 0.27013889 | D8: 0.5 | F8: 0.54166667 | G8: 0.88541667 | H8: =(D8-C8)+(G8-F8) -> 0.57361111 | I8: =IF(A8="lun",H8,H8+I7) -> 1.0027778 | J8: =IF(A8="dim",I8,"")
A9: =TEXT(B9,"jjj") -> mer | B9: =B8+1 -> 43650 | C9: 0.29305556 | D9: 0.5 | F9: 0.54166667 | G9: 0.72708333 | H9: =(D9-C9)+(G9-F9) -> 0.39236111 | I9: =IF(A9="lun",H9,H9+I8) -> 1.3951389 | J9: =IF(A9="dim",I9,"")
A10: =TEXT(B10,"jjj") -> jeu | B10: =B9+1 -> 43651 | H10: =(D10-C10)+(G10-F10) -> 0 | I10: =IF(A10="lun",H10,H10+I9) -> 1.3951389 | J10: =IF(A10="dim",I10,"")
A11: =TEXT(B11,"jjj") -> ven | B11: =B10+1 -> 43652 | H11: =(D11-C11)+(G11-F11) -> 0 | I11: =IF(A11="lun",H11,H11+I10) -> 1.3951389 | J11: =IF(A11="dim",I11,"")
A12: =TEXT(B12,"jjj") -> sam | B12: =B11+1 -> 43653 | C12: 0.31041667 | D12: 0.5 | F12: 0.54166667 | G12: 0.75486111 | H12: =(D12-C12)+(G12-F12) -> 0.40277778 | I12: =IF(A12="lun",H12,H12+I11) -> 1.7979167 | J12: =IF(A12="dim",I12,"")
A13: =TEXT(B13,"jjj") -> dim | B13: =B12+1 -> 43654 | H13: =(D13-C13)+(G13-F13) -> 0 | I13: =IF(A13="lun",H13,H13+I12) -> 1.7979167 | J13: =IF(A13="dim",I13,"") -> 1.7979167 | K13: 1.4583333 | L13: =SUM(J13-K13) -> 0.33958333 | M13: =SUM(M6+L13) -> 0.33958333
A14: =TEXT(B14,"jjj") -> lun | B14: =B13+1 -> 43655 | C14: 0.29097222 | D14: 0.5 | F14: 0.54166667 | G14: 0.79444444 | H14: =(D14-C14)+(G14-F14) -> 0.46180556 | I14: =IF(A14="lun",H14,H14+I13) -> 0.46180556 | J14: =IF(A14="dim",I14,"")
A15: =TEXT(B15,"jjj") -> mar | B15: =B14+1 -> 43656 | H15: =(D15-C15)+(G15-F15) -> 0 | I15: =IF(A15="lun",H15,H15+I14) -> 0.46180556 | J15: =IF(A15="dim",I15,"")
A16: =TEXT(B16,"jjj") -> mer | B16: =B15+1 -> 43657 | C16: 0.28055556 | D16: 0.5 | F16: 0.54166667 | G16: 0.79027778 | H16: =(D16-C16)+(G16-F16) -> 0.46805556 | I16: =IF(A16="lun",H16,H16+I15) -> 0.92986111 | J16: =IF(A16="dim",I16,"")
A17: =TEXT(B17,"jjj") -> jeu | B17: =B16+1 -> 43658 | C17: 0.29027778 | D17: 0.5 | F17: 0.54166667 | G17: 0.76944444 | H17: =(D17-C17)+(G17-F17) -> 0.4375 | I17: =IF(A17="lun",H17,H17+I16) -> 1.3673611 | J17: =IF(A17="dim",I17,"")
A18: =TEXT(B18,"jjj") -> ven | B18: =B17+1 -> 43659 | C18: 0.29444444 | D18: 0.5 | F18: 0.54166667 | G18: 0.75277778 | H18: =(D18-C18)+(G18-F18) -> 0.41666667 | I18: =IF(A18="lun",H18,H18+I17) -> 1.7840278 | J18: =IF(A18="dim",I18,"")
A19: =TEXT(B19,"jjj") -> sam | B19: =B18+1 -> 43660 | H19: =(D19-C19)+(G19-F19) -> 0 | I19: =IF(A19="lun",H19,H19+I18) -> 1.7840278 | J19: =IF(A19="dim",I19,"")
A20: =TEXT(B20,"jjj") -> dim | B20: =B19+1 -> 43661 | H20: =(D20-C20)+(G20-F20) -> 0 | I20: =IF(A20="lun",H20,H20+I19) -> 1.7840278 | J20: =IF(A20="dim",I20,"") -> 1.7840278 | K20: 1.4583333 | L20: =SUM(J20-K20) -> 0.32569444 | M20: =SUM(M13+L20) -> 0.66527778
A21: =TEXT(B21,"jjj") -> lun | B21: =B20+1 -> 43662 | C21: 0.28472222 | D21: 0.5 | F21: 0.54166667 | G21: 0.81180556 | H21: =(D21-C21)+(G21-F21) -> 0.48541667 | I21: =IF(A21="lun",H21,H21+I20) -> 0.48541667 | J21: =IF(A21="dim",I21,"")
A22: =TEXT(B22,"jjj") -> mar | B22: =B21+1 -> 43663 | C22: 0.30486111 | D22: 0.5 | F22: 0.54166667 | G22: 0.79305556 | H22: =(D22-C22)+(G22-F22) -> 0.44652778 | I22: =IF(A22="lun",H22,H22+I21) -> 0.93194444 | J22: =IF(A22="dim",I22,"")
A23: =TEXT(B23,"jjj") -> mer | B23: =B22+1 -> 43664 | C23: 0.31041667 | D23: 0.5 | F23: 0.54166667 | G23: 0.89583333 | H23: =(D23-C23)+(G23-F23) -> 0.54375 | I23: =IF(A23="lun",H23,H23+I22) -> 1.4756944 | J23: =IF(A23="dim",I23,"")
A24: =TEXT(B24,"jjj") -> jeu | B24: =B23+1 -> 43665 | H24: =(D24-C24)+(G24-F24) -> 0 | I24: =IF(A24="lun",H24,H24+I23) -> 1.4756944 | J24: =IF(A24="dim",I24,"")
A25: =TEXT(B25,"jjj") -> ven | B25: =B24+1 -> 43666 | C25: 0.31458333 | D25: 0.5 | F25: 0.54166667 | G25: 0.84027778 | H25: =(D25-C25)+(G25-F25) -> 0.48402778 | I25: =IF(A25="lun",H25,H25+I24) -> 1.9597222 | J25: =IF(A25="dim",I25,"")
A26: =TEXT(B26,"jjj") -> sam | B26: =B25+1 -> 43667 | C26: 0.30763889 | D26: 0.5 | F26: 0.54166667 | G26: 0.77222222 | H26: =(D26-C26)+(G26-F26) -> 0.42291667 | I26: =IF(A26="lun",H26,H26+I25) -> 2.3826389 | J26: =IF(A26="dim",I26,"")
A27: =TEXT(B27,"jjj") -> dim | B27: =B26+1 -> 43668 | H27: =(D27-C27)+(G27-F27) -> 0 | I27: =IF(A27="lun",H27,H27+I26) -> 2.3826389 | J27: =IF(A27="dim",I27,"") -> 2.3826389 | K27: 1.4583333 | L27: =SUM(J27-K27) -> 0.92430556 | M27: =SUM(M20+L27) -> 1.5895833
A28: =TEXT(B28,"jjj") -> lun | B28: =B27+1 -> 43669 | C28: 0.33819444 | D28: 0.5 | F28: 0.54166667 | G28: 0.78472222 | H28: =(D28-C28)+(G28-F28) -> 0.40486111 | I28: =IF(A28="lun",H28,H28+I27) -> 0.40486111 | J28: =IF(A28="dim",I28,"")
A29: =TEXT(B29,"jjj") -> mar | B29: =B28+1 -> 43670 | H29: =(D29-C29)+(G29-F29) -> 0 | I29: =IF(A29="lun",H29,H29+I28) -> 0.40486111 | J29: =IF(A29="dim",I29,"")
A30: =TEXT(B30,"jjj") -> mer | B30: =B29+1 -> 43671 | C30: 0.29444444 | D30: 0.5 | F30: 0.54166667 | G30: 0.74583333 | H30: =(D30-C30)+(G30-F30) -> 0.40972222 | I30: =IF(A30="lun",H30,H30+I29) -> 0.81458333 | J30: =IF(A30="dim",I30,"")
A31: =TEXT(B31,"jjj") -> jeu | B31: =B30+1 -> 43672 | C31: 0.29930556 | D31: 0.5 | F31: 0.54166667 | G31: 0.82916667 | H31: =(D31-C31)+(G31-F31) -> 0.48819444 | I31: =IF(A31="lun",H31,H31+I30) -> 1.3027778 | J31: =IF(A31="dim",I31,"")
A32: =TEXT(B32,"jjj") -> ven | B32: =B31+1 -> 43673 | C32: 0.32013889 | D32: 0.5 | F32: 0.54166667 | G32: 0.83402778 | H32: =(D32-C32)+(G32-F32) -> 0.47222222 | I32: =IF(A32="lun",H32,H32+I31) -> 1.775 | J32: =IF(A32="dim",I32,"")
A33: =TEXT(B33,"jjj") -> sam | B33: =B32+1 -> 43674 | H33: =(D33-C33)+(G33-F33) -> 0 | I33: =IF(A33="lun",H33,H33+I32) -> 1.775 | J33: =IF(A33="dim",I33,"")
A34: =TEXT(B34,"jjj") -> dim | B34: =B33+1 -> 43675 | H34: =(D34-C34)+(G34-F34) -> 0 | I34: =IF(A34="lun",H34,H34+I33) -> 1.775 | J34: =IF(A34="dim",I34,"") -> 1.775 | K34: 1.4583333 | L34: =SUM(I33-K34) -> 0.31666667 | M34: =SUM(M27+L34) -> 1.90625
A35: =TEXT(B35,"jjj") -> lun | B35: =B34+1 -> 43676 | H35: =(D35-C35)+(G35-F35) -> 0 | I35: =IF(A35="lun",H35,H35+I34) -> 0 | J35: =I35 -> 0 | K35: 0.29166667 | L35: =SUM(I35-K35) -> -0.29166667 | M35: =SUM(M34+L35) -> 1.6145833
G37: =SUM(J5:J35) -> 7.7395833 | L37: =SUM(G37-G40) -> 1.6145833
B39: REPOS
G40: =SUM(K6+K13+K20+K27+K34+K35) -> 6.125
B41: FERIE

Sheet Août
A1: Fiche de Pointage
A2: BOTREL CHRISTOPHE | F2: JOUR | G2: MOIS | H2: ANNEE
F3: 1 | G3: 8 | H3: 2023
A5: =TEXT(B5,"jjj") -> mar | B5: =DATE(H3,G3,F3) -> 43677 | C5: 0.30347222 | G5: 0.75625 | H5: =IFERROR((G5-C5)-(IF((G5-C5)>0,(1/24),0)),"00:00") -> 0.41111111 | I5: =H5 -> 0.41111111 | J5: =IF(A5="dim",I5,"")
A6: =TEXT(B6,"jjj") -> mer | B6: =B5+1 -> 43678 | H6: =IFERROR((G6-C6)-(IF((G6-C6)>0,(1/24),0)),"00:00") -> 0 | I6: =IF(A6="lun",H6,H6+I5) -> 0.41111111 | J6: =IF(A6="dim",I6,"")
A7: =TEXT(B7,"jjj") -> jeu | B7: =B6+1 -> 43679 | H7: =IFERROR((G7-C7)-(IF((G7-C7)>0,(1/24),0)),"00:00") -> 0 | I7: =IF(A7="lun",H7,H7+I6) -> 0.41111111 | J7: =IF(A7="dim",I7,"")
A8: =TEXT(B8,"jjj") -> ven | B8: =B7+1 -> 43680 | C8: 0.30347222 | D8: 0.33333333 | F8: 0.625 | G8: 0.75625 | H8: =IFERROR((G8-C8)-(IF((G8-C8)>0,(1/24),0)),"00:00") -> 0.41111111 | I8: =IF(A8="lun",H8,H8+I7) -> 0.82222222 | J8: =IF(A8="dim",I8,"")
A9: =TEXT(B9,"jjj") -> sam | B9: =B8+1 -> 43681 | H9: =IFERROR((G9-C9)-(IF((G9-C9)>0,(1/24),0)),"00:00") -> 0 | I9: =IF(A9="lun",H9,H9+I8) -> 0.82222222 | J9: =IF(A9="dim",I9,"")
A10: =TEXT(B10,"jjj") -> dim | B10: =B9+1 -> 43682 | H10: =IFERROR((G10-C10)-(IF((G10-C10)>0,(1/24),0)),"00:00") -> 0 | I10: =IF(A10="lun",H10,H10+I9) -> 0.82222222 | J10: =IF(A10="dim",I10,"") -> 0.82222222 | K10: 1.1666667 | L10: =SUM(J10-K10) -> -0.34444444
A11: =TEXT(B11,"jjj") -> lun | B11: =B10+1 -> 43683 | H11: =IFERROR((G11-C11)-(IF((G11-C11)>0,(1/24),0)),"00:00") -> 0 | I11: =IF(A11="lun",H11,H11+I10) -> 0 | J11: =IF(A11="dim",I11,"")
A12: =TEXT(B12,"jjj") -> mar | B12: =B11+1 -> 43684 | H12: =IFERROR((G12-C12)-(IF((G12-C12)>0,(1/24),0)),"00:00") -> 0 | I12: =IF(A12="lun",H12,H12+I11) -> 0 | J12: =IF(A12="dim",I12,"")
A13: =TEXT(B13,"jjj") -> mer | B13: =B12+1 -> 43685 | H13: =IFERROR((G13-C13)-(IF((G13-C13)>0,(1/24),0)),"00:00") -> 0 | I13: =IF(A13="lun",H13,H13+I12) -> 0 | J13: =IF(A13="dim",I13,"")
A14: =TEXT(B14,"jjj") -> jeu | B14: =B13+1 -> 43686 | H14: =IFERROR((G14-C14)-(IF((G14-C14)>0,(1/24),0)),"00:00") -> 0 | I14: =IF(A14="lun",H14,H14+I13) -> 0 | J14: =IF(A14="dim",I14,"")
A15: =TEXT(B15,"jjj") -> ven | B15: =B14+1 -> 43687 | H15: =IFERROR((G15-C15)-(IF((G15-C15)>0,(1/24),0)),"00:00") -> 0 | I15: =IF(A15="lun",H15,H15+I14) -> 0 | J15: =IF(A15="dim",I15,"")
A16: =TEXT(B16,"jjj") -> sam | B16: =B15+1 -> 43688 | H16: =IFERROR((G16-C16)-(IF((G16-C16)>0,(1/24),0)),"00:00") -> 0 | I16: =IF(A16="lun",H16,H16+I15) -> 0 | J16: =IF(A16="dim",I16,"")
A17: =TEXT(B17,"jjj") -> dim | B17: =B16+1 -> 43689 | H17: =IFERROR((G17-C17)-(IF((G17-C17)>0,(1/24),0)),"00:00") -> 0 | I17: =IF(A17="lun",H17,H17+I16) -> 0 | J17: =IF(A17="dim",I17,"") -> 0 | K17: 1.4583333 | L17: =SUM(J17-K17) -> -1.4583333
A18: =TEXT(B18,"jjj") -> lun | B18: =B17+1 -> 43690 | C18: 0.33333333 | D18: 0.5 | F18: 0.54166667 | G18: 0.66666667 | H18: =IFERROR((G18-C18)-(IF((G18-C18)>0,(1/24),0)),"00:00") -> 0.29166667 | I18: =IF(A18="lun",H18,H18+I17) -> 0.29166667 | J18: =IF(A18="dim",I18,"")
A19: =TEXT(B19,"jjj") -> mar | B19: =B18+1 -> 43691 | C19: Assomption | H19: =IFERROR((G19-C19)-(IF((G19-C19)>0,(1/24),0)),"00:00") -> 00:00 | I19: =IF(A19="lun",H19,H19+I18) -> 0.29166667 | J19: =IF(A19="dim",I19,"")
A20: =TEXT(B20,"jjj") -> mer | B20: =B19+1 -> 43692 | C20: 0.33333333 | D20: 0.5 | F20: 0.54166667 | G20: 0.66666667 | H20: =IFERROR((G20-C20)-(IF((G20-C20)>0,(1/24),0)),"00:00") -> 0.29166667 | I20: =IF(A20="lun",H20,H20+I19) -> 0.58333333 | J20: =IF(A20="dim",I20,"")
A21: =TEXT(B21,"jjj") -> jeu | B21: =B20+1 -> 43693 | C21: 0.33333333 | D21: 0.5 | F21: 0.54166667 | G21: 0.66666667 | H21: =IFERROR((G21-C21)-(IF((G21-C21)>0,(1/24),0)),"00:00") -> 0.29166667 | I21: =IF(A21="lun",H21,H21+I20) -> 0.875 | J21: =IF(A21="dim",I21,"")
A22: =TEXT(B22,"jjj") -> ven | B22: =B21+1 -> 43694 | C22: 0.33333333 | D22: 0.5 | F22: 0.54166667 | G22: 0.66666667 | H22: =IFERROR((G22-C22)-(IF((G22-C22)>0,(1/24),0)),"00:00") -> 0.29166667 | I22: =IF(A22="lun",H22,H22+I21) -> 1.1666667 | J22: =IF(A22="dim",I22,"")
A23: =TEXT(B23,"jjj") -> sam | B23: =B22+1 -> 43695 | H23: =IFERROR((G23-C23)-(IF((G23-C23)>0,(1/24),0)),"00:00") -> 0 | I23: =IF(A23="lun",H23,H23+I22) -> 1.1666667 | J23: =IF(A23="dim",I23,"")
A24: =TEXT(B24,"jjj") -> dim | B24: =B23+1 -> 43696 | H24: =IFERROR((G24-C24)-(IF((G24-C24)>0,(1/24),0)),"00:00") -> 0 | I24: =IF(A24="lun",H24,H24+I23) -> 1.1666667 | J24: =IF(A24="dim",I24,"") -> 1.1666667 | K24: 1.1666667 | L24: =SUM(J24-K24) -> -2.220446e-16
A25: =TEXT(B25,"jjj") -> lun | B25: =B24+1 -> 43697 | C25: 0.33333333 | D25: 0.5 | F25: 0.54166667 | G25: 0.66666667 | H25: =IFERROR((G25-C25)-(IF((G25-C25)>0,(1/24),0)),"00:00") -> 0.29166667 | I25: =IF(A25="lun",H25,H25+I24) -> 0.29166667 | J25: =IF(A25="dim",I25,"")
A26: =TEXT(B26,"jjj") -> mar | B26: =B25+1 -> 43698 | C26: 0.33333333 | D26: 0.5 | F26: 0.54166667 | G26: 0.66666667 | H26: =IFERROR((G26-C26)-(IF((G26-C26)>0,(1/24),0)),"00:00") -> 0.29166667 | I26: =IF(A26="lun",H26,H26+I25) -> 0.58333333 | J26: =IF(A26="dim",I26,"")
A27: =TEXT(B27,"jjj") -> mer | B27: =B26+1 -> 43699 | C27: 0.33333333 | D27: 0.5 | F27: 0.54166667 | G27: 0.66666667 | H27: =IFERROR((G27-C27)-(IF((G27-C27)>0,(1/24),0)),"00:00") -> 0.29166667 | I27: =IF(A27="lun",H27,H27+I26) -> 0.875 | J27: =IF(A27="dim",I27,"")
A28: =TEXT(B28,"jjj") -> jeu | B28: =B27+1 -> 43700 | C28: 0.33333333 | D28: 0.5 | F28: 0.54166667 | G28: 0.66666667 | H28: =IFERROR((G28-C28)-(IF((G28-C28)>0,(1/24),0)),"00:00") -> 0.29166667 | I28: =IF(A28="lun",H28,H28+I27) -> 1.1666667 | J28: =IF(A28="dim",I28,"")
A29: =TEXT(B29,"jjj") -> ven | B29: =B28+1 -> 43701 | C29: 0.33333333 | D29: 0.5 | F29: 0.54166667 | G29: 0.66666667 | H29: =IFERROR((G29-C29)-(IF((G29-C29)>0,(1/24),0)),"00:00") -> 0.29166667 | I29: =IF(A29="lun",H29,H29+I28) -> 1.4583333 | J29: =IF(A29="dim",I29,"")
A30: =TEXT(B30,"jjj") -> sam | B30: =B29+1 -> 43702 | H30: =IFERROR((G30-C30)-(IF((G30-C30)>0,(1/24),0)),"00:00") -> 0 | I30: =IF(A30="lun",H30,H30+I29) -> 1.4583333 | J30: =IF(A30="dim",I30,"")
A31: =TEXT(B31,"jjj") -> dim | B31: =B30+1 -> 43703 | H31: =IFERROR((G31-C31)-(IF((G31-C31)>0,(1/24),0)),"00:00") -> 0 | I31: =IF(A31="lun",H31,H31+I30) -> 1.4583333 | J31: =IF(A31="dim",I31,"") -> 1.4583333 | K31: 1.4583333 | L31: =SUM(J31-K31) -> -2.220446e-16
A32: =TEXT(B32,"jjj") -> lun | B32: =B31+1 -> 43704 | H32: =IFERROR((G32-C32)-(IF((G32-C32)>0,(1/24),0)),"00:00") -> 0 | I32: =IF(A32="lun",H32,H32+I31) -> 0 | J32: =IF(A32="dim",I32,"")
A33: =TEXT(B33,"jjj") -> mar | B33: =B32+1 -> 43705 | H33: =IFERROR((G33-C33)-(IF((G33-C33)>0,(1/24),0)),"00:00") -> 0 | I33: =IF(A33="lun",H33,H33+I32) -> 0 | J33: =IF(A33="dim",I33,"")
A34: =TEXT(B34,"jjj") -> mer | B34: =B33+1 -> 43706 | H34: =IFERROR((G34-C34)-(IF((G34-C34)>0,(1/24),0)),"00:00") -> 0 | I34: =IF(A34="lun",H34,H34+I33) -> 0 | J34: =IF(A34="dim",I34,"")
A35: =TEXT(B35,"jjj") -> jeu | B35: =B34+1 -> 43707 | H35: =IFERROR((G35-C35)-(IF((G35-C35)>0,(1/24),0)),"00:00") -> 0 | I35: =IF(A35="lun",H35,H35+I34) -> 0 | K35: 1.1666667 | L35: =SUM(J35-K35) -> -1.1666667
G37: =SUM(J5:J35) -> 3.4472222 | L37: =SUM(G37-G40) -> -2.9694444
B39: REPOS
G40: =SUM(K10+K17+K24+K31+K35) -> 6.4166667
B41: FERIE

