Workbook
Name PDT: 'Pour liste'!$B$3:$B$19
Name QTPDT: Feuil1!$G$13:$G$31

Sheet Feuil1
E6: Outil calcul prix
E8: Type de produit | F8: Taille | G8: Quantité | H8: Prix produit | I8: Coût transport
E9: Pdt A3 | F9: =COUNTA( OFFSET('Pour liste'!#REF!, MATCH(Feuil1!E9,'Pour liste'!C2:V18,0),2,0,0)) -> 1 | G9: 200
G12: =E9 -> Pdt A3
F13: 2 | G13: =IFERROR(IF(HLOOKUP($G12,'Pour liste'!D2:T21,F$13,FALSE)="","",HLOOKUP($G12,'Pour liste'!D2:T21,F$13,FALSE)),"") -> 200
F14: 3 | G14: =IFERROR(IF(HLOOKUP($G13,'Pour liste'!D3:T22,F$13,FALSE)="","",HLOOKUP($G13,'Pour liste'!D3:T22,F$13,FALSE)),"") -> 300
F15: 4 | G15: =IFERROR(IF(HLOOKUP($G14,'Pour liste'!D4:T23,F$13,FALSE)="","",HLOOKUP($G14,'Pour liste'!D4:T23,F$13,FALSE)),"") -> 400
F16: 5 | G16: =IFERROR(IF(HLOOKUP($G15,'Pour liste'!D5:T24,F$13,FALSE)="","",HLOOKUP($G15,'Pour liste'!D5:T24,F$13,FALSE)),"") -> 500
F17: 6 | G17: =IFERROR(IF(HLOOKUP($G16,'Pour liste'!D6:T25,F$13,FALSE)="","",HLOOKUP($G16,'Pour liste'!D6:T25,F$13,FALSE)),"") -> 600
F18: 7 | G18: =IFERROR(IF(HLOOKUP($G17,'Pour liste'!D7:T26,F$13,FALSE)="","",HLOOKUP($G17,'Pour liste'!D7:T26,F$13,FALSE)),"") -> 700
F19: 8 | G19: =IFERROR(IF(HLOOKUP($G18,'Pour liste'!D8:T27,F$13,FALSE)="","",HLOOKUP($G18,'Pour liste'!D8:T27,F$13,FALSE)),"") -> 800
F20: 9 | G20: =IFERROR(IF(HLOOKUP($G19,'Pour liste'!D9:T28,F$13,FALSE)="","",HLOOKUP($G19,'Pour liste'!D9:T28,F$13,FALSE)),"") -> 900
F21: 10 | G21: =IFERROR(IF(HLOOKUP($G20,'Pour liste'!D10:T29,F$13,FALSE)="","",HLOOKUP($G20,'Pour liste'!D10:T29,F$13,FALSE)),"") -> 1000
F22: 11 | G22: =IFERROR(IF(HLOOKUP($G21,'Pour liste'!D11:T30,F$13,FALSE)="","",HLOOKUP($G21,'Pour liste'!D11:T30,F$13,FALSE)),"") -> 1100
F23: 12 | G23: =IFERROR(IF(HLOOKUP($G22,'Pour liste'!D12:T31,F$13,FALSE)="","",HLOOKUP($G22,'Pour liste'!D12:T31,F$13,FALSE)),"") -> 1200
F24: 13 | G24: =IFERROR(IF(HLOOKUP($G23,'Pour liste'!D13:T32,F$13,FALSE)="","",HLOOKUP($G23,'Pour liste'!D13:T32,F$13,FALSE)),"") -> 1300
... F31: 20 | G31: =IFERROR(IF(HLOOKUP($G30,'Pour liste'!D20:T39,F$13,FALSE)="","",HLOOKUP($G30,'Pour liste'!D20:T39,F$13,FALSE)),"")

Sheet Pour liste
D2: Pdt A1 | E2: Pdt A2 | F2: Pdt A3 | G2: Pdt A4 | H2: Pdt A5 | I2: Pdt A6 | J2: Pdt A7 | K2: Pdt A8 | L2: Pdt A9 | M2: Pdt A10 | N2: Pdt A11 | O2: Pdt A12 | P2: Pdt A13 | Q2: Pdt A14 | R2: Pdt A15 | S2: Pdt A16 | T2: Pdt A17
B3: Pdt A1 | D3: 200 | E3: 200 | F3: 200 | G3: 200 | H3: 200 | I3: 200 | J3: 200 | K3: 200 | L3: 200 | M3: 200 | N3: 200 | O3: 200 | P3: 300 | Q3: 200 | R3: 200 | S3: 200 | T3: 200
B4: Pdt A2 | D4: 300 | E4: 300 | F4: 300 | G4: 300 | H4: 300 | I4: 300 | J4: 300 | K4: 300 | L4: 300 | M4: 300 | N4: 300 | O4: 300 | P4: 400 | Q4: 300 | R4: 300 | S4: 300 | T4: 300
B5: Pdt A3 | D5: 400 | E5: 400 | F5: 400 | G5: 400 | H5: 400 | I5: 400 | J5: 400 | K5: 400 | L5: 400 | M5: 400 | N5: 400 | O5: 400 | P5: 500 | Q5: 400 | R5: 400 | S5: 400 | T5: 400
B6: Pdt A4 | D6: 500 | E6: 500 | F6: 500 | G6: 500 | H6: 500 | I6: 500 | J6: 500 | K6: 500 | L6: 500 | M6: 500 | N6: 500 | O6: 500 | P6: 600 | Q6: 500 | R6: 500 | S6: 500 | T6: 500
B7: Pdt A5 | D7: 600 | E7: 600 | F7: 600 | G7: 600 | H7: 600 | I7: 600 | J7: 600 | K7: 600 | L7: 600 | M7: 600 | N7: 600 | O7: 600 | P7: 700 | Q7: 600 | R7: 600 | S7: 600 | T7: 600
B8: Pdt A6 | D8: 700 | E8: 700 | F8: 700 | G8: 700 | H8: 700 | I8: 700 | J8: 700 | K8: 700 | L8: 700 | M8: 700 | N8: 700 | O8: 700 | P8: 800 | Q8: 700 | R8: 700 | S8: 700 | T8: 700
B9: Pdt A7 | D9: 800 | E9: 800 | F9: 800 | G9: 800 | H9: 800 | I9: 800 | J9: 800 | K9: 800 | L9: 800 | M9: 800 | N9: 800 | O9: 800 | P9: 900 | Q9: 800 | R9: 800 | S9: 800 | T9: 800
B10: Pdt A8 | D10: 900 | E10: 900 | F10: 900 | G10: 900 | H10: 900 | I10: 900 | J10: 900 | K10: 900 | L10: 900 | M10: 900 | N10: 900 | O10: 900 | P10: 1000 | Q10: 900 | R10: 900 | S10: 900 | T10: 900
B11: Pdt A9 | D11: 1000 | E11: 1000 | F11: 1000 | G11: 1000 | H11: 1000 | I11: 1000 | J11: 1000 | K11: 1000 | L11: 1000 | M11: 1000 | N11: 1000 | O11: 1000 | P11: 1100 | Q11: 1000 | R11: 1000 | S11: 1000 | T11: 1000
B12: Pdt A10 | D12: 1100 | E12: 1100 | F12: 1100 | G12: 1100 | H12: 1100 | I12: 1100 | J12: 1100 | L12: 1100 | M12: 1100 | N12: 1100 | O12: 1100 | P12: 1200 | Q12: 1100 | R12: 1100 | S12: 1100 | T12: 1100
B13: Pdt A11 | D13: 1200 | E13: 1200 | F13: 1200 | G13: 1200 | H13: 1200 | I13: 1200 | J13: 1200 | L13: 1200 | M13: 1200 | N13: 1200 | O13: 1200 | P13: 1300 | Q13: 1200 | R13: 1200 | S13: 1200 | T13: 1200
B14: Pdt A12 | D14: 1300 | E14: 1300 | F14: 1300 | G14: 1300 | H14: 1300 | I14: 1300 | J14: 1300 | L14: 1300 | M14: 1300 | N14: 1300 | O14: 1300 | P14: 1400 | Q14: 1300 | R14: 1300 | S14: 1300 | T14: 1300
B15: Pdt A13 | D15: 1400 | E15: 1400 | F15: 1400 | G15: 1400 | H15: 1400 | I15: 1400 | J15: 1400 | L15: 1400 | M15: 1400 | N15: 1400 | O15: 1400 | P15: 1500 | Q15: 1400 | R15: 1400 | S15: 1400 | T15: 1400
B16: Pdt A14 | D16: 1500 | E16: 1500 | F16: 1500 | G16: 1500 | H16: 1500 | I16: 1500 | J16: 1500 | L16: 1500 | M16: 1500 | N16: 1500 | O16: 1500 | P16: 1600 | Q16: 1500 | R16: 1500 | S16: 1500 | T16: 1500
B17: Pdt A15 | F17: 1600 | G17: 1600 | H17: 1600 | I17: 1600 | L17: 1600 | M17: 1600 | N17: 1600 | P17: 1700
B18: Pdt A16 | F18: 1700 | G18: 1700 | H18: 1700 | I18: 1700 | L18: 1700 | M18: 1700 | N18: 1700 | P18: 1800
B19: Pdt A17 | F19: 1800 | G19: 1800 | H19: 1800 | I19: 1800 | L19: 1800 | M19: 1800 | N19: 1800 | P19: 1900
F20: 1900 | G20: 1900 | H20: 1900 | I20: 1900 | L20: 1900 | M20: 1900 | N20: 1900 | P20: 2000
F21: 2000 | G21: 2000 | H21: 2000 | I21: 2000 | L21: 2000 | M21: 2000 | N21: 2000
