Workbook

Sheet Planning général
B1: Jour | C1: Heure Début | D1: Heure fin | E1: Classes | F1: Nombre d'élèves | G1: Salle | H1: Langue | I1: Intervenant·e 1 | J1: Intervenant·e 2 | K1: Intervenant·e en obs
A2: 1 | B2: 45012 | C2: 0.32986111 | D2: 0.39236111 | E2: 405610 405611 | F2: 24 | G2: B-201 | H2: FR | I2: Marine | J2: Sabrina | M2: Planning intervention
A3: 2 | B3: 45012 | C3: 0.39236111 | D3: 0.46875 | E3: 405411 405612 | F3: 24 | G3: B-301 | H3: FR | I3: Marine | J3: Sabrina | M3: Lieu | N3: EPAI
A4: 3 | B4: 45012 | C4: 0.5625 | D4: 0.625 | E4: 100321 205521 | F4: 16 | G4: E303 | H4: FR | I4: Félix | J4: Quentin | M4: Période | N4: Mars à mai 2023
A5: 4 | B5: 45012 | C5: 0.32986111 | D5: 0.39236111 | E5: 203661 203761 | F5: 12 | G5: E107 | H5: DE | I5: Janina | J5: Noémie | K5: Ella | N5: Attention au lieu d'intervention qui est différent
A6: 5 | B6: 45012 | C6: 0.4375 | D6: 0.5 | E6: 151061 202161 205561 | F6: 15 | G6: F305 | H6: DE | I6: Janina | J6: Ella | N6: Attention il faudra prévenir les élèves que leur pause qui est pendant l'intervention sera décalée à après l'intervention
A7: 6 | B7: 45012 | C7: 0.59375 | D7: 0.67013889 | E7: 100161 100261 | F7: 4 | G7: F219 | H7: DE | I7: Gabriel | J7: Janina
A8: 7 | B8: 45013 | C8: 0.32986111 | D8: 0.39236111 | E8: 100021 | F8: 14 | G8: Gambach 4 | H8: FR | I8: Gabriel | J8: Lalia
A9: 8 | B9: 45013 | C9: 0.36111111 | D9: 0.42361111 | E9: 203871 203971 204071 254161 | F9: 9 | G9: B-302 | H9: DE | I9: Janina | J9: Noémie | K9: Alicia
A10: 9 | B10: 45014 | C10: 0.32986111 | D10: 0.39236111 | E10: 204133 | F10: 13 | G10: F-102 | H10: FR | I10: Quentin | J10: Félix
A11: 10 | B11: 45014 | C11: 0.39236111 | D11: 0.46875 | E11: 153422 | F11: 9 | G11: F403 | H11: FR | I11: Quentin | J11: Félix
A12: 11 | B12: 45014 | C12: 0.5625 | D12: 0.625 | E12: 153421 | F12: 12 | G12: F-202 | H12: FR | I12: Lalia | J12: Félix
A13: 12 | B13: 45014 | C13: 0.39236111 | D13: 0.46875 | E13: 405451 202072 202572 | F13: 8 | G13: F210 | H13: DE | I13: Gabriel | J13: Janina | K13: Alicia
A14: 13 | B14: 45014 | C14: 0.5625 | D14: 0.625 | E14: 151071 202171 204172 | F14: 9 | G14: F303 | H14: DE | I14: Janina | J14: Noémie
A15: 14 | B15: 45015 | C15: 0.32986111 | D15: 0.39236111 | E15: 152621 405412 | F15: 14 | G15: E-204 | H15: FR | I15: Quentin | J15: Noémie
A16: 15 | B16: 45015 | C16: 0.39236111 | D16: 0.46875 | E16: 152032 | F16: 12 | G16: D-101 | H16: FR | I16: Quentin | J16: Noémie
A17: 16 | B17: 45015 | C17: 0.59375 | D17: 0.67013889 | E17: 152421 | F17: 18 | G17: F302 | H17: FR | I17: Alicia | J17: Sabrina
A18: 17 | B18: 45015 | C18: 0.32986111 | D18: 0.39236111 | E18: 152371 152461 | F18: 11 | G18: F307 | H18: DE | I18: Janina | J18: Ella
A19: 18 | B19: 45015 | C19: 0.53125 | D19: 0.59375 | E19: 100361 152861 203461 203561 254561 | F19: 17 | G19: F202 | H19: DE | I19: Janina | J19: Noémie
A20: 19 | B20: 45016 | C20: 0.32986111 | D20: 0.39236111 | E20: 152332 | F20: 9 | G20: F214 | H20: FR | I20: Marine | J20: Michelle
A21: 20 | B21: 45016 | C21: 0.4375 | D21: 0.5 | E21: 256021 | F21: 19 | G21: F402 | H21: FR | I21: Marine | J21: Michelle
A22: 21 | B22: 45016 | C22: 0.5625 | D22: 0.625 | E22: 107322 157621 | F22: 13 | G22: E305 | H22: FR | I22: Sabrina | J22: Noémie
A23: 22 | B23: 45016 | C23: 0.32986111 | D23: 0.39236111 | E23: 405653 405654 | F23: 15 | G23: E202 | H23: DE | I23: Ella | J23: Noémie
A24: 23 | B24: 45019 | C24: 0.32986111 | D24: 0.39236111 | E24: 405651 405652 | F24: 15 | G24: E202 | H24: DE | I24: Ella | J24: Janina
A25: 24 | B25: 45020 | C25: 0.32986111 | D25: 0.39236111 | E25: 100121 100221 204821 | F25: 19 | G25: F314 | H25: FR | I25: Marine | J25: Sabrina
A26: 25 | B26: 45020 | C26: 0.39236111 | D26: 0.46875 | E26: 405413 405614 | F26: 23 | G26: B-201 | H26: FR | I26: Marine | J26: Sabrina
A27: 26 | B27: 45020 | C27: 0.5625 | D27: 0.625 | E27: 207621 257021 257022 | F27: 13 | G27: E002 | H27: FR | I27: Félix | J27: Sabrina
A28: 27 | B28: 45021 | C28: 0.32986111 | D28: 0.39236111 | E28: 303621 | F28: 19 | G28: F212 | H28: FR | I28: Lalia | J28: Quentin
A29: 28 | B29: 45021 | C29: 0.5625 | D29: 0.625 | E29: 258021 | F29: 10 | G29: E305 | H29: FR | I29: Lalia | J29: Quentin
A30: 29 | B30: 45022 | C30: 0.32986111 | D30: 0.39236111 | E30: 405713 405714 | F30: 22 | G30: F315 | H30: FR | I30: Noémie | J30: Sabrina
A31: 30 | B31: 45022 | C31: 0.39236111 | D31: 0.46875 | E31: 254121 | F31: 16 | G31: F222 | H31: FR | I31: Noémie | J31: Sabrina
A32: 31 | B32: 45022 | C32: 0.46875 | D32: 0.53125 | E32: 152422 | F32: 19 | G32: E-204 | H32: FR | I32: Quentin | J32: Lalia
A33: 32 | B33: 45022 | C33: 0.53125 | D33: 0.59375 | E33: 152731 152831 | F33: 12 | G33: F-202 | H33: FR | I33: Marine | J33: Sabrina
A34: 33 | B34: 45022 | C34: 0.59375 | D34: 0.67013889 | E34: 152622 254521 | F34: 11 | G34: F-202 | H34: FR | I34: Noémie | J34: Lalia
A35: 34 | B35: 45022 | C35: 0.5625 | D35: 0.625 | E35: 152771 152871 303771 | F35: 14 | G35: F305 | H35: DE | I35: Janina | J35: Gabriel
A36: 35 | B36: 45042 | C36: 0.36111111 | D36: 0.42361111 | E36: 405211 151031 | F36: 15 | G36: F-103 | H36: FR | I36: Noémie | J36: Sabrina
A37: 36 | B37: 45042 | C37: 0.4375 | D37: 0.5 | E37: 100421 405712 | F37: 20 | G37: A-108 | H37: FR | I37: Marine | J37: Félix
A38: 37 | B38: 45042 | C38: 0.59375 | D38: 0.67013889 | E38: 100322 | F38: 16 | G38: F305 | H38: FR | I38: Noémie | J38: Félix
A39: 38 | B39: 45043 | C39: 0.36111111 | D39: 0.42361111 | E39: 303733 157021 157022 157023 | F39: 15 | G39: E301 | H39: FR | I39: Quentin | J39: Lalia
A40: 39 | B40: 45043 | C40: 0.4375 | D40: 0.5 | E40: 202131 303731 | F40: 17 | G40: E302 | H40: FR | I40: Quentin | J40: Lalia
...

Sheet Test
B1: Jour | C1: Heure Début | D1: Heure fin | E1: Classes | F1: Nombre d'élèves | G1: Salle | H1: Langue | I1: Intervenant·e 1 | J1: Intervenant·e 2 | K1: Intervenant·e en obs | O1: Sabrina
A2: =IF('Planning général'!I2=$O$1,ROW()-1,IF('Planning général'!J2=$O$1,ROW()-1,IF('Planning général'!K2=$O$1,ROW()-1,""))) -> 1 | B2: =IF(Tableau13[[#This Row],[ ]]="","",VLOOKUP(Tableau13[[#This Row],[ ]],'Planning général'!$A$2:$K$59,COLUMN(),FALSE)) -> 45012 | C2: =IF(Tableau13[[#This Row],[ ]]="","",VLOOKUP(Tableau13[[#This Row],[ ]],'Planning général'!$A$2:$K$59,COLUMN(),FALSE)) -> 0.32986111 | D2: =IF(Tableau13[[#This Row],[ ]]="","",VLOOKUP(Tableau13[[#This Row],[ ]],'Planning général'!$A$2:$K$59,COLUMN(),FALSE)) -> 0.39236111 | E2: =IF(Tableau13[[#This Row],[ ]]="","",VLOOKUP(Tableau13[[#This Row],[ ]],'Planning général'!$A$2:$K$59,COLUMN(),FALSE)) -> 405610 405611 | F2: =IF(Tableau13[[#This Row],[ ]]="","",VLOOKUP(Tableau13[[#This Row],[ ]],'Planning général'!$A$2:$K$59,COLUMN(),FALSE)) -> 24 | G2: =IF(Tableau13[[#This Row],[ ]]="","",VLOOKUP(Tableau13[[#This Row],[ ]],'Planning général'!$A$2:$K$59,COLUMN(),FALSE)) -> B-201 | H2: =IF(Tableau13[[#This Row],[ ]]="","",VLOOKUP(Tableau13[[#This Row],[ ]],'Planning général'!$A$2:$K$59,COLUMN(),FALSE)) -> FR | I2: =IF(Tableau13[[#This Row],[ ]]="","",VLOOKUP(Tableau13[[#This Row],[ ]],'Planning général'!$A$2:$K$59,COLUMN(),FALSE)) -> Marine | ... K2: =IF(Tableau13[[#This Row],[ ]]="","",VLOOKUP(Tableau13[[#This Row],[ ]],'Planning général'!$A$2:$K$59,COLUMN(),FALSE)) -> 0
A3: =IF('Planning général'!I3=$O$1,ROW()-1,IF('Planning général'!J3=$O$1,ROW()-1,IF('Planning général'!K3=$O$1,ROW()-1,""))) -> 2 | B3: =IF(Tableau13[[#This Row],[ ]]="","",VLOOKUP(Tableau13[[#This Row],[ ]],'Planning général'!$A$2:$K$59,COLUMN(),FALSE)) -> 45012 | C3: =IF(Tableau13[[#This Row],[ ]]="","",VLOOKUP(Tableau13[[#This Row],[ ]],'Planning général'!$A$2:$K$59,COLUMN(),FALSE)) -> 0.39236111 | D3: =IF(Tableau13[[#This Row],[ ]]="","",VLOOKUP(Tableau13[[#This Row],[ ]],'Planning général'!$A$2:$K$59,COLUMN(),FALSE)) -> 0.46875 | E3: =IF(Tableau13[[#This Row],[ ]]="","",VLOOKUP(Tableau13[[#This Row],[ ]],'Planning général'!$A$2:$K$59,COLUMN(),FALSE)) -> 405411 405612 | F3: =IF(Tableau13[[#This Row],[ ]]="","",VLOOKUP(Tableau13[[#This Row],[ ]],'Planning général'!$A$2:$K$59,COLUMN(),FALSE)) -> 24 | G3: =IF(Tableau13[[#This Row],[ ]]="","",VLOOKUP(Tableau13[[#This Row],[ ]],'Planning général'!$A$2:$K$59,COLUMN(),FALSE)) -> B-301 | H3: =IF(Tableau13[[#This Row],[ ]]="","",VLOOKUP(Tableau13[[#This Row],[ ]],'Planning général'!$A$2:$K$59,COLUMN(),FALSE)) -> FR | I3: =IF(Tableau13[[#This Row],[ ]]="","",VLOOKUP(Tableau13[[#This Row],[ ]],'Planning général'!$A$2:$K$59,COLUMN(),FALSE)) -> Marine | ... K3: =IF(Tableau13[[#This Row],[ ]]="","",VLOOKUP(Tableau13[[#This Row],[ ]],'Planning général'!$A$2:$K$59,COLUMN(),FALSE)) -> 0
A4: =IF('Planning général'!I4=$O$1,ROW()-1,IF('Planning général'!J4=$O$1,ROW()-1,IF('Planning général'!K4=$O$1,ROW()-1,""))) | B4: =IF(Tableau13[[#This Row],[ ]]="","",VLOOKUP(Tableau13[[#This Row],[ ]],'Planning général'!$A$2:$K$59,COLUMN(),FALSE)) | C4: =IF(Tableau13[[#This Row],[ ]]="","",VLOOKUP(Tableau13[[#This Row],[ ]],'Planning général'!$A$2:$K$59,COLUMN(),FALSE)) | D4: =IF(Tableau13[[#This Row],[ ]]="","",VLOOKUP(Tableau13[[#This Row],[ ]],'Planning général'!$A$2:$K$59,COLUMN(),FALSE)) | E4: =IF(Tableau13[[#This Row],[ ]]="","",VLOOKUP(Tableau13[[#This Row],[ ]],'Planning général'!$A$2:$K$59,COLUMN(),FALSE)) | F4: =IF(Tableau13[[#This Row],[ ]]="","",VLOOKUP(Tableau13[[#This Row],[ ]],'Planning général'!$A$2:$K$59,COLUMN(),FALSE)) | G4: =IF(Tableau13[[#This Row],[ ]]="","",VLOOKUP(Tableau13[[#This Row],[ ]],'Planning général'!$A$2:$K$59,COLUMN(),FALSE)) | H4: =IF(Tableau13[[#This Row],[ ]]="","",VLOOKUP(Tableau13[[#This Row],[ ]],'Planning général'!$A$2:$K$59,COLUMN(),FALSE)) | I4: =IF(Tableau13[[#This Row],[ ]]="","",VLOOKUP(Tableau13[[#This Row],[ ]],'Planning général'!$A$2:$K$59,COLUMN(),FALSE)) | ... K4: =IF(Tableau13[[#This Row],[ ]]="","",VLOOKUP(Tableau13[[#This Row],[ ]],'Planning général'!$A$2:$K$59,COLUMN(),FALSE))
A5: =IF('Planning général'!I5=$O$1,ROW()-1,IF('Planning général'!J5=$O$1,ROW()-1,IF('Planning général'!K5=$O$1,ROW()-1,""))) | B5: =IF(Tableau13[[#This Row],[ ]]="","",VLOOKUP(Tableau13[[#This Row],[ ]],'Planning général'!$A$2:$K$59,COLUMN(),FALSE)) | C5: =IF(Tableau13[[#This Row],[ ]]="","",VLOOKUP(Tableau13[[#This Row],[ ]],'Planning général'!$A$2:$K$59,COLUMN(),FALSE)) | D5: =IF(Tableau13[[#This Row],[ ]]="","",VLOOKUP(Tableau13[[#This Row],[ ]],'Planning général'!$A$2:$K$59,COLUMN(),FALSE)) | E5: =IF(Tableau13[[#This Row],[ ]]="","",VLOOKUP(Tableau13[[#This Row],[ ]],'Planning général'!$A$2:$K$59,COLUMN(),FALSE)) | F5: =IF(Tableau13[[#This Row],[ ]]="","",VLOOKUP(Tableau13[[#This Row],[ ]],'Planning général'!$A$2:$K$59,COLUMN(),FALSE)) | G5: =IF(Tableau13[[#This Row],[ ]]="","",VLOOKUP(Tableau13[[#This Row],[ ]],'Planning général'!$A$2:$K$59,COLUMN(),FALSE)) | H5: =IF(Tableau13[[#This Row],[ ]]="","",VLOOKUP(Tableau13[[#This Row],[ ]],'Planning général'!$A$2:$K$59,COLUMN(),FALSE)) | I5: =IF(Tableau13[[#This Row],[ ]]="","",VLOOKUP(Tableau13[[#This Row],[ ]],'Planning général'!$A$2:$K$59,COLUMN(),FALSE)) | ... K5: =IF(Tableau13[[#This Row],[ ]]="","",VLOOKUP(Tableau13[[#This Row],[ ]],'Planning général'!$A$2:$K$59,COLUMN(),FALSE))
A6: =IF('Planning général'!I6=$O$1,ROW()-1,IF('Planning général'!J6=$O$1,ROW()-1,IF('Planning général'!K6=$O$1,ROW()-1,""))) | B6: =IF(Tableau13[[#This Row],[ ]]="","",VLOOKUP(Tableau13[[#This Row],[ ]],'Planning général'!$A$2:$K$59,COLUMN(),FALSE)) | C6: =IF(Tableau13[[#This Row],[ ]]="","",VLOOKUP(Tableau13[[#This Row],[ ]],'Planning général'!$A$2:$K$59,COLUMN(),FALSE)) | D6: =IF(Tableau13[[#This Row],[ ]]="","",VLOOKUP(Tableau13[[#This Row],[ ]],'Planning général'!$A$2:$K$59,COLUMN(),FALSE)) | E6: =IF(Tableau13[[#This Row],[ ]]="","",VLOOKUP(Tableau13[[#This Row],[ ]],'Planning général'!$A$2:$K$59,COLUMN(),FALSE)) | F6: =IF(Tableau13[[#This Row],[ ]]="","",VLOOKUP(Tableau13[[#This Row],[ ]],'Planning général'!$A$2:$K$59,COLUMN(),FALSE)) | G6: =IF(Tableau13[[#This Row],[ ]]="","",VLOOKUP(Tableau13[[#This Row],[ ]],'Planning général'!$A$2:$K$59,COLUMN(),FALSE)) | H6: =IF(Tableau13[[#This Row],[ ]]="","",VLOOKUP(Tableau13[[#This Row],[ ]],'Planning général'!$A$2:$K$59,COLUMN(),FALSE)) | I6: =IF(Tableau13[[#This Row],[ ]]="","",VLOOKUP(Tableau13[[#This Row],[ ]],'Planning général'!$A$2:$K$59,COLUMN(),FALSE)) | ... K6: =IF(Tableau13[[#This Row],[ ]]="","",VLOOKUP(Tableau13[[#This Row],[ ]],'Planning général'!$A$2:$K$59,COLUMN(),FALSE))
A7: =IF('Planning général'!I7=$O$1,ROW()-1,IF('Planning général'!J7=$O$1,ROW()-1,IF('Planning général'!K7=$O$1,ROW()-1,""))) | B7: =IF(Tableau13[[#This Row],[ ]]="","",VLOOKUP(Tableau13[[#This Row],[ ]],'Planning général'!$A$2:$K$59,COLUMN(),FALSE)) | C7: =IF(Tableau13[[#This Row],[ ]]="","",VLOOKUP(Tableau13[[#This Row],[ ]],'Planning général'!$A$2:$K$59,COLUMN(),FALSE)) | D7: =IF(Tableau13[[#This Row],[ ]]="","",VLOOKUP(Tableau13[[#This Row],[ ]],'Planning général'!$A$2:$K$59,COLUMN(),FALSE)) | E7: =IF(Tableau13[[#This Row],[ ]]="","",VLOOKUP(Tableau13[[#This Row],[ ]],'Planning général'!$A$2:$K$59,COLUMN(),FALSE)) | F7: =IF(Tableau13[[#This Row],[ ]]="","",VLOOKUP(Tableau13[[#This Row],[ ]],'Planning général'!$A$2:$K$59,COLUMN(),FALSE)) | G7: =IF(Tableau13[[#This Row],[ ]]="","",VLOOKUP(Tableau13[[#This Row],[ ]],'Planning général'!$A$2:$K$59,COLUMN(),FALSE)) | H7: =IF(Tableau13[[#This Row],[ ]]="","",VLOOKUP(Tableau13[[#This Row],[ ]],'Planning général'!$A$2:$K$59,COLUMN(),FALSE)) | I7: =IF(Tableau13[[#This Row],[ ]]="","",VLOOKUP(Tableau13[[#This Row],[ ]],'Planning général'!$A$2:$K$59,COLUMN(),FALSE)) | ... K7: =IF(Tableau13[[#This Row],[ ]]="","",VLOOKUP(Tableau13[[#This Row],[ ]],'Planning général'!$A$2:$K$59,COLUMN(),FALSE))
A8: =IF('Planning général'!I8=$O$1,ROW()-1,IF('Planning général'!J8=$O$1,ROW()-1,IF('Planning général'!K8=$O$1,ROW()-1,""))) | B8: =IF(Tableau13[[#This Row],[ ]]="","",VLOOKUP(Tableau13[[#This Row],[ ]],'Planning général'!$A$2:$K$59,COLUMN(),FALSE)) | C8: =IF(Tableau13[[#This Row],[ ]]="","",VLOOKUP(Tableau13[[#This Row],[ ]],'Planning général'!$A$2:$K$59,COLUMN(),FALSE)) | D8: =IF(Tableau13[[#This Row],[ ]]="","",VLOOKUP(Tableau13[[#This Row],[ ]],'Planning général'!$A$2:$K$59,COLUMN(),FALSE)) | E8: =IF(Tableau13[[#This Row],[ ]]="","",VLOOKUP(Tableau13[[#This Row],[ ]],'Planning général'!$A$2:$K$59,COLUMN(),FALSE)) | F8: =IF(Tableau13[[#This Row],[ ]]="","",VLOOKUP(Tableau13[[#This Row],[ ]],'Planning général'!$A$2:$K$59,COLUMN(),FALSE)) | G8: =IF(Tableau13[[#This Row],[ ]]="","",VLOOKUP(Tableau13[[#This Row],[ ]],'Planning général'!$A$2:$K$59,COLUMN(),FALSE)) | H8: =IF(Tableau13[[#This Row],[ ]]="","",VLOOKUP(Tableau13[[#This Row],[ ]],'Planning général'!$A$2:$K$59,COLUMN(),FALSE)) | I8: =IF(Tableau13[[#This Row],[ ]]="","",VLOOKUP(Tableau13[[#This Row],[ ]],'Planning général'!$A$2:$K$59,COLUMN(),FALSE)) | ... K8: =IF(Tableau13[[#This Row],[ ]]="","",VLOOKUP(Tableau13[[#This Row],[ ]],'Planning général'!$A$2:$K$59,COLUMN(),FALSE))
A9: =IF('Planning général'!I9=$O$1,ROW()-1,IF('Planning général'!J9=$O$1,ROW()-1,IF('Planning général'!K9=$O$1,ROW()-1,""))) | B9: =IF(Tableau13[[#This Row],[ ]]="","",VLOOKUP(Tableau13[[#This Row],[ ]],'Planning général'!$A$2:$K$59,COLUMN(),FALSE)) | C9: =IF(Tableau13[[#This Row],[ ]]="","",VLOOKUP(Tableau13[[#This Row],[ ]],'Planning général'!$A$2:$K$59,COLUMN(),FALSE)) | D9: =IF(Tableau13[[#This Row],[ ]]="","",VLOOKUP(Tableau13[[#This Row],[ ]],'Planning général'!$A$2:$K$59,COLUMN(),FALSE)) | E9: =IF(Tableau13[[#This Row],[ ]]="","",VLOOKUP(Tableau13[[#This Row],[ ]],'Planning général'!$A$2:$K$59,COLUMN(),FALSE)) | F9: =IF(Tableau13[[#This Row],[ ]]="","",VLOOKUP(Tableau13[[#This Row],[ ]],'Planning général'!$A$2:$K$59,COLUMN(),FALSE)) | G9: =IF(Tableau13[[#This Row],[ ]]="","",VLOOKUP(Tableau13[[#This Row],[ ]],'Planning général'!$A$2:$K$59,COLUMN(),FALSE)) | H9: =IF(Tableau13[[#This Row],[ ]]="","",VLOOKUP(Tableau13[[#This Row],[ ]],'Planning général'!$A$2:$K$59,COLUMN(),FALSE)) | I9: =IF(Tableau13[[#This Row],[ ]]="","",VLOOKUP(Tableau13[[#This Row],[ ]],'Planning général'!$A$2:$K$59,COLUMN(),FALSE)) | ... K9: =IF(Tableau13[[#This Row],[ ]]="","",VLOOKUP(Tableau13[[#This Row],[ ]],'Planning général'!$A$2:$K$59,COLUMN(),FALSE))
A10: =IF('Planning général'!I10=$O$1,ROW()-1,IF('Planning général'!J10=$O$1,ROW()-1,IF('Planning général'!K10=$O$1,ROW()-1,""))) | B10: =IF(Tableau13[[#This Row],[ ]]="","",VLOOKUP(Tableau13[[#This Row],[ ]],'Planning général'!$A$2:$K$59,COLUMN(),FALSE)) | C10: =IF(Tableau13[[#This Row],[ ]]="","",VLOOKUP(Tableau13[[#This Row],[ ]],'Planning général'!$A$2:$K$59,COLUMN(),FALSE)) | D10: =IF(Tableau13[[#This Row],[ ]]="","",VLOOKUP(Tableau13[[#This Row],[ ]],'Planning général'!$A$2:$K$59,COLUMN(),FALSE)) | E10: =IF(Tableau13[[#This Row],[ ]]="","",VLOOKUP(Tableau13[[#This Row],[ ]],'Planning général'!$A$2:$K$59,COLUMN(),FALSE)) | F10: =IF(Tableau13[[#This Row],[ ]]="","",VLOOKUP(Tableau13[[#This Row],[ ]],'Planning général'!$A$2:$K$59,COLUMN(),FALSE)) | G10: =IF(Tableau13[[#This Row],[ ]]="","",VLOOKUP(Tableau13[[#This Row],[ ]],'Planning général'!$A$2:$K$59,COLUMN(),FALSE)) | H10: =IF(Tableau13[[#This Row],[ ]]="","",VLOOKUP(Tableau13[[#This Row],[ ]],'Planning général'!$A$2:$K$59,COLUMN(),FALSE)) | I10: =IF(Tableau13[[#This Row],[ ]]="","",VLOOKUP(Tableau13[[#This Row],[ ]],'Planning général'!$A$2:$K$59,COLUMN(),FALSE)) | ... K10: =IF(Tableau13[[#This Row],[ ]]="","",VLOOKUP(Tableau13[[#This Row],[ ]],'Planning général'!$A$2:$K$59,COLUMN(),FALSE))
A11: =IF('Planning général'!I11=$O$1,ROW()-1,IF('Planning général'!J11=$O$1,ROW()-1,IF('Planning général'!K11=$O$1,ROW()-1,""))) | B11: =IF(Tableau13[[#This Row],[ ]]="","",VLOOKUP(Tableau13[[#This Row],[ ]],'Planning général'!$A$2:$K$59,COLUMN(),FALSE)) | C11: =IF(Tableau13[[#This Row],[ ]]="","",VLOOKUP(Tableau13[[#This Row],[ ]],'Planning général'!$A$2:$K$59,COLUMN(),FALSE)) | D11: =IF(Tableau13[[#This Row],[ ]]="","",VLOOKUP(Tableau13[[#This Row],[ ]],'Planning général'!$A$2:$K$59,COLUMN(),FALSE)) | E11: =IF(Tableau13[[#This Row],[ ]]="","",VLOOKUP(Tableau13[[#This Row],[ ]],'Planning général'!$A$2:$K$59,COLUMN(),FALSE)) | F11: =IF(Tableau13[[#This Row],[ ]]="","",VLOOKUP(Tableau13[[#This Row],[ ]],'Planning général'!$A$2:$K$59,COLUMN(),FALSE)) | G11: =IF(Tableau13[[#This Row],[ ]]="","",VLOOKUP(Tableau13[[#This Row],[ ]],'Planning général'!$A$2:$K$59,COLUMN(),FALSE)) | H11: =IF(Tableau13[[#This Row],[ ]]="","",VLOOKUP(Tableau13[[#This Row],[ ]],'Planning général'!$A$2:$K$59,COLUMN(),FALSE)) | I11: =IF(Tableau13[[#This Row],[ ]]="","",VLOOKUP(Tableau13[[#This Row],[ ]],'Planning général'!$A$2:$K$59,COLUMN(),FALSE)) | ... K11: =IF(Tableau13[[#This Row],[ ]]="","",VLOOKUP(Tableau13[[#This Row],[ ]],'Planning général'!$A$2:$K$59,COLUMN(),FALSE))
A12: =IF('Planning général'!I12=$O$1,ROW()-1,IF('Planning général'!J12=$O$1,ROW()-1,IF('Planning général'!K12=$O$1,ROW()-1,""))) | B12: =IF(Tableau13[[#This Row],[ ]]="","",VLOOKUP(Tableau13[[#This Row],[ ]],'Planning général'!$A$2:$K$59,COLUMN(),FALSE)) | C12: =IF(Tableau13[[#This Row],[ ]]="","",VLOOKUP(Tableau13[[#This Row],[ ]],'Planning général'!$A$2:$K$59,COLUMN(),FALSE)) | D12: =IF(Tableau13[[#This Row],[ ]]="","",VLOOKUP(Tableau13[[#This Row],[ ]],'Planning général'!$A$2:$K$59,COLUMN(),FALSE)) | E12: =IF(Tableau13[[#This Row],[ ]]="","",VLOOKUP(Tableau13[[#This Row],[ ]],'Planning général'!$A$2:$K$59,COLUMN(),FALSE)) | F12: =IF(Tableau13[[#This Row],[ ]]="","",VLOOKUP(Tableau13[[#This Row],[ ]],'Planning général'!$A$2:$K$59,COLUMN(),FALSE)) | G12: =IF(Tableau13[[#This Row],[ ]]="","",VLOOKUP(Tableau13[[#This Row],[ ]],'Planning général'!$A$2:$K$59,COLUMN(),FALSE)) | H12: =IF(Tableau13[[#This Row],[ ]]="","",VLOOKUP(Tableau13[[#This Row],[ ]],'Planning général'!$A$2:$K$59,COLUMN(),FALSE)) | I12: =IF(Tableau13[[#This Row],[ ]]="","",VLOOKUP(Tableau13[[#This Row],[ ]],'Planning général'!$A$2:$K$59,COLUMN(),FALSE)) | ... K12: =IF(Tableau13[[#This Row],[ ]]="","",VLOOKUP(Tableau13[[#This Row],[ ]],'Planning général'!$A$2:$K$59,COLUMN(),FALSE))
A13: =IF('Planning général'!I13=$O$1,ROW()-1,IF('Planning général'!J13=$O$1,ROW()-1,IF('Planning général'!K13=$O$1,ROW()-1,""))) | B13: =IF(Tableau13[[#This Row],[ ]]="","",VLOOKUP(Tableau13[[#This Row],[ ]],'Planning général'!$A$2:$K$59,COLUMN(),FALSE)) | C13: =IF(Tableau13[[#This Row],[ ]]="","",VLOOKUP(Tableau13[[#This Row],[ ]],'Planning général'!$A$2:$K$59,COLUMN(),FALSE)) | D13: =IF(Tableau13[[#This Row],[ ]]="","",VLOOKUP(Tableau13[[#This Row],[ ]],'Planning général'!$A$2:$K$59,COLUMN(),FALSE)) | E13: =IF(Tableau13[[#This Row],[ ]]="","",VLOOKUP(Tableau13[[#This Row],[ ]],'Planning général'!$A$2:$K$59,COLUMN(),FALSE)) | F13: =IF(Tableau13[[#This Row],[ ]]="","",VLOOKUP(Tableau13[[#This Row],[ ]],'Planning général'!$A$2:$K$59,COLUMN(),FALSE)) | G13: =IF(Tableau13[[#This Row],[ ]]="","",VLOOKUP(Tableau13[[#This Row],[ ]],'Planning général'!$A$2:$K$59,COLUMN(),FALSE)) | H13: =IF(Tableau13[[#This Row],[ ]]="","",VLOOKUP(Tableau13[[#This Row],[ ]],'Planning général'!$A$2:$K$59,COLUMN(),FALSE)) | I13: =IF(Tableau13[[#This Row],[ ]]="","",VLOOKUP(Tableau13[[#This Row],[ ]],'Planning général'!$A$2:$K$59,COLUMN(),FALSE)) | ... K13: =IF(Tableau13[[#This Row],[ ]]="","",VLOOKUP(Tableau13[[#This Row],[ ]],'Planning général'!$A$2:$K$59,COLUMN(),FALSE))
... A59: =IF('Planning général'!I59=$O$1,ROW()-1,IF('Planning général'!J59=$O$1,ROW()-1,IF('Planning général'!K59=$O$1,ROW()-1,""))) -> 58 | B59: =IF(Tableau13[[#This Row],[ ]]="","",VLOOKUP(Tableau13[[#This Row],[ ]],'Planning général'!$A$2:$K$59,COLUMN(),FALSE)) -> 45062 | C59: =IF(Tableau13[[#This Row],[ ]]="","",VLOOKUP(Tableau13[[#This Row],[ ]],'Planning général'!$A$2:$K$59,COLUMN(),FALSE)) -> 0.5625 | D59: =IF(Tableau13[[#This Row],[ ]]="","",VLOOKUP(Tableau13[[#This Row],[ ]],'Planning général'!$A$2:$K$59,COLUMN(),FALSE)) -> 0.625 | E59: =IF(Tableau13[[#This Row],[ ]]="","",VLOOKUP(Tableau13[[#This Row],[ ]],'Planning général'!$A$2:$K$59,COLUMN(),FALSE)) -> 405414 405613 | F59: =IF(Tableau13[[#This Row],[ ]]="","",VLOOKUP(Tableau13[[#This Row],[ ]],'Planning général'!$A$2:$K$59,COLUMN(),FALSE)) -> 21 | G59: =IF(Tableau13[[#This Row],[ ]]="","",VLOOKUP(Tableau13[[#This Row],[ ]],'Planning général'!$A$2:$K$59,COLUMN(),FALSE)) -> B-301 | H59: =IF(Tableau13[[#This Row],[ ]]="","",VLOOKUP(Tableau13[[#This Row],[ ]],'Planning général'!$A$2:$K$59,COLUMN(),FALSE)) -> FR | I59: =IF(Tableau13[[#This Row],[ ]]="","",VLOOKUP(Tableau13[[#This Row],[ ]],'Planning général'!$A$2:$K$59,COLUMN(),FALSE)) -> Ella | ... K59: =IF(Tableau13[[#This Row],[ ]]="","",VLOOKUP(Tableau13[[#This Row],[ ]],'Planning général'!$A$2:$K$59,COLUMN(),FALSE)) -> 0

Sheet Marine
B1: Jour | C1: Heure Début | D1: Heure fin | E1: Classes | F1: Nombre d'élèves | G1: Salle | H1: Langue | I1: Intervenant·e 1 | J1: Intervenant·e 2 | K1: Intervenant·e en obs
M2: Planning intervention
M3: Nom | N3: Marine

Sheet Sabrina

Sheet Quentin

Sheet Lalia

Sheet Gabriel

Sheet Ella

Sheet Alicia
A1: A

Sheet Janina

Sheet Noémie

Sheet Michelle

Sheet Félix

Sheet Template
