Workbook

Sheet Matière
A1: Matière
A2: Aucune matière | B2: 0
A3: 42CD4 | B3: 1
A4: 42CD4T | B4: 2 | D4: 9 | E4: XX | F4: - | G4: XXXXXX
A5: ACIER | B5: 3 | H5: Numéro de la pièce
A6: AL 2618 forgé | B6: 4 | H6: Numéro de la matière
A7: AL 5083 | B7: 5 | H7: Numéro représentant le commerce
A8: AL 6060 | B8: 6
A9: AL 7075 | B9: 7 | G9: ex : | H9: 908-012546
A10: ALLIAGE X | B10: 8
A11: APX4 | B11: 9
A12: CARBONE KEVLAR | B12: 10
A13: CU | B13: 11
A14: CU (écroui) | B14: 12
A15: Film tpu 300μ base polyester | B15: 13
A16: FPM 70 | B16: 14
A17: FPM 80 | B17: 15
A18: INCO 625 | B18: 16
A19: INCO 713 | B19: 17
A20: INCO 713 + HIP | B20: 18
A21: 304L | B21: 19
... A33: TA6V | B33: 31
B34: 32
B35: 33
B36: 34
B37: 35
B38: 36
B39: 37
B40: 38
B41: 39
B42: 40
B43: 41
B44: 42
B45: 43
... B140: 138

Sheet Liste pièces du commerce
A1: Type | C1: Taille A | D1: Taille B | E1: Taille C | F1: Taille C | G1: Taille D | H1: Description | J1: Matière | K1: REF
A2: Vis H | C2: 2.5 | D2: 4 | H2: =CONCATENATE(,A2," M",C2,"x",D2,) -> Vis H M2,5x4 | I2: EF | J2: A2 | K2: =9&INDEX(Matière!$B$2:$B$140,MATCH(J2,Matière!$A$2:$A$140,0))&"-"&TEXT(COUNTA($J$2:J2),"000000") -> 921-000001
A3: Vis H | C3: 2.5 | D3: 5 | H3: =CONCATENATE(,A3," M",C3,"x",D3,) -> Vis H M2,5x5 | I3: EF | J3: A2 | K3: =9&INDEX(Matière!$B$2:$B$140,MATCH(J3,Matière!$A$2:$A$140,0))&"-"&TEXT(COUNTA($J$2:J3),"000000") -> 921-000002
A4: Vis H | C4: 2.5 | D4: 6 | H4: =CONCATENATE(,A4," M",C4,"x",D4,) -> Vis H M2,5x6 | I4: EF | J4: A2 | K4: =9&INDEX(Matière!$B$2:$B$140,MATCH(J4,Matière!$A$2:$A$140,0))&"-"&TEXT(COUNTA($J$2:J4),"000000") -> 921-000003
A5: Vis H | C5: 2.5 | D5: 8 | H5: =CONCATENATE(,A5," M",C5,"x",D5,) -> Vis H M2,5x8 | I5: EF | J5: A2 | K5: =9&INDEX(Matière!$B$2:$B$140,MATCH(J5,Matière!$A$2:$A$140,0))&"-"&TEXT(COUNTA($J$2:J5),"000000") -> 921-000004
A6: Vis H | C6: 2.5 | D6: 10 | H6: =CONCATENATE(,A6," M",C6,"x",D6,) -> Vis H M2,5x10 | I6: EF | J6: A2 | K6: =9&INDEX(Matière!$B$2:$B$140,MATCH(J6,Matière!$A$2:$A$140,0))&"-"&TEXT(COUNTA($J$2:J6),"000000") -> 921-000005
A7: Vis H | C7: 2.5 | D7: 12 | H7: =CONCATENATE(,A7," M",C7,"x",D7,) -> Vis H M2,5x12 | I7: EF | J7: A2 | K7: =9&INDEX(Matière!$B$2:$B$140,MATCH(J7,Matière!$A$2:$A$140,0))&"-"&TEXT(COUNTA($J$2:J7),"000000") -> 921-000006
A8: Vis H | C8: 2.5 | D8: 16 | H8: =CONCATENATE(,A8," M",C8,"x",D8,) -> Vis H M2,5x16 | I8: EF | J8: A2 | K8: =9&INDEX(Matière!$B$2:$B$140,MATCH(J8,Matière!$A$2:$A$140,0))&"-"&TEXT(COUNTA($J$2:J8),"000000") -> 921-000007
A9: Vis H | C9: 2.5 | D9: 20 | H9: =CONCATENATE(,A9," M",C9,"x",D9,) -> Vis H M2,5x20 | I9: EF | J9: A2 | K9: =9&INDEX(Matière!$B$2:$B$140,MATCH(J9,Matière!$A$2:$A$140,0))&"-"&TEXT(COUNTA($J$2:J9),"000000") -> 921-000008
A10: Vis H | C10: 3 | D10: 6 | H10: =CONCATENATE(,A10," M",C10,"x",D10,) -> Vis H M3x6 | I10: EF | J10: A2 | K10: =9&INDEX(Matière!$B$2:$B$140,MATCH(J10,Matière!$A$2:$A$140,0))&"-"&TEXT(COUNTA($J$2:J10),"000000") -> 921-000009
A11: Vis H | C11: 3 | D11: 8 | H11: =CONCATENATE(,A11," M",C11,"x",D11,) -> Vis H M3x8 | I11: EF | J11: A2 | K11: =9&INDEX(Matière!$B$2:$B$140,MATCH(J11,Matière!$A$2:$A$140,0))&"-"&TEXT(COUNTA($J$2:J11),"000000") -> 921-000010
A12: Vis H | C12: 3 | D12: 10 | H12: =CONCATENATE(,A12," M",C12,"x",D12,) -> Vis H M3x10 | I12: EF | J12: A2 | K12: =9&INDEX(Matière!$B$2:$B$140,MATCH(J12,Matière!$A$2:$A$140,0))&"-"&TEXT(COUNTA($J$2:J12),"000000") -> 921-000011
A13: Vis H | C13: 3 | D13: 12 | H13: =CONCATENATE(,A13," M",C13,"x",D13,) -> Vis H M3x12 | I13: EF | J13: A2 | K13: =9&INDEX(Matière!$B$2:$B$140,MATCH(J13,Matière!$A$2:$A$140,0))&"-"&TEXT(COUNTA($J$2:J13),"000000") -> 921-000012
... A219: Vis H | C219: 10 | D219: 50 | H219: =CONCATENATE(,A219," M",C219,"x",D219,) -> Vis H M10x50 | I219: PF | J219: A4 | K219: =9&INDEX(Matière!$B$2:$B$140,MATCH(J219,Matière!$A$2:$A$140,0))&"-"&TEXT(COUNTA($J$2:J219),"000000") -> 922-000218
A220: Vis CHC | C220: 1.6 | D220: 3 | H220: =CONCATENATE(,A220," M",C220,"x",D220,) -> Vis CHC M1,6x3 | J220: A2 | K220: =9&INDEX(Matière!$B$2:$B$140,MATCH(J220,Matière!$A$2:$A$140,0))&"-"&TEXT(COUNTA($J$2:J220),"000000") -> 921-000219
A221: Vis CHC | C221: 1.6 | D221: 4 | H221: =CONCATENATE(,A221," M",C221,"x",D221,) -> Vis CHC M1,6x4 | J221: A2 | K221: =9&INDEX(Matière!$B$2:$B$140,MATCH(J221,Matière!$A$2:$A$140,0))&"-"&TEXT(COUNTA($J$2:J221),"000000") -> 921-000220
A222: Vis CHC | C222: 1.6 | D222: 5 | H222: =CONCATENATE(,A222," M",C222,"x",D222,) -> Vis CHC M1,6x5 | J222: A2 | K222: =9&INDEX(Matière!$B$2:$B$140,MATCH(J222,Matière!$A$2:$A$140,0))&"-"&TEXT(COUNTA($J$2:J222),"000000") -> 921-000221
A223: Vis CHC | C223: 1.6 | D223: 6 | H223: =CONCATENATE(,A223," M",C223,"x",D223,) -> Vis CHC M1,6x6 | J223: A2 | K223: =9&INDEX(Matière!$B$2:$B$140,MATCH(J223,Matière!$A$2:$A$140,0))&"-"&TEXT(COUNTA($J$2:J223),"000000") -> 921-000222
A224: Vis CHC | C224: 1.6 | D224: 8 | H224: =CONCATENATE(,A224," M",C224,"x",D224,) -> Vis CHC M1,6x8 | J224: A2 | K224: =9&INDEX(Matière!$B$2:$B$140,MATCH(J224,Matière!$A$2:$A$140,0))&"-"&TEXT(COUNTA($J$2:J224),"000000") -> 921-000223
A225: Vis CHC | C225: 1.6 | D225: 10 | H225: =CONCATENATE(,A225," M",C225,"x",D225,) -> Vis CHC M1,6x10 | J225: A2 | K225: =9&INDEX(Matière!$B$2:$B$140,MATCH(J225,Matière!$A$2:$A$140,0))&"-"&TEXT(COUNTA($J$2:J225),"000000") -> 921-000224
A226: Vis CHC | C226: 1.6 | D226: 12 | H226: =CONCATENATE(,A226," M",C226,"x",D226,) -> Vis CHC M1,6x12 | J226: A2 | K226: =9&INDEX(Matière!$B$2:$B$140,MATCH(J226,Matière!$A$2:$A$140,0))&"-"&TEXT(COUNTA($J$2:J226),"000000") -> 921-000225
A227: Vis CHC | C227: 1.6 | D227: 16 | H227: =CONCATENATE(,A227," M",C227,"x",D227,) -> Vis CHC M1,6x16 | J227: A2 | K227: =9&INDEX(Matière!$B$2:$B$140,MATCH(J227,Matière!$A$2:$A$140,0))&"-"&TEXT(COUNTA($J$2:J227),"000000") -> 921-000226
A228: Vis CHC | C228: 2 | D228: 3 | H228: =CONCATENATE(,A228," M",C228,"x",D228,) -> Vis CHC M2x3 | J228: A2 | K228: =9&INDEX(Matière!$B$2:$B$140,MATCH(J228,Matière!$A$2:$A$140,0))&"-"&TEXT(COUNTA($J$2:J228),"000000") -> 921-000227
A229: Vis CHC | C229: 2 | D229: 4 | H229: =CONCATENATE(,A229," M",C229,"x",D229,) -> Vis CHC M2x4 | J229: A2 | K229: =9&INDEX(Matière!$B$2:$B$140,MATCH(J229,Matière!$A$2:$A$140,0))&"-"&TEXT(COUNTA($J$2:J229),"000000") -> 921-000228
A230: Vis CHC | C230: 2 | D230: 5 | H230: =CONCATENATE(,A230," M",C230,"x",D230,) -> Vis CHC M2x5 | J230: A2 | K230: =9&INDEX(Matière!$B$2:$B$140,MATCH(J230,Matière!$A$2:$A$140,0))&"-"&TEXT(COUNTA($J$2:J230),"000000") -> 921-000229
A231: Vis CHC | C231: 2 | D231: 6 | H231: =CONCATENATE(,A231," M",C231,"x",D231,) -> Vis CHC M2x6 | J231: A2 | K231: =9&INDEX(Matière!$B$2:$B$140,MATCH(J231,Matière!$A$2:$A$140,0))&"-"&TEXT(COUNTA($J$2:J231),"000000") -> 921-000230
... A777: Vis STHC Bout pointeau | C777: 8 | D777: 50 | H777: =CONCATENATE(,A777," M",C777,"x",D777,) -> Vis STHC Bout pointeau M8x50 | J777: A4 | K777: =9&INDEX(Matière!$B$2:$B$140,MATCH(J777,Matière!$A$2:$A$140,0))&"-"&TEXT(COUNTA($J$2:J777),"000000") -> 922-000776
A778: Vis TB Rondelle Pressé torx | B778: M | C778: 2.5 | D778: 8 | H778: =CONCATENATE(,A778," ",B778,,C778,"x",D778,) -> Vis TB Rondelle Pressé torx M2,5x8 | J778: A2 | K778: =9&INDEX(Matière!$B$2:$B$140,MATCH(J778,Matière!$A$2:$A$140,0))&"-"&TEXT(COUNTA($J$2:J778),"000000") -> 921-000777
A779: Vis TB Rondelle Pressé torx | B779: M | C779: 2.5 | D779: 10 | H779: =CONCATENATE(,A779," ",B779,,C779,"x",D779,) -> Vis TB Rondelle Pressé torx M2,5x10 | J779: A2 | K779: =9&INDEX(Matière!$B$2:$B$140,MATCH(J779,Matière!$A$2:$A$140,0))&"-"&TEXT(COUNTA($J$2:J779),"000000") -> 921-000778
A780: Vis TB Rondelle Pressé torx | B780: M | C780: 2.5 | D780: 12 | H780: =CONCATENATE(,A780," ",B780,,C780,"x",D780,) -> Vis TB Rondelle Pressé torx M2,5x12 | J780: A2 | K780: =9&INDEX(Matière!$B$2:$B$140,MATCH(J780,Matière!$A$2:$A$140,0))&"-"&TEXT(COUNTA($J$2:J780),"000000") -> 921-000779
A781: Vis TB Rondelle Pressé torx | B781: M | C781: 3 | D781: 8 | H781: =CONCATENATE(,A781," ",B781,,C781,"x",D781,) -> Vis TB Rondelle Pressé torx M3x8 | J781: A2 | K781: =9&INDEX(Matière!$B$2:$B$140,MATCH(J781,Matière!$A$2:$A$140,0))&"-"&TEXT(COUNTA($J$2:J781),"000000") -> 921-000780
A782: Vis TB Rondelle Pressé torx | B782: M | C782: 3 | D782: 10 | H782: =CONCATENATE(,A782," ",B782,,C782,"x",D782,) -> Vis TB Rondelle Pressé torx M3x10 | J782: A2 | K782: =9&INDEX(Matière!$B$2:$B$140,MATCH(J782,Matière!$A$2:$A$140,0))&"-"&TEXT(COUNTA($J$2:J782),"000000") -> 921-000781
A783: Vis TB Rondelle Pressé torx | B783: M | C783: 3 | D783: 12 | H783: =CONCATENATE(,A783," ",B783,,C783,"x",D783,) -> Vis TB Rondelle Pressé torx M3x12 | J783: A2 | K783: =9&INDEX(Matière!$B$2:$B$140,MATCH(J783,Matière!$A$2:$A$140,0))&"-"&TEXT(COUNTA($J$2:J783),"000000") -> 921-000782
A784: Vis TB Rondelle Pressé torx | B784: M | C784: 3 | D784: 14 | H784: =CONCATENATE(,A784," ",B784,,C784,"x",D784,) -> Vis TB Rondelle Pressé torx M3x14 | J784: A2 | K784: =9&INDEX(Matière!$B$2:$B$140,MATCH(J784,Matière!$A$2:$A$140,0))&"-"&TEXT(COUNTA($J$2:J784),"000000") -> 921-000783
A785: Vis TB Rondelle Pressé torx | B785: M | C785: 3 | D785: 16 | H785: =CONCATENATE(,A785," ",B785,,C785,"x",D785,) -> Vis TB Rondelle Pressé torx M3x16 | J785: A2 | K785: =9&INDEX(Matière!$B$2:$B$140,MATCH(J785,Matière!$A$2:$A$140,0))&"-"&TEXT(COUNTA($J$2:J785),"000000") -> 921-000784
A786: Vis TB Rondelle Pressé torx | B786: M | C786: 3 | D786: 20 | H786: =CONCATENATE(,A786," ",B786,,C786,"x",D786,) -> Vis TB Rondelle Pressé torx M3x20 | J786: A2 | K786: =9&INDEX(Matière!$B$2:$B$140,MATCH(J786,Matière!$A$2:$A$140,0))&"-"&TEXT(COUNTA($J$2:J786),"000000") -> 921-000785
A787: Vis TB Rondelle Pressé torx | B787: M | C787: 3 | D787: 25 | H787: =CONCATENATE(,A787," ",B787,,C787,"x",D787,) -> Vis TB Rondelle Pressé torx M3x25 | J787: A2 | K787: =9&INDEX(Matière!$B$2:$B$140,MATCH(J787,Matière!$A$2:$A$140,0))&"-"&TEXT(COUNTA($J$2:J787),"000000") -> 921-000786
A788: Vis TB Rondelle Pressé torx | B788: M | C788: 3.5 | D788: 8 | H788: =CONCATENATE(,A788," ",B788,,C788,"x",D788,) -> Vis TB Rondelle Pressé torx M3,5x8 | J788: A2 | K788: =9&INDEX(Matière!$B$2:$B$140,MATCH(J788,Matière!$A$2:$A$140,0))&"-"&TEXT(COUNTA($J$2:J788),"000000") -> 921-000787
A789: Vis TB Rondelle Pressé torx | B789: M | C789: 3.5 | D789: 10 | H789: =CONCATENATE(,A789," ",B789,,C789,"x",D789,) -> Vis TB Rondelle Pressé torx M3,5x10 | J789: A2 | K789: =9&INDEX(Matière!$B$2:$B$140,MATCH(J789,Matière!$A$2:$A$140,0))&"-"&TEXT(COUNTA($J$2:J789),"000000") -> 921-000788
... A999: Vis TB Rondelle Pressé torx | B999: M | C999: 6 | D999: 30 | H999: =CONCATENATE(,A999," ",B999,,C999,"x",D999,) -> Vis TB Rondelle Pressé torx M6x30 | J999: A4 | K999: =9&INDEX(Matière!$B$2:$B$140,MATCH(J999,Matière!$A$2:$A$140,0))&"-"&TEXT(COUNTA($J$2:J999),"000000") -> 922-000998
...
