Workbook

Sheet Matière
A1: Matière
A2: Aucune matière | B2: 0
A3: 42CD4 | B3: 1
A4: 42CD4T | B4: 2 | D4: 9 | E4: XX | F4: - | G4: XXXXXX
A5: ACIER | B5: 3 | H5: Numéro de la pièce
A6: AL 2618 forgé | B6: 4 | H6: Numéro de la matière
A7: AL 5083 | B7: 5 | H7: Numéro représentant le commerce
A8: AL 6060 | B8: 6
A9: AL 7075 | B9: 7 | G9: ex : | H9: 908-012546
A10: ALLIAGE X | B10: 8
A11: APX4 | B11: 9
A12: CARBONE KEVLAR | B12: 10
A13: CU | B13: 11
A14: CU (écroui) | B14: 12
A15: Film tpu 300μ base polyester | B15: 13
A16: FPM 70 | B16: 14
A17: FPM 80 | B17: 15
A18: INCO 625 | B18: 16
A19: INCO 713 | B19: 17
A20: INCO 713 + HIP | B20: 18
A21: 304L | B21: 19
... A33: TA6V | B33: 31
B34: 32
B35: 33
B36: 34
B37: 35
B38: 36
B39: 37
B40: 38
B41: 39
B42: 40
B43: 41
B44: 42
B45: 43
... B140: 138

Sheet Liste pièces du commerce
A1: Type | C1: Taille A | D1: Taille B | E1: Taille C | F1: Taille C | G1: Taille D | H1: Description | J1: Matière | K1: REF
A2: Vis H | C2: 2.5 | D2: 4 | H2: =CONCATENATE(,A2," M",C2,"x",D2,) -> Vis H M2,5x4 | I2: EF | J2: A2 | K2: =9&INDEX(Matière!$B$2:$B$140,MATCH(J2,Matière!$A$2:$A$140,0))&"-"&TEXT(COUNTA($J$2:J2),"000000") -> 921-000001
A3: Vis H | C3: 2.5 | D3: 5 | H3: =CONCATENATE(,A3," M",C3,"x",D3,) -> Vis H M2,5x5 | I3: EF | J3: A2 | K3: =9&INDEX(Matière!$B$2:$B$140,MATCH(J3,Matière!$A$2:$A$140,0))&"-"&TEXT(COUNTA($J$2:J3),"000000") -> 921-000002
A4: Vis H | C4: 2.5 | D4: 6 | H4: =CONCATENATE(,A4," M",C4,"x",D4,) -> Vis H M2,5x6 | I4: EF | J4: A2 | K4: =9&INDEX(Matière!$B$2:$B$140,MATCH(J4,Matière!$A$2:$A$140,0))&"-"&TEXT(COUNTA($J$2:J4),"000000") -> 921-000003
A5: Vis H | C5: 2.5 | D5: 8 | H5: =CONCATENATE(,A5," M",C5,"x",D5,) -> Vis H M2,5x8 | I5: EF | J5: A2 | K5: =9&INDEX(Matière!$B$2:$B$140,MATCH(J5,Matière!$A$2:$A$140,0))&"-"&TEXT(COUNTA($J$2:J5),"000000") -> 921-000004
A6: Vis H | C6: 2.5 | D6: 10 | H6: =CONCATENATE(,A6," M",C6,"x",D6,) -> Vis H M2,5x10 | I6: EF | J6: A2 | K6: =9&INDEX(Matière!$B$2:$B$140,MATCH(J6,Matière!$A$2:$A$140,0))&"-"&TEXT(COUNTA($J$2:J6),"000000") -> 921-000005
A7: Vis H | C7: 2.5 | D7: 12 | H7: =CONCATENATE(,A7," M",C7,"x",D7,) -> Vis H M2,5x12 | I7: EF | J7: A2 | K7: =9&INDEX(Matière!$B$2:$B$140,MATCH(J7,Matière!$A$2:$A$140,0))&"-"&TEXT(COUNTA($J$2:J7),"000000") -> 921-000006
A8: Vis H | C8: 2.5 | D8: 16 | H8: =CONCATENATE(,A8," M",C8,"x",D8,) -> Vis H M2,5x16 | I8: EF | J8: A2 | K8: =9&INDEX(Matière!$B$2:$B$140,MATCH(J8,Matière!$A$2:$A$140,0))&"-"&TEXT(COUNTA($J$2:J8),"000000") -> 921-000007
A9: Vis H | C9: 2.5 | D9: 20 | H9: =CONCATENATE(,A9," M",C9,"x",D9,) -> Vis H M2,5x20 | I9: EF | J9: A2 | K9: =9&INDEX(Matière!$B$2:$B$140,MATCH(J9,Matière!$A$2:$A$140,0))&"-"&TEXT(COUNTA($J$2:J9),"000000") -> 921-000008
A10: Vis H | C10: 3 | D10: 6 | H10: =CONCATENATE(,A10," M",C10,"x",D10,) -> Vis H M3x6 | I10: EF | J10: A2 | K10: =9&INDEX(Matière!$B$2:$B$140,MATCH(J10,Matière!$A$2:$A$140,0))&"-"&TEXT(COUNTA($J$2:J10),"000000") -> 921-000009
A11: Vis H | C11: 3 | D11: 8 | H11: =CONCATENATE(,A11," M",C11,"x",D11,) -> Vis H M3x8 | I11: EF | J11: A2 | K11: =9&INDEX(Matière!$B$2:$B$140,MATCH(J11,Matière!$A$2:$A$140,0))&"-"&TEXT(COUNTA($J$2:J11),"000000") -> 921-000010
A12: Vis H | C12: 3 | D12: 10 | H12: =CONCATENATE(,A12," M",C12,"x",D12,) -> Vis H M3x10 | I12: EF | J12: A2 | K12: =9&INDEX(Matière!$B$2:$B$140,MATCH(J12,Matière!$A$2:$A$140,0))&"-"&TEXT(COUNTA($J$2:J12),"000000") -> 921-000011
A13: Vis H | C13: 3 | D13: 12 | H13: =CONCATENATE(,A13," M",C13,"x",D13,) -> Vis H M3x12 | I13: EF | J13: A2 | K13: =9&INDEX(Matière!$B$2:$B$140,MATCH(J13,Matière!$A$2:$A$140,0))&"-"&TEXT(COUNTA($J$2:J13),"000000") -> 921-000012
... A219: Vis H | C219: 10 | D219: 50 | H219: =CONCATENATE(,A219," M",C219,"x",D219,) -> Vis H M10x50 | I219: PF | J219: A4 | K219: =9&INDEX(Matière!$B$2:$B$140,MATCH(J219,Matière!$A$2:$A$140,0))&"-"&TEXT(COUNTA($J$2:J219),"000000") -> 922-000218
A220: Vis CHC | C220: 1.6 | D220: 3 | H220: =CONCATENATE(,A220," M",C220,"x",D220,) -> Vis CHC M1,6x3 | J220: A2 | K220: =9&INDEX(Matière!$B$2:$B$140,MATCH(J220,Matière!$A$2:$A$140,0))&"-"&TEXT(COUNTA($J$2:J220),"000000") -> 921-000219
A221: Vis CHC | C221: 1.6 | D221: 4 | H221: =CONCATENATE(,A221," M",C221,"x",D221,) -> Vis CHC M1,6x4 | J221: A2 | K221: =9&INDEX(Matière!$B$2:$B$140,MATCH(J221,Matière!$A$2:$A$140,0))&"-"&TEXT(COUNTA($J$2:J221),"000000") -> 921-000220
A222: Vis CHC | C222: 1.6 | D222: 5 | H222: =CONCATENATE(,A222," M",C222,"x",D222,) -> Vis CHC M1,6x5 | J222: A2 | K222: =9&INDEX(Matière!$B$2:$B$140,MATCH(J222,Matière!$A$2:$A$140,0))&"-"&TEXT(COUNTA($J$2:J222),"000000") -> 921-000221
A223: Vis CHC | C223: 1.6 | D223: 6 | H223: =CONCATENATE(,A223," M",C223,"x",D223,) -> Vis CHC M1,6x6 | J223: A2 | K223: =9&INDEX(Matière!$B$2:$B$140,MATCH(J223,Matière!$A$2:$A$140,0))&"-"&TEXT(COUNTA($J$2:J223),"000000") -> 921-000222
A224: Vis CHC | C224: 1.6 | D224: 8 | H224: =CONCATENATE(,A224," M",C224,"x",D224,) -> Vis CHC M1,6x8 | J224: A2 | K224: =9&INDEX(Matière!$B$2:$B$140,MATCH(J224,Matière!$A$2:$A$140,0))&"-"&TEXT(COUNTA($J$2:J224),"000000") -> 921-000223
A225: Vis CHC | C225: 1.6 | D225: 10 | H225: =CONCATENATE(,A225," M",C225,"x",D225,) -> Vis CHC M1,6x10 | J225: A2 | K225: =9&INDEX(Matière!$B$2:$B$140,MATCH(J225,Matière!$A$2:$A$140,0))&"-"&TEXT(COUNTA($J$2:J225),"000000") -> 921-000224
A226: Vis CHC | C226: 1.6 | D226: 12 | H226: =CONCATENATE(,A226," M",C226,"x",D226,) -> Vis CHC M1,6x12 | J226: A2 | K226: =9&INDEX(Matière!$B$2:$B$140,MATCH(J226,Matière!$A$2:$A$140,0))&"-"&TEXT(COUNTA($J$2:J226),"000000") -> 921-000225
A227: Vis CHC | C227: 1.6 | D227: 16 | H227: =CONCATENATE(,A227," M",C227,"x",D227,) -> Vis CHC M1,6x16 | J227: A2 | K227: =9&INDEX(Matière!$B$2:$B$140,MATCH(J227,Matière!$A$2:$A$140,0))&"-"&TEXT(COUNTA($J$2:J227),"000000") -> 921-000226
A228: Vis CHC | C228: 2 | D228: 3 | H228: =CONCATENATE(,A228," M",C228,"x",D228,) -> Vis CHC M2x3 | J228: A2 | K228: =9&INDEX(Matière!$B$2:$B$140,MATCH(J228,Matière!$A$2:$A$140,0))&"-"&TEXT(COUNTA($J$2:J228),"000000") -> 921-000227
A229: Vis CHC | C229: 2 | D229: 4 | H229: =CONCATENATE(,A229," M",C229,"x",D229,) -> Vis CHC M2x4 | J229: A2 | K229: =9&INDEX(Matière!$B$2:$B$140,MATCH(J229,Matière!$A$2:$A$140,0))&"-"&TEXT(COUNTA($J$2:J229),"000000") -> 921-000228
A230: Vis CHC | C230: 2 | D230: 5 | H230: =CONCATENATE(,A230," M",C230,"x",D230,) -> Vis CHC M2x5 | J230: A2 | K230: =9&INDEX(Matière!$B$2:$B$140,MATCH(J230,Matière!$A$2:$A$140,0))&"-"&TEXT(COUNTA($J$2:J230),"000000") -> 921-000229
A231: Vis CHC | C231: 2 | D231: 6 | H231: =CONCATENATE(,A231," M",C231,"x",D231,) -> Vis CHC M2x6 | J231: A2 | K231: =9&INDEX(Matière!$B$2:$B$140,MATCH(J231,Matière!$A$2:$A$140,0))&"-"&TEXT(COUNTA($J$2:J231),"000000") -> 921-000230
... A777: Vis STHC Bout pointeau | C777: 8 | D777: 50 | H777: =CONCATENATE(,A777," M",C777,"x",D777,) -> Vis STHC Bout pointeau M8x50 | J777: A4 | K777: =9&INDEX(Matière!$B$2:$B$140,MATCH(J777,Matière!$A$2:$A$140,0))&"-"&TEXT(COUNTA($J$2:J777),"000000") -> 922-000776
A778: Vis TB Rondelle Pressé torx | B778: M | C778: 2.5 | D778: 8 | H778: =CONCATENATE(,A778," ",B778,,C778,"x",D778,) -> Vis TB Rondelle Pressé torx M2,5x8 | J778: A2 | K778: =9&INDEX(Matière!$B$2:$B$140,MATCH(J778,Matière!$A$2:$A$140,0))&"-"&TEXT(COUNTA($J$2:J778),"000000") -> 921-000777
A779: Vis TB Rondelle Pressé torx | B779: M | C779: 2.5 | D779: 10 | H779: =CONCATENATE(,A779," ",B779,,C779,"x",D779,) -> Vis TB Rondelle Pressé torx M2,5x10 | J779: A2 | K779: =9&INDEX(Matière!$B$2:$B$140,MATCH(J779,Matière!$A$2:$A$140,0))&"-"&TEXT(COUNTA($J$2:J779),"000000") -> 921-000778
A780: Vis TB Rondelle Pressé torx | B780: M | C780: 2.5 | D780: 12 | H780: =CONCATENATE(,A780," ",B780,,C780,"x",D780,) -> Vis TB Rondelle Pressé torx M2,5x12 | J780: A2 | K780: =9&INDEX(Matière!$B$2:$B$140,MATCH(J780,Matière!$A$2:$A$140,0))&"-"&TEXT(COUNTA($J$2:J780),"000000") -> 921-000779
A781: Vis TB Rondelle Pressé torx | B781: M | C781: 3 | D781: 8 | H781: =CONCATENATE(,A781," ",B781,,C781,"x",D781,) -> Vis TB Rondelle Pressé torx M3x8 | J781: A2 | K781: =9&INDEX(Matière!$B$2:$B$140,MATCH(J781,Matière!$A$2:$A$140,0))&"-"&TEXT(COUNTA($J$2:J781),"000000") -> 921-000780
A782: Vis TB Rondelle Pressé torx | B782: M | C782: 3 | D782: 10 | H782: =CONCATENATE(,A782," ",B782,,C782,"x",D782,) -> Vis TB Rondelle Pressé torx M3x10 | J782: A2 | K782: =9&INDEX(Matière!$B$2:$B$140,MATCH(J782,Matière!$A$2:$A$140,0))&"-"&TEXT(COUNTA($J$2:J782),"000000") -> 921-000781
A783: Vis TB Rondelle Pressé torx | B783: M | C783: 3 | D783: 12 | H783: =CONCATENATE(,A783," ",B783,,C783,"x",D783,) -> Vis TB Rondelle Pressé torx M3x12 | J783: A2 | K783: =9&INDEX(Matière!$B$2:$B$140,MATCH(J783,Matière!$A$2:$A$140,0))&"-"&TEXT(COUNTA($J$2:J783),"000000") -> 921-000782
A784: Vis TB Rondelle Pressé torx | B784: M | C784: 3 | D784: 14 | H784: =CONCATENATE(,A784," ",B784,,C784,"x",D784,) -> Vis TB Rondelle Pressé torx M3x14 | J784: A2 | K784: =9&INDEX(Matière!$B$2:$B$140,MATCH(J784,Matière!$A$2:$A$140,0))&"-"&TEXT(COUNTA($J$2:J784),"000000") -> 921-000783
A785: Vis TB Rondelle Pressé torx | B785: M | C785: 3 | D785: 16 | H785: =CONCATENATE(,A785," ",B785,,C785,"x",D785,) -> Vis TB Rondelle Pressé torx M3x16 | J785: A2 | K785: =9&INDEX(Matière!$B$2:$B$140,MATCH(J785,Matière!$A$2:$A$140,0))&"-"&TEXT(COUNTA($J$2:J785),"000000") -> 921-000784
A786: Vis TB Rondelle Pressé torx | B786: M | C786: 3 | D786: 20 | H786: =CONCATENATE(,A786," ",B786,,C786,"x",D786,) -> Vis TB Rondelle Pressé torx M3x20 | J786: A2 | K786: =9&INDEX(Matière!$B$2:$B$140,MATCH(J786,Matière!$A$2:$A$140,0))&"-"&TEXT(COUNTA($J$2:J786),"000000") -> 921-000785
A787: Vis TB Rondelle Pressé torx | B787: M | C787: 3 | D787: 25 | H787: =CONCATENATE(,A787," ",B787,,C787,"x",D787,) -> Vis TB Rondelle Pressé torx M3x25 | J787: A2 | K787: =9&INDEX(Matière!$B$2:$B$140,MATCH(J787,Matière!$A$2:$A$140,0))&"-"&TEXT(COUNTA($J$2:J787),"000000") -> 921-000786
A788: Vis TB Rondelle Pressé torx | B788: M | C788: 3.5 | D788: 8 | H788: =CONCATENATE(,A788," ",B788,,C788,"x",D788,) -> Vis TB Rondelle Pressé torx M3,5x8 | J788: A2 | K788: =9&INDEX(Matière!$B$2:$B$140,MATCH(J788,Matière!$A$2:$A$140,0))&"-"&TEXT(COUNTA($J$2:J788),"000000") -> 921-000787
A789: Vis TB Rondelle Pressé torx | B789: M | C789: 3.5 | D789: 10 | H789: =CONCATENATE(,A789," ",B789,,C789,"x",D789,) -> Vis TB Rondelle Pressé torx M3,5x10 | J789: A2 | K789: =9&INDEX(Matière!$B$2:$B$140,MATCH(J789,Matière!$A$2:$A$140,0))&"-"&TEXT(COUNTA($J$2:J789),"000000") -> 921-000788
... A999: Vis TB Rondelle Pressé torx | B999: M | C999: 6 | D999: 30 | H999: =CONCATENATE(,A999," ",B999,,C999,"x",D999,) -> Vis TB Rondelle Pressé torx M6x30 | J999: A4 | K999: =9&INDEX(Matière!$B$2:$B$140,MATCH(J999,Matière!$A$2:$A$140,0))&"-"&TEXT(COUNTA($J$2:J999),"000000") -> 922-000998
A1000: Vis TB Rondelle Pressé torx | B1000: M | C1000: 1.6 | D1000: 4 | H1000: =CONCATENATE(,A1000," ",B1000,,C1000,"x",D1000,) -> Vis TB Rondelle Pressé torx M1,6x4 | I1000: EP | J1000: A2 | K1000: =9&INDEX(Matière!$B$2:$B$140,MATCH(J1000,Matière!$A$2:$A$140,0))&"-"&TEXT(COUNTA($J$2:J1000),"000000") -> 921-000999
A1001: Vis TB Rondelle Pressé torx | B1001: M | C1001: 1.6 | D1001: 5 | H1001: =CONCATENATE(,A1001," ",B1001,,C1001,"x",D1001,) -> Vis TB Rondelle Pressé torx M1,6x5 | I1001: EP | J1001: A2 | K1001: =9&INDEX(Matière!$B$2:$B$140,MATCH(J1001,Matière!$A$2:$A$140,0))&"-"&TEXT(COUNTA($J$2:J1001),"000000") -> 921-001000
A1002: Vis TB Rondelle Pressé torx | B1002: M | C1002: 1.6 | D1002: 6 | H1002: =CONCATENATE(,A1002," ",B1002,,C1002,"x",D1002,) -> Vis TB Rondelle Pressé torx M1,6x6 | I1002: EP | J1002: A2 | K1002: =9&INDEX(Matière!$B$2:$B$140,MATCH(J1002,Matière!$A$2:$A$140,0))&"-"&TEXT(COUNTA($J$2:J1002),"000000") -> 921-001001
A1003: Vis TB Rondelle Pressé torx | B1003: M | C1003: 1.6 | D1003: 8 | H1003: =CONCATENATE(,A1003," ",B1003,,C1003,"x",D1003,) -> Vis TB Rondelle Pressé torx M1,6x8 | I1003: EP | J1003: A2 | K1003: =9&INDEX(Matière!$B$2:$B$140,MATCH(J1003,Matière!$A$2:$A$140,0))&"-"&TEXT(COUNTA($J$2:J1003),"000000") -> 921-001002
A1004: Vis TB Rondelle Pressé torx | B1004: M | C1004: 1.6 | D1004: 10 | H1004: =CONCATENATE(,A1004," ",B1004,,C1004,"x",D1004,) -> Vis TB Rondelle Pressé torx M1,6x10 | I1004: EP | J1004: A2 | K1004: =9&INDEX(Matière!$B$2:$B$140,MATCH(J1004,Matière!$A$2:$A$140,0))&"-"&TEXT(COUNTA($J$2:J1004),"000000") -> 921-001003
A1005: Vis TB Rondelle Pressé torx | B1005: M | C1005: 2 | D1005: 3 | H1005: =CONCATENATE(,A1005," ",B1005,,C1005,"x",D1005,) -> Vis TB Rondelle Pressé torx M2x3 | I1005: EP | J1005: A2 | K1005: =9&INDEX(Matière!$B$2:$B$140,MATCH(J1005,Matière!$A$2:$A$140,0))&"-"&TEXT(COUNTA($J$2:J1005),"000000") -> 921-001004
A1006: Vis TB Rondelle Pressé torx | B1006: M | C1006: 2 | D1006: 4 | H1006: =CONCATENATE(,A1006," ",B1006,,C1006,"x",D1006,) -> Vis TB Rondelle Pressé torx M2x4 | I1006: EP | J1006: A2 | K1006: =9&INDEX(Matière!$B$2:$B$140,MATCH(J1006,Matière!$A$2:$A$140,0))&"-"&TEXT(COUNTA($J$2:J1006),"000000") -> 921-001005
A1007: Vis TB Rondelle Pressé torx | B1007: M | C1007: 2 | D1007: 5 | H1007: =CONCATENATE(,A1007," ",B1007,,C1007,"x",D1007,) -> Vis TB Rondelle Pressé torx M2x5 | I1007: EP | J1007: A2 | K1007: =9&INDEX(Matière!$B$2:$B$140,MATCH(J1007,Matière!$A$2:$A$140,0))&"-"&TEXT(COUNTA($J$2:J1007),"000000") -> 921-001006
A1008: Vis TB Rondelle Pressé torx | B1008: M | C1008: 2 | D1008: 6 | H1008: =CONCATENATE(,A1008," ",B1008,,C1008,"x",D1008,) -> Vis TB Rondelle Pressé torx M2x6 | I1008: EP | J1008: A2 | K1008: =9&INDEX(Matière!$B$2:$B$140,MATCH(J1008,Matière!$A$2:$A$140,0))&"-"&TEXT(COUNTA($J$2:J1008),"000000") -> 921-001007
A1009: Vis TB Rondelle Pressé torx | B1009: M | C1009: 2 | D1009: 8 | H1009: =CONCATENATE(,A1009," ",B1009,,C1009,"x",D1009,) -> Vis TB Rondelle Pressé torx M2x8 | I1009: EP | J1009: A2 | K1009: =9&INDEX(Matière!$B$2:$B$140,MATCH(J1009,Matière!$A$2:$A$140,0))&"-"&TEXT(COUNTA($J$2:J1009),"000000") -> 921-001008
A1010: Vis TB Rondelle Pressé torx | B1010: M | C1010: 2 | D1010: 10 | H1010: =CONCATENATE(,A1010," ",B1010,,C1010,"x",D1010,) -> Vis TB Rondelle Pressé torx M2x10 | I1010: EP | J1010: A2 | K1010: =9&INDEX(Matière!$B$2:$B$140,MATCH(J1010,Matière!$A$2:$A$140,0))&"-"&TEXT(COUNTA($J$2:J1010),"000000") -> 921-001009
A1011: Vis TB Rondelle Pressé torx | B1011: M | C1011: 2 | D1011: 12 | H1011: =CONCATENATE(,A1011," ",B1011,,C1011,"x",D1011,) -> Vis TB Rondelle Pressé torx M2x12 | I1011: EP | J1011: A2 | K1011: =9&INDEX(Matière!$B$2:$B$140,MATCH(J1011,Matière!$A$2:$A$140,0))&"-"&TEXT(COUNTA($J$2:J1011),"000000") -> 921-001010
... A1167: Vis TB Rondelle Pressé torx | B1167: M | C1167: 8 | D1167: 60 | H1167: =CONCATENATE(,A1167," ",B1167,,C1167,"x",D1167,) -> Vis TB Rondelle Pressé torx M8x60 | I1167: EP | J1167: A4 | K1167: =9&INDEX(Matière!$B$2:$B$140,MATCH(J1167,Matière!$A$2:$A$140,0))&"-"&TEXT(COUNTA($J$2:J1167),"000000") -> 922-001166
A1168: Vis TCL Bombé Torx | B1168: M | C1168: 2 | D1168: 3 | H1168: =CONCATENATE(,A1168," ",B1168,,C1168,"x",D1168,) -> Vis TCL Bombé Torx M2x3 | J1168: A2 | K1168: =9&INDEX(Matière!$B$2:$B$140,MATCH(J1168,Matière!$A$2:$A$140,0))&"-"&TEXT(COUNTA($J$2:J1168),"000000") -> 921-001167
A1169: Vis TCL Bombé Torx | B1169: M | C1169: 2 | D1169: 4 | H1169: =CONCATENATE(,A1169," ",B1169,,C1169,"x",D1169,) -> Vis TCL Bombé Torx M2x4 | J1169: A2 | K1169: =9&INDEX(Matière!$B$2:$B$140,MATCH(J1169,Matière!$A$2:$A$140,0))&"-"&TEXT(COUNTA($J$2:J1169),"000000") -> 921-001168
A1170: Vis TCL Bombé Torx | B1170: M | C1170: 2 | D1170: 5 | H1170: =CONCATENATE(,A1170," ",B1170,,C1170,"x",D1170,) -> Vis TCL Bombé Torx M2x5 | J1170: A2 | K1170: =9&INDEX(Matière!$B$2:$B$140,MATCH(J1170,Matière!$A$2:$A$140,0))&"-"&TEXT(COUNTA($J$2:J1170),"000000") -> 921-001169
A1171: Vis TCL Bombé Torx | B1171: M | C1171: 2 | D1171: 6 | H1171: =CONCATENATE(,A1171," ",B1171,,C1171,"x",D1171,) -> Vis TCL Bombé Torx M2x6 | J1171: A2 | K1171: =9&INDEX(Matière!$B$2:$B$140,MATCH(J1171,Matière!$A$2:$A$140,0))&"-"&TEXT(COUNTA($J$2:J1171),"000000") -> 921-001170
A1172: Vis TCL Bombé Torx | B1172: M | C1172: 2 | D1172: 8 | H1172: =CONCATENATE(,A1172," ",B1172,,C1172,"x",D1172,) -> Vis TCL Bombé Torx M2x8 | J1172: A2 | K1172: =9&INDEX(Matière!$B$2:$B$140,MATCH(J1172,Matière!$A$2:$A$140,0))&"-"&TEXT(COUNTA($J$2:J1172),"000000") -> 921-001171
A1173: Vis TCL Bombé Torx | B1173: M | C1173: 2 | D1173: 10 | H1173: =CONCATENATE(,A1173," ",B1173,,C1173,"x",D1173,) -> Vis TCL Bombé Torx M2x10 | J1173: A2 | K1173: =9&INDEX(Matière!$B$2:$B$140,MATCH(J1173,Matière!$A$2:$A$140,0))&"-"&TEXT(COUNTA($J$2:J1173),"000000") -> 921-001172
A1174: Vis TCL Bombé Torx | B1174: M | C1174: 2 | D1174: 12 | H1174: =CONCATENATE(,A1174," ",B1174,,C1174,"x",D1174,) -> Vis TCL Bombé Torx M2x12 | J1174: A2 | K1174: =9&INDEX(Matière!$B$2:$B$140,MATCH(J1174,Matière!$A$2:$A$140,0))&"-"&TEXT(COUNTA($J$2:J1174),"000000") -> 921-001173
A1175: Vis TCL Bombé Torx | B1175: M | C1175: 2 | D1175: 16 | H1175: =CONCATENATE(,A1175," ",B1175,,C1175,"x",D1175,) -> Vis TCL Bombé Torx M2x16 | J1175: A2 | K1175: =9&INDEX(Matière!$B$2:$B$140,MATCH(J1175,Matière!$A$2:$A$140,0))&"-"&TEXT(COUNTA($J$2:J1175),"000000") -> 921-001174
A1176: Vis TCL Bombé Torx | B1176: M | C1176: 2 | D1176: 18 | H1176: =CONCATENATE(,A1176," ",B1176,,C1176,"x",D1176,) -> Vis TCL Bombé Torx M2x18 | J1176: A2 | K1176: =9&INDEX(Matière!$B$2:$B$140,MATCH(J1176,Matière!$A$2:$A$140,0))&"-"&TEXT(COUNTA($J$2:J1176),"000000") -> 921-001175
A1177: Vis TCL Bombé Torx | B1177: M | C1177: 2 | D1177: 20 | H1177: =CONCATENATE(,A1177," ",B1177,,C1177,"x",D1177,) -> Vis TCL Bombé Torx M2x20 | J1177: A2 | K1177: =9&INDEX(Matière!$B$2:$B$140,MATCH(J1177,Matière!$A$2:$A$140,0))&"-"&TEXT(COUNTA($J$2:J1177),"000000") -> 921-001176
A1178: Vis TCL Bombé Torx | B1178: M | C1178: 3 | D1178: 4 | H1178: =CONCATENATE(,A1178," ",B1178,,C1178,"x",D1178,) -> Vis TCL Bombé Torx M3x4 | J1178: A2 | K1178: =9&INDEX(Matière!$B$2:$B$140,MATCH(J1178,Matière!$A$2:$A$140,0))&"-"&TEXT(COUNTA($J$2:J1178),"000000") -> 921-001177
A1179: Vis TCL Bombé Torx | B1179: M | C1179: 3 | D1179: 5 | H1179: =CONCATENATE(,A1179," ",B1179,,C1179,"x",D1179,) -> Vis TCL Bombé Torx M3x5 | J1179: A2 | K1179: =9&INDEX(Matière!$B$2:$B$140,MATCH(J1179,Matière!$A$2:$A$140,0))&"-"&TEXT(COUNTA($J$2:J1179),"000000") -> 921-001178
... A1255: Vis TCL Bombé Torx | B1255: M | C1255: 6 | D1255: 20 | H1255: =CONCATENATE(,A1255," ",B1255,,C1255,"x",D1255,) -> Vis TCL Bombé Torx M6x20 | J1255: A4 | K1255: =9&INDEX(Matière!$B$2:$B$140,MATCH(J1255,Matière!$A$2:$A$140,0))&"-"&TEXT(COUNTA($J$2:J1255),"000000") -> 922-001254
A1256: Rondelle | B1256: Z | C1256: 2 | D1256: 2,2x4 | E1256: 0.5 | H1256: =CONCATENATE(,A1256," ",B1256,,C1256) -> Rondelle Z2 | J1256: A2 | K1256: =9&INDEX(Matière!$B$2:$B$140,MATCH(J1256,Matière!$A$2:$A$140,0))&"-"&TEXT(COUNTA($J$2:J1256),"000000") -> 921-001255
A1257: Rondelle | B1257: Z | C1257: 2.5 | D1257: 2,7x5 | E1257: 0.5 | H1257: =CONCATENATE(,A1257," ",B1257,,C1257) -> Rondelle Z2,5 | J1257: A2 | K1257: =9&INDEX(Matière!$B$2:$B$140,MATCH(J1257,Matière!$A$2:$A$140,0))&"-"&TEXT(COUNTA($J$2:J1257),"000000") -> 921-001256
A1258: Rondelle | B1258: Z | C1258: 3 | D1258: 3,2x6 | E1258: 0.8 | H1258: =CONCATENATE(,A1258," ",B1258,,C1258) -> Rondelle Z3 | J1258: A2 | K1258: =9&INDEX(Matière!$B$2:$B$140,MATCH(J1258,Matière!$A$2:$A$140,0))&"-"&TEXT(COUNTA($J$2:J1258),"000000") -> 921-001257
A1259: Rondelle | B1259: Z | C1259: 4 | D1259: 4,3x8 | E1259: 0.8 | H1259: =CONCATENATE(,A1259," ",B1259,,C1259) -> Rondelle Z4 | J1259: A2 | K1259: =9&INDEX(Matière!$B$2:$B$140,MATCH(J1259,Matière!$A$2:$A$140,0))&"-"&TEXT(COUNTA($J$2:J1259),"000000") -> 921-001258
A1260: Rondelle | B1260: Z | C1260: 5 | D1260: 5,3x10 | E1260: 1 | H1260: =CONCATENATE(,A1260," ",B1260,,C1260) -> Rondelle Z5 | J1260: A2 | K1260: =9&INDEX(Matière!$B$2:$B$140,MATCH(J1260,Matière!$A$2:$A$140,0))&"-"&TEXT(COUNTA($J$2:J1260),"000000") -> 921-001259
A1261: Rondelle | B1261: Z | C1261: 6 | D1261: 6,4x12 | E1261: 1.2 | H1261: =CONCATENATE(,A1261," ",B1261,,C1261) -> Rondelle Z6 | J1261: A2 | K1261: =9&INDEX(Matière!$B$2:$B$140,MATCH(J1261,Matière!$A$2:$A$140,0))&"-"&TEXT(COUNTA($J$2:J1261),"000000") -> 921-001260
A1262: Rondelle | B1262: Z | C1262: 8 | D1262: 8,4x16 | E1262: 1.5 | H1262: =CONCATENATE(,A1262," ",B1262,,C1262) -> Rondelle Z8 | J1262: A2 | K1262: =9&INDEX(Matière!$B$2:$B$140,MATCH(J1262,Matière!$A$2:$A$140,0))&"-"&TEXT(COUNTA($J$2:J1262),"000000") -> 921-001261
A1263: Rondelle | B1263: Z | C1263: 10 | D1263: 10,5x20 | E1263: 2 | H1263: =CONCATENATE(,A1263," ",B1263,,C1263) -> Rondelle Z10 | J1263: A2 | K1263: =9&INDEX(Matière!$B$2:$B$140,MATCH(J1263,Matière!$A$2:$A$140,0))&"-"&TEXT(COUNTA($J$2:J1263),"000000") -> 921-001262
A1264: Rondelle | B1264: Z | C1264: 12 | D1264: 13x24 | E1264: 2.5 | H1264: =CONCATENATE(,A1264," ",B1264,,C1264) -> Rondelle Z12 | J1264: A2 | K1264: =9&INDEX(Matière!$B$2:$B$140,MATCH(J1264,Matière!$A$2:$A$140,0))&"-"&TEXT(COUNTA($J$2:J1264),"000000") -> 921-001263
A1265: Rondelle | B1265: Z | C1265: 14 | D1265: 15x27 | E1265: 2.5 | H1265: =CONCATENATE(,A1265," ",B1265,,C1265) -> Rondelle Z14 | J1265: A2 | K1265: =9&INDEX(Matière!$B$2:$B$140,MATCH(J1265,Matière!$A$2:$A$140,0))&"-"&TEXT(COUNTA($J$2:J1265),"000000") -> 921-001264
A1266: Rondelle | B1266: Z | C1266: 16 | D1266: 17x30 | E1266: 3 | H1266: =CONCATENATE(,A1266," ",B1266,,C1266) -> Rondelle Z16 | J1266: A2 | K1266: =9&INDEX(Matière!$B$2:$B$140,MATCH(J1266,Matière!$A$2:$A$140,0))&"-"&TEXT(COUNTA($J$2:J1266),"000000") -> 921-001265
A1267: Rondelle | B1267: Z | C1267: 18 | D1267: 19x32 | E1267: 3 | H1267: =CONCATENATE(,A1267," ",B1267,,C1267) -> Rondelle Z18 | J1267: A2 | K1267: =9&INDEX(Matière!$B$2:$B$140,MATCH(J1267,Matière!$A$2:$A$140,0))&"-"&TEXT(COUNTA($J$2:J1267),"000000") -> 921-001266
... A1355: Rondelle | B1355: LL | C1355: 20 | D1355: 21x60 | E1355: 3 | H1355: =CONCATENATE(,A1355," ",B1355,,C1355) -> Rondelle LL20 | J1355: A4 | K1355: =9&INDEX(Matière!$B$2:$B$140,MATCH(J1355,Matière!$A$2:$A$140,0))&"-"&TEXT(COUNTA($J$2:J1355),"000000") -> 922-001354
A1356: Rondelle Grower | B1356: W | C1356: 3 | D1356: 5.2 | E1356: 3.5 | F1356: 1 | H1356: =CONCATENATE(,A1356," ",B1356,,C1356) -> Rondelle Grower W3 | J1356: A2 | K1356: =9&INDEX(Matière!$B$2:$B$140,MATCH(J1356,Matière!$A$2:$A$140,0))&"-"&TEXT(COUNTA($J$2:J1356),"000000") -> 921-001355
A1357: Rondelle Grower | B1357: W | C1357: 4 | D1357: 7.3 | E1357: 4.5 | F1357: 1 | H1357: =CONCATENATE(,A1357," ",B1357,,C1357) -> Rondelle Grower W4 | J1357: A2 | K1357: =9&INDEX(Matière!$B$2:$B$140,MATCH(J1357,Matière!$A$2:$A$140,0))&"-"&TEXT(COUNTA($J$2:J1357),"000000") -> 921-001356
A1358: Rondelle Grower | B1358: W | C1358: 5 | D1358: 8.3 | E1358: 5.5 | F1358: 1.5 | H1358: =CONCATENATE(,A1358," ",B1358,,C1358) -> Rondelle Grower W5 | J1358: A2 | K1358: =9&INDEX(Matière!$B$2:$B$140,MATCH(J1358,Matière!$A$2:$A$140,0))&"-"&TEXT(COUNTA($J$2:J1358),"000000") -> 921-001357
A1359: Rondelle Grower | B1359: W | C1359: 6 | D1359: 10.4 | E1359: 6.5 | F1359: 2 | H1359: =CONCATENATE(,A1359," ",B1359,,C1359) -> Rondelle Grower W6 | J1359: A2 | K1359: =9&INDEX(Matière!$B$2:$B$140,MATCH(J1359,Matière!$A$2:$A$140,0))&"-"&TEXT(COUNTA($J$2:J1359),"000000") -> 921-001358
A1360: Rondelle Grower | B1360: W | C1360: 8 | D1360: 13.4 | E1360: 8.5 | F1360: 2.5 | H1360: =CONCATENATE(,A1360," ",B1360,,C1360) -> Rondelle Grower W8 | J1360: A2 | K1360: =9&INDEX(Matière!$B$2:$B$140,MATCH(J1360,Matière!$A$2:$A$140,0))&"-"&TEXT(COUNTA($J$2:J1360),"000000") -> 921-001359
A1361: Rondelle Grower | B1361: W | C1361: 10 | D1361: 16.5 | E1361: 10.5 | F1361: 3 | H1361: =CONCATENATE(,A1361," ",B1361,,C1361) -> Rondelle Grower W10 | J1361: A2 | K1361: =9&INDEX(Matière!$B$2:$B$140,MATCH(J1361,Matière!$A$2:$A$140,0))&"-"&TEXT(COUNTA($J$2:J1361),"000000") -> 921-001360
A1362: Rondelle Grower | B1362: W | C1362: 12 | D1362: 20 | E1362: 13 | F1362: 3.5 | H1362: =CONCATENATE(,A1362," ",B1362,,C1362) -> Rondelle Grower W12 | J1362: A2 | K1362: =9&INDEX(Matière!$B$2:$B$140,MATCH(J1362,Matière!$A$2:$A$140,0))&"-"&TEXT(COUNTA($J$2:J1362),"000000") -> 921-001361
A1363: Rondelle Grower | B1363: W | C1363: 16 | D1363: 25 | E1363: 17 | F1363: 4 | H1363: =CONCATENATE(,A1363," ",B1363,,C1363) -> Rondelle Grower W16 | J1363: A2 | K1363: =9&INDEX(Matière!$B$2:$B$140,MATCH(J1363,Matière!$A$2:$A$140,0))&"-"&TEXT(COUNTA($J$2:J1363),"000000") -> 921-001362
A1364: Rondelle Grower | B1364: W | C1364: 20 | D1364: 31 | E1364: 21 | F1364: 5 | H1364: =CONCATENATE(,A1364," ",B1364,,C1364) -> Rondelle Grower W20 | J1364: A2 | K1364: =9&INDEX(Matière!$B$2:$B$140,MATCH(J1364,Matière!$A$2:$A$140,0))&"-"&TEXT(COUNTA($J$2:J1364),"000000") -> 921-001363
A1365: Rondelle Grower | B1365: W | C1365: 24 | D1365: 25 | E1365: 37 | F1365: 6 | H1365: =CONCATENATE(,A1365," ",B1365,,C1365) -> Rondelle Grower W24 | J1365: A2 | K1365: =9&INDEX(Matière!$B$2:$B$140,MATCH(J1365,Matière!$A$2:$A$140,0))&"-"&TEXT(COUNTA($J$2:J1365),"000000") -> 921-001364
A1366: Rondelle Grower | B1366: W | C1366: 30 | D1366: 31 | E1366: 45 | F1366: 7 | H1366: =CONCATENATE(,A1366," ",B1366,,C1366) -> Rondelle Grower W30 | J1366: A2 | K1366: =9&INDEX(Matière!$B$2:$B$140,MATCH(J1366,Matière!$A$2:$A$140,0))&"-"&TEXT(COUNTA($J$2:J1366),"000000") -> 921-001365
A1367: Rondelle Grower | B1367: W | C1367: 3 | D1367: 5.2 | E1367: 3.5 | F1367: 1 | H1367: =CONCATENATE(,A1367," ",B1367,,C1367) -> Rondelle Grower W3 | J1367: A4 | K1367: =9&INDEX(Matière!$B$2:$B$140,MATCH(J1367,Matière!$A$2:$A$140,0))&"-"&TEXT(COUNTA($J$2:J1367),"000000") -> 922-001366
... A1377: Rondelle Grower | B1377: W | C1377: 30 | D1377: 31 | E1377: 45 | F1377: 7 | H1377: =CONCATENATE(,A1377," ",B1377,,C1377) -> Rondelle Grower W30 | J1377: A4 | K1377: =9&INDEX(Matière!$B$2:$B$140,MATCH(J1377,Matière!$A$2:$A$140,0))&"-"&TEXT(COUNTA($J$2:J1377),"000000") -> 922-001376
A1378: Rondelle Belleville | B1378: M | C1378: 4 | D1378: 4.2 | E1378: 8 | F1378: 0.4 | G1378: 0.6 | H1378: =CONCATENATE(,A1378," ",B1378,,C1378) -> Rondelle Belleville M4 | J1378: A2 | K1378: =9&INDEX(Matière!$B$2:$B$140,MATCH(J1378,Matière!$A$2:$A$140,0))&"-"&TEXT(COUNTA($J$2:J1378),"000000") -> 921-001377
A1379: Rondelle Belleville | B1379: M | C1379: 5 | D1379: 5.2 | E1379: 10 | F1379: 0.5 | G1379: 0.75 | H1379: =CONCATENATE(,A1379," ",B1379,,C1379) -> Rondelle Belleville M5 | J1379: A2 | K1379: =9&INDEX(Matière!$B$2:$B$140,MATCH(J1379,Matière!$A$2:$A$140,0))&"-"&TEXT(COUNTA($J$2:J1379),"000000") -> 921-001378
A1380: Rondelle Belleville | B1380: M | C1380: 6 | D1380: 6.2 | E1380: 12.5 | F1380: 0.7 | G1380: 1 | H1380: =CONCATENATE(,A1380," ",B1380,,C1380) -> Rondelle Belleville M6 | J1380: A2 | K1380: =9&INDEX(Matière!$B$2:$B$140,MATCH(J1380,Matière!$A$2:$A$140,0))&"-"&TEXT(COUNTA($J$2:J1380),"000000") -> 921-001379
A1381: Rondelle Belleville | B1381: M | C1381: 7 | D1381: 7.2 | E1381: 14 | F1381: 0.8 | G1381: 1.1 | H1381: =CONCATENATE(,A1381," ",B1381,,C1381) -> Rondelle Belleville M7 | J1381: A2 | K1381: =9&INDEX(Matière!$B$2:$B$140,MATCH(J1381,Matière!$A$2:$A$140,0))&"-"&TEXT(COUNTA($J$2:J1381),"000000") -> 921-001380
A1382: Rondelle Belleville | B1382: M | C1382: 8 | D1382: 8.2 | E1382: 16 | F1382: 0.9 | G1382: 1.25 | H1382: =CONCATENATE(,A1382," ",B1382,,C1382) -> Rondelle Belleville M8 | J1382: A2 | K1382: =9&INDEX(Matière!$B$2:$B$140,MATCH(J1382,Matière!$A$2:$A$140,0))&"-"&TEXT(COUNTA($J$2:J1382),"000000") -> 921-001381
A1383: Rondelle Belleville | B1383: M | C1383: 9 | D1383: 9.2 | E1383: 18 | F1383: 1 | G1383: 1.4 | H1383: =CONCATENATE(,A1383," ",B1383,,C1383) -> Rondelle Belleville M9 | J1383: A2 | K1383: =9&INDEX(Matière!$B$2:$B$140,MATCH(J1383,Matière!$A$2:$A$140,0))&"-"&TEXT(COUNTA($J$2:J1383),"000000") -> 921-001382
A1384: Rondelle Belleville | B1384: M | C1384: 10 | D1384: 10.2 | E1384: 20 | F1384: 1.1 | G1384: 1.55 | H1384: =CONCATENATE(,A1384," ",B1384,,C1384) -> Rondelle Belleville M10 | J1384: A2 | K1384: =9&INDEX(Matière!$B$2:$B$140,MATCH(J1384,Matière!$A$2:$A$140,0))&"-"&TEXT(COUNTA($J$2:J1384),"000000") -> 921-001383
A1385: Rondelle Belleville | B1385: M | C1385: 11 | D1385: 11.2 | E1385: 22.5 | F1385: 1.25 | G1385: 1.75 | H1385: =CONCATENATE(,A1385," ",B1385,,C1385) -> Rondelle Belleville M11 | J1385: A2 | K1385: =9&INDEX(Matière!$B$2:$B$140,MATCH(J1385,Matière!$A$2:$A$140,0))&"-"&TEXT(COUNTA($J$2:J1385),"000000") -> 921-001384
...
