Workbook

Sheet Tableau Synthétique
A1: Numero de manif : | B1: Date : | C1: Nom de la manifestation : | D1: Groupe / Production : | E1: Heure : | F1: Lieu : | G1: Communication : | H1: Besoins technique : | I1: Service pilote et appui : | J1: Besoin d'astreinte : | K1: Hébergement : | L1: Association : | M1: Besoin humain : | N1: Sécurité :
A2: ='Manif 1'!$B$1 -> Manif 1 | B2: ='Manif 1'!$B$4 -> samedi 18 juin | C2: ='Manif 1'!$B$2 -> Gala de Danse | D2: ='Manif 1'!$B$3 -> CEAM DANSE | E2: ='Manif 1'!$D$4 -> 0.85416667 | F2: ='Manif 1'!$B$5 -> Cassieu | G2: ='Manif 1'!$B$16 -> 0 | H2: ='Manif 1'!$B$17 -> lien fiche technique? | I2: ='Manif 1'!$B$19 -> Culture | J2: ='Manif 1'!$B$21 -> oui du service culture/animation | K2: ='Manif 1'!$B$23 -> 0 | L2: ='Manif 1'!$B$25 -> 0 | M2: ='Manif 1'!B27 -> 0 | N2: ='Manif 1'!C29 -> 0
A3: ='Manif 2'!$B$1 -> Manif 2 | B3: ='Manif 2'!B4 -> 0 | C3: ='Manif 2'!$B$2 -> 0 | D3: ='Manif 2'!B4 -> 0 | E3: ='Manif 2'!D5 -> 0 | F3: ='Manif 2'!B6 -> 0 | G3: ='Manif 2'!B17 -> 0 | H3: ='Manif 2'!B18 -> 0 | I3: ='Manif 2'!B20 -> 0 | J3: ='Manif 2'!B22 -> 0 | K3: ='Manif 2'!B24 -> 0 | L3: ='Manif 2'!B26 -> 0 | M3: ='Manif 2'!$B$28 -> 0 | N3: ='Manif 2'!$C$30 -> 0
A4: ='Manif 1'!$B$1 -> Manif 1
A5: ='Manif 2'!$B$1 -> Manif 2
A6: ='Manif 1'!$B$1 -> Manif 1
A7: ='Manif 2'!$B$1 -> Manif 2

Sheet Manif 1
A1: Numéro manif : | B1: =MID(CELL("filename",A1),FIND("]",CELL("filename",A1))+1,32) -> Manif 1
A2: Nom de la manifestation : | B2: Gala de Danse
A3: Groupe / Production : | B3: CEAM DANSE
A4: Date : | B4: samedi 18 juin | C4: Heure : | D4: 0.85416667
A5: Lieu : | B5: Cassieu
A6: Description : | B6: Gala de fin d'année des élèves du CEAM danse de Lège-Cap Ferret
A14: Image :
A15: Tarifs : | B15: Gratuit
A16: Communication :
A17: Besoins technique : | B17: lien fiche technique?
A19: Service pilote et appui : | B19: Culture
A21: Besoin d'astreinte : | B21: oui du service culture/animation
A23: Hébergement :
A25: Association :
A27: Besoin humain :
A29: Sécurité : | B29: Arrêté municipale :
B30: Sécurité extérieure :
A32: Contrat / Devis | B32: Aquitaine audio lien?
A34: DM:

Sheet Manif 2
A1: Numéro manif : | B1: =MID(CELL("filename",A1),FIND("]",CELL("filename",A1))+1,32) -> Manif 2
A2: Nom de la manifestation :
A3: Groupe / Production :
A4: Date : | C4: Heure :
A5: Lieu :
A6: Description :
A14: Image :
A15: Tarifs :
A16: Communication :
A17: Besoins technique :
A19: Service pilote et appui :
A21: Besoin d'astreinte :
A23: Hébergement :
A25: Association :
A27: Besoin humain :
A29: Sécurité : | B29: Arrêté municipale :
B30: Sécurité extérieure :
A32: Contrat / Devis | B32: Aquitaine audio lien?
A34: DM:

Sheet Manif 3
A1: Numéro manif : | B1: =MID(CELL("filename",A1),FIND("]",CELL("filename",A1))+1,32) -> Manif 3
A2: Nom de la manifestation :
A3: Groupe / Production :
A4: Date : | C4: Heure :
A5: Lieu :
A6: Description :
A14: Image :
A15: Tarifs :
A16: Communication :
A17: Besoins technique :
A19: Service pilote et appui :
A21: Besoin d'astreinte :
A23: Hébergement :
A25: Association :
A27: Besoin humain :
A29: Sécurité : | B29: Arrêté municipale :
B30: Sécurité extérieure :
A32: Contrat / Devis | B32: Aquitaine audio lien?
A34: DM:

Sheet Manif 4
A1: Numéro manif : | B1: =MID(CELL("filename",A1),FIND("]",CELL("filename",A1))+1,32) -> Manif 4
A2: Nom de la manifestation :
A3: Groupe / Production :
A4: Date : | C4: Heure :
A5: Lieu :
A6: Description :
A14: Image :
A15: Tarifs :
A16: Communication :
A17: Besoins technique :
A19: Service pilote et appui :
A21: Besoin d'astreinte :
A23: Hébergement :
A25: Association :
A27: Besoin humain :
A29: Sécurité : | B29: Arrêté municipale :
B30: Sécurité extérieure :
A32: Contrat / Devis | B32: Aquitaine audio lien?
A34: DM:

Sheet Manif 5
A1: Numéro manif : | B1: =MID(CELL("filename",A1),FIND("]",CELL("filename",A1))+1,32) -> Manif 5
A2: Nom de la manifestation :
A3: Groupe / Production :
A4: Date : | C4: Heure :
A5: Lieu :
A6: Description :
A14: Image :
A15: Tarifs :
A16: Communication :
A17: Besoins technique :
A19: Service pilote et appui :
A21: Besoin d'astreinte :
A23: Hébergement :
A25: Association :
A27: Besoin humain :
A29: Sécurité : | B29: Arrêté municipale :
B30: Sécurité extérieure :
A32: Contrat / Devis | B32: Aquitaine audio lien?
A34: DM:
