Workbook

Sheet PROJETS
B1: DETAILS PROJETS | E1: REFERENTS | H1: ELEVES | J1: CALENDRIER | N1: LIEUX
A2: Type | B2: TITRE | C2: Descriptif synthétique du projet | D2: Arguments pédagogique et artistique | E2: PORTEUR DE PROJET | F2: Nom du référent au conseil pédagogique | G2: Autre(s) professeur(s) impliqué(s) | H2: Classe(s) concernée(s) | I2: Nb approximatif d'élèves | J2: Date retenue | K2: Période/date visée | L2: Heure représentation | M2: INDEX | N2: Lieu retenu | O2: Lieu souhaité | P2: commentaires
A3: PRÊT DE SALLE | B3: 1 | J3: 44799 | M3: =IF(Tableau2[[#This Row],[Date retenue]]<>"",Tableau2[[#This Row],[Date retenue]]&"-"&COUNTIF($J$2:$J3,Tableau2[[#This Row],[Date retenue]]),"") -> 44799-1 | N3: cours du CRR
A4: Projet Handicap | B4: 2 | J4: 44959 | K4: dates d'intervention au CRR Mar. 13 Dec AUDITO Mar. 03 Janv AUDITO Mar. 10 Janv EJB Mar. 17 Janv AUDITO Mar. 24 Janv EJB | M4: =IF(Tableau2[[#This Row],[Date retenue]]<>"",Tableau2[[#This Row],[Date retenue]]&"-"&COUNTIF($J$2:$J4,Tableau2[[#This Row],[Date retenue]]),"") -> 44959-1 | N4: CRR
A5: Projet Handicap | B5: 3 | J5: 45030 | M5: =IF(Tableau2[[#This Row],[Date retenue]]<>"",Tableau2[[#This Row],[Date retenue]]&"-"&COUNTIF($J$2:$J5,Tableau2[[#This Row],[Date retenue]]),"") -> 45030-1
A6: Projet Handicap | B6: 4 | J6: 44966 | K6: dates d'intervention à l'IME : Mar. 03 Janv Mar. 10 Janv Mar. 17 Janv Mar. 24 Janv Mar. 31 Janv + jeu . 9 fev | M6: =IF(Tableau2[[#This Row],[Date retenue]]<>"",Tableau2[[#This Row],[Date retenue]]&"-"&COUNTIF($J$2:$J6,Tableau2[[#This Row],[Date retenue]]),"") -> 44966-1 | N6: EJB
A7: PRÊT DE SALLE | B7: 5 | I7: / | J7: 44804 | K7: Jeudi 2 Février 14h-14h45 | M7: =IF(Tableau2[[#This Row],[Date retenue]]<>"",Tableau2[[#This Row],[Date retenue]]&"-"&COUNTIF($J$2:$J7,Tableau2[[#This Row],[Date retenue]]),"") -> 44804-1 | N7: EJB
A8: Projet Spé | B8: 6 | J8: 44805 | K8: à définir : entre octobre et décembre 22 | M8: =IF(Tableau2[[#This Row],[Date retenue]]<>"",Tableau2[[#This Row],[Date retenue]]&"-"&COUNTIF($J$2:$J8,Tableau2[[#This Row],[Date retenue]]),"") -> 44805-1 | N8: Théâtre Olympia
A9: Stage | B9: 7 | J9: 44805 | K9: à définir : entre octobre et décembre 22 | M9: =IF(Tableau2[[#This Row],[Date retenue]]<>"",Tableau2[[#This Row],[Date retenue]]&"-"&COUNTIF($J$2:$J9,Tableau2[[#This Row],[Date retenue]]),"") -> 44805-2
A10: Stage | B10: 8 | J10: 44805 | K10: octobre et décembre 22 | M10: =IF(Tableau2[[#This Row],[Date retenue]]<>"",Tableau2[[#This Row],[Date retenue]]&"-"&COUNTIF($J$2:$J10,Tableau2[[#This Row],[Date retenue]]),"") -> 44805-3
A11: Stage | B11: 9 | J11: 44805 | K11: octobre et décembre 22 | M11: =IF(Tableau2[[#This Row],[Date retenue]]<>"",Tableau2[[#This Row],[Date retenue]]&"-"&COUNTIF($J$2:$J11,Tableau2[[#This Row],[Date retenue]]),"") -> 44805-4
A12: Stage | B12: 10 | J12: 44805 | K12: à définir : entre octobre et décembre 22 | M12: =IF(Tableau2[[#This Row],[Date retenue]]<>"",Tableau2[[#This Row],[Date retenue]]&"-"&COUNTIF($J$2:$J12,Tableau2[[#This Row],[Date retenue]]),"") -> 44805-5
A13: Master classe | B13: 11 | J13: 44805 | K13: à définir : entre octobre et décembre 22 | M13: =IF(Tableau2[[#This Row],[Date retenue]]<>"",Tableau2[[#This Row],[Date retenue]]&"-"&COUNTIF($J$2:$J13,Tableau2[[#This Row],[Date retenue]]),"") -> 44805-6
A14: Stage | B14: 12 | J14: 44805 | K14: à définir : entre octobre et décembre 22 | M14: =IF(Tableau2[[#This Row],[Date retenue]]<>"",Tableau2[[#This Row],[Date retenue]]&"-"&COUNTIF($J$2:$J14,Tableau2[[#This Row],[Date retenue]]),"") -> 44805-7
A15: Saison Des Enseignants | B15: 13 | I15: entre 20 et 40 | J15: 44835 | K15: 28-29-30-(répétitions) - 1er octobre concert(s) | M15: =IF(Tableau2[[#This Row],[Date retenue]]<>"",Tableau2[[#This Row],[Date retenue]]&"-"&COUNTIF($J$2:$J15,Tableau2[[#This Row],[Date retenue]]),"") -> 44835-1 | N15: EJB
A16: Saison Des Enseignants | B16: 14 | I16: entre 20 et 40 | J16: 44840 | K16: septembre/octobre 2022 | M16: =IF(Tableau2[[#This Row],[Date retenue]]<>"",Tableau2[[#This Row],[Date retenue]]&"-"&COUNTIF($J$2:$J16,Tableau2[[#This Row],[Date retenue]]),"") -> 44840-1 | N16: EJB
A17: Projet Spé | B17: 15 | I17: entre 10 et 20 | J17: 44842 | K17: 8 Octobre 2022 | M17: =IF(Tableau2[[#This Row],[Date retenue]]<>"",Tableau2[[#This Row],[Date retenue]]&"-"&COUNTIF($J$2:$J17,Tableau2[[#This Row],[Date retenue]]),"") -> 44842-1 | N17: OCKEGHEM
A18: PRÊT DE SALLE | B18: 16 | J18: 44844 | L18: 17h30 - 20h30 | M18: =IF(Tableau2[[#This Row],[Date retenue]]<>"",Tableau2[[#This Row],[Date retenue]]&"-"&COUNTIF($J$2:$J18,Tableau2[[#This Row],[Date retenue]]),"") -> 44844-1 | N18: EJB
A19: Pédagogique | B19: 17 | J19: 44847 | M19: =IF(Tableau2[[#This Row],[Date retenue]]<>"",Tableau2[[#This Row],[Date retenue]]&"-"&COUNTIF($J$2:$J19,Tableau2[[#This Row],[Date retenue]]),"") -> 44847-1 | N19: EJB
A20: Projet Spé | B20: 18 | I20: entre 5 et 10 | J20: 44849 | K20: 15 octobre 2022 | M20: =IF(Tableau2[[#This Row],[Date retenue]]<>"",Tableau2[[#This Row],[Date retenue]]&"-"&COUNTIF($J$2:$J20,Tableau2[[#This Row],[Date retenue]]),"") -> 44849-1 | N20: OCKEGHEM
A21: Audition de classe | B21: 19 | J21: 44853 | L21: 19h | M21: =IF(Tableau2[[#This Row],[Date retenue]]<>"",Tableau2[[#This Row],[Date retenue]]&"-"&COUNTIF($J$2:$J21,Tableau2[[#This Row],[Date retenue]]),"") -> 44853-1 | N21: DUTILLEUX
A22: EAC | B22: 20 | J22: 44853 | M22: =IF(Tableau2[[#This Row],[Date retenue]]<>"",Tableau2[[#This Row],[Date retenue]]&"-"&COUNTIF($J$2:$J22,Tableau2[[#This Row],[Date retenue]]),"") -> 44853-2 | N22: EJB
A23: Stage | B23: 21 | J23: 44856 | K23: du 18 au 22/10/22 | M23: =IF(Tableau2[[#This Row],[Date retenue]]<>"",Tableau2[[#This Row],[Date retenue]]&"-"&COUNTIF($J$2:$J23,Tableau2[[#This Row],[Date retenue]]),"") -> 44856-1 | N23: Molière
A24: PRÊT DE SALLE | B24: 22 | J24: 44857 | K24: du 23/10/22 au 06/11/22 | M24: =IF(Tableau2[[#This Row],[Date retenue]]<>"",Tableau2[[#This Row],[Date retenue]]&"-"&COUNTIF($J$2:$J24,Tableau2[[#This Row],[Date retenue]]),"") -> 44857-1 | N24: • Espace Joséphine Baker (chapelle), • Préfabriqués Britten, Poulenc et Rota, • Auditorium, • salles de danse Robbins, Babillée et Maillot, • salles de FM Gershwin, Messiaen, Ohana, Stravinsky.
A25: Conférence | B25: 23 | J25: 44880 | M25: =IF(Tableau2[[#This Row],[Date retenue]]<>"",Tableau2[[#This Row],[Date retenue]]&"-"&COUNTIF($J$2:$J25,Tableau2[[#This Row],[Date retenue]]),"") -> 44880-1 | N25: BJYC
A26: Audition Ockeghem | B26: 24 | J26: 44881 | L26: 18h30 | M26: =IF(Tableau2[[#This Row],[Date retenue]]<>"",Tableau2[[#This Row],[Date retenue]]&"-"&COUNTIF($J$2:$J26,Tableau2[[#This Row],[Date retenue]]),"") -> 44881-1 | N26: OCKEGHEM
A27: Projet Spé | B27: 25 | I27: entre 20 et 40 | J27: 44887 | K27: Jeudi 24 Novembre où Vendredi 25 novembre ou Mardi 22 novembre | L27: 19h | M27: =IF(Tableau2[[#This Row],[Date retenue]]<>"",Tableau2[[#This Row],[Date retenue]]&"-"&COUNTIF($J$2:$J27,Tableau2[[#This Row],[Date retenue]]),"") -> 44887-1 | N27: EJB
A28: Audition de classe | B28: 26 | J28: 44887 | L28: 18h30 | M28: =IF(Tableau2[[#This Row],[Date retenue]]<>"",Tableau2[[#This Row],[Date retenue]]&"-"&COUNTIF($J$2:$J28,Tableau2[[#This Row],[Date retenue]]),"") -> 44887-2 | N28: Dupré
A29: Audition Ockeghem | B29: 27 | J29: 44888 | L29: 18h30 | M29: =IF(Tableau2[[#This Row],[Date retenue]]<>"",Tableau2[[#This Row],[Date retenue]]&"-"&COUNTIF($J$2:$J29,Tableau2[[#This Row],[Date retenue]]),"") -> 44888-1 | N29: OCKEGHEM
A30: Projet Spé | B30: 28 | J30: 44890 | M30: =IF(Tableau2[[#This Row],[Date retenue]]<>"",Tableau2[[#This Row],[Date retenue]]&"-"&COUNTIF($J$2:$J30,Tableau2[[#This Row],[Date retenue]]),"") -> 44890-1 | N30: Place Jean Jaures
A31: PRÊT DE SALLE | B31: 29 | J31: 44891 | M31: =IF(Tableau2[[#This Row],[Date retenue]]<>"",Tableau2[[#This Row],[Date retenue]]&"-"&COUNTIF($J$2:$J31,Tableau2[[#This Row],[Date retenue]]),"") -> 44891-1 | N31: EJB
A32: Projet Spé | B32: 30 | I32: 191 poulenc : environ 55 maitrise : environ 17 choeur adulte : environ 35 4 sollistes + chœur strasbourg : 35 EVUT : 35 | J32: 44891 | K32: 26/11/22 | L32: 20h | M32: =IF(Tableau2[[#This Row],[Date retenue]]<>"",Tableau2[[#This Row],[Date retenue]]&"-"&COUNTIF($J$2:$J32,Tableau2[[#This Row],[Date retenue]]),"") -> 44891-2 | N32: Eglise Saint Julien
A33: Audition de classe | B33: 31 | J33: 44893 | L33: 18h30 | M33: =IF(Tableau2[[#This Row],[Date retenue]]<>"",Tableau2[[#This Row],[Date retenue]]&"-"&COUNTIF($J$2:$J33,Tableau2[[#This Row],[Date retenue]]),"") -> 44893-1 | N33: AUDITORIUM
A34: Audition de classe | B34: 32 | J34: 44894 | L34: 18h30 | M34: =IF(Tableau2[[#This Row],[Date retenue]]<>"",Tableau2[[#This Row],[Date retenue]]&"-"&COUNTIF($J$2:$J34,Tableau2[[#This Row],[Date retenue]]),"") -> 44894-1 | N34: AUDITORIUM
A35: Projet Spé | B35: 33 | J35: 44894 | M35: =IF(Tableau2[[#This Row],[Date retenue]]<>"",Tableau2[[#This Row],[Date retenue]]&"-"&COUNTIF($J$2:$J35,Tableau2[[#This Row],[Date retenue]]),"") -> 44894-2 | N35: EJB
A36: Audition de classe | B36: 34 | J36: 44894 | M36: =IF(Tableau2[[#This Row],[Date retenue]]<>"",Tableau2[[#This Row],[Date retenue]]&"-"&COUNTIF($J$2:$J36,Tableau2[[#This Row],[Date retenue]]),"") -> 44894-3 | N36: Dupré
A37: Audition Ockeghem | B37: 35 | J37: 44895 | L37: 18h30 | M37: =IF(Tableau2[[#This Row],[Date retenue]]<>"",Tableau2[[#This Row],[Date retenue]]&"-"&COUNTIF($J$2:$J37,Tableau2[[#This Row],[Date retenue]]),"") -> 44895-1 | N37: OCKEGHEM
A38: EAC | B38: 36 | J38: 44896 | M38: =IF(Tableau2[[#This Row],[Date retenue]]<>"",Tableau2[[#This Row],[Date retenue]]&"-"&COUNTIF($J$2:$J38,Tableau2[[#This Row],[Date retenue]]),"") -> 44896-1 | N38: AUDITORIUM
A39: Audition transversale | B39: 37 | I39: entre 40 et 80 | J39: 44897 | K39: Du 5 au 10 décembre 2022 | L39: 18h30 + 21h | M39: =IF(Tableau2[[#This Row],[Date retenue]]<>"",Tableau2[[#This Row],[Date retenue]]&"-"&COUNTIF($J$2:$J39,Tableau2[[#This Row],[Date retenue]]),"") -> 44897-1 | N39: EJB
A40: Projet Spé | B40: 38 | I40: entre 10 et 20 | J40: 44899 | K40: 2-3-4 décembre 2022 | M40: =IF(Tableau2[[#This Row],[Date retenue]]<>"",Tableau2[[#This Row],[Date retenue]]&"-"&COUNTIF($J$2:$J40,Tableau2[[#This Row],[Date retenue]]),"") -> 44899-1 | N40: Orléans
...

Sheet PLANNING
D1: 1 | E1: 2 | F1: 3 | G1: 4
A2: AOUT | B2: Mardi | C2: 44789 | D2: =IFERROR(INDEX(PROJETS!$B:$B,MATCH($C2&"-"&D$1,PROJETS!$M:$M,0)),"") | E2: =IFERROR(INDEX(PROJETS!$B:$B,MATCH($C2&"-"&E$1,PROJETS!$M:$M,0)),"")
B3: Mercredi | C3: 44790 | D3: =IFERROR(INDEX(PROJETS!$B:$B,MATCH($C3&"-"&D$1,PROJETS!$M:$M,0)),"") | E3: =IFERROR(INDEX(PROJETS!$B:$B,MATCH($C3&"-"&E$1,PROJETS!$M:$M,0)),"")
B4: Jeudi | C4: 44791 | D4: =IFERROR(INDEX(PROJETS!$B:$B,MATCH($C4&"-"&D$1,PROJETS!$M:$M,0)),"") | E4: =IFERROR(INDEX(PROJETS!$B:$B,MATCH($C4&"-"&E$1,PROJETS!$M:$M,0)),"")
B5: Vendredi | C5: 44792 | D5: =IFERROR(INDEX(PROJETS!$B:$B,MATCH($C5&"-"&D$1,PROJETS!$M:$M,0)),"") | E5: =IFERROR(INDEX(PROJETS!$B:$B,MATCH($C5&"-"&E$1,PROJETS!$M:$M,0)),"")
B6: Samedi | C6: 44793 | D6: =IFERROR(INDEX(PROJETS!$B:$B,MATCH($C6&"-"&D$1,PROJETS!$M:$M,0)),"") | E6: =IFERROR(INDEX(PROJETS!$B:$B,MATCH($C6&"-"&E$1,PROJETS!$M:$M,0)),"")
B7: Dimanche | C7: 44794 | D7: =IFERROR(INDEX(PROJETS!$B:$B,MATCH($C7&"-"&D$1,PROJETS!$M:$M,0)),"") | E7: =IFERROR(INDEX(PROJETS!$B:$B,MATCH($C7&"-"&E$1,PROJETS!$M:$M,0)),"") | F7: =IFERROR(INDEX(PROJETS!$B:$B,MATCH($C7&"-"&F$1,PROJETS!$M:$M,0)),"") | G7: =IFERROR(INDEX(PROJETS!$B:$B,MATCH($C7&"-"&G$1,PROJETS!$M:$M,0)),"")
B8: Lundi | C8: 44795 | D8: =IFERROR(INDEX(PROJETS!$B:$B,MATCH($C8&"-"&D$1,PROJETS!$M:$M,0)),"") | E8: =IFERROR(INDEX(PROJETS!$B:$B,MATCH($C8&"-"&E$1,PROJETS!$M:$M,0)),"")
B9: Mardi | C9: 44796 | D9: =IFERROR(INDEX(PROJETS!$B:$B,MATCH($C9&"-"&D$1,PROJETS!$M:$M,0)),"") | E9: =IFERROR(INDEX(PROJETS!$B:$B,MATCH($C9&"-"&E$1,PROJETS!$M:$M,0)),"")
B10: Mercredi | C10: 44797 | D10: =IFERROR(INDEX(PROJETS!$B:$B,MATCH($C10&"-"&D$1,PROJETS!$M:$M,0)),"") | E10: =IFERROR(INDEX(PROJETS!$B:$B,MATCH($C10&"-"&E$1,PROJETS!$M:$M,0)),"")
B11: Jeudi | C11: 44798 | D11: =IFERROR(INDEX(PROJETS!$B:$B,MATCH($C11&"-"&D$1,PROJETS!$M:$M,0)),"") | E11: =IFERROR(INDEX(PROJETS!$B:$B,MATCH($C11&"-"&E$1,PROJETS!$M:$M,0)),"")
B12: Vendredi | C12: 44799 | D12: =IFERROR(INDEX(PROJETS!$B:$B,MATCH($C12&"-"&D$1,PROJETS!$M:$M,0)),"") -> 1 | E12: =IFERROR(INDEX(PROJETS!$B:$B,MATCH($C12&"-"&E$1,PROJETS!$M:$M,0)),"")
B13: Samedi | C13: 44800 | D13: =IFERROR(INDEX(PROJETS!$B:$B,MATCH($C13&"-"&D$1,PROJETS!$M:$M,0)),"") | E13: =IFERROR(INDEX(PROJETS!$B:$B,MATCH($C13&"-"&E$1,PROJETS!$M:$M,0)),"")
B14: Dimanche | C14: 44801 | D14: =IFERROR(INDEX(PROJETS!$B:$B,MATCH($C14&"-"&D$1,PROJETS!$M:$M,0)),"") | E14: =IFERROR(INDEX(PROJETS!$B:$B,MATCH($C14&"-"&E$1,PROJETS!$M:$M,0)),"") | F14: =IFERROR(INDEX(PROJETS!$B:$B,MATCH($C14&"-"&F$1,PROJETS!$M:$M,0)),"") | G14: =IFERROR(INDEX(PROJETS!$B:$B,MATCH($C14&"-"&G$1,PROJETS!$M:$M,0)),"")
B15: Lundi | C15: 44802 | D15: =IFERROR(INDEX(PROJETS!$B:$B,MATCH($C15&"-"&D$1,PROJETS!$M:$M,0)),"") | E15: =IFERROR(INDEX(PROJETS!$B:$B,MATCH($C15&"-"&E$1,PROJETS!$M:$M,0)),"")
B16: Mardi | C16: 44803 | D16: =IFERROR(INDEX(PROJETS!$B:$B,MATCH($C16&"-"&D$1,PROJETS!$M:$M,0)),"") | E16: =IFERROR(INDEX(PROJETS!$B:$B,MATCH($C16&"-"&E$1,PROJETS!$M:$M,0)),"")
B17: Mercredi | C17: 44804 | D17: =IFERROR(INDEX(PROJETS!$B:$B,MATCH($C17&"-"&D$1,PROJETS!$M:$M,0)),"") -> 5 | E17: =IFERROR(INDEX(PROJETS!$B:$B,MATCH($C17&"-"&E$1,PROJETS!$M:$M,0)),"")
A18: SEPTEMBRE | B18: Jeudi | C18: 44805 | D18: =IFERROR(INDEX(PROJETS!$B:$B,MATCH($C18&"-"&D$1,PROJETS!$M:$M,0)),"") -> 6 | E18: =IFERROR(INDEX(PROJETS!$B:$B,MATCH($C18&"-"&E$1,PROJETS!$M:$M,0)),"") -> 7 | F18: =IFERROR(INDEX(PROJETS!$B:$B,MATCH($C18&"-"&F$1,PROJETS!$M:$M,0)),"") -> 8 | G18: =IFERROR(INDEX(PROJETS!$B:$B,MATCH($C18&"-"&G$1,PROJETS!$M:$M,0)),"") -> 9
B19: vendredi | C19: =C18+1 -> 44806 | D19: =IFERROR(INDEX(PROJETS!$B:$B,MATCH($C19&"-"&D$1,PROJETS!$M:$M,0)),"") | E19: =IFERROR(INDEX(PROJETS!$B:$B,MATCH($C19&"-"&E$1,PROJETS!$M:$M,0)),"") | F19: =IFERROR(INDEX(PROJETS!$B:$B,MATCH($C19&"-"&F$1,PROJETS!$M:$M,0)),"") | G19: =IFERROR(INDEX(PROJETS!$B:$B,MATCH($C19&"-"&G$1,PROJETS!$M:$M,0)),"")
B20: samedi | C20: =C19+1 -> 44807 | D20: =IFERROR(INDEX(PROJETS!$B:$B,MATCH($C20&"-"&D$1,PROJETS!$M:$M,0)),"") | E20: =IFERROR(INDEX(PROJETS!$B:$B,MATCH($C20&"-"&E$1,PROJETS!$M:$M,0)),"") | F20: =IFERROR(INDEX(PROJETS!$B:$B,MATCH($C20&"-"&F$1,PROJETS!$M:$M,0)),"") | G20: =IFERROR(INDEX(PROJETS!$B:$B,MATCH($C20&"-"&G$1,PROJETS!$M:$M,0)),"")
B21: dimanche | C21: =C20+1 -> 44808 | D21: =IFERROR(INDEX(PROJETS!$B:$B,MATCH($C21&"-"&D$1,PROJETS!$M:$M,0)),"") | E21: =IFERROR(INDEX(PROJETS!$B:$B,MATCH($C21&"-"&E$1,PROJETS!$M:$M,0)),"") | F21: =IFERROR(INDEX(PROJETS!$B:$B,MATCH($C21&"-"&F$1,PROJETS!$M:$M,0)),"") | G21: =IFERROR(INDEX(PROJETS!$B:$B,MATCH($C21&"-"&G$1,PROJETS!$M:$M,0)),"")
B22: Lundi | C22: =C21+1 -> 44809 | D22: =IFERROR(INDEX(PROJETS!$B:$B,MATCH($C22&"-"&D$1,PROJETS!$M:$M,0)),"") | E22: =IFERROR(INDEX(PROJETS!$B:$B,MATCH($C22&"-"&E$1,PROJETS!$M:$M,0)),"") | F22: =IFERROR(INDEX(PROJETS!$B:$B,MATCH($C22&"-"&F$1,PROJETS!$M:$M,0)),"") | G22: =IFERROR(INDEX(PROJETS!$B:$B,MATCH($C22&"-"&G$1,PROJETS!$M:$M,0)),"")
B23: Mardi | C23: =C22+1 -> 44810 | D23: =IFERROR(INDEX(PROJETS!$B:$B,MATCH($C23&"-"&D$1,PROJETS!$M:$M,0)),"") | E23: =IFERROR(INDEX(PROJETS!$B:$B,MATCH($C23&"-"&E$1,PROJETS!$M:$M,0)),"") | F23: =IFERROR(INDEX(PROJETS!$B:$B,MATCH($C23&"-"&F$1,PROJETS!$M:$M,0)),"") | G23: =IFERROR(INDEX(PROJETS!$B:$B,MATCH($C23&"-"&G$1,PROJETS!$M:$M,0)),"")
B24: Mercredi | C24: =C23+1 -> 44811 | D24: =IFERROR(INDEX(PROJETS!$B:$B,MATCH($C24&"-"&D$1,PROJETS!$M:$M,0)),"") | E24: =IFERROR(INDEX(PROJETS!$B:$B,MATCH($C24&"-"&E$1,PROJETS!$M:$M,0)),"") | F24: =IFERROR(INDEX(PROJETS!$B:$B,MATCH($C24&"-"&F$1,PROJETS!$M:$M,0)),"") | G24: =IFERROR(INDEX(PROJETS!$B:$B,MATCH($C24&"-"&G$1,PROJETS!$M:$M,0)),"")
B25: Jeudi | C25: =C24+1 -> 44812 | D25: =IFERROR(INDEX(PROJETS!$B:$B,MATCH($C25&"-"&D$1,PROJETS!$M:$M,0)),"") | E25: =IFERROR(INDEX(PROJETS!$B:$B,MATCH($C25&"-"&E$1,PROJETS!$M:$M,0)),"") | F25: =IFERROR(INDEX(PROJETS!$B:$B,MATCH($C25&"-"&F$1,PROJETS!$M:$M,0)),"") | G25: =IFERROR(INDEX(PROJETS!$B:$B,MATCH($C25&"-"&G$1,PROJETS!$M:$M,0)),"")
B26: Vendredi | C26: =C25+1 -> 44813 | D26: =IFERROR(INDEX(PROJETS!$B:$B,MATCH($C26&"-"&D$1,PROJETS!$M:$M,0)),"") | E26: =IFERROR(INDEX(PROJETS!$B:$B,MATCH($C26&"-"&E$1,PROJETS!$M:$M,0)),"") | F26: =IFERROR(INDEX(PROJETS!$B:$B,MATCH($C26&"-"&F$1,PROJETS!$M:$M,0)),"") | G26: =IFERROR(INDEX(PROJETS!$B:$B,MATCH($C26&"-"&G$1,PROJETS!$M:$M,0)),"")
B27: Samedi | C27: =C26+1 -> 44814 | D27: =IFERROR(INDEX(PROJETS!$B:$B,MATCH($C27&"-"&D$1,PROJETS!$M:$M,0)),"") | E27: =IFERROR(INDEX(PROJETS!$B:$B,MATCH($C27&"-"&E$1,PROJETS!$M:$M,0)),"") | F27: =IFERROR(INDEX(PROJETS!$B:$B,MATCH($C27&"-"&F$1,PROJETS!$M:$M,0)),"") | G27: =IFERROR(INDEX(PROJETS!$B:$B,MATCH($C27&"-"&G$1,PROJETS!$M:$M,0)),"")
B28: Dimanche | C28: =C27+1 -> 44815 | D28: =IFERROR(INDEX(PROJETS!$B:$B,MATCH($C28&"-"&D$1,PROJETS!$M:$M,0)),"") | E28: =IFERROR(INDEX(PROJETS!$B:$B,MATCH($C28&"-"&E$1,PROJETS!$M:$M,0)),"") | F28: =IFERROR(INDEX(PROJETS!$B:$B,MATCH($C28&"-"&F$1,PROJETS!$M:$M,0)),"") | G28: =IFERROR(INDEX(PROJETS!$B:$B,MATCH($C28&"-"&G$1,PROJETS!$M:$M,0)),"")
B29: Lundi | C29: =C28+1 -> 44816 | D29: =IFERROR(INDEX(PROJETS!$B:$B,MATCH($C29&"-"&D$1,PROJETS!$M:$M,0)),"") | E29: =IFERROR(INDEX(PROJETS!$B:$B,MATCH($C29&"-"&E$1,PROJETS!$M:$M,0)),"") | F29: =IFERROR(INDEX(PROJETS!$B:$B,MATCH($C29&"-"&F$1,PROJETS!$M:$M,0)),"") | G29: =IFERROR(INDEX(PROJETS!$B:$B,MATCH($C29&"-"&G$1,PROJETS!$M:$M,0)),"")
B30: Mardi | C30: =C29+1 -> 44817 | D30: =IFERROR(INDEX(PROJETS!$B:$B,MATCH($C30&"-"&D$1,PROJETS!$M:$M,0)),"") | E30: =IFERROR(INDEX(PROJETS!$B:$B,MATCH($C30&"-"&E$1,PROJETS!$M:$M,0)),"") | F30: =IFERROR(INDEX(PROJETS!$B:$B,MATCH($C30&"-"&F$1,PROJETS!$M:$M,0)),"") | G30: =IFERROR(INDEX(PROJETS!$B:$B,MATCH($C30&"-"&G$1,PROJETS!$M:$M,0)),"")
... B47: Vendredi | C47: =C46+1 -> 44834 | D47: =IFERROR(INDEX(PROJETS!$B:$B,MATCH($C47&"-"&D$1,PROJETS!$M:$M,0)),"") | E47: =IFERROR(INDEX(PROJETS!$B:$B,MATCH($C47&"-"&E$1,PROJETS!$M:$M,0)),"") | F47: =IFERROR(INDEX(PROJETS!$B:$B,MATCH($C47&"-"&F$1,PROJETS!$M:$M,0)),"") | G47: =IFERROR(INDEX(PROJETS!$B:$B,MATCH($C47&"-"&G$1,PROJETS!$M:$M,0)),"")
A48: OCTOBRE | B48: Samedi | C48: =C47+1 -> 44835 | D48: =IFERROR(INDEX(PROJETS!$B:$B,MATCH($C48&"-"&D$1,PROJETS!$M:$M,0)),"") -> 13 | E48: =IFERROR(INDEX(PROJETS!$B:$B,MATCH($C48&"-"&E$1,PROJETS!$M:$M,0)),"") | F48: =IFERROR(INDEX(PROJETS!$B:$B,MATCH($C48&"-"&F$1,PROJETS!$M:$M,0)),"") | G48: =IFERROR(INDEX(PROJETS!$B:$B,MATCH($C48&"-"&G$1,PROJETS!$M:$M,0)),"")
B49: Dimanche | C49: =C48+1 -> 44836 | D49: =IFERROR(INDEX(PROJETS!$B:$B,MATCH($C49&"-"&D$1,PROJETS!$M:$M,0)),"") | E49: =IFERROR(INDEX(PROJETS!$B:$B,MATCH($C49&"-"&E$1,PROJETS!$M:$M,0)),"") | F49: =IFERROR(INDEX(PROJETS!$B:$B,MATCH($C49&"-"&F$1,PROJETS!$M:$M,0)),"") | G49: =IFERROR(INDEX(PROJETS!$B:$B,MATCH($C49&"-"&G$1,PROJETS!$M:$M,0)),"")
B50: Lundi | C50: =C49+1 -> 44837 | D50: =IFERROR(INDEX(PROJETS!$B:$B,MATCH($C50&"-"&D$1,PROJETS!$M:$M,0)),"") | E50: =IFERROR(INDEX(PROJETS!$B:$B,MATCH($C50&"-"&E$1,PROJETS!$M:$M,0)),"") | F50: =IFERROR(INDEX(PROJETS!$B:$B,MATCH($C50&"-"&F$1,PROJETS!$M:$M,0)),"") | G50: =IFERROR(INDEX(PROJETS!$B:$B,MATCH($C50&"-"&G$1,PROJETS!$M:$M,0)),"")
B51: Mardi | C51: =C50+1 -> 44838 | D51: =IFERROR(INDEX(PROJETS!$B:$B,MATCH($C51&"-"&D$1,PROJETS!$M:$M,0)),"") | E51: =IFERROR(INDEX(PROJETS!$B:$B,MATCH($C51&"-"&E$1,PROJETS!$M:$M,0)),"") | F51: =IFERROR(INDEX(PROJETS!$B:$B,MATCH($C51&"-"&F$1,PROJETS!$M:$M,0)),"") | G51: =IFERROR(INDEX(PROJETS!$B:$B,MATCH($C51&"-"&G$1,PROJETS!$M:$M,0)),"")
B52: Mercredi | C52: =C51+1 -> 44839 | D52: =IFERROR(INDEX(PROJETS!$B:$B,MATCH($C52&"-"&D$1,PROJETS!$M:$M,0)),"") | E52: =IFERROR(INDEX(PROJETS!$B:$B,MATCH($C52&"-"&E$1,PROJETS!$M:$M,0)),"") | F52: =IFERROR(INDEX(PROJETS!$B:$B,MATCH($C52&"-"&F$1,PROJETS!$M:$M,0)),"") | G52: =IFERROR(INDEX(PROJETS!$B:$B,MATCH($C52&"-"&G$1,PROJETS!$M:$M,0)),"")
B53: Jeudi | C53: =C52+1 -> 44840 | D53: =IFERROR(INDEX(PROJETS!$B:$B,MATCH($C53&"-"&D$1,PROJETS!$M:$M,0)),"") -> 14 | E53: =IFERROR(INDEX(PROJETS!$B:$B,MATCH($C53&"-"&E$1,PROJETS!$M:$M,0)),"") | F53: =IFERROR(INDEX(PROJETS!$B:$B,MATCH($C53&"-"&F$1,PROJETS!$M:$M,0)),"") | G53: =IFERROR(INDEX(PROJETS!$B:$B,MATCH($C53&"-"&G$1,PROJETS!$M:$M,0)),"")
B54: Vendredi | C54: =C53+1 -> 44841 | D54: =IFERROR(INDEX(PROJETS!$B:$B,MATCH($C54&"-"&D$1,PROJETS!$M:$M,0)),"") | E54: =IFERROR(INDEX(PROJETS!$B:$B,MATCH($C54&"-"&E$1,PROJETS!$M:$M,0)),"") | F54: =IFERROR(INDEX(PROJETS!$B:$B,MATCH($C54&"-"&F$1,PROJETS!$M:$M,0)),"") | G54: =IFERROR(INDEX(PROJETS!$B:$B,MATCH($C54&"-"&G$1,PROJETS!$M:$M,0)),"")
B55: Samedi | C55: =C54+1 -> 44842 | D55: =IFERROR(INDEX(PROJETS!$B:$B,MATCH($C55&"-"&D$1,PROJETS!$M:$M,0)),"") -> 15 | E55: =IFERROR(INDEX(PROJETS!$B:$B,MATCH($C55&"-"&E$1,PROJETS!$M:$M,0)),"") | F55: =IFERROR(INDEX(PROJETS!$B:$B,MATCH($C55&"-"&F$1,PROJETS!$M:$M,0)),"") | G55: =IFERROR(INDEX(PROJETS!$B:$B,MATCH($C55&"-"&G$1,PROJETS!$M:$M,0)),"")
B56: Dimanche | C56: =C55+1 -> 44843 | D56: =IFERROR(INDEX(PROJETS!$B:$B,MATCH($C56&"-"&D$1,PROJETS!$M:$M,0)),"") | E56: =IFERROR(INDEX(PROJETS!$B:$B,MATCH($C56&"-"&E$1,PROJETS!$M:$M,0)),"") | F56: =IFERROR(INDEX(PROJETS!$B:$B,MATCH($C56&"-"&F$1,PROJETS!$M:$M,0)),"") | G56: =IFERROR(INDEX(PROJETS!$B:$B,MATCH($C56&"-"&G$1,PROJETS!$M:$M,0)),"")
...
