Workbook

Sheet PROJETS
B1: DETAILS PROJETS | E1: REFERENTS | H1: ELEVES | J1: CALENDRIER | N1: LIEUX
A2: Type | B2: TITRE | C2: Descriptif synthétique du projet | D2: Arguments pédagogique et artistique | E2: PORTEUR DE PROJET | F2: Nom du référent au conseil pédagogique | G2: Autre(s) professeur(s) impliqué(s) | H2: Classe(s) concernée(s) | I2: Nb approximatif d'élèves | J2: Date retenue | K2: Période/date visée | L2: Heure représentation | M2: INDEX | N2: Lieu retenu | O2: Lieu souhaité | P2: commentaires
A3: PRÊT DE SALLE | B3: 1 | J3: 44799 | M3: =IF(Tableau2[[#This Row],[Date retenue]]<>"",Tableau2[[#This Row],[Date retenue]]&"-"&COUNTIF($J$2:$J3,Tableau2[[#This Row],[Date retenue]]),"") -> 44799-1 | N3: cours du CRR
A4: Projet Handicap | B4: 2 | J4: 44959 | K4: dates d'intervention au CRR Mar. 13 Dec AUDITO Mar. 03 Janv AUDITO Mar. 10 Janv EJB Mar. 17 Janv AUDITO Mar. 24 Janv EJB | M4: =IF(Tableau2[[#This Row],[Date retenue]]<>"",Tableau2[[#This Row],[Date retenue]]&"-"&COUNTIF($J$2:$J4,Tableau2[[#This Row],[Date retenue]]),"") -> 44959-1 | N4: CRR
A5: Projet Handicap | B5: 3 | J5: 45030 | M5: =IF(Tableau2[[#This Row],[Date retenue]]<>"",Tableau2[[#This Row],[Date retenue]]&"-"&COUNTIF($J$2:$J5,Tableau2[[#This Row],[Date retenue]]),"") -> 45030-1
A6: Projet Handicap | B6: 4 | J6: 44966 | K6: dates d'intervention à l'IME : Mar. 03 Janv Mar. 10 Janv Mar. 17 Janv Mar. 24 Janv Mar. 31 Janv + jeu . 9 fev | M6: =IF(Tableau2[[#This Row],[Date retenue]]<>"",Tableau2[[#This Row],[Date retenue]]&"-"&COUNTIF($J$2:$J6,Tableau2[[#This Row],[Date retenue]]),"") -> 44966-1 | N6: EJB
A7: PRÊT DE SALLE | B7: 5 | I7: / | J7: 44804 | K7: Jeudi 2 Février 14h-14h45 | M7: =IF(Tableau2[[#This Row],[Date retenue]]<>"",Tableau2[[#This Row],[Date retenue]]&"-"&COUNTIF($J$2:$J7,Tableau2[[#This Row],[Date retenue]]),"") -> 44804-1 | N7: EJB
A8: Projet Spé | B8: 6 | J8: 44805 | K8: à définir : entre octobre et décembre 22 | M8: =IF(Tableau2[[#This Row],[Date retenue]]<>"",Tableau2[[#This Row],[Date retenue]]&"-"&COUNTIF($J$2:$J8,Tableau2[[#This Row],[Date retenue]]),"") -> 44805-1 | N8: Théâtre Olympia
A9: Stage | B9: 7 | J9: 44805 | K9: à définir : entre octobre et décembre 22 | M9: =IF(Tableau2[[#This Row],[Date retenue]]<>"",Tableau2[[#This Row],[Date retenue]]&"-"&COUNTIF($J$2:$J9,Tableau2[[#This Row],[Date retenue]]),"") -> 44805-2
A10: Stage | B10: 8 | J10: 44805 | K10: octobre et décembre 22 | M10: =IF(Tableau2[[#This Row],[Date retenue]]<>"",Tableau2[[#This Row],[Date retenue]]&"-"&COUNTIF($J$2:$J10,Tableau2[[#This Row],[Date retenue]]),"") -> 44805-3
A11: Stage | B11: 9 | J11: 44805 | K11: octobre et décembre 22 | M11: =IF(Tableau2[[#This Row],[Date retenue]]<>"",Tableau2[[#This Row],[Date retenue]]&"-"&COUNTIF($J$2:$J11,Tableau2[[#This Row],[Date retenue]]),"") -> 44805-4
A12: Stage | B12: 10 | J12: 44805 | K12: à définir : entre octobre et décembre 22 | M12: =IF(Tableau2[[#This Row],[Date retenue]]<>"",Tableau2[[#This Row],[Date retenue]]&"-"&COUNTIF($J$2:$J12,Tableau2[[#This Row],[Date retenue]]),"") -> 44805-5
A13: Master classe | B13: 11 | J13: 44805 | K13: à définir : entre octobre et décembre 22 | M13: =IF(Tableau2[[#This Row],[Date retenue]]<>"",Tableau2[[#This Row],[Date retenue]]&"-"&COUNTIF($J$2:$J13,Tableau2[[#This Row],[Date retenue]]),"") -> 44805-6
A14: Stage | B14: 12 | J14: 44805 | K14: à définir : entre octobre et décembre 22 | M14: =IF(Tableau2[[#This Row],[Date retenue]]<>"",Tableau2[[#This Row],[Date retenue]]&"-"&COUNTIF($J$2:$J14,Tableau2[[#This Row],[Date retenue]]),"") -> 44805-7
A15: Saison Des Enseignants | B15: 13 | I15: entre 20 et 40 | J15: 44835 | K15: 28-29-30-(répétitions) - 1er octobre concert(s) | M15: =IF(Tableau2[[#This Row],[Date retenue]]<>"",Tableau2[[#This Row],[Date retenue]]&"-"&COUNTIF($J$2:$J15,Tableau2[[#This Row],[Date retenue]]),"") -> 44835-1 | N15: EJB
A16: Saison Des Enseignants | B16: 14 | I16: entre 20 et 40 | J16: 44840 | K16: septembre/octobre 2022 | M16: =IF(Tableau2[[#This Row],[Date retenue]]<>"",Tableau2[[#This Row],[Date retenue]]&"-"&COUNTIF($J$2:$J16,Tableau2[[#This Row],[Date retenue]]),"") -> 44840-1 | N16: EJB
A17: Projet Spé | B17: 15 | I17: entre 10 et 20 | J17: 44842 | K17: 8 Octobre 2022 | M17: =IF(Tableau2[[#This Row],[Date retenue]]<>"",Tableau2[[#This Row],[Date retenue]]&"-"&COUNTIF($J$2:$J17,Tableau2[[#This Row],[Date retenue]]),"") -> 44842-1 | N17: OCKEGHEM
A18: PRÊT DE SALLE | B18: 16 | J18: 44844 | L18: 17h30 - 20h30 | M18: =IF(Tableau2[[#This Row],[Date retenue]]<>"",Tableau2[[#This Row],[Date retenue]]&"-"&COUNTIF($J$2:$J18,Tableau2[[#This Row],[Date retenue]]),"") -> 44844-1 | N18: EJB
A19: Pédagogique | B19: 17 | J19: 44847 | M19: =IF(Tableau2[[#This Row],[Date retenue]]<>"",Tableau2[[#This Row],[Date retenue]]&"-"&COUNTIF($J$2:$J19,Tableau2[[#This Row],[Date retenue]]),"") -> 44847-1 | N19: EJB
A20: Projet Spé | B20: 18 | I20: entre 5 et 10 | J20: 44849 | K20: 15 octobre 2022 | M20: =IF(Tableau2[[#This Row],[Date retenue]]<>"",Tableau2[[#This Row],[Date retenue]]&"-"&COUNTIF($J$2:$J20,Tableau2[[#This Row],[Date retenue]]),"") -> 44849-1 | N20: OCKEGHEM
A21: Audition de classe | B21: 19 | J21: 44853 | L21: 19h | M21: =IF(Tableau2[[#This Row],[Date retenue]]<>"",Tableau2[[#This Row],[Date retenue]]&"-"&COUNTIF($J$2:$J21,Tableau2[[#This Row],[Date retenue]]),"") -> 44853-1 | N21: DUTILLEUX
A22: EAC | B22: 20 | J22: 44853 | M22: =IF(Tableau2[[#This Row],[Date retenue]]<>"",Tableau2[[#This Row],[Date retenue]]&"-"&COUNTIF($J$2:$J22,Tableau2[[#This Row],[Date retenue]]),"") -> 44853-2 | N22: EJB
A23: Stage | B23: 21 | J23: 44856 | K23: du 18 au 22/10/22 | M23: =IF(Tableau2[[#This Row],[Date retenue]]<>"",Tableau2[[#This Row],[Date retenue]]&"-"&COUNTIF($J$2:$J23,Tableau2[[#This Row],[Date retenue]]),"") -> 44856-1 | N23: Molière
A24: PRÊT DE SALLE | B24: 22 | J24: 44857 | K24: du 23/10/22 au 06/11/22 | M24: =IF(Tableau2[[#This Row],[Date retenue]]<>"",Tableau2[[#This Row],[Date retenue]]&"-"&COUNTIF($J$2:$J24,Tableau2[[#This Row],[Date retenue]]),"") -> 44857-1 | N24: • Espace Joséphine Baker (chapelle), • Préfabriqués Britten, Poulenc et Rota, • Auditorium, • salles de danse Robbins, Babillée et Maillot, • salles de FM Gershwin, Messiaen, Ohana, Stravinsky.
A25: Conférence | B25: 23 | J25: 44880 | M25: =IF(Tableau2[[#This Row],[Date retenue]]<>"",Tableau2[[#This Row],[Date retenue]]&"-"&COUNTIF($J$2:$J25,Tableau2[[#This Row],[Date retenue]]),"") -> 44880-1 | N25: BJYC
A26: Audition Ockeghem | B26: 24 | J26: 44881 | L26: 18h30 | M26: =IF(Tableau2[[#This Row],[Date retenue]]<>"",Tableau2[[#This Row],[Date retenue]]&"-"&COUNTIF($J$2:$J26,Tableau2[[#This Row],[Date retenue]]),"") -> 44881-1 | N26: OCKEGHEM
A27: Projet Spé | B27: 25 | I27: entre 20 et 40 | J27: 44887 | K27: Jeudi 24 Novembre où Vendredi 25 novembre ou Mardi 22 novembre | L27: 19h | M27: =IF(Tableau2[[#This Row],[Date retenue]]<>"",Tableau2[[#This Row],[Date retenue]]&"-"&COUNTIF($J$2:$J27,Tableau2[[#This Row],[Date retenue]]),"") -> 44887-1 | N27: EJB
A28: Audition de classe | B28: 26 | J28: 44887 | L28: 18h30 | M28: =IF(Tableau2[[#This Row],[Date retenue]]<>"",Tableau2[[#This Row],[Date retenue]]&"-"&COUNTIF($J$2:$J28,Tableau2[[#This Row],[Date retenue]]),"") -> 44887-2 | N28: Dupré
A29: Audition Ockeghem | B29: 27 | J29: 44888 | L29: 18h30 | M29: =IF(Tableau2[[#This Row],[Date retenue]]<>"",Tableau2[[#This Row],[Date retenue]]&"-"&COUNTIF($J$2:$J29,Tableau2[[#This Row],[Date retenue]]),"") -> 44888-1 | N29: OCKEGHEM
A30: Projet Spé | B30: 28 | J30: 44890 | M30: =IF(Tableau2[[#This Row],[Date retenue]]<>"",Tableau2[[#This Row],[Date retenue]]&"-"&COUNTIF($J$2:$J30,Tableau2[[#This Row],[Date retenue]]),"") -> 44890-1 | N30: Place Jean Jaures
A31: PRÊT DE SALLE | B31: 29 | J31: 44891 | M31: =IF(Tableau2[[#This Row],[Date retenue]]<>"",Tableau2[[#This Row],[Date retenue]]&"-"&COUNTIF($J$2:$J31,Tableau2[[#This Row],[Date retenue]]),"") -> 44891-1 | N31: EJB
A32: Projet Spé | B32: 30 | I32: 191 poulenc : environ 55 maitrise : environ 17 choeur adulte : environ 35 4 sollistes + chœur strasbourg : 35 EVUT : 35 | J32: 44891 | K32: 26/11/22 | L32: 20h | M32: =IF(Tableau2[[#This Row],[Date retenue]]<>"",Tableau2[[#This Row],[Date retenue]]&"-"&COUNTIF($J$2:$J32,Tableau2[[#This Row],[Date retenue]]),"") -> 44891-2 | N32: Eglise Saint Julien
A33: Audition de classe | B33: 31 | J33: 44893 | L33: 18h30 | M33: =IF(Tableau2[[#This Row],[Date retenue]]<>"",Tableau2[[#This Row],[Date retenue]]&"-"&COUNTIF($J$2:$J33,Tableau2[[#This Row],[Date retenue]]),"") -> 44893-1 | N33: AUDITORIUM
A34: Audition de classe | B34: 32 | J34: 44894 | L34: 18h30 | M34: =IF(Tableau2[[#This Row],[Date retenue]]<>"",Tableau2[[#This Row],[Date retenue]]&"-"&COUNTIF($J$2:$J34,Tableau2[[#This Row],[Date retenue]]),"") -> 44894-1 | N34: AUDITORIUM
A35: Projet Spé | B35: 33 | J35: 44894 | M35: =IF(Tableau2[[#This Row],[Date retenue]]<>"",Tableau2[[#This Row],[Date retenue]]&"-"&COUNTIF($J$2:$J35,Tableau2[[#This Row],[Date retenue]]),"") -> 44894-2 | N35: EJB
A36: Audition de classe | B36: 34 | J36: 44894 | M36: =IF(Tableau2[[#This Row],[Date retenue]]<>"",Tableau2[[#This Row],[Date retenue]]&"-"&COUNTIF($J$2:$J36,Tableau2[[#This Row],[Date retenue]]),"") -> 44894-3 | N36: Dupré
A37: Audition Ockeghem | B37: 35 | J37: 44895 | L37: 18h30 | M37: =IF(Tableau2[[#This Row],[Date retenue]]<>"",Tableau2[[#This Row],[Date retenue]]&"-"&COUNTIF($J$2:$J37,Tableau2[[#This Row],[Date retenue]]),"") -> 44895-1 | N37: OCKEGHEM
A38: EAC | B38: 36 | J38: 44896 | M38: =IF(Tableau2[[#This Row],[Date retenue]]<>"",Tableau2[[#This Row],[Date retenue]]&"-"&COUNTIF($J$2:$J38,Tableau2[[#This Row],[Date retenue]]),"") -> 44896-1 | N38: AUDITORIUM
A39: Audition transversale | B39: 37 | I39: entre 40 et 80 | J39: 44897 | K39: Du 5 au 10 décembre 2022 | L39: 18h30 + 21h | M39: =IF(Tableau2[[#This Row],[Date retenue]]<>"",Tableau2[[#This Row],[Date retenue]]&"-"&COUNTIF($J$2:$J39,Tableau2[[#This Row],[Date retenue]]),"") -> 44897-1 | N39: EJB
A40: Projet Spé | B40: 38 | I40: entre 10 et 20 | J40: 44899 | K40: 2-3-4 décembre 2022 | M40: =IF(Tableau2[[#This Row],[Date retenue]]<>"",Tableau2[[#This Row],[Date retenue]]&"-"&COUNTIF($J$2:$J40,Tableau2[[#This Row],[Date retenue]]),"") -> 44899-1 | N40: Orléans
A41: Audition de classe | B41: 39 | J41: 44900 | L41: 18h30 | M41: =IF(Tableau2[[#This Row],[Date retenue]]<>"",Tableau2[[#This Row],[Date retenue]]&"-"&COUNTIF($J$2:$J41,Tableau2[[#This Row],[Date retenue]]),"") -> 44900-1 | N41: AUDITORIUM
A42: Projet Spé | B42: 40 | J42: 44901 | L42: 18h00 | M42: =IF(Tableau2[[#This Row],[Date retenue]]<>"",Tableau2[[#This Row],[Date retenue]]&"-"&COUNTIF($J$2:$J42,Tableau2[[#This Row],[Date retenue]]),"") -> 44901-1 | N42: EJB
A43: Projet Spé | B43: 41 | I43: Chœurs d'enfants : 30 Colmar : 45 | J43: 44901 | K43: 6-9 décembre 2022 | L43: 18h30 | M43: =IF(Tableau2[[#This Row],[Date retenue]]<>"",Tableau2[[#This Row],[Date retenue]]&"-"&COUNTIF($J$2:$J43,Tableau2[[#This Row],[Date retenue]]),"") -> 44901-2 | N43: Colmar
A44: Audition de classe | B44: 42 | J44: 44901 | L44: 18h30 | M44: =IF(Tableau2[[#This Row],[Date retenue]]<>"",Tableau2[[#This Row],[Date retenue]]&"-"&COUNTIF($J$2:$J44,Tableau2[[#This Row],[Date retenue]]),"") -> 44901-3 | N44: Dupré
A45: Audition de classe | B45: 43 | J45: 44901 | L45: 18h30 | M45: =IF(Tableau2[[#This Row],[Date retenue]]<>"",Tableau2[[#This Row],[Date retenue]]&"-"&COUNTIF($J$2:$J45,Tableau2[[#This Row],[Date retenue]]),"") -> 44901-4 | N45: AUDITORIUM
A46: Audition de classe | B46: 44 | J46: 44903 | L46: 18h30 | M46: =IF(Tableau2[[#This Row],[Date retenue]]<>"",Tableau2[[#This Row],[Date retenue]]&"-"&COUNTIF($J$2:$J46,Tableau2[[#This Row],[Date retenue]]),"") -> 44903-1 | N46: AUDITORIUM
A47: Projet Spé | B47: 45 | I47: entre 20 et 40 | J47: 44960 | K47: Au 4/10/22 : 2 options de dates 3/02/23 ou 31/03/23 | M47: =IF(Tableau2[[#This Row],[Date retenue]]<>"",Tableau2[[#This Row],[Date retenue]]&"-"&COUNTIF($J$2:$J47,Tableau2[[#This Row],[Date retenue]]),"") -> 44960-1 | N47: EJB
A48: Projet Spé | B48: 46 | I48: entre 5 et 10 | J48: 44960 | K48: novembre-décembre 2022 | M48: =IF(Tableau2[[#This Row],[Date retenue]]<>"",Tableau2[[#This Row],[Date retenue]]&"-"&COUNTIF($J$2:$J48,Tableau2[[#This Row],[Date retenue]]),"") -> 44960-2 | N48: EJB
A49: Audition de classe | B49: 47 | J49: 44907 | L49: 17h-19h | M49: =IF(Tableau2[[#This Row],[Date retenue]]<>"",Tableau2[[#This Row],[Date retenue]]&"-"&COUNTIF($J$2:$J49,Tableau2[[#This Row],[Date retenue]]),"") -> 44907-1 | N49: BJYC
A50: Audition transversale | B50: 48 | J50: 44907 | M50: =IF(Tableau2[[#This Row],[Date retenue]]<>"",Tableau2[[#This Row],[Date retenue]]&"-"&COUNTIF($J$2:$J50,Tableau2[[#This Row],[Date retenue]]),"") -> 44907-2 | N50: EJB
A51: Audition de classe | B51: 49 | J51: 44907 | L51: 18h30 | M51: =IF(Tableau2[[#This Row],[Date retenue]]<>"",Tableau2[[#This Row],[Date retenue]]&"-"&COUNTIF($J$2:$J51,Tableau2[[#This Row],[Date retenue]]),"") -> 44907-3 | N51: AUDITORIUM
A52: Projet Spé | B52: 50 | I52: plus de 80 | J52: 44909 | K52: mi-décembre22 | M52: =IF(Tableau2[[#This Row],[Date retenue]]<>"",Tableau2[[#This Row],[Date retenue]]&"-"&COUNTIF($J$2:$J52,Tableau2[[#This Row],[Date retenue]]),"") -> 44909-1 | N52: Halles
A53: Audition de classe | B53: 51 | J53: 44909 | L53: 19h | M53: =IF(Tableau2[[#This Row],[Date retenue]]<>"",Tableau2[[#This Row],[Date retenue]]&"-"&COUNTIF($J$2:$J53,Tableau2[[#This Row],[Date retenue]]),"") -> 44909-2 | N53: DUTILLEUX
A54: Projet Spé | B54: 52 | I54: entre 20 et 40 | J54: 44910 | K54: Décembre 2022-Janvier 2023 | M54: =IF(Tableau2[[#This Row],[Date retenue]]<>"",Tableau2[[#This Row],[Date retenue]]&"-"&COUNTIF($J$2:$J54,Tableau2[[#This Row],[Date retenue]]),"") -> 44910-1 | N54: HALLES
A55: Audition de classe | B55: 53 | J55: 44911 | L55: 18h30 | M55: =IF(Tableau2[[#This Row],[Date retenue]]<>"",Tableau2[[#This Row],[Date retenue]]&"-"&COUNTIF($J$2:$J55,Tableau2[[#This Row],[Date retenue]]),"") -> 44911-1 | N55: EJB
A56: Audition de classe | B56: 54 | J56: 44912 | M56: =IF(Tableau2[[#This Row],[Date retenue]]<>"",Tableau2[[#This Row],[Date retenue]]&"-"&COUNTIF($J$2:$J56,Tableau2[[#This Row],[Date retenue]]),"") -> 44912-1 | N56: AUDITORIUM
A57: Echange pédagogique | B57: 55 | I57: entre 40 et 80 | J57: 44927 | K57: janvier-Février 2023 | M57: =IF(Tableau2[[#This Row],[Date retenue]]<>"",Tableau2[[#This Row],[Date retenue]]&"-"&COUNTIF($J$2:$J57,Tableau2[[#This Row],[Date retenue]]),"") -> 44927-1 | N57: Bourg La Reine
A58: Stage | B58: 56 | J58: 45055 | K58: 9, 10 11 et 12 mai | L58: 19h00 | M58: =IF(Tableau2[[#This Row],[Date retenue]]<>"",Tableau2[[#This Row],[Date retenue]]&"-"&COUNTIF($J$2:$J58,Tableau2[[#This Row],[Date retenue]]),"") -> 45055-1 | N58: Molière
A59: Projet Spé | B59: 57 | J59: 44927 | K59: à définir : entre janvier et juin 2023 | M59: =IF(Tableau2[[#This Row],[Date retenue]]<>"",Tableau2[[#This Row],[Date retenue]]&"-"&COUNTIF($J$2:$J59,Tableau2[[#This Row],[Date retenue]]),"") -> 44927-2 | N59: Théâtre Olympia
A60: Stage | B60: 58 | J60: 44927 | K60: à définir : entre janvier et juin 2023 | M60: =IF(Tableau2[[#This Row],[Date retenue]]<>"",Tableau2[[#This Row],[Date retenue]]&"-"&COUNTIF($J$2:$J60,Tableau2[[#This Row],[Date retenue]]),"") -> 44927-3 | N60: Molière
A61: Stage | B61: 59 | J61: 44927 | K61: à définir : entre janvier et juin 2023 | M61: =IF(Tableau2[[#This Row],[Date retenue]]<>"",Tableau2[[#This Row],[Date retenue]]&"-"&COUNTIF($J$2:$J61,Tableau2[[#This Row],[Date retenue]]),"") -> 44927-4 | N61: Molière
A62: Projet Spé | B62: 60 | J62: 45082 | L62: 19h00 | M62: =IF(Tableau2[[#This Row],[Date retenue]]<>"",Tableau2[[#This Row],[Date retenue]]&"-"&COUNTIF($J$2:$J62,Tableau2[[#This Row],[Date retenue]]),"") -> 45082-1 | N62: Molière
A63: Projet Spé | B63: 61 | J63: 45077 | K63: 31 mai + 1er juin | L63: 19h | M63: =IF(Tableau2[[#This Row],[Date retenue]]<>"",Tableau2[[#This Row],[Date retenue]]&"-"&COUNTIF($J$2:$J63,Tableau2[[#This Row],[Date retenue]]),"") -> 45077-1 | N63: EJB + Moliere
A64: Projet Spé | B64: 62 | J64: 45073 | K64: à définir : entre janvier et juin 2023 | M64: =IF(Tableau2[[#This Row],[Date retenue]]<>"",Tableau2[[#This Row],[Date retenue]]&"-"&COUNTIF($J$2:$J64,Tableau2[[#This Row],[Date retenue]]),"") -> 45073-1 | N64: Volapuk
A65: Master classe | B65: 63 | J65: 44935 | M65: =IF(Tableau2[[#This Row],[Date retenue]]<>"",Tableau2[[#This Row],[Date retenue]]&"-"&COUNTIF($J$2:$J65,Tableau2[[#This Row],[Date retenue]]),"") -> 44935-1 | N65: AUDITORIUM
A66: Master classe | B66: 64 | J66: 44936 | M66: =IF(Tableau2[[#This Row],[Date retenue]]<>"",Tableau2[[#This Row],[Date retenue]]&"-"&COUNTIF($J$2:$J66,Tableau2[[#This Row],[Date retenue]]),"") -> 44936-1 | N66: AUDITORIUM
A67: Projet Spé | B67: 65 | I67: 50 minimum | J67: 44936 | K67: répets : jeudi 5/01 et lundi 9/01 (avec scolaires ?) 9h15-16h… cd pb 2 representations le mardi 10 à 18 et 19h30 | M67: =IF(Tableau2[[#This Row],[Date retenue]]<>"",Tableau2[[#This Row],[Date retenue]]&"-"&COUNTIF($J$2:$J67,Tableau2[[#This Row],[Date retenue]]),"") -> 44936-2 | N67: EJB
A68: Projet Spé | B68: 66 | J68: 44937 | M68: =IF(Tableau2[[#This Row],[Date retenue]]<>"",Tableau2[[#This Row],[Date retenue]]&"-"&COUNTIF($J$2:$J68,Tableau2[[#This Row],[Date retenue]]),"") -> 44937-1 | N68: Ockeghem
A69: Audition de classe | B69: 67 | J69: 44938 | L69: 18h30 | M69: =IF(Tableau2[[#This Row],[Date retenue]]<>"",Tableau2[[#This Row],[Date retenue]]&"-"&COUNTIF($J$2:$J69,Tableau2[[#This Row],[Date retenue]]),"") -> 44938-1 | N69: AUDITORIUM
A70: PRÊT DE SALLE | B70: 68 | I70: / | J70: 44940 | K70: du 12 au 14 janvier | M70: =IF(Tableau2[[#This Row],[Date retenue]]<>"",Tableau2[[#This Row],[Date retenue]]&"-"&COUNTIF($J$2:$J70,Tableau2[[#This Row],[Date retenue]]),"") -> 44940-1 | N70: EJB
A71: Audition de classe | B71: 69 | J71: 44942 | L71: 18h30 | M71: =IF(Tableau2[[#This Row],[Date retenue]]<>"",Tableau2[[#This Row],[Date retenue]]&"-"&COUNTIF($J$2:$J71,Tableau2[[#This Row],[Date retenue]]),"") -> 44942-1 | N71: AUDITORIUM
A72: Projet Spé | B72: 70 | I72: entre 20 et 40 | J72: 44943 | K72: Janvier 2023 | M72: =IF(Tableau2[[#This Row],[Date retenue]]<>"",Tableau2[[#This Row],[Date retenue]]&"-"&COUNTIF($J$2:$J72,Tableau2[[#This Row],[Date retenue]]),"") -> 44943-1 | N72: EJB
A73: DATE OCKEGHEM LIBRE | B73: 71 | J73: 44944 | M73: =IF(Tableau2[[#This Row],[Date retenue]]<>"",Tableau2[[#This Row],[Date retenue]]&"-"&COUNTIF($J$2:$J73,Tableau2[[#This Row],[Date retenue]]),"") -> 44944-1 | N73: OCKEGHEM
A74: Projet Spé | B74: 72 | I74: entre 40 et 80 | J74: 44945 | K74: Juste avant vacances de noël ou janvier fevrier | M74: =IF(Tableau2[[#This Row],[Date retenue]]<>"",Tableau2[[#This Row],[Date retenue]]&"-"&COUNTIF($J$2:$J74,Tableau2[[#This Row],[Date retenue]]),"") -> 44945-1 | N74: EJB
A75: Audition de classe | B75: 73 | J75: 44946 | L75: 18h30 | M75: =IF(Tableau2[[#This Row],[Date retenue]]<>"",Tableau2[[#This Row],[Date retenue]]&"-"&COUNTIF($J$2:$J75,Tableau2[[#This Row],[Date retenue]]),"") -> 44946-1 | N75: Auditorium
A76: Audition de classe | B76: 74 | J76: 44947 | L76: 15h | M76: =IF(Tableau2[[#This Row],[Date retenue]]<>"",Tableau2[[#This Row],[Date retenue]]&"-"&COUNTIF($J$2:$J76,Tableau2[[#This Row],[Date retenue]]),"") -> 44947-1 | N76: AUDITORIUM
A77: Audition de classe | B77: 75 | J77: 44950 | L77: 18h30 | M77: =IF(Tableau2[[#This Row],[Date retenue]]<>"",Tableau2[[#This Row],[Date retenue]]&"-"&COUNTIF($J$2:$J77,Tableau2[[#This Row],[Date retenue]]),"") -> 44950-1 | N77: Dupré
A78: Audition Ockeghem | B78: 76 | J78: 44951 | L78: 18h30 | M78: =IF(Tableau2[[#This Row],[Date retenue]]<>"",Tableau2[[#This Row],[Date retenue]]&"-"&COUNTIF($J$2:$J78,Tableau2[[#This Row],[Date retenue]]),"") -> 44951-1 | N78: OCKEGHEM
A79: Projet Spé | B79: 77 | J79: 44953 | K79: dernier vendredi de janvier | M79: =IF(Tableau2[[#This Row],[Date retenue]]<>"",Tableau2[[#This Row],[Date retenue]]&"-"&COUNTIF($J$2:$J79,Tableau2[[#This Row],[Date retenue]]),"") -> 44953-1 | N79: Chapelle +auditorium + Moliere + amphi Fac + autre ?
A80: Audition transversale | B80: 78 | J80: 44957 | M80: =IF(Tableau2[[#This Row],[Date retenue]]<>"",Tableau2[[#This Row],[Date retenue]]&"-"&COUNTIF($J$2:$J80,Tableau2[[#This Row],[Date retenue]]),"") -> 44957-1 | N80: EJB
A81: Master classe | B81: 79 | J81: 44958 | M81: =IF(Tableau2[[#This Row],[Date retenue]]<>"",Tableau2[[#This Row],[Date retenue]]&"-"&COUNTIF($J$2:$J81,Tableau2[[#This Row],[Date retenue]]),"") -> 44958-1 | N81: EJB
A82: Audition Ockeghem | B82: 80 | J82: 44958 | L82: 18h30 | M82: =IF(Tableau2[[#This Row],[Date retenue]]<>"",Tableau2[[#This Row],[Date retenue]]&"-"&COUNTIF($J$2:$J82,Tableau2[[#This Row],[Date retenue]]),"") -> 44958-2 | N82: OCKEGHEM
A83: Projet Spé | B83: 81 | J83: 44958 | M83: =IF(Tableau2[[#This Row],[Date retenue]]<>"",Tableau2[[#This Row],[Date retenue]]&"-"&COUNTIF($J$2:$J83,Tableau2[[#This Row],[Date retenue]]),"") -> 44958-3 | N83: BJYC
A84: Conférence | B84: 82 | J84: 44959 | M84: =IF(Tableau2[[#This Row],[Date retenue]]<>"",Tableau2[[#This Row],[Date retenue]]&"-"&COUNTIF($J$2:$J84,Tableau2[[#This Row],[Date retenue]]),"") -> 44959-2 | N84: BJYC
A85: Projet Spé | B85: 83 | I85: entre 20 et 40 | J85: 44959 | K85: 2/02 | M85: =IF(Tableau2[[#This Row],[Date retenue]]<>"",Tableau2[[#This Row],[Date retenue]]&"-"&COUNTIF($J$2:$J85,Tableau2[[#This Row],[Date retenue]]),"") -> 44959-3 | N85: EJB
A86: Projet Spé | B86: 84 | I86: entre 10 et 20 | J86: 44959 | K86: Mars /avril 2023 | M86: =IF(Tableau2[[#This Row],[Date retenue]]<>"",Tableau2[[#This Row],[Date retenue]]&"-"&COUNTIF($J$2:$J86,Tableau2[[#This Row],[Date retenue]]),"") -> 44959-4 | N86: EJB
A87: Projet Spé | B87: 85 | J87: 44961 | K87: samedi 4 février 2023 | M87: =IF(Tableau2[[#This Row],[Date retenue]]<>"",Tableau2[[#This Row],[Date retenue]]&"-"&COUNTIF($J$2:$J87,Tableau2[[#This Row],[Date retenue]]),"") -> 44961-1 | N87: HDV
A88: Audition de classe | B88: 86 | J88: 44963 | L88: 18h30 | M88: =IF(Tableau2[[#This Row],[Date retenue]]<>"",Tableau2[[#This Row],[Date retenue]]&"-"&COUNTIF($J$2:$J88,Tableau2[[#This Row],[Date retenue]]),"") -> 44963-1 | N88: AUDITORIUM
A89: Projet Spé | B89: 87 | I89: 30 : 10 percussionistes 17 danseurs 3 comédiens chanteurs ? | J89: 44964 | K89: =+ restitution scolair ele mardi apres midi -> #NAME? | L89: 19h (durée de 45min) | M89: =IF(Tableau2[[#This Row],[Date retenue]]<>"",Tableau2[[#This Row],[Date retenue]]&"-"&COUNTIF($J$2:$J89,Tableau2[[#This Row],[Date retenue]]),"") -> 44964-1 | N89: EJB
A90: Audition de classe | B90: 88 | J90: 44964 | M90: =IF(Tableau2[[#This Row],[Date retenue]]<>"",Tableau2[[#This Row],[Date retenue]]&"-"&COUNTIF($J$2:$J90,Tableau2[[#This Row],[Date retenue]]),"") -> 44964-2 | N90: AUDITORIUM
A91: Audition de classe | B91: 89 | J91: 44965 | L91: 18h | M91: =IF(Tableau2[[#This Row],[Date retenue]]<>"",Tableau2[[#This Row],[Date retenue]]&"-"&COUNTIF($J$2:$J91,Tableau2[[#This Row],[Date retenue]]),"") -> 44965-1 | N91: DUTILLEUX
A92: Audition transversale | B92: 90 | J92: 44966 | M92: =IF(Tableau2[[#This Row],[Date retenue]]<>"",Tableau2[[#This Row],[Date retenue]]&"-"&COUNTIF($J$2:$J92,Tableau2[[#This Row],[Date retenue]]),"") -> 44966-2 | N92: BJYC
A93: Saison Des Enseignants | B93: 91 | I93: / | J93: 44966 | K93: 44966 | M93: =IF(Tableau2[[#This Row],[Date retenue]]<>"",Tableau2[[#This Row],[Date retenue]]&"-"&COUNTIF($J$2:$J93,Tableau2[[#This Row],[Date retenue]]),"") -> 44966-3 | N93: Petit faucheux
A94: Projet Spé | B94: 92 | I94: entre 10 et 20 | J94: 44966 | K94: avant les vacances de février 2023 (fin janvier-début février) | L94: 20h00 | M94: =IF(Tableau2[[#This Row],[Date retenue]]<>"",Tableau2[[#This Row],[Date retenue]]&"-"&COUNTIF($J$2:$J94,Tableau2[[#This Row],[Date retenue]]),"") -> 44966-4 | N94: EJB
A95: Audition de classe | B95: 93 | J95: 44966 | L95: 18h30 | M95: =IF(Tableau2[[#This Row],[Date retenue]]<>"",Tableau2[[#This Row],[Date retenue]]&"-"&COUNTIF($J$2:$J95,Tableau2[[#This Row],[Date retenue]]),"") -> 44966-5 | N95: Auditorium
A96: Audition transversale | B96: 94 | J96: 44967 | M96: =IF(Tableau2[[#This Row],[Date retenue]]<>"",Tableau2[[#This Row],[Date retenue]]&"-"&COUNTIF($J$2:$J96,Tableau2[[#This Row],[Date retenue]]),"") -> 44967-1 | N96: EJB
A97: Projet Spé | B97: 95 | I97: entre 10 et 20 | J97: 44967 | L97: 20h30 | M97: =IF(Tableau2[[#This Row],[Date retenue]]<>"",Tableau2[[#This Row],[Date retenue]]&"-"&COUNTIF($J$2:$J97,Tableau2[[#This Row],[Date retenue]]),"") -> 44967-2 | N97: Salle des fetes Chedigny
A98: Projet Spé | B98: 96 | I98: entre 10 et 20 | J98: 44974 | K98: semaine du 13 au 17/02 | M98: =IF(Tableau2[[#This Row],[Date retenue]]<>"",Tableau2[[#This Row],[Date retenue]]&"-"&COUNTIF($J$2:$J98,Tableau2[[#This Row],[Date retenue]]),"") -> 44974-1 | N98: théatre olympia
A99: Audition de classe | B99: 97 | J99: 44987 | L99: 18h30 | M99: =IF(Tableau2[[#This Row],[Date retenue]]<>"",Tableau2[[#This Row],[Date retenue]]&"-"&COUNTIF($J$2:$J99,Tableau2[[#This Row],[Date retenue]]),"") -> 44987-1 | N99: AUDITORIUM
A100: Audition transversale | B100: 98 | J100: 44991 | M100: =IF(Tableau2[[#This Row],[Date retenue]]<>"",Tableau2[[#This Row],[Date retenue]]&"-"&COUNTIF($J$2:$J100,Tableau2[[#This Row],[Date retenue]]),"") -> 44991-1 | N100: EJB
...

Sheet PLANNING
D1: 1 | E1: 2 | F1: 3 | G1: 4
A2: AOUT | B2: Mardi | C2: 44789 | D2: =IFERROR(INDEX(PROJETS!$B:$B,MATCH($C2&"-"&D$1,PROJETS!$M:$M,0)),"") | E2: =IFERROR(INDEX(PROJETS!$B:$B,MATCH($C2&"-"&E$1,PROJETS!$M:$M,0)),"")
B3: Mercredi | C3: 44790 | D3: =IFERROR(INDEX(PROJETS!$B:$B,MATCH($C3&"-"&D$1,PROJETS!$M:$M,0)),"") | E3: =IFERROR(INDEX(PROJETS!$B:$B,MATCH($C3&"-"&E$1,PROJETS!$M:$M,0)),"")
B4: Jeudi | C4: 44791 | D4: =IFERROR(INDEX(PROJETS!$B:$B,MATCH($C4&"-"&D$1,PROJETS!$M:$M,0)),"") | E4: =IFERROR(INDEX(PROJETS!$B:$B,MATCH($C4&"-"&E$1,PROJETS!$M:$M,0)),"")
B5: Vendredi | C5: 44792 | D5: =IFERROR(INDEX(PROJETS!$B:$B,MATCH($C5&"-"&D$1,PROJETS!$M:$M,0)),"") | E5: =IFERROR(INDEX(PROJETS!$B:$B,MATCH($C5&"-"&E$1,PROJETS!$M:$M,0)),"")
B6: Samedi | C6: 44793 | D6: =IFERROR(INDEX(PROJETS!$B:$B,MATCH($C6&"-"&D$1,PROJETS!$M:$M,0)),"") | E6: =IFERROR(INDEX(PROJETS!$B:$B,MATCH($C6&"-"&E$1,PROJETS!$M:$M,0)),"")
B7: Dimanche | C7: 44794 | D7: =IFERROR(INDEX(PROJETS!$B:$B,MATCH($C7&"-"&D$1,PROJETS!$M:$M,0)),"") | E7: =IFERROR(INDEX(PROJETS!$B:$B,MATCH($C7&"-"&E$1,PROJETS!$M:$M,0)),"") | F7: =IFERROR(INDEX(PROJETS!$B:$B,MATCH($C7&"-"&F$1,PROJETS!$M:$M,0)),"") | G7: =IFERROR(INDEX(PROJETS!$B:$B,MATCH($C7&"-"&G$1,PROJETS!$M:$M,0)),"")
B8: Lundi | C8: 44795 | D8: =IFERROR(INDEX(PROJETS!$B:$B,MATCH($C8&"-"&D$1,PROJETS!$M:$M,0)),"") | E8: =IFERROR(INDEX(PROJETS!$B:$B,MATCH($C8&"-"&E$1,PROJETS!$M:$M,0)),"")
B9: Mardi | C9: 44796 | D9: =IFERROR(INDEX(PROJETS!$B:$B,MATCH($C9&"-"&D$1,PROJETS!$M:$M,0)),"") | E9: =IFERROR(INDEX(PROJETS!$B:$B,MATCH($C9&"-"&E$1,PROJETS!$M:$M,0)),"")
B10: Mercredi | C10: 44797 | D10: =IFERROR(INDEX(PROJETS!$B:$B,MATCH($C10&"-"&D$1,PROJETS!$M:$M,0)),"") | E10: =IFERROR(INDEX(PROJETS!$B:$B,MATCH($C10&"-"&E$1,PROJETS!$M:$M,0)),"")
B11: Jeudi | C11: 44798 | D11: =IFERROR(INDEX(PROJETS!$B:$B,MATCH($C11&"-"&D$1,PROJETS!$M:$M,0)),"") | E11: =IFERROR(INDEX(PROJETS!$B:$B,MATCH($C11&"-"&E$1,PROJETS!$M:$M,0)),"")
B12: Vendredi | C12: 44799 | D12: =IFERROR(INDEX(PROJETS!$B:$B,MATCH($C12&"-"&D$1,PROJETS!$M:$M,0)),"") -> 1 | E12: =IFERROR(INDEX(PROJETS!$B:$B,MATCH($C12&"-"&E$1,PROJETS!$M:$M,0)),"")
B13: Samedi | C13: 44800 | D13: =IFERROR(INDEX(PROJETS!$B:$B,MATCH($C13&"-"&D$1,PROJETS!$M:$M,0)),"") | E13: =IFERROR(INDEX(PROJETS!$B:$B,MATCH($C13&"-"&E$1,PROJETS!$M:$M,0)),"")
B14: Dimanche | C14: 44801 | D14: =IFERROR(INDEX(PROJETS!$B:$B,MATCH($C14&"-"&D$1,PROJETS!$M:$M,0)),"") | E14: =IFERROR(INDEX(PROJETS!$B:$B,MATCH($C14&"-"&E$1,PROJETS!$M:$M,0)),"") | F14: =IFERROR(INDEX(PROJETS!$B:$B,MATCH($C14&"-"&F$1,PROJETS!$M:$M,0)),"") | G14: =IFERROR(INDEX(PROJETS!$B:$B,MATCH($C14&"-"&G$1,PROJETS!$M:$M,0)),"")
B15: Lundi | C15: 44802 | D15: =IFERROR(INDEX(PROJETS!$B:$B,MATCH($C15&"-"&D$1,PROJETS!$M:$M,0)),"") | E15: =IFERROR(INDEX(PROJETS!$B:$B,MATCH($C15&"-"&E$1,PROJETS!$M:$M,0)),"")
B16: Mardi | C16: 44803 | D16: =IFERROR(INDEX(PROJETS!$B:$B,MATCH($C16&"-"&D$1,PROJETS!$M:$M,0)),"") | E16: =IFERROR(INDEX(PROJETS!$B:$B,MATCH($C16&"-"&E$1,PROJETS!$M:$M,0)),"")
B17: Mercredi | C17: 44804 | D17: =IFERROR(INDEX(PROJETS!$B:$B,MATCH($C17&"-"&D$1,PROJETS!$M:$M,0)),"") -> 5 | E17: =IFERROR(INDEX(PROJETS!$B:$B,MATCH($C17&"-"&E$1,PROJETS!$M:$M,0)),"")
A18: SEPTEMBRE | B18: Jeudi | C18: 44805 | D18: =IFERROR(INDEX(PROJETS!$B:$B,MATCH($C18&"-"&D$1,PROJETS!$M:$M,0)),"") -> 6 | E18: =IFERROR(INDEX(PROJETS!$B:$B,MATCH($C18&"-"&E$1,PROJETS!$M:$M,0)),"") -> 7 | F18: =IFERROR(INDEX(PROJETS!$B:$B,MATCH($C18&"-"&F$1,PROJETS!$M:$M,0)),"") -> 8 | G18: =IFERROR(INDEX(PROJETS!$B:$B,MATCH($C18&"-"&G$1,PROJETS!$M:$M,0)),"") -> 9
B19: vendredi | C19: =C18+1 -> 44806 | D19: =IFERROR(INDEX(PROJETS!$B:$B,MATCH($C19&"-"&D$1,PROJETS!$M:$M,0)),"") | E19: =IFERROR(INDEX(PROJETS!$B:$B,MATCH($C19&"-"&E$1,PROJETS!$M:$M,0)),"") | F19: =IFERROR(INDEX(PROJETS!$B:$B,MATCH($C19&"-"&F$1,PROJETS!$M:$M,0)),"") | G19: =IFERROR(INDEX(PROJETS!$B:$B,MATCH($C19&"-"&G$1,PROJETS!$M:$M,0)),"")
B20: samedi | C20: =C19+1 -> 44807 | D20: =IFERROR(INDEX(PROJETS!$B:$B,MATCH($C20&"-"&D$1,PROJETS!$M:$M,0)),"") | E20: =IFERROR(INDEX(PROJETS!$B:$B,MATCH($C20&"-"&E$1,PROJETS!$M:$M,0)),"") | F20: =IFERROR(INDEX(PROJETS!$B:$B,MATCH($C20&"-"&F$1,PROJETS!$M:$M,0)),"") | G20: =IFERROR(INDEX(PROJETS!$B:$B,MATCH($C20&"-"&G$1,PROJETS!$M:$M,0)),"")
B21: dimanche | C21: =C20+1 -> 44808 | D21: =IFERROR(INDEX(PROJETS!$B:$B,MATCH($C21&"-"&D$1,PROJETS!$M:$M,0)),"") | E21: =IFERROR(INDEX(PROJETS!$B:$B,MATCH($C21&"-"&E$1,PROJETS!$M:$M,0)),"") | F21: =IFERROR(INDEX(PROJETS!$B:$B,MATCH($C21&"-"&F$1,PROJETS!$M:$M,0)),"") | G21: =IFERROR(INDEX(PROJETS!$B:$B,MATCH($C21&"-"&G$1,PROJETS!$M:$M,0)),"")
B22: Lundi | C22: =C21+1 -> 44809 | D22: =IFERROR(INDEX(PROJETS!$B:$B,MATCH($C22&"-"&D$1,PROJETS!$M:$M,0)),"") | E22: =IFERROR(INDEX(PROJETS!$B:$B,MATCH($C22&"-"&E$1,PROJETS!$M:$M,0)),"") | F22: =IFERROR(INDEX(PROJETS!$B:$B,MATCH($C22&"-"&F$1,PROJETS!$M:$M,0)),"") | G22: =IFERROR(INDEX(PROJETS!$B:$B,MATCH($C22&"-"&G$1,PROJETS!$M:$M,0)),"")
B23: Mardi | C23: =C22+1 -> 44810 | D23: =IFERROR(INDEX(PROJETS!$B:$B,MATCH($C23&"-"&D$1,PROJETS!$M:$M,0)),"") | E23: =IFERROR(INDEX(PROJETS!$B:$B,MATCH($C23&"-"&E$1,PROJETS!$M:$M,0)),"") | F23: =IFERROR(INDEX(PROJETS!$B:$B,MATCH($C23&"-"&F$1,PROJETS!$M:$M,0)),"") | G23: =IFERROR(INDEX(PROJETS!$B:$B,MATCH($C23&"-"&G$1,PROJETS!$M:$M,0)),"")
B24: Mercredi | C24: =C23+1 -> 44811 | D24: =IFERROR(INDEX(PROJETS!$B:$B,MATCH($C24&"-"&D$1,PROJETS!$M:$M,0)),"") | E24: =IFERROR(INDEX(PROJETS!$B:$B,MATCH($C24&"-"&E$1,PROJETS!$M:$M,0)),"") | F24: =IFERROR(INDEX(PROJETS!$B:$B,MATCH($C24&"-"&F$1,PROJETS!$M:$M,0)),"") | G24: =IFERROR(INDEX(PROJETS!$B:$B,MATCH($C24&"-"&G$1,PROJETS!$M:$M,0)),"")
B25: Jeudi | C25: =C24+1 -> 44812 | D25: =IFERROR(INDEX(PROJETS!$B:$B,MATCH($C25&"-"&D$1,PROJETS!$M:$M,0)),"") | E25: =IFERROR(INDEX(PROJETS!$B:$B,MATCH($C25&"-"&E$1,PROJETS!$M:$M,0)),"") | F25: =IFERROR(INDEX(PROJETS!$B:$B,MATCH($C25&"-"&F$1,PROJETS!$M:$M,0)),"") | G25: =IFERROR(INDEX(PROJETS!$B:$B,MATCH($C25&"-"&G$1,PROJETS!$M:$M,0)),"")
B26: Vendredi | C26: =C25+1 -> 44813 | D26: =IFERROR(INDEX(PROJETS!$B:$B,MATCH($C26&"-"&D$1,PROJETS!$M:$M,0)),"") | E26: =IFERROR(INDEX(PROJETS!$B:$B,MATCH($C26&"-"&E$1,PROJETS!$M:$M,0)),"") | F26: =IFERROR(INDEX(PROJETS!$B:$B,MATCH($C26&"-"&F$1,PROJETS!$M:$M,0)),"") | G26: =IFERROR(INDEX(PROJETS!$B:$B,MATCH($C26&"-"&G$1,PROJETS!$M:$M,0)),"")
B27: Samedi | C27: =C26+1 -> 44814 | D27: =IFERROR(INDEX(PROJETS!$B:$B,MATCH($C27&"-"&D$1,PROJETS!$M:$M,0)),"") | E27: =IFERROR(INDEX(PROJETS!$B:$B,MATCH($C27&"-"&E$1,PROJETS!$M:$M,0)),"") | F27: =IFERROR(INDEX(PROJETS!$B:$B,MATCH($C27&"-"&F$1,PROJETS!$M:$M,0)),"") | G27: =IFERROR(INDEX(PROJETS!$B:$B,MATCH($C27&"-"&G$1,PROJETS!$M:$M,0)),"")
B28: Dimanche | C28: =C27+1 -> 44815 | D28: =IFERROR(INDEX(PROJETS!$B:$B,MATCH($C28&"-"&D$1,PROJETS!$M:$M,0)),"") | E28: =IFERROR(INDEX(PROJETS!$B:$B,MATCH($C28&"-"&E$1,PROJETS!$M:$M,0)),"") | F28: =IFERROR(INDEX(PROJETS!$B:$B,MATCH($C28&"-"&F$1,PROJETS!$M:$M,0)),"") | G28: =IFERROR(INDEX(PROJETS!$B:$B,MATCH($C28&"-"&G$1,PROJETS!$M:$M,0)),"")
B29: Lundi | C29: =C28+1 -> 44816 | D29: =IFERROR(INDEX(PROJETS!$B:$B,MATCH($C29&"-"&D$1,PROJETS!$M:$M,0)),"") | E29: =IFERROR(INDEX(PROJETS!$B:$B,MATCH($C29&"-"&E$1,PROJETS!$M:$M,0)),"") | F29: =IFERROR(INDEX(PROJETS!$B:$B,MATCH($C29&"-"&F$1,PROJETS!$M:$M,0)),"") | G29: =IFERROR(INDEX(PROJETS!$B:$B,MATCH($C29&"-"&G$1,PROJETS!$M:$M,0)),"")
B30: Mardi | C30: =C29+1 -> 44817 | D30: =IFERROR(INDEX(PROJETS!$B:$B,MATCH($C30&"-"&D$1,PROJETS!$M:$M,0)),"") | E30: =IFERROR(INDEX(PROJETS!$B:$B,MATCH($C30&"-"&E$1,PROJETS!$M:$M,0)),"") | F30: =IFERROR(INDEX(PROJETS!$B:$B,MATCH($C30&"-"&F$1,PROJETS!$M:$M,0)),"") | G30: =IFERROR(INDEX(PROJETS!$B:$B,MATCH($C30&"-"&G$1,PROJETS!$M:$M,0)),"")
... B47: Vendredi | C47: =C46+1 -> 44834 | D47: =IFERROR(INDEX(PROJETS!$B:$B,MATCH($C47&"-"&D$1,PROJETS!$M:$M,0)),"") | E47: =IFERROR(INDEX(PROJETS!$B:$B,MATCH($C47&"-"&E$1,PROJETS!$M:$M,0)),"") | F47: =IFERROR(INDEX(PROJETS!$B:$B,MATCH($C47&"-"&F$1,PROJETS!$M:$M,0)),"") | G47: =IFERROR(INDEX(PROJETS!$B:$B,MATCH($C47&"-"&G$1,PROJETS!$M:$M,0)),"")
A48: OCTOBRE | B48: Samedi | C48: =C47+1 -> 44835 | D48: =IFERROR(INDEX(PROJETS!$B:$B,MATCH($C48&"-"&D$1,PROJETS!$M:$M,0)),"") -> 13 | E48: =IFERROR(INDEX(PROJETS!$B:$B,MATCH($C48&"-"&E$1,PROJETS!$M:$M,0)),"") | F48: =IFERROR(INDEX(PROJETS!$B:$B,MATCH($C48&"-"&F$1,PROJETS!$M:$M,0)),"") | G48: =IFERROR(INDEX(PROJETS!$B:$B,MATCH($C48&"-"&G$1,PROJETS!$M:$M,0)),"")
B49: Dimanche | C49: =C48+1 -> 44836 | D49: =IFERROR(INDEX(PROJETS!$B:$B,MATCH($C49&"-"&D$1,PROJETS!$M:$M,0)),"") | E49: =IFERROR(INDEX(PROJETS!$B:$B,MATCH($C49&"-"&E$1,PROJETS!$M:$M,0)),"") | F49: =IFERROR(INDEX(PROJETS!$B:$B,MATCH($C49&"-"&F$1,PROJETS!$M:$M,0)),"") | G49: =IFERROR(INDEX(PROJETS!$B:$B,MATCH($C49&"-"&G$1,PROJETS!$M:$M,0)),"")
B50: Lundi | C50: =C49+1 -> 44837 | D50: =IFERROR(INDEX(PROJETS!$B:$B,MATCH($C50&"-"&D$1,PROJETS!$M:$M,0)),"") | E50: =IFERROR(INDEX(PROJETS!$B:$B,MATCH($C50&"-"&E$1,PROJETS!$M:$M,0)),"") | F50: =IFERROR(INDEX(PROJETS!$B:$B,MATCH($C50&"-"&F$1,PROJETS!$M:$M,0)),"") | G50: =IFERROR(INDEX(PROJETS!$B:$B,MATCH($C50&"-"&G$1,PROJETS!$M:$M,0)),"")
B51: Mardi | C51: =C50+1 -> 44838 | D51: =IFERROR(INDEX(PROJETS!$B:$B,MATCH($C51&"-"&D$1,PROJETS!$M:$M,0)),"") | E51: =IFERROR(INDEX(PROJETS!$B:$B,MATCH($C51&"-"&E$1,PROJETS!$M:$M,0)),"") | F51: =IFERROR(INDEX(PROJETS!$B:$B,MATCH($C51&"-"&F$1,PROJETS!$M:$M,0)),"") | G51: =IFERROR(INDEX(PROJETS!$B:$B,MATCH($C51&"-"&G$1,PROJETS!$M:$M,0)),"")
B52: Mercredi | C52: =C51+1 -> 44839 | D52: =IFERROR(INDEX(PROJETS!$B:$B,MATCH($C52&"-"&D$1,PROJETS!$M:$M,0)),"") | E52: =IFERROR(INDEX(PROJETS!$B:$B,MATCH($C52&"-"&E$1,PROJETS!$M:$M,0)),"") | F52: =IFERROR(INDEX(PROJETS!$B:$B,MATCH($C52&"-"&F$1,PROJETS!$M:$M,0)),"") | G52: =IFERROR(INDEX(PROJETS!$B:$B,MATCH($C52&"-"&G$1,PROJETS!$M:$M,0)),"")
B53: Jeudi | C53: =C52+1 -> 44840 | D53: =IFERROR(INDEX(PROJETS!$B:$B,MATCH($C53&"-"&D$1,PROJETS!$M:$M,0)),"") -> 14 | E53: =IFERROR(INDEX(PROJETS!$B:$B,MATCH($C53&"-"&E$1,PROJETS!$M:$M,0)),"") | F53: =IFERROR(INDEX(PROJETS!$B:$B,MATCH($C53&"-"&F$1,PROJETS!$M:$M,0)),"") | G53: =IFERROR(INDEX(PROJETS!$B:$B,MATCH($C53&"-"&G$1,PROJETS!$M:$M,0)),"")
B54: Vendredi | C54: =C53+1 -> 44841 | D54: =IFERROR(INDEX(PROJETS!$B:$B,MATCH($C54&"-"&D$1,PROJETS!$M:$M,0)),"") | E54: =IFERROR(INDEX(PROJETS!$B:$B,MATCH($C54&"-"&E$1,PROJETS!$M:$M,0)),"") | F54: =IFERROR(INDEX(PROJETS!$B:$B,MATCH($C54&"-"&F$1,PROJETS!$M:$M,0)),"") | G54: =IFERROR(INDEX(PROJETS!$B:$B,MATCH($C54&"-"&G$1,PROJETS!$M:$M,0)),"")
B55: Samedi | C55: =C54+1 -> 44842 | D55: =IFERROR(INDEX(PROJETS!$B:$B,MATCH($C55&"-"&D$1,PROJETS!$M:$M,0)),"") -> 15 | E55: =IFERROR(INDEX(PROJETS!$B:$B,MATCH($C55&"-"&E$1,PROJETS!$M:$M,0)),"") | F55: =IFERROR(INDEX(PROJETS!$B:$B,MATCH($C55&"-"&F$1,PROJETS!$M:$M,0)),"") | G55: =IFERROR(INDEX(PROJETS!$B:$B,MATCH($C55&"-"&G$1,PROJETS!$M:$M,0)),"")
B56: Dimanche | C56: =C55+1 -> 44843 | D56: =IFERROR(INDEX(PROJETS!$B:$B,MATCH($C56&"-"&D$1,PROJETS!$M:$M,0)),"") | E56: =IFERROR(INDEX(PROJETS!$B:$B,MATCH($C56&"-"&E$1,PROJETS!$M:$M,0)),"") | F56: =IFERROR(INDEX(PROJETS!$B:$B,MATCH($C56&"-"&F$1,PROJETS!$M:$M,0)),"") | G56: =IFERROR(INDEX(PROJETS!$B:$B,MATCH($C56&"-"&G$1,PROJETS!$M:$M,0)),"")
B57: Lundi | C57: =C56+1 -> 44844 | D57: =IFERROR(INDEX(PROJETS!$B:$B,MATCH($C57&"-"&D$1,PROJETS!$M:$M,0)),"") -> 16 | E57: =IFERROR(INDEX(PROJETS!$B:$B,MATCH($C57&"-"&E$1,PROJETS!$M:$M,0)),"") | F57: =IFERROR(INDEX(PROJETS!$B:$B,MATCH($C57&"-"&F$1,PROJETS!$M:$M,0)),"") | G57: =IFERROR(INDEX(PROJETS!$B:$B,MATCH($C57&"-"&G$1,PROJETS!$M:$M,0)),"")
B58: Mardi | C58: =C57+1 -> 44845 | D58: =IFERROR(INDEX(PROJETS!$B:$B,MATCH($C58&"-"&D$1,PROJETS!$M:$M,0)),"") | E58: =IFERROR(INDEX(PROJETS!$B:$B,MATCH($C58&"-"&E$1,PROJETS!$M:$M,0)),"") | F58: =IFERROR(INDEX(PROJETS!$B:$B,MATCH($C58&"-"&F$1,PROJETS!$M:$M,0)),"") | G58: =IFERROR(INDEX(PROJETS!$B:$B,MATCH($C58&"-"&G$1,PROJETS!$M:$M,0)),"")
B59: Mercredi | C59: =C58+1 -> 44846 | D59: =IFERROR(INDEX(PROJETS!$B:$B,MATCH($C59&"-"&D$1,PROJETS!$M:$M,0)),"") | E59: =IFERROR(INDEX(PROJETS!$B:$B,MATCH($C59&"-"&E$1,PROJETS!$M:$M,0)),"") | F59: =IFERROR(INDEX(PROJETS!$B:$B,MATCH($C59&"-"&F$1,PROJETS!$M:$M,0)),"") | G59: =IFERROR(INDEX(PROJETS!$B:$B,MATCH($C59&"-"&G$1,PROJETS!$M:$M,0)),"")
B60: Jeudi | C60: =C59+1 -> 44847 | D60: =IFERROR(INDEX(PROJETS!$B:$B,MATCH($C60&"-"&D$1,PROJETS!$M:$M,0)),"") -> 17 | E60: =IFERROR(INDEX(PROJETS!$B:$B,MATCH($C60&"-"&E$1,PROJETS!$M:$M,0)),"") | F60: =IFERROR(INDEX(PROJETS!$B:$B,MATCH($C60&"-"&F$1,PROJETS!$M:$M,0)),"") | G60: =IFERROR(INDEX(PROJETS!$B:$B,MATCH($C60&"-"&G$1,PROJETS!$M:$M,0)),"")
... B78: Lundi | C78: =C77+1 -> 44865 | D78: =IFERROR(INDEX(PROJETS!$B:$B,MATCH($C78&"-"&D$1,PROJETS!$M:$M,0)),"") | E78: =IFERROR(INDEX(PROJETS!$B:$B,MATCH($C78&"-"&E$1,PROJETS!$M:$M,0)),"") | F78: =IFERROR(INDEX(PROJETS!$B:$B,MATCH($C78&"-"&F$1,PROJETS!$M:$M,0)),"") | G78: =IFERROR(INDEX(PROJETS!$B:$B,MATCH($C78&"-"&G$1,PROJETS!$M:$M,0)),"")
A79: NOVEMBRE | B79: Mardi | C79: =C78+1 -> 44866 | D79: =IFERROR(INDEX(PROJETS!$B:$B,MATCH($C79&"-"&D$1,PROJETS!$M:$M,0)),"") | E79: =IFERROR(INDEX(PROJETS!$B:$B,MATCH($C79&"-"&E$1,PROJETS!$M:$M,0)),"") | F79: =IFERROR(INDEX(PROJETS!$B:$B,MATCH($C79&"-"&F$1,PROJETS!$M:$M,0)),"") | G79: =IFERROR(INDEX(PROJETS!$B:$B,MATCH($C79&"-"&G$1,PROJETS!$M:$M,0)),"")
B80: Mercredi | C80: =C79+1 -> 44867 | D80: =IFERROR(INDEX(PROJETS!$B:$B,MATCH($C80&"-"&D$1,PROJETS!$M:$M,0)),"") | E80: =IFERROR(INDEX(PROJETS!$B:$B,MATCH($C80&"-"&E$1,PROJETS!$M:$M,0)),"") | F80: =IFERROR(INDEX(PROJETS!$B:$B,MATCH($C80&"-"&F$1,PROJETS!$M:$M,0)),"") | G80: =IFERROR(INDEX(PROJETS!$B:$B,MATCH($C80&"-"&G$1,PROJETS!$M:$M,0)),"")
B81: Jeudi | C81: =C80+1 -> 44868 | D81: =IFERROR(INDEX(PROJETS!$B:$B,MATCH($C81&"-"&D$1,PROJETS!$M:$M,0)),"") | E81: =IFERROR(INDEX(PROJETS!$B:$B,MATCH($C81&"-"&E$1,PROJETS!$M:$M,0)),"") | F81: =IFERROR(INDEX(PROJETS!$B:$B,MATCH($C81&"-"&F$1,PROJETS!$M:$M,0)),"") | G81: =IFERROR(INDEX(PROJETS!$B:$B,MATCH($C81&"-"&G$1,PROJETS!$M:$M,0)),"")
B82: Vendredi | C82: =C81+1 -> 44869 | D82: =IFERROR(INDEX(PROJETS!$B:$B,MATCH($C82&"-"&D$1,PROJETS!$M:$M,0)),"") | E82: =IFERROR(INDEX(PROJETS!$B:$B,MATCH($C82&"-"&E$1,PROJETS!$M:$M,0)),"") | F82: =IFERROR(INDEX(PROJETS!$B:$B,MATCH($C82&"-"&F$1,PROJETS!$M:$M,0)),"") | G82: =IFERROR(INDEX(PROJETS!$B:$B,MATCH($C82&"-"&G$1,PROJETS!$M:$M,0)),"")
B83: Samedi | C83: =C82+1 -> 44870 | D83: =IFERROR(INDEX(PROJETS!$B:$B,MATCH($C83&"-"&D$1,PROJETS!$M:$M,0)),"") | E83: =IFERROR(INDEX(PROJETS!$B:$B,MATCH($C83&"-"&E$1,PROJETS!$M:$M,0)),"") | F83: =IFERROR(INDEX(PROJETS!$B:$B,MATCH($C83&"-"&F$1,PROJETS!$M:$M,0)),"") | G83: =IFERROR(INDEX(PROJETS!$B:$B,MATCH($C83&"-"&G$1,PROJETS!$M:$M,0)),"")
B84: Dimanche | C84: =C83+1 -> 44871 | D84: =IFERROR(INDEX(PROJETS!$B:$B,MATCH($C84&"-"&D$1,PROJETS!$M:$M,0)),"") | E84: =IFERROR(INDEX(PROJETS!$B:$B,MATCH($C84&"-"&E$1,PROJETS!$M:$M,0)),"") | F84: =IFERROR(INDEX(PROJETS!$B:$B,MATCH($C84&"-"&F$1,PROJETS!$M:$M,0)),"") | G84: =IFERROR(INDEX(PROJETS!$B:$B,MATCH($C84&"-"&G$1,PROJETS!$M:$M,0)),"")
B85: Lundi | C85: =C84+1 -> 44872 | D85: =IFERROR(INDEX(PROJETS!$B:$B,MATCH($C85&"-"&D$1,PROJETS!$M:$M,0)),"") | E85: =IFERROR(INDEX(PROJETS!$B:$B,MATCH($C85&"-"&E$1,PROJETS!$M:$M,0)),"") | F85: =IFERROR(INDEX(PROJETS!$B:$B,MATCH($C85&"-"&F$1,PROJETS!$M:$M,0)),"") | G85: =IFERROR(INDEX(PROJETS!$B:$B,MATCH($C85&"-"&G$1,PROJETS!$M:$M,0)),"")
B86: Mardi | C86: =C85+1 -> 44873 | D86: =IFERROR(INDEX(PROJETS!$B:$B,MATCH($C86&"-"&D$1,PROJETS!$M:$M,0)),"") | E86: =IFERROR(INDEX(PROJETS!$B:$B,MATCH($C86&"-"&E$1,PROJETS!$M:$M,0)),"") | F86: =IFERROR(INDEX(PROJETS!$B:$B,MATCH($C86&"-"&F$1,PROJETS!$M:$M,0)),"") | G86: =IFERROR(INDEX(PROJETS!$B:$B,MATCH($C86&"-"&G$1,PROJETS!$M:$M,0)),"")
B87: Mercredi | C87: =C86+1 -> 44874 | D87: =IFERROR(INDEX(PROJETS!$B:$B,MATCH($C87&"-"&D$1,PROJETS!$M:$M,0)),"") | E87: =IFERROR(INDEX(PROJETS!$B:$B,MATCH($C87&"-"&E$1,PROJETS!$M:$M,0)),"") | F87: =IFERROR(INDEX(PROJETS!$B:$B,MATCH($C87&"-"&F$1,PROJETS!$M:$M,0)),"") | G87: =IFERROR(INDEX(PROJETS!$B:$B,MATCH($C87&"-"&G$1,PROJETS!$M:$M,0)),"")
B88: Jeudi | C88: =C87+1 -> 44875 | D88: =IFERROR(INDEX(PROJETS!$B:$B,MATCH($C88&"-"&D$1,PROJETS!$M:$M,0)),"") | E88: =IFERROR(INDEX(PROJETS!$B:$B,MATCH($C88&"-"&E$1,PROJETS!$M:$M,0)),"") | F88: =IFERROR(INDEX(PROJETS!$B:$B,MATCH($C88&"-"&F$1,PROJETS!$M:$M,0)),"") | G88: =IFERROR(INDEX(PROJETS!$B:$B,MATCH($C88&"-"&G$1,PROJETS!$M:$M,0)),"")
B89: Vendredi | C89: =C88+1 -> 44876 | D89: =IFERROR(INDEX(PROJETS!$B:$B,MATCH($C89&"-"&D$1,PROJETS!$M:$M,0)),"") | E89: =IFERROR(INDEX(PROJETS!$B:$B,MATCH($C89&"-"&E$1,PROJETS!$M:$M,0)),"") | F89: =IFERROR(INDEX(PROJETS!$B:$B,MATCH($C89&"-"&F$1,PROJETS!$M:$M,0)),"") | G89: =IFERROR(INDEX(PROJETS!$B:$B,MATCH($C89&"-"&G$1,PROJETS!$M:$M,0)),"")
B90: Samedi | C90: =C89+1 -> 44877 | D90: =IFERROR(INDEX(PROJETS!$B:$B,MATCH($C90&"-"&D$1,PROJETS!$M:$M,0)),"") | E90: =IFERROR(INDEX(PROJETS!$B:$B,MATCH($C90&"-"&E$1,PROJETS!$M:$M,0)),"") | F90: =IFERROR(INDEX(PROJETS!$B:$B,MATCH($C90&"-"&F$1,PROJETS!$M:$M,0)),"") | G90: =IFERROR(INDEX(PROJETS!$B:$B,MATCH($C90&"-"&G$1,PROJETS!$M:$M,0)),"")
B91: Dimanche | C91: =C90+1 -> 44878 | D91: =IFERROR(INDEX(PROJETS!$B:$B,MATCH($C91&"-"&D$1,PROJETS!$M:$M,0)),"") | E91: =IFERROR(INDEX(PROJETS!$B:$B,MATCH($C91&"-"&E$1,PROJETS!$M:$M,0)),"") | F91: =IFERROR(INDEX(PROJETS!$B:$B,MATCH($C91&"-"&F$1,PROJETS!$M:$M,0)),"") | G91: =IFERROR(INDEX(PROJETS!$B:$B,MATCH($C91&"-"&G$1,PROJETS!$M:$M,0)),"")
... B108: Mercredi | C108: =C107+1 -> 44895 | D108: =IFERROR(INDEX(PROJETS!$B:$B,MATCH($C108&"-"&D$1,PROJETS!$M:$M,0)),"") -> 35 | E108: =IFERROR(INDEX(PROJETS!$B:$B,MATCH($C108&"-"&E$1,PROJETS!$M:$M,0)),"") | F108: =IFERROR(INDEX(PROJETS!$B:$B,MATCH($C108&"-"&F$1,PROJETS!$M:$M,0)),"") | G108: =IFERROR(INDEX(PROJETS!$B:$B,MATCH($C108&"-"&G$1,PROJETS!$M:$M,0)),"")
A109: DECEMBRE | B109: Jeudi | C109: =C108+1 -> 44896 | D109: =IFERROR(INDEX(PROJETS!$B:$B,MATCH($C109&"-"&D$1,PROJETS!$M:$M,0)),"") -> 36 | E109: =IFERROR(INDEX(PROJETS!$B:$B,MATCH($C109&"-"&E$1,PROJETS!$M:$M,0)),"") | F109: =IFERROR(INDEX(PROJETS!$B:$B,MATCH($C109&"-"&F$1,PROJETS!$M:$M,0)),"") | G109: =IFERROR(INDEX(PROJETS!$B:$B,MATCH($C109&"-"&G$1,PROJETS!$M:$M,0)),"")
B110: Vendredi | C110: =C109+1 -> 44897 | D110: =IFERROR(INDEX(PROJETS!$B:$B,MATCH($C110&"-"&D$1,PROJETS!$M:$M,0)),"") -> 37 | E110: =IFERROR(INDEX(PROJETS!$B:$B,MATCH($C110&"-"&E$1,PROJETS!$M:$M,0)),"") | F110: =IFERROR(INDEX(PROJETS!$B:$B,MATCH($C110&"-"&F$1,PROJETS!$M:$M,0)),"") | G110: =IFERROR(INDEX(PROJETS!$B:$B,MATCH($C110&"-"&G$1,PROJETS!$M:$M,0)),"")
B111: Samedi | C111: =C110+1 -> 44898 | D111: =IFERROR(INDEX(PROJETS!$B:$B,MATCH($C111&"-"&D$1,PROJETS!$M:$M,0)),"") | E111: =IFERROR(INDEX(PROJETS!$B:$B,MATCH($C111&"-"&E$1,PROJETS!$M:$M,0)),"") | F111: =IFERROR(INDEX(PROJETS!$B:$B,MATCH($C111&"-"&F$1,PROJETS!$M:$M,0)),"") | G111: =IFERROR(INDEX(PROJETS!$B:$B,MATCH($C111&"-"&G$1,PROJETS!$M:$M,0)),"")
B112: Dimanche | C112: =C111+1 -> 44899 | D112: =IFERROR(INDEX(PROJETS!$B:$B,MATCH($C112&"-"&D$1,PROJETS!$M:$M,0)),"") -> 38 | E112: =IFERROR(INDEX(PROJETS!$B:$B,MATCH($C112&"-"&E$1,PROJETS!$M:$M,0)),"") | F112: =IFERROR(INDEX(PROJETS!$B:$B,MATCH($C112&"-"&F$1,PROJETS!$M:$M,0)),"") | G112: =IFERROR(INDEX(PROJETS!$B:$B,MATCH($C112&"-"&G$1,PROJETS!$M:$M,0)),"")
B113: Lundi | C113: =C112+1 -> 44900 | D113: =IFERROR(INDEX(PROJETS!$B:$B,MATCH($C113&"-"&D$1,PROJETS!$M:$M,0)),"") -> 39 | E113: =IFERROR(INDEX(PROJETS!$B:$B,MATCH($C113&"-"&E$1,PROJETS!$M:$M,0)),"") | F113: =IFERROR(INDEX(PROJETS!$B:$B,MATCH($C113&"-"&F$1,PROJETS!$M:$M,0)),"") | G113: =IFERROR(INDEX(PROJETS!$B:$B,MATCH($C113&"-"&G$1,PROJETS!$M:$M,0)),"")
B114: Mardi | C114: =C113+1 -> 44901 | D114: =IFERROR(INDEX(PROJETS!$B:$B,MATCH($C114&"-"&D$1,PROJETS!$M:$M,0)),"") -> 40 | E114: =IFERROR(INDEX(PROJETS!$B:$B,MATCH($C114&"-"&E$1,PROJETS!$M:$M,0)),"") -> 41 | F114: =IFERROR(INDEX(PROJETS!$B:$B,MATCH($C114&"-"&F$1,PROJETS!$M:$M,0)),"") -> 42 | G114: =IFERROR(INDEX(PROJETS!$B:$B,MATCH($C114&"-"&G$1,PROJETS!$M:$M,0)),"") -> 43
B115: Mercredi | C115: =C114+1 -> 44902 | D115: =IFERROR(INDEX(PROJETS!$B:$B,MATCH($C115&"-"&D$1,PROJETS!$M:$M,0)),"") | E115: =IFERROR(INDEX(PROJETS!$B:$B,MATCH($C115&"-"&E$1,PROJETS!$M:$M,0)),"") | F115: =IFERROR(INDEX(PROJETS!$B:$B,MATCH($C115&"-"&F$1,PROJETS!$M:$M,0)),"") | G115: =IFERROR(INDEX(PROJETS!$B:$B,MATCH($C115&"-"&G$1,PROJETS!$M:$M,0)),"")
B116: Jeudi | C116: =C115+1 -> 44903 | D116: =IFERROR(INDEX(PROJETS!$B:$B,MATCH($C116&"-"&D$1,PROJETS!$M:$M,0)),"") -> 44 | E116: =IFERROR(INDEX(PROJETS!$B:$B,MATCH($C116&"-"&E$1,PROJETS!$M:$M,0)),"") | F116: =IFERROR(INDEX(PROJETS!$B:$B,MATCH($C116&"-"&F$1,PROJETS!$M:$M,0)),"") | G116: =IFERROR(INDEX(PROJETS!$B:$B,MATCH($C116&"-"&G$1,PROJETS!$M:$M,0)),"")
B117: Vendredi | C117: =C116+1 -> 44904 | D117: =IFERROR(INDEX(PROJETS!$B:$B,MATCH($C117&"-"&D$1,PROJETS!$M:$M,0)),"") | E117: =IFERROR(INDEX(PROJETS!$B:$B,MATCH($C117&"-"&E$1,PROJETS!$M:$M,0)),"") | F117: =IFERROR(INDEX(PROJETS!$B:$B,MATCH($C117&"-"&F$1,PROJETS!$M:$M,0)),"") | G117: =IFERROR(INDEX(PROJETS!$B:$B,MATCH($C117&"-"&G$1,PROJETS!$M:$M,0)),"")
B118: Samedi | C118: =C117+1 -> 44905 | D118: =IFERROR(INDEX(PROJETS!$B:$B,MATCH($C118&"-"&D$1,PROJETS!$M:$M,0)),"") | E118: =IFERROR(INDEX(PROJETS!$B:$B,MATCH($C118&"-"&E$1,PROJETS!$M:$M,0)),"") | F118: =IFERROR(INDEX(PROJETS!$B:$B,MATCH($C118&"-"&F$1,PROJETS!$M:$M,0)),"") | G118: =IFERROR(INDEX(PROJETS!$B:$B,MATCH($C118&"-"&G$1,PROJETS!$M:$M,0)),"")
B119: Dimanche | C119: =C118+1 -> 44906 | D119: =IFERROR(INDEX(PROJETS!$B:$B,MATCH($C119&"-"&D$1,PROJETS!$M:$M,0)),"") | E119: =IFERROR(INDEX(PROJETS!$B:$B,MATCH($C119&"-"&E$1,PROJETS!$M:$M,0)),"") | F119: =IFERROR(INDEX(PROJETS!$B:$B,MATCH($C119&"-"&F$1,PROJETS!$M:$M,0)),"") | G119: =IFERROR(INDEX(PROJETS!$B:$B,MATCH($C119&"-"&G$1,PROJETS!$M:$M,0)),"")
B120: Lundi | C120: =C119+1 -> 44907 | D120: =IFERROR(INDEX(PROJETS!$B:$B,MATCH($C120&"-"&D$1,PROJETS!$M:$M,0)),"") -> 47 | E120: =IFERROR(INDEX(PROJETS!$B:$B,MATCH($C120&"-"&E$1,PROJETS!$M:$M,0)),"") -> 48 | F120: =IFERROR(INDEX(PROJETS!$B:$B,MATCH($C120&"-"&F$1,PROJETS!$M:$M,0)),"") -> 49 | G120: =IFERROR(INDEX(PROJETS!$B:$B,MATCH($C120&"-"&G$1,PROJETS!$M:$M,0)),"")
B121: Mardi | C121: =C120+1 -> 44908 | D121: =IFERROR(INDEX(PROJETS!$B:$B,MATCH($C121&"-"&D$1,PROJETS!$M:$M,0)),"") | E121: =IFERROR(INDEX(PROJETS!$B:$B,MATCH($C121&"-"&E$1,PROJETS!$M:$M,0)),"") | F121: =IFERROR(INDEX(PROJETS!$B:$B,MATCH($C121&"-"&F$1,PROJETS!$M:$M,0)),"") | G121: =IFERROR(INDEX(PROJETS!$B:$B,MATCH($C121&"-"&G$1,PROJETS!$M:$M,0)),"")
... B139: Samedi | C139: =C138+1 -> 44926 | D139: =IFERROR(INDEX(PROJETS!$B:$B,MATCH($C139&"-"&D$1,PROJETS!$M:$M,0)),"") | E139: =IFERROR(INDEX(PROJETS!$B:$B,MATCH($C139&"-"&E$1,PROJETS!$M:$M,0)),"") | F139: =IFERROR(INDEX(PROJETS!$B:$B,MATCH($C139&"-"&F$1,PROJETS!$M:$M,0)),"") | G139: =IFERROR(INDEX(PROJETS!$B:$B,MATCH($C139&"-"&G$1,PROJETS!$M:$M,0)),"")
A140: JANVIER | B140: Dimanche | C140: =C139+1 -> 44927 | D140: =IFERROR(INDEX(PROJETS!$B:$B,MATCH($C140&"-"&D$1,PROJETS!$M:$M,0)),"") -> 55 | E140: =IFERROR(INDEX(PROJETS!$B:$B,MATCH($C140&"-"&E$1,PROJETS!$M:$M,0)),"") -> 57 | F140: =IFERROR(INDEX(PROJETS!$B:$B,MATCH($C140&"-"&F$1,PROJETS!$M:$M,0)),"") -> 58 | G140: =IFERROR(INDEX(PROJETS!$B:$B,MATCH($C140&"-"&G$1,PROJETS!$M:$M,0)),"") -> 59
B141: Lundi | C141: =C140+1 -> 44928 | D141: =IFERROR(INDEX(PROJETS!$B:$B,MATCH($C141&"-"&D$1,PROJETS!$M:$M,0)),"") | E141: =IFERROR(INDEX(PROJETS!$B:$B,MATCH($C141&"-"&E$1,PROJETS!$M:$M,0)),"") | F141: =IFERROR(INDEX(PROJETS!$B:$B,MATCH($C141&"-"&F$1,PROJETS!$M:$M,0)),"") | G141: =IFERROR(INDEX(PROJETS!$B:$B,MATCH($C141&"-"&G$1,PROJETS!$M:$M,0)),"")
B142: Mardi | C142: =C141+1 -> 44929 | D142: =IFERROR(INDEX(PROJETS!$B:$B,MATCH($C142&"-"&D$1,PROJETS!$M:$M,0)),"") | E142: =IFERROR(INDEX(PROJETS!$B:$B,MATCH($C142&"-"&E$1,PROJETS!$M:$M,0)),"") | F142: =IFERROR(INDEX(PROJETS!$B:$B,MATCH($C142&"-"&F$1,PROJETS!$M:$M,0)),"") | G142: =IFERROR(INDEX(PROJETS!$B:$B,MATCH($C142&"-"&G$1,PROJETS!$M:$M,0)),"")
B143: Mercredi | C143: =C142+1 -> 44930 | D143: =IFERROR(INDEX(PROJETS!$B:$B,MATCH($C143&"-"&D$1,PROJETS!$M:$M,0)),"") | E143: =IFERROR(INDEX(PROJETS!$B:$B,MATCH($C143&"-"&E$1,PROJETS!$M:$M,0)),"") | F143: =IFERROR(INDEX(PROJETS!$B:$B,MATCH($C143&"-"&F$1,PROJETS!$M:$M,0)),"") | G143: =IFERROR(INDEX(PROJETS!$B:$B,MATCH($C143&"-"&G$1,PROJETS!$M:$M,0)),"")
B144: Jeudi | C144: =C143+1 -> 44931 | D144: =IFERROR(INDEX(PROJETS!$B:$B,MATCH($C144&"-"&D$1,PROJETS!$M:$M,0)),"") | E144: =IFERROR(INDEX(PROJETS!$B:$B,MATCH($C144&"-"&E$1,PROJETS!$M:$M,0)),"") | F144: =IFERROR(INDEX(PROJETS!$B:$B,MATCH($C144&"-"&F$1,PROJETS!$M:$M,0)),"") | G144: =IFERROR(INDEX(PROJETS!$B:$B,MATCH($C144&"-"&G$1,PROJETS!$M:$M,0)),"")
B145: Vendredi | C145: =C144+1 -> 44932 | D145: =IFERROR(INDEX(PROJETS!$B:$B,MATCH($C145&"-"&D$1,PROJETS!$M:$M,0)),"") | E145: =IFERROR(INDEX(PROJETS!$B:$B,MATCH($C145&"-"&E$1,PROJETS!$M:$M,0)),"") | F145: =IFERROR(INDEX(PROJETS!$B:$B,MATCH($C145&"-"&F$1,PROJETS!$M:$M,0)),"") | G145: =IFERROR(INDEX(PROJETS!$B:$B,MATCH($C145&"-"&G$1,PROJETS!$M:$M,0)),"")
B146: Samedi | C146: =C145+1 -> 44933 | D146: =IFERROR(INDEX(PROJETS!$B:$B,MATCH($C146&"-"&D$1,PROJETS!$M:$M,0)),"") | E146: =IFERROR(INDEX(PROJETS!$B:$B,MATCH($C146&"-"&E$1,PROJETS!$M:$M,0)),"") | F146: =IFERROR(INDEX(PROJETS!$B:$B,MATCH($C146&"-"&F$1,PROJETS!$M:$M,0)),"") | G146: =IFERROR(INDEX(PROJETS!$B:$B,MATCH($C146&"-"&G$1,PROJETS!$M:$M,0)),"")
B147: Dimanche | C147: =C146+1 -> 44934 | D147: =IFERROR(INDEX(PROJETS!$B:$B,MATCH($C147&"-"&D$1,PROJETS!$M:$M,0)),"") | E147: =IFERROR(INDEX(PROJETS!$B:$B,MATCH($C147&"-"&E$1,PROJETS!$M:$M,0)),"") | F147: =IFERROR(INDEX(PROJETS!$B:$B,MATCH($C147&"-"&F$1,PROJETS!$M:$M,0)),"") | G147: =IFERROR(INDEX(PROJETS!$B:$B,MATCH($C147&"-"&G$1,PROJETS!$M:$M,0)),"")
B148: Lundi | C148: =C147+1 -> 44935 | D148: =IFERROR(INDEX(PROJETS!$B:$B,MATCH($C148&"-"&D$1,PROJETS!$M:$M,0)),"") -> 63 | E148: =IFERROR(INDEX(PROJETS!$B:$B,MATCH($C148&"-"&E$1,PROJETS!$M:$M,0)),"") | F148: =IFERROR(INDEX(PROJETS!$B:$B,MATCH($C148&"-"&F$1,PROJETS!$M:$M,0)),"") | G148: =IFERROR(INDEX(PROJETS!$B:$B,MATCH($C148&"-"&G$1,PROJETS!$M:$M,0)),"")
B149: Mardi | C149: =C148+1 -> 44936 | D149: =IFERROR(INDEX(PROJETS!$B:$B,MATCH($C149&"-"&D$1,PROJETS!$M:$M,0)),"") -> 64 | E149: =IFERROR(INDEX(PROJETS!$B:$B,MATCH($C149&"-"&E$1,PROJETS!$M:$M,0)),"") -> 65 | F149: =IFERROR(INDEX(PROJETS!$B:$B,MATCH($C149&"-"&F$1,PROJETS!$M:$M,0)),"") | G149: =IFERROR(INDEX(PROJETS!$B:$B,MATCH($C149&"-"&G$1,PROJETS!$M:$M,0)),"")
B150: Mercredi | C150: =C149+1 -> 44937 | D150: =IFERROR(INDEX(PROJETS!$B:$B,MATCH($C150&"-"&D$1,PROJETS!$M:$M,0)),"") -> 66 | E150: =IFERROR(INDEX(PROJETS!$B:$B,MATCH($C150&"-"&E$1,PROJETS!$M:$M,0)),"") | F150: =IFERROR(INDEX(PROJETS!$B:$B,MATCH($C150&"-"&F$1,PROJETS!$M:$M,0)),"") | G150: =IFERROR(INDEX(PROJETS!$B:$B,MATCH($C150&"-"&G$1,PROJETS!$M:$M,0)),"")
B151: Jeudi | C151: =C150+1 -> 44938 | D151: =IFERROR(INDEX(PROJETS!$B:$B,MATCH($C151&"-"&D$1,PROJETS!$M:$M,0)),"") -> 67 | E151: =IFERROR(INDEX(PROJETS!$B:$B,MATCH($C151&"-"&E$1,PROJETS!$M:$M,0)),"") | F151: =IFERROR(INDEX(PROJETS!$B:$B,MATCH($C151&"-"&F$1,PROJETS!$M:$M,0)),"") | G151: =IFERROR(INDEX(PROJETS!$B:$B,MATCH($C151&"-"&G$1,PROJETS!$M:$M,0)),"")
B152: Vendredi | C152: =C151+1 -> 44939 | D152: =IFERROR(INDEX(PROJETS!$B:$B,MATCH($C152&"-"&D$1,PROJETS!$M:$M,0)),"") | E152: =IFERROR(INDEX(PROJETS!$B:$B,MATCH($C152&"-"&E$1,PROJETS!$M:$M,0)),"") | F152: =IFERROR(INDEX(PROJETS!$B:$B,MATCH($C152&"-"&F$1,PROJETS!$M:$M,0)),"") | G152: =IFERROR(INDEX(PROJETS!$B:$B,MATCH($C152&"-"&G$1,PROJETS!$M:$M,0)),"")
... B170: Mardi | C170: =C169+1 -> 44957 | D170: =IFERROR(INDEX(PROJETS!$B:$B,MATCH($C170&"-"&D$1,PROJETS!$M:$M,0)),"") -> 78 | E170: =IFERROR(INDEX(PROJETS!$B:$B,MATCH($C170&"-"&E$1,PROJETS!$M:$M,0)),"") | F170: =IFERROR(INDEX(PROJETS!$B:$B,MATCH($C170&"-"&F$1,PROJETS!$M:$M,0)),"") | G170: =IFERROR(INDEX(PROJETS!$B:$B,MATCH($C170&"-"&G$1,PROJETS!$M:$M,0)),"")
A171: FEVRIER | B171: Mercredi | C171: =C170+1 -> 44958 | D171: =IFERROR(INDEX(PROJETS!$B:$B,MATCH($C171&"-"&D$1,PROJETS!$M:$M,0)),"") -> 79 | E171: =IFERROR(INDEX(PROJETS!$B:$B,MATCH($C171&"-"&E$1,PROJETS!$M:$M,0)),"") -> 80 | F171: =IFERROR(INDEX(PROJETS!$B:$B,MATCH($C171&"-"&F$1,PROJETS!$M:$M,0)),"") -> 81 | G171: =IFERROR(INDEX(PROJETS!$B:$B,MATCH($C171&"-"&G$1,PROJETS!$M:$M,0)),"")
B172: Jeudi | C172: =C171+1 -> 44959 | D172: =IFERROR(INDEX(PROJETS!$B:$B,MATCH($C172&"-"&D$1,PROJETS!$M:$M,0)),"") -> 2 | E172: =IFERROR(INDEX(PROJETS!$B:$B,MATCH($C172&"-"&E$1,PROJETS!$M:$M,0)),"") -> 82 | F172: =IFERROR(INDEX(PROJETS!$B:$B,MATCH($C172&"-"&F$1,PROJETS!$M:$M,0)),"") -> 83 | G172: =IFERROR(INDEX(PROJETS!$B:$B,MATCH($C172&"-"&G$1,PROJETS!$M:$M,0)),"") -> 84
B173: Vendredi | C173: =C172+1 -> 44960 | D173: =IFERROR(INDEX(PROJETS!$B:$B,MATCH($C173&"-"&D$1,PROJETS!$M:$M,0)),"") -> 45 | E173: =IFERROR(INDEX(PROJETS!$B:$B,MATCH($C173&"-"&E$1,PROJETS!$M:$M,0)),"") -> 46 | F173: =IFERROR(INDEX(PROJETS!$B:$B,MATCH($C173&"-"&F$1,PROJETS!$M:$M,0)),"") | G173: =IFERROR(INDEX(PROJETS!$B:$B,MATCH($C173&"-"&G$1,PROJETS!$M:$M,0)),"")
B174: Samedi | C174: =C173+1 -> 44961 | D174: =IFERROR(INDEX(PROJETS!$B:$B,MATCH($C174&"-"&D$1,PROJETS!$M:$M,0)),"") -> 85 | E174: =IFERROR(INDEX(PROJETS!$B:$B,MATCH($C174&"-"&E$1,PROJETS!$M:$M,0)),"") | F174: =IFERROR(INDEX(PROJETS!$B:$B,MATCH($C174&"-"&F$1,PROJETS!$M:$M,0)),"") | G174: =IFERROR(INDEX(PROJETS!$B:$B,MATCH($C174&"-"&G$1,PROJETS!$M:$M,0)),"")
B175: Dimanche | C175: =C174+1 -> 44962 | D175: =IFERROR(INDEX(PROJETS!$B:$B,MATCH($C175&"-"&D$1,PROJETS!$M:$M,0)),"") | E175: =IFERROR(INDEX(PROJETS!$B:$B,MATCH($C175&"-"&E$1,PROJETS!$M:$M,0)),"") | F175: =IFERROR(INDEX(PROJETS!$B:$B,MATCH($C175&"-"&F$1,PROJETS!$M:$M,0)),"") | G175: =IFERROR(INDEX(PROJETS!$B:$B,MATCH($C175&"-"&G$1,PROJETS!$M:$M,0)),"")
B176: Lundi | C176: =C175+1 -> 44963 | D176: =IFERROR(INDEX(PROJETS!$B:$B,MATCH($C176&"-"&D$1,PROJETS!$M:$M,0)),"") -> 86 | E176: =IFERROR(INDEX(PROJETS!$B:$B,MATCH($C176&"-"&E$1,PROJETS!$M:$M,0)),"") | F176: =IFERROR(INDEX(PROJETS!$B:$B,MATCH($C176&"-"&F$1,PROJETS!$M:$M,0)),"") | G176: =IFERROR(INDEX(PROJETS!$B:$B,MATCH($C176&"-"&G$1,PROJETS!$M:$M,0)),"")
B177: Mardi | C177: =C176+1 -> 44964 | D177: =IFERROR(INDEX(PROJETS!$B:$B,MATCH($C177&"-"&D$1,PROJETS!$M:$M,0)),"") -> 87 | E177: =IFERROR(INDEX(PROJETS!$B:$B,MATCH($C177&"-"&E$1,PROJETS!$M:$M,0)),"") -> 88 | F177: =IFERROR(INDEX(PROJETS!$B:$B,MATCH($C177&"-"&F$1,PROJETS!$M:$M,0)),"") | G177: =IFERROR(INDEX(PROJETS!$B:$B,MATCH($C177&"-"&G$1,PROJETS!$M:$M,0)),"")
B178: Mercredi | C178: =C177+1 -> 44965 | D178: =IFERROR(INDEX(PROJETS!$B:$B,MATCH($C178&"-"&D$1,PROJETS!$M:$M,0)),"") -> 89 | E178: =IFERROR(INDEX(PROJETS!$B:$B,MATCH($C178&"-"&E$1,PROJETS!$M:$M,0)),"") | F178: =IFERROR(INDEX(PROJETS!$B:$B,MATCH($C178&"-"&F$1,PROJETS!$M:$M,0)),"") | G178: =IFERROR(INDEX(PROJETS!$B:$B,MATCH($C178&"-"&G$1,PROJETS!$M:$M,0)),"")
B179: Jeudi | C179: =C178+1 -> 44966 | D179: =IFERROR(INDEX(PROJETS!$B:$B,MATCH($C179&"-"&D$1,PROJETS!$M:$M,0)),"") -> 4 | E179: =IFERROR(INDEX(PROJETS!$B:$B,MATCH($C179&"-"&E$1,PROJETS!$M:$M,0)),"") -> 90 | F179: =IFERROR(INDEX(PROJETS!$B:$B,MATCH($C179&"-"&F$1,PROJETS!$M:$M,0)),"") -> 91 | G179: =IFERROR(INDEX(PROJETS!$B:$B,MATCH($C179&"-"&G$1,PROJETS!$M:$M,0)),"") -> 92
B180: Vendredi | C180: =C179+1 -> 44967 | D180: =IFERROR(INDEX(PROJETS!$B:$B,MATCH($C180&"-"&D$1,PROJETS!$M:$M,0)),"") -> 94 | E180: =IFERROR(INDEX(PROJETS!$B:$B,MATCH($C180&"-"&E$1,PROJETS!$M:$M,0)),"") -> 95 | F180: =IFERROR(INDEX(PROJETS!$B:$B,MATCH($C180&"-"&F$1,PROJETS!$M:$M,0)),"") | G180: =IFERROR(INDEX(PROJETS!$B:$B,MATCH($C180&"-"&G$1,PROJETS!$M:$M,0)),"")
B181: Samedi | C181: =C180+1 -> 44968 | D181: =IFERROR(INDEX(PROJETS!$B:$B,MATCH($C181&"-"&D$1,PROJETS!$M:$M,0)),"") | E181: =IFERROR(INDEX(PROJETS!$B:$B,MATCH($C181&"-"&E$1,PROJETS!$M:$M,0)),"") | F181: =IFERROR(INDEX(PROJETS!$B:$B,MATCH($C181&"-"&F$1,PROJETS!$M:$M,0)),"") | G181: =IFERROR(INDEX(PROJETS!$B:$B,MATCH($C181&"-"&G$1,PROJETS!$M:$M,0)),"")
B182: Dimanche | C182: =C181+1 -> 44969 | D182: =IFERROR(INDEX(PROJETS!$B:$B,MATCH($C182&"-"&D$1,PROJETS!$M:$M,0)),"") | E182: =IFERROR(INDEX(PROJETS!$B:$B,MATCH($C182&"-"&E$1,PROJETS!$M:$M,0)),"") | F182: =IFERROR(INDEX(PROJETS!$B:$B,MATCH($C182&"-"&F$1,PROJETS!$M:$M,0)),"") | G182: =IFERROR(INDEX(PROJETS!$B:$B,MATCH($C182&"-"&G$1,PROJETS!$M:$M,0)),"")
B183: Lundi | C183: =C182+1 -> 44970 | D183: =IFERROR(INDEX(PROJETS!$B:$B,MATCH($C183&"-"&D$1,PROJETS!$M:$M,0)),"") | E183: =IFERROR(INDEX(PROJETS!$B:$B,MATCH($C183&"-"&E$1,PROJETS!$M:$M,0)),"") | F183: =IFERROR(INDEX(PROJETS!$B:$B,MATCH($C183&"-"&F$1,PROJETS!$M:$M,0)),"") | G183: =IFERROR(INDEX(PROJETS!$B:$B,MATCH($C183&"-"&G$1,PROJETS!$M:$M,0)),"")
...
