Workbook

Sheet Sheet1
B1: Bar | C1: Cafe | D1: Traiteur | E1: Total
A2: week 1 | B2: ='week 1'!I3 -> 1050 | C2: ='week 1'!I4 -> 1400 | D2: ='week 1'!I5 -> 15000 | E2: ='week 1'!I6 -> 17450
A3: week 2 | B3: ='week 2'!I4 -> 1400 | C3: ='week 2'!I4 -> 1400 | D3: ='week 2'!I5 -> 0 | E3: ='week 2'!I6 -> 2450
A4: week 3 | B4: ='week 3'!I4 -> 1400 | C4: ='week 3'!I4 -> 1400 | D4: ='week 3'!I5 -> 15000 | E4: ='week 3'!I6 -> 17450
A5: week 4 | B5: ='week 4'!I4 -> 0 | C5: ='week 4'!I4 -> 0 | D5: ='week 4'!I5 -> 0 | E5: ='week 4'!I6 -> 0
A7: Moyenne | B7: =AVERAGE(B2:B5) -> 962.5 | C7: =AVERAGE(C2:C5) -> 1050 | D7: =AVERAGE(D2:D5) -> 7500 | E7: =AVERAGE(E2:E5) -> 9337.5

Sheet week 1
B2: lundi | C2: mardi | D2: mercredi | E2: jeudi | F2: vendredi | G2: samedi | H2: dimanche | I2: Total
A3: Bar | B3: 150 | C3: 150 | D3: 150 | E3: 150 | F3: 150 | G3: 150 | H3: 150 | I3: =SUM(B3:H3) -> 1050
A4: Cafe | B4: 200 | C4: 200 | D4: 200 | E4: 200 | F4: 200 | G4: 200 | H4: 200 | I4: =SUM(B4:H4) -> 1400
A5: Traiteur | B5: 10000 | C5: 0 | D5: 0 | E5: 0 | F5: 0 | G5: 0 | H5: 5000 | I5: =SUM(B5:H5) -> 15000
A6: Total | B6: =SUM(B3:B5) -> 10350 | C6: =SUM(C3:C5) -> 350 | D6: =SUM(D3:D5) -> 350 | E6: =SUM(E3:E5) -> 350 | F6: =SUM(F3:F5) -> 350 | G6: =SUM(G3:G5) -> 350 | H6: =SUM(H3:H5) -> 5350 | I6: =SUM(I3:I5) -> 17450

Sheet week 2
B2: lundi | C2: mardi | D2: mercredi | E2: jeudi | F2: vendredi | G2: samedi | H2: dimanche | I2: Total
A3: Bar | B3: 150 | C3: 150 | D3: 150 | E3: 150 | F3: 150 | G3: 150 | H3: 150 | I3: =SUM(B3:H3) -> 1050
A4: Cafe | B4: 200 | C4: 200 | D4: 200 | E4: 200 | F4: 200 | G4: 200 | H4: 200 | I4: =SUM(B4:H4) -> 1400
A5: Traiteur | B5: 0 | C5: 0 | D5: 0 | E5: 0 | F5: 0 | G5: 0 | H5: 0 | I5: =SUM(B5:H5) -> 0
A6: Total | B6: =SUM(B3:B5) -> 350 | C6: =SUM(C3:C5) -> 350 | D6: =SUM(D3:D5) -> 350 | E6: =SUM(E3:E5) -> 350 | F6: =SUM(F3:F5) -> 350 | G6: =SUM(G3:G5) -> 350 | H6: =SUM(H3:H5) -> 350 | I6: =SUM(I3:I5) -> 2450

Sheet week 3
B2: lundi | C2: mardi | D2: mercredi | E2: jeudi | F2: vendredi | G2: samedi | H2: dimanche | I2: Total
A3: Bar | B3: 150 | C3: 150 | D3: 150 | E3: 150 | F3: 150 | G3: 150 | H3: 150 | I3: =SUM(B3:H3) -> 1050
A4: Cafe | B4: 200 | C4: 200 | D4: 200 | E4: 200 | F4: 200 | G4: 200 | H4: 200 | I4: =SUM(B4:H4) -> 1400
A5: Traiteur | B5: 3000 | C5: 3000 | D5: 3000 | E5: 3000 | F5: 3000 | G5: 0 | H5: 0 | I5: =SUM(B5:H5) -> 15000
A6: Total | B6: =SUM(B3:B5) -> 3350 | C6: =SUM(C3:C5) -> 3350 | D6: =SUM(D3:D5) -> 3350 | E6: =SUM(E3:E5) -> 3350 | F6: =SUM(F3:F5) -> 3350 | G6: =SUM(G3:G5) -> 350 | H6: =SUM(H3:H5) -> 350 | I6: =SUM(I3:I5) -> 17450

Sheet week 4
B2: lundi | C2: mardi | D2: mercredi | E2: jeudi | F2: vendredi | G2: samedi | H2: dimanche | I2: Total
A3: Bar | I3: =SUM(B3:H3) -> 0
A4: Cafe | I4: =SUM(B4:H4) -> 0
A5: Traiteur | I5: =SUM(B5:H5) -> 0
A6: Total | I6: =SUM(I3:I5) -> 0
