Workbook

Sheet MEGALIST
A1: Code salarié | B1: Civilité | C1: Nom de naissance | D1: Nom marital | E1: Prénom | F1: Pseudonyme | G1: Date de naissance | H1: Dpt naissance | I1: Lieu de naissance | J1: No Sécurité sociale | K1: Adresse Fiscale | L1: Code postal | M1: Ville | N1: Adresse postale et/ou Région | O1: Décla impôts en France OUI | P1: Décla impôts en France NON | Q1: Résident en France OUI | R1: Résident en France NON | S1: Portable | T1: Email | U1: Situation | V1: Nationalité | W1: Pays de naissance | X1: Date dernière visite médicale | Y1: CMB date limite | Z1: No Congés Spectacles | AA1: Emploi NC | AB1: Cadre,Dirigeant ou autre NC | AC1: Mission Spéciale | AD1: Department | AE1: Tarif 39h | AF1: Tarif 39h Texte | AG1: Tarif Journalier | AH1: Tarif Journalier Texte | AI1: Tarif 1H | AJ1: Contrats Cappés heures payées | AK1: Tarif 50H | AL1: Tarif 50H Texte | AM1: RIB | AN1: Copie CMB | AO1: ID/Passport | AP1: Permis | AQ1: Photo | AR1: NDA | AS1: Début DUE | AT1: Fin DUE | AU1: FIN Contrat | AV1: Fin de Prépa | AW1: Début de Block | AX1: Nbre de jours hors sam-dim (fériés inclus) | AY1: Soit durée contrat | AZ1: Jours Faits | BA1: Type de Contrats | BB1: N° Block | BC1: Print Contrat | BD1: Etat Contrat | BE1: Début Avenant | BF1: Fin Avenant | BG1: Jours Faits/ Durée | BH1: Numéro Avenant | BI1: Tarif Avenant | BJ1: Tarif Avenant Lettre | BK1: Mission Spéciale Avenant | BL1: Print Avenant | BM1: Etat Avenant
B2: Monsieur | C2: CHENILLE | E2: Sebastien | G2: 36192 | H2: 75 | I2: Paris 09 | J2: 175117525689415 | K2: 52/bis, Avenue des jonquilles | L2: 61250 | M2: Albi | O2: X | Q2: X | S2: 634540527 | T2: mailsebastien@me.com | U2: Marié | V2: Française | W2: France | X2: 21/02/2019 | Y2: 21/02/2023 | Z2: Y0482585 | AA2: COIFFEUR - 1099 | AB2: NON CADRE | AD2: HAIR | AM2: x | AN2: x | AO2: x | AP2: x | AQ2: x | AR2: x
B3: Monsieur | C3: THAON | E3: Arthur | G3: 31933 | H3: 75 | I3: Paris 14 | J3: 188067544563201 | K3: 2/TER, RUE DE BRETAGNE | L3: 45600 | M3: Limoges | O3: X | Q3: X | S3: 677682457 | T3: mailthaon@hotmail.fr | U3: Célibataire | V3: Française | W3: France | X3: 11/01/2019 | Y3: 11/01/2024 | Z3: E404459 | AA3: CHAUFFEUR | AB3: NON CADRE | AD3: TRANSPORT | AM3: x | AN3: x | AO3: x | AP3: x | AQ3: x | AR3: x
B4: Monsieur | C4: MALAK | E4: Emanuel | G4: 24222 | H4: 99 | I4: Le Caire - Egypte | J4: 195069974532165 | K4: 21, boulevard Garibaldi | L4: 07400 | M4: Vierzon | O4: X | Q4: X | S4: 669704930 | T4: mailmanu@gmail.com | U4: Célibataire | V4: Italienne | W4: Egypte | X4: en cours | Z4: en cours d'immatriculation | AA4: ASSISTANT REALISATEUR ADJOINT - AD PA | AB4: NON CADRE | AC4: MISSION : Assistanat de l'équipe Mise En Scéne | AD4: AD | AM4: x | AN4: x | AO4: x | AP4: x | AQ4: x | AR4: x

Sheet INFOS
A1: NOM | B1: PRENOM | C1: NOM DE JEUNE FILLE | D1: NUMERO DE TELEPHONE - format 06######## (sans espace) | E1: MAIL DE CORRESPONDANCE (pour convocation tournage, docs administratifs) | F1: DATE DE NAISSANCE - format JJ/MM/AAAA | G1: VILLE DE NAISSANCE | H1: N° DE DEPARTEMENT DE NAISSANCE (##) | I1: ARRONDISSEMENT DE LA VILLE DE NAISSANCE : pour Paris Lyon Marseille (merci de préciser ex: PARIS 11, ou LYON 4 etc...) | J1: NATIONALITÉ | K1: NUMERO DE SECURITE SOCIALE (15 chiffres) Format : ############### (pas d'espace) | L1: ADRESSE DU CENTRE DE SECURITE SOCIALE CPAM | M1: PERSONNE A PRÉVENIR EN CAS D'ACCIDENT (NOM + PRENOM) | N1: ADRESSE DE RESIDENCE (NUMERO DE LA VOIE) | O1: ADRESSE DE RESIDENCE (NOM DE LA VOIE) | S1: ADRESSE DE RESIDENCE (CODE POSTAL) | T1: ADRESSE DE RESIDENCE (VILLE) | U1: SITUATION DE FAMILLE | V1: NOMBRE D'ENFANTS A CHARGE | W1: QUESTION UNIQUEMENT POUR LES PLUS DE 60 ANS ETES VOUS TITULAIRE D'UNE PENSION RETRAITE | X1: NUMERO DE CONGES SPECTACLE (POUR LES INTERMITTENTS) | Y1: AUTORISEZ VOUS L'ABATTEMENT POUR FRAIS PROFESSIONNELS? - Si vous autorisez l'abattement pour frais professionnels, votre salaire Net augmente, mais vos bases de cotisations retraite diminuent. | Z1: DATE DE DERNIERE VISITE CMB (Format JJ/MM/AAAA) | AA1: ETES VOUS VEHICULE? | AB1: DOMICILIATION | AC1: BIC (SWIFT) | AD1: IBAN | AE1: COMPTE | AF1: CLE RIB
A2: THAON | B2: =VLOOKUP(A2,MEGALIST!$C:$BF,3,0) -> Arthur | D2: =VLOOKUP(A2,MEGALIST!$C:$BF,17,0) -> 677682457 | E2: =VLOOKUP(A2,MEGALIST!$C:$BF,18,0) -> mailthaon@hotmail.fr | F2: =VLOOKUP(A2,MEGALIST!$C:$BF,5,0) -> 31933 | G2: =VLOOKUP(A2,MEGALIST!$C:$BF,7,0) -> Paris 14 | H2: =VLOOKUP(A2,MEGALIST!$C:$BF,21,0) -> France | J2: =VLOOKUP(A2,MEGALIST!$C:$BF,20,0) -> Française | K2: =VLOOKUP(A2,MEGALIST!$C:$BF,8,0) -> 188067544563201 | N2: =VLOOKUP(A2,MEGALIST!$C:$BF,9,0) -> 2/TER, RUE DE BRETAGNE | O2: =VLOOKUP(A2,MEGALIST!$C:$BF,9,0) -> 2/TER, RUE DE BRETAGNE | S2: =VLOOKUP(A2,MEGALIST!$C:$BF,10,0) -> 45600 | T2: =VLOOKUP(A2,MEGALIST!$C:$BF,11,0) -> Limoges | U2: =VLOOKUP(A2,MEGALIST!$C:$BF,19,0) -> Célibataire | X2: =VLOOKUP(A2,MEGALIST!$C:$BF,24,0) -> E404459 | AB2: SG PARIS KLEBER | AC2: SOGEFRPPXXX | AD2: FR76 | AE2: 30003033000005043899427
A3: MALAK | B3: =IF(VLOOKUP(A3,MEGALIST!C2:BF98570,1,0)="",VLOOKUP(A3,MEGALIST!$C$2:C8568,2,0),VLOOKUP(A3,MEGALIST!C1:BF8568,3,0)) -> Emanuel | D3: =VLOOKUP(A3,MEGALIST!$C:$BF,17,0) -> 669704930 | E3: =VLOOKUP(A3,MEGALIST!$C:$BF,18,0) -> mailmanu@gmail.com | F3: =VLOOKUP(A3,MEGALIST!$C:$BF,5,0) -> 24222 | G3: =VLOOKUP(A3,MEGALIST!$C:$BF,7,0) -> Le Caire - Egypte | H3: =VLOOKUP(A3,MEGALIST!$C:$BF,21,0) -> Egypte | J3: =VLOOKUP(A3,MEGALIST!$C:$BF,20,0) -> Italienne | K3: =VLOOKUP(A3,MEGALIST!$C:$BF,8,0) -> 195069974532165 | O3: =VLOOKUP(A3,MEGALIST!$C:$BF,9,0) -> 21, boulevard Garibaldi | S3: =VLOOKUP(A3,MEGALIST!$C:$BF,10,0) -> 07400 | T3: =VLOOKUP(A3,MEGALIST!$C:$BF,11,0) -> Vierzon | U3: =VLOOKUP(A3,MEGALIST!$C:$BF,19,0) -> Célibataire | X3: =VLOOKUP(A3,MEGALIST!$C:$BF,24,0) -> en cours d'immatriculation | AB3: SG PARIS KLEBER | AC3: SOGEFRPPXXX | AD3: FR77 | AE3: 30003033000005043899427
A4: CHENILLE | B4: =IF(VLOOKUP(A4,MEGALIST!C2:BF98571,1,0)="",VLOOKUP(A4,MEGALIST!$C$2:C8569,2,0),VLOOKUP(A4,MEGALIST!C2:BF8569,3,0)) -> Sebastien | D4: =VLOOKUP(A4,MEGALIST!$C:$BF,17,0) -> 634540527 | E4: =VLOOKUP(A4,MEGALIST!$C:$BF,18,0) -> mailsebastien@me.com | F4: =VLOOKUP(A4,MEGALIST!$C:$BF,5,0) -> 36192 | G4: =VLOOKUP(A4,MEGALIST!$C:$BF,7,0) -> Paris 09 | H4: =VLOOKUP(A4,MEGALIST!$C:$BF,21,0) -> France | J4: =VLOOKUP(A4,MEGALIST!$C:$BF,20,0) -> Française | K4: =VLOOKUP(A4,MEGALIST!$C:$BF,8,0) -> 175117525689415 | O4: =VLOOKUP(A4,MEGALIST!$C:$BF,9,0) -> 52/bis, Avenue des jonquilles | S4: =VLOOKUP(A4,MEGALIST!$C:$BF,10,0) -> 61250 | T4: =VLOOKUP(A4,MEGALIST!$C:$BF,11,0) -> Albi | U4: =VLOOKUP(A4,MEGALIST!$C:$BF,19,0) -> Marié | X4: =VLOOKUP(A4,MEGALIST!$C:$BF,24,0) -> Y0482585 | AB4: SG PARIS KLEBER | AC4: SOGEFRPPXXX | AD4: FR78 | AE4: 30003033000005043899427

Sheet Intégration Adulte
B1: 8
A2: 1 | B2: 2 | C2: 3 | D2: 4 | E2: 5 | F2: 6 | G2: 7 | H2: 8 | I2: 9 | J2: 10 | K2: 11 | L2: 12 | M2: 13 | N2: 14 | O2: 15 | P2: 16 | Q2: 17 | R2: 18 | S2: 19 | T2: 20 | U2: 21 | V2: 22 | W2: 23 | X2: 24 | Y2: 25 | Z2: 26 | AA2: 27 | AB2: 28 | AC2: 29 | AD2: 30 | AE2: 31 | AF2: 32 | AG2: 33 | AH2: 34 | AI2: 35 | AJ2: 36 | AK2: 37 | AL2: 38 | AM2: 39 | AN2: 40 | AO2: 41 | AP2: 42 | AQ2: 43 | AR2: 44 | AS2: 45 | AT2: 46 | AU2: 47 | AV2: 48 | AW2: 49 | AX2: 50 | AY2: 51 | AZ2: 52 | BA2: 53 | BB2: 54 | BC2: 55 | BD2: 56 | BE2: 57 | BF2: 58 | BG2: 59 | BH2: 60 | BI2: 61 | BJ2: 62 | BK2: 63 | BL2: 64 | BM2: 65 | BN2: 66 | BO2: 67 | BP2: 68
A3: Code salarié | B3: Code externe | C3: M Mme Mlle | D3: Nom | E3: Prénom | F3: Pseudo | G3: Nom de jeune fille | H3: Date naissance | I3: Lieu naissance | J3: Code Pays | K3: Nationalité | L3: Num carte de séjour | M3: Valable au | N3: Congés spectacles | O3: Audiens | P3: Situation familiale | Q3: Personnes à charge | R3: Enfants | S3: Complément adresse | T3: N° voie | U3: Bis ou Ter | V3: Adresse (fiscale) 26 CARACTERES | W3: Ville / Bureau distributeur | X3: Code postal | Y3: Ville / Bureau distributeur | Z3: Code Insee (Commune) | AA3: Téléphone | AB3: Portable | AC3: Mode règlement | AD3: Domiciliation | AE3: Code Banque | AF3: Code Guichet | AG3: Compte | AH3: Clé Rib | AI3: Bénéficiaire (automatique) | AJ3: Num carte de presse | AK3: Emploi | AL3: Code Insee (Métier) | AM3: Type Emploi | AN3: Type profil / salarié ? | AO3: Sécurité sociale | AP3: Code Emploi CNC | AQ3: Tél 2 | AR3: Fax | AS3: Date de visite médicale | AT3: Domicile fiscal | AU3: Remarques | AV3: Nom et Prénom Personne à prévenir - Confidentiel | AW3: N° de permis de conduire | AX3: Téléphone - Confidentiel 2 | AY3: Pays naissance | AZ3: Centre de Sécurité Sociale | BA3: Adress centre payeur | BB3: Code postal centre payeur | BC3: Ville centre payeur | BD3: Email | BE3: Salaire/jour | BF3: Imputation | BG3: Section | BH3: Budget | BI3: Code AEM | BK3: IBAN | BL3: BIC | BM3: Date naissance format date en txt | BN3: Date de Travail | BO3: Tarif en lettre | BP3: Date naissance format date
A4: 11111 | C4: =+LEFT(AO4,1) -> 1 | D4: =TRIM(UPPER(INFOS!A2)) -> THAON | E4: =TRIM(UPPER(INFOS!B2)) -> ARTHUR | G4: =+IF(C4="2",D4,"") | H4: =VALUE(INFOS!F2) -> 31933 | I4: =TRIM(UPPER(INFOS!G2)) -> PARIS 14 | K4: =TRIM(IF(LEFT(INFOS!J2,3)="FRA","FRANCAISE",UPPER(INFOS!J2))) -> FRANCAISE | N4: =UPPER(INFOS!X2) -> E404459 | P4: =IF(OR(INFOS!W2="0",INFOS!U2=""),"",IF(INFOS!U2="concubinage","K",LEFT(INFOS!U2,1))) -> C | R4: =IF(OR(INFOS!V2=0,INFOS!V2=""),"",INFOS!V2) | T4: =IF(OR(U4="BIS",U4="TER"),LEFT(INFOS!O2,FIND("/",INFOS!O2)-1),LEFT(INFOS!O2,FIND(",",INFOS!O2)-3)) -> 2 | U4: =IFERROR(MID(INFOS!O2,FIND("/",INFOS!O2)+1,3),"") -> TER | V4: =IFERROR(UPPER(MID(INFOS!O2,FIND(",",INFOS!O2)+2,26)),"") -> RUE DE BRETAGNE | X4: =+INFOS!S2 -> 45600 | Y4: =TRIM(UPPER(INFOS!T2)) -> LIMOGES | AB4: =VALUE(CONCATENATE(0,INFOS!D2)) -> 677682457 | AC4: V | AD4: =INFOS!AB2 -> SG PARIS KLEBER | AG4: =CLEAN(INFOS!AE2) -> 30003033000005043899427 | AH4: =INFOS!AF2 -> 0 | AK4: =VLOOKUP(D4,MEGALIST!$C:$BF,25,0) -> CHAUFFEUR | AL4: =VLOOKUP(AK4,'BASE EMPLOI'!$A:$M,7,0) -> 465b | AM4: I | AN4: =VLOOKUP(AK4,'BASE EMPLOI'!$A:$M,8,0) -> 2 | AO4: =IF(TEXT(INFOS!K2,"0")="0","",TEXT(INFOS!K2,"0")) -> 188067544563201 | AP4: =VLOOKUP(AK4,'BASE EMPLOI'!$A:$M,3,0) -> 2324 | AY4: =TRIM(UPPER(INFOS!H2)) -> FRANCE | AZ4: =IF(TEXT(INFOS!L2,"0")="0","",TEXT(INFOS!L2,"0")) | BD4: =CLEAN(INFOS!E2) -> mailthaon@hotmail.fr | BG4: 43 | BK4: =INFOS!AD2 -> FR76 | BL4: =INFOS!AC2 -> SOGEFRPPXXX
A5: =+A4+1 -> 11112 | C5: =+LEFT(AO5,1) -> 1 | D5: =TRIM(UPPER(INFOS!A3)) -> MALAK | E5: =TRIM(UPPER(INFOS!B3)) -> EMANUEL | G5: =+IF(C5="2",D5,"") | H5: =VALUE(INFOS!F3) -> 24222 | I5: =TRIM(UPPER(INFOS!G3)) -> LE CAIRE - EGYPTE | K5: =TRIM(IF(LEFT(INFOS!J3,3)="FRA","FRANCAISE",UPPER(INFOS!J3))) -> ITALIENNE | N5: =UPPER(INFOS!X3) -> EN COURS D'IMMATRICULATION | P5: =IF(OR(INFOS!W3="0",INFOS!U3=""),"",IF(INFOS!U3="concubinage","K",LEFT(INFOS!U3,1))) -> C | R5: =IF(OR(INFOS!V3=0,INFOS!V3=""),"",INFOS!V3) | T5: =IF(OR(U5="BIS",U5="TER"),LEFT(INFOS!O3,FIND("/",INFOS!O3)-1),LEFT(INFOS!O3,FIND(",",INFOS!O3)-3)) | U5: =IFERROR(MID(INFOS!O3,FIND("/",INFOS!O3)+1,3),"") | V5: =IFERROR(UPPER(MID(INFOS!O3,FIND(",",INFOS!O3)+2,26)),"") -> BOULEVARD GARIBALDI | X5: =+INFOS!S3 -> 07400 | Y5: =TRIM(UPPER(INFOS!T3)) -> VIERZON | AB5: =VALUE(CONCATENATE(0,INFOS!D3)) -> 669704930 | AC5: V | AK5: =VLOOKUP(D5,MEGALIST!$C:$BF,25,0) -> ASSISTANT REALISATEUR ADJOINT - AD PA | AL5: =VLOOKUP(AK5,'BASE EMPLOI'!A:M,7,0) -> #N/A | AM5: I | AN5: =VLOOKUP(AK5,'BASE EMPLOI'!$A:$M,3,0) -> #N/A | AO5: =IF(TEXT(INFOS!K3,"0")="0","",TEXT(INFOS!K3,"0")) -> 195069974532165 | AP5: =VLOOKUP(AK5,'BASE EMPLOI'!$A:$M,3,0) -> #N/A | AY5: =TRIM(UPPER(INFOS!H3)) -> EGYPTE | AZ5: =IF(TEXT(INFOS!L3,"0")="0","",TEXT(INFOS!L3,"0")) | BD5: =LOWER(INFOS!E3) -> mailmanu@gmail.com | BG5: 43 | BI5: ACT020 | BK5: =INFOS!AD3 -> FR77 | BL5: =INFOS!AC3 -> SOGEFRPPXXX
A6: =+A5+1 -> 11113 | C6: =+LEFT(AO6,1) -> 1 | D6: =TRIM(UPPER(INFOS!A4)) -> CHENILLE | E6: =TRIM(UPPER(INFOS!B4)) -> SEBASTIEN | G6: =+IF(C6="2",D6,"") | H6: =VALUE(INFOS!F4) -> 36192 | I6: =TRIM(UPPER(INFOS!G4)) -> PARIS 09 | K6: =TRIM(IF(LEFT(INFOS!J4,3)="FRA","FRANCAISE",UPPER(INFOS!J4))) -> FRANCAISE | N6: =UPPER(INFOS!X4) -> Y0482585 | P6: =IF(OR(INFOS!W4="0",INFOS!U4=""),"",IF(INFOS!U4="concubinage","K",LEFT(INFOS!U4,1))) -> M | R6: =IF(OR(INFOS!V4=0,INFOS!V4=""),"",INFOS!V4) | T6: =IF(OR(U6="BIS",U6="TER"),LEFT(INFOS!O4,FIND("/",INFOS!O4)-1),LEFT(INFOS!O4,FIND(",",INFOS!O4)-3)) -> 52 | U6: =IFERROR(MID(INFOS!O4,FIND("/",INFOS!O4)+1,3),"") -> bis | V6: =IFERROR(UPPER(MID(INFOS!O4,FIND(",",INFOS!O4)+2,26)),"") -> AVENUE DES JONQUILLES | X6: =+INFOS!S4 -> 61250 | Y6: =TRIM(UPPER(INFOS!T4)) -> ALBI | AB6: =VALUE(CONCATENATE(0,INFOS!D4)) -> 634540527 | AC6: V | AK6: ACTRICE DE COMPLEMENT | AL6: 354c | AM6: I | AN6: A | AO6: =IF(TEXT(INFOS!K4,"0")="0","",TEXT(INFOS!K4,"0")) -> 175117525689415 | AP6: =VLOOKUP(AK6,'BASE EMPLOI'!$A:$M,3,0) -> #N/A | AY6: =TRIM(UPPER(INFOS!H4)) -> FRANCE | AZ6: =IF(TEXT(INFOS!L4,"0")="0","",TEXT(INFOS!L4,"0")) | BD6: =LOWER(INFOS!E4) -> mailsebastien@me.com | BG6: 43 | BI6: ACT020 | BK6: =INFOS!AD4 -> FR78 | BL6: =INFOS!AC4 -> SOGEFRPPXXX
A7: =+A6+1 -> 11114 | C7: =+LEFT(AO7,1) | D7: =TRIM(UPPER(INFOS!A5)) | E7: =TRIM(UPPER(INFOS!B5)) | G7: =+IF(C7="2",D7,"") | H7: =VALUE(INFOS!F5) -> 0 | I7: =TRIM(UPPER(INFOS!G5)) | K7: =TRIM(IF(LEFT(INFOS!J5,3)="FRA","FRANCAISE",UPPER(INFOS!J5))) | N7: =UPPER(INFOS!X5) | P7: =IF(OR(INFOS!W5="0",INFOS!U5=""),"",IF(INFOS!U5="concubinage","K",LEFT(INFOS!U5,1))) | R7: =IF(OR(INFOS!V5=0,INFOS!V5=""),"",INFOS!V5) | T7: =+INFOS!N5 -> 0 | U7: =IF(OR(LEFT(INFOS!O5,3)="BIS",LEFT(INFOS!O5,3)="TER"),LEFT(INFOS!O5,1),"") | V7: =TRIM(IF(U7="",UPPER(LEFT(INFOS!O5,26)),MID(INFOS!O5,5,26))) | X7: =+INFOS!S5 -> 0 | Y7: =TRIM(UPPER(INFOS!T5)) | AB7: =VALUE(CONCATENATE(0,INFOS!D5)) -> 0 | AC7: V | AK7: ACTRICE DE COMPLEMENT | AL7: 354c | AM7: I | AN7: A | AO7: =IF(TEXT(INFOS!K5,"0")="0","",TEXT(INFOS!K5,"0")) | AY7: =TRIM(UPPER(INFOS!H5)) | AZ7: =IF(TEXT(INFOS!L5,"0")="0","",TEXT(INFOS!L5,"0")) | BD7: =LOWER(INFOS!E5) | BG7: 43 | BI7: ACT020 | BK7: =INFOS!AD5 -> 0 | BL7: =INFOS!AC5 -> 0
A8: =+A7+1 -> 11115 | C8: =+LEFT(AO8,1) | D8: =TRIM(UPPER(INFOS!A6)) | E8: =TRIM(UPPER(INFOS!B6)) | G8: =+IF(C8="2",D8,"") | H8: =VALUE(INFOS!F6) -> 0 | I8: =TRIM(UPPER(INFOS!G6)) | K8: =TRIM(IF(LEFT(INFOS!J6,3)="FRA","FRANCAISE",UPPER(INFOS!J6))) | N8: =UPPER(INFOS!X6) | P8: =IF(OR(INFOS!W6="0",INFOS!U6=""),"",IF(INFOS!U6="concubinage","K",LEFT(INFOS!U6,1))) | R8: =IF(OR(INFOS!V6=0,INFOS!V6=""),"",INFOS!V6) | T8: =+INFOS!N6 -> 0 | U8: =IF(OR(LEFT(INFOS!O6,3)="BIS",LEFT(INFOS!O6,3)="TER"),LEFT(INFOS!O6,1),"") | V8: =TRIM(IF(U8="",UPPER(LEFT(INFOS!O6,26)),MID(INFOS!O6,5,26))) | X8: =+INFOS!S6 -> 0 | Y8: =TRIM(UPPER(INFOS!T6)) | AB8: =VALUE(CONCATENATE(0,INFOS!D6)) -> 0 | AC8: V | AK8: ACTRICE DE COMPLEMENT | AL8: 354c | AM8: I | AN8: A | AO8: =IF(TEXT(INFOS!K6,"0")="0","",TEXT(INFOS!K6,"0")) | AY8: =TRIM(UPPER(INFOS!H6)) | AZ8: =IF(TEXT(INFOS!L6,"0")="0","",TEXT(INFOS!L6,"0")) | BD8: =LOWER(INFOS!E6) | BG8: 43 | BI8: ACT020 | BK8: =INFOS!AD6 -> 0 | BL8: =INFOS!AC6 -> 0
A9: =+A8+1 -> 11116 | C9: =+LEFT(AO9,1) | D9: =TRIM(UPPER(INFOS!A7)) | E9: =TRIM(UPPER(INFOS!B7)) | G9: =+IF(C9="2",D9,"") | H9: =VALUE(INFOS!F7) -> 0 | I9: =TRIM(UPPER(INFOS!G7)) | K9: =TRIM(IF(LEFT(INFOS!J7,3)="FRA","FRANCAISE",UPPER(INFOS!J7))) | N9: =UPPER(INFOS!X7) | P9: =IF(OR(INFOS!W7="0",INFOS!U7=""),"",IF(INFOS!U7="concubinage","K",LEFT(INFOS!U7,1))) | R9: =IF(OR(INFOS!V7=0,INFOS!V7=""),"",INFOS!V7) | T9: =+INFOS!N7 -> 0 | U9: =IF(OR(LEFT(INFOS!O7,3)="BIS",LEFT(INFOS!O7,3)="TER"),LEFT(INFOS!O7,1),"") | V9: =TRIM(IF(U9="",UPPER(LEFT(INFOS!O7,26)),MID(INFOS!O7,5,26))) | X9: =+INFOS!S7 -> 0 | Y9: =TRIM(UPPER(INFOS!T7)) | AB9: =VALUE(CONCATENATE(0,INFOS!D7)) -> 0 | AC9: V | AK9: ACTRICE DE COMPLEMENT | AL9: 354c | AM9: I | AN9: A | AO9: =IF(TEXT(INFOS!K7,"0")="0","",TEXT(INFOS!K7,"0")) | AY9: =TRIM(UPPER(INFOS!H7)) | AZ9: =IF(TEXT(INFOS!L7,"0")="0","",TEXT(INFOS!L7,"0")) | BD9: =LOWER(INFOS!E7) | BG9: 43 | BI9: ACT020 | BK9: =INFOS!AD7 -> 0 | BL9: =INFOS!AC7 -> 0
A10: =+A9+1 -> 11117 | C10: =+LEFT(AO10,1) | D10: =TRIM(UPPER(INFOS!A8)) | E10: =TRIM(UPPER(INFOS!B8)) | G10: =+IF(C10="2",D10,"") | H10: =VALUE(INFOS!F8) -> 0 | I10: =TRIM(UPPER(INFOS!G8)) | K10: =TRIM(IF(LEFT(INFOS!J8,3)="FRA","FRANCAISE",UPPER(INFOS!J8))) | N10: =UPPER(INFOS!X8) | P10: =IF(OR(INFOS!W8="0",INFOS!U8=""),"",IF(INFOS!U8="concubinage","K",LEFT(INFOS!U8,1))) | R10: =IF(OR(INFOS!V8=0,INFOS!V8=""),"",INFOS!V8) | T10: =+INFOS!N8 -> 0 | U10: =IF(OR(LEFT(INFOS!O8,3)="BIS",LEFT(INFOS!O8,3)="TER"),LEFT(INFOS!O8,1),"") | V10: =TRIM(IF(U10="",UPPER(LEFT(INFOS!O8,26)),MID(INFOS!O8,5,26))) | X10: =+INFOS!S8 -> 0 | Y10: =TRIM(UPPER(INFOS!T8)) | AB10: =VALUE(CONCATENATE(0,INFOS!D8)) -> 0 | AC10: V | AK10: ACTRICE DE COMPLEMENT | AL10: 354c | AM10: I | AN10: A | AO10: =IF(TEXT(INFOS!K8,"0")="0","",TEXT(INFOS!K8,"0")) | AY10: =TRIM(UPPER(INFOS!H8)) | AZ10: =IF(TEXT(INFOS!L8,"0")="0","",TEXT(INFOS!L8,"0")) | BD10: =LOWER(INFOS!E8) | BG10: 43 | BI10: ACT020 | BK10: =INFOS!AD8 -> 0 | BL10: =INFOS!AC8 -> 0
A11: =+A10+1 -> 11118 | C11: =+LEFT(AO11,1) | D11: =TRIM(UPPER(INFOS!A9)) | E11: =TRIM(UPPER(INFOS!B9)) | G11: =+IF(C11="2",D11,"") | H11: =VALUE(INFOS!F9) -> 0 | I11: =TRIM(UPPER(INFOS!G9)) | K11: =TRIM(IF(LEFT(INFOS!J9,3)="FRA","FRANCAISE",UPPER(INFOS!J9))) | N11: =UPPER(INFOS!X9) | P11: =IF(OR(INFOS!W9="0",INFOS!U9=""),"",IF(INFOS!U9="concubinage","K",LEFT(INFOS!U9,1))) | R11: =IF(OR(INFOS!V9=0,INFOS!V9=""),"",INFOS!V9) | T11: =+INFOS!N9 -> 0 | U11: =IF(OR(LEFT(INFOS!O9,3)="BIS",LEFT(INFOS!O9,3)="TER"),LEFT(INFOS!O9,1),"") | V11: =TRIM(IF(U11="",UPPER(LEFT(INFOS!O9,26)),MID(INFOS!O9,5,26))) | X11: =+INFOS!S9 -> 0 | Y11: =TRIM(UPPER(INFOS!T9)) | AB11: =VALUE(CONCATENATE(0,INFOS!D9)) -> 0 | AC11: V | AK11: ACTRICE DE COMPLEMENT | AL11: 354c | AM11: I | AN11: A | AO11: =IF(TEXT(INFOS!K9,"0")="0","",TEXT(INFOS!K9,"0")) | AY11: =TRIM(UPPER(INFOS!H9)) | AZ11: =IF(TEXT(INFOS!L9,"0")="0","",TEXT(INFOS!L9,"0")) | BD11: =LOWER(INFOS!E9) | BG11: 43 | BI11: ACT020 | BK11: =INFOS!AD9 -> 0 | BL11: =INFOS!AC9 -> 0
A12: =+A11+1 -> 11119 | C12: =+LEFT(AO12,1) | D12: =TRIM(UPPER(INFOS!A10)) | E12: =TRIM(UPPER(INFOS!B10)) | G12: =+IF(C12="2",D12,"") | H12: =VALUE(INFOS!F10) -> 0 | I12: =TRIM(UPPER(INFOS!G10)) | K12: =TRIM(IF(LEFT(INFOS!J10,3)="FRA","FRANCAISE",UPPER(INFOS!J10))) | N12: =UPPER(INFOS!X10) | P12: =IF(OR(INFOS!W10="0",INFOS!U10=""),"",IF(INFOS!U10="concubinage","K",LEFT(INFOS!U10,1))) | R12: =IF(OR(INFOS!V10=0,INFOS!V10=""),"",INFOS!V10) | T12: =+INFOS!N10 -> 0 | U12: =IF(OR(LEFT(INFOS!O10,3)="BIS",LEFT(INFOS!O10,3)="TER"),LEFT(INFOS!O10,1),"") | V12: =TRIM(IF(U12="",UPPER(LEFT(INFOS!O10,26)),MID(INFOS!O10,5,26))) | X12: =+INFOS!S10 -> 0 | Y12: =TRIM(UPPER(INFOS!T10)) | AB12: =VALUE(CONCATENATE(0,INFOS!D10)) -> 0 | AC12: V | AK12: ACTRICE DE COMPLEMENT | AL12: 354c | AM12: I | AN12: A | AO12: =IF(TEXT(INFOS!K10,"0")="0","",TEXT(INFOS!K10,"0")) | AY12: =TRIM(UPPER(INFOS!H10)) | AZ12: =IF(TEXT(INFOS!L10,"0")="0","",TEXT(INFOS!L10,"0")) | BD12: =LOWER(INFOS!E10) | BG12: 43 | BI12: ACT020 | BK12: =INFOS!AD10 -> 0 | BL12: =INFOS!AC10 -> 0
A13: =+A12+1 -> 11120 | C13: =+LEFT(AO13,1) | D13: =TRIM(UPPER(INFOS!A11)) | E13: =TRIM(UPPER(INFOS!B11)) | G13: =+IF(C13="2",D13,"") | H13: =VALUE(INFOS!F11) -> 0 | I13: =TRIM(UPPER(INFOS!G11)) | K13: =TRIM(IF(LEFT(INFOS!J11,3)="FRA","FRANCAISE",UPPER(INFOS!J11))) | N13: =UPPER(INFOS!X11) | P13: =IF(OR(INFOS!W11="0",INFOS!U11=""),"",IF(INFOS!U11="concubinage","K",LEFT(INFOS!U11,1))) | R13: =IF(OR(INFOS!V11=0,INFOS!V11=""),"",INFOS!V11) | T13: =+INFOS!N11 -> 0 | U13: =IF(OR(LEFT(INFOS!O11,3)="BIS",LEFT(INFOS!O11,3)="TER"),LEFT(INFOS!O11,1),"") | V13: =TRIM(IF(U13="",UPPER(LEFT(INFOS!O11,26)),MID(INFOS!O11,5,26))) | X13: =+INFOS!S11 -> 0 | Y13: =TRIM(UPPER(INFOS!T11)) | AB13: =VALUE(CONCATENATE(0,INFOS!D11)) -> 0 | AC13: V | AK13: ACTRICE DE COMPLEMENT | AL13: 354c | AM13: I | AN13: A | AO13: =IF(TEXT(INFOS!K11,"0")="0","",TEXT(INFOS!K11,"0")) | AY13: =TRIM(UPPER(INFOS!H11)) | AZ13: =IF(TEXT(INFOS!L11,"0")="0","",TEXT(INFOS!L11,"0")) | BD13: =LOWER(INFOS!E11) | BG13: 43 | BI13: ACT020 | BK13: =INFOS!AD11 -> 0 | BL13: =INFOS!AC11 -> 0
A14: =+A13+1 -> 11121 | C14: =+LEFT(AO14,1) | D14: =TRIM(UPPER(INFOS!A12)) | E14: =TRIM(UPPER(INFOS!B12)) | G14: =+IF(C14="2",D14,"") | H14: =VALUE(INFOS!F12) -> 0 | I14: =TRIM(UPPER(INFOS!G12)) | K14: =TRIM(IF(LEFT(INFOS!J12,3)="FRA","FRANCAISE",UPPER(INFOS!J12))) | N14: =UPPER(INFOS!X12) | P14: =IF(OR(INFOS!W12="0",INFOS!U12=""),"",IF(INFOS!U12="concubinage","K",LEFT(INFOS!U12,1))) | R14: =IF(OR(INFOS!V12=0,INFOS!V12=""),"",INFOS!V12) | T14: =+INFOS!N12 -> 0 | U14: =IF(OR(LEFT(INFOS!O12,3)="BIS",LEFT(INFOS!O12,3)="TER"),LEFT(INFOS!O12,1),"") | V14: =TRIM(IF(U14="",UPPER(LEFT(INFOS!O12,26)),MID(INFOS!O12,5,26))) | X14: =+INFOS!S12 -> 0 | Y14: =TRIM(UPPER(INFOS!T12)) | AB14: =VALUE(CONCATENATE(0,INFOS!D12)) -> 0 | AC14: V | AK14: ACTRICE DE COMPLEMENT | AL14: 354c | AM14: I | AN14: A | AO14: =IF(TEXT(INFOS!K12,"0")="0","",TEXT(INFOS!K12,"0")) | AY14: =TRIM(UPPER(INFOS!H12)) | AZ14: =IF(TEXT(INFOS!L12,"0")="0","",TEXT(INFOS!L12,"0")) | BD14: =LOWER(INFOS!E12) | BG14: 43 | BI14: ACT020 | BK14: =INFOS!AD12 -> 0 | BL14: =INFOS!AC12 -> 0
A15: =+A14+1 -> 11122 | C15: =+LEFT(AO15,1) | D15: =TRIM(UPPER(INFOS!A13)) | E15: =TRIM(UPPER(INFOS!B13)) | G15: =+IF(C15="2",D15,"") | H15: =VALUE(INFOS!F13) -> 0 | I15: =TRIM(UPPER(INFOS!G13)) | K15: =TRIM(IF(LEFT(INFOS!J13,3)="FRA","FRANCAISE",UPPER(INFOS!J13))) | N15: =UPPER(INFOS!X13) | P15: =IF(OR(INFOS!W13="0",INFOS!U13=""),"",IF(INFOS!U13="concubinage","K",LEFT(INFOS!U13,1))) | R15: =IF(OR(INFOS!V13=0,INFOS!V13=""),"",INFOS!V13) | T15: =+INFOS!N13 -> 0 | U15: =IF(OR(LEFT(INFOS!O13,3)="BIS",LEFT(INFOS!O13,3)="TER"),LEFT(INFOS!O13,1),"") | V15: =TRIM(IF(U15="",UPPER(LEFT(INFOS!O13,26)),MID(INFOS!O13,5,26))) | X15: =+INFOS!S13 -> 0 | Y15: =TRIM(UPPER(INFOS!T13)) | AB15: =VALUE(CONCATENATE(0,INFOS!D13)) -> 0 | AC15: V | AK15: ACTRICE DE COMPLEMENT | AL15: 354c | AM15: I | AN15: A | AO15: =IF(TEXT(INFOS!K13,"0")="0","",TEXT(INFOS!K13,"0")) | AY15: =TRIM(UPPER(INFOS!H13)) | AZ15: =IF(TEXT(INFOS!L13,"0")="0","",TEXT(INFOS!L13,"0")) | BD15: =LOWER(INFOS!E13) | BG15: 43 | BI15: ACT020 | BK15: =INFOS!AD13 -> 0 | BL15: =INFOS!AC13 -> 0
A16: =+A15+1 -> 11123 | C16: =+LEFT(AO16,1) | D16: =TRIM(UPPER(INFOS!A14)) | E16: =TRIM(UPPER(INFOS!B14)) | G16: =+IF(C16="2",D16,"") | H16: =VALUE(INFOS!F14) -> 0 | I16: =TRIM(UPPER(INFOS!G14)) | K16: =TRIM(IF(LEFT(INFOS!J14,3)="FRA","FRANCAISE",UPPER(INFOS!J14))) | N16: =UPPER(INFOS!X14) | P16: =IF(OR(INFOS!W14="0",INFOS!U14=""),"",IF(INFOS!U14="concubinage","K",LEFT(INFOS!U14,1))) | R16: =IF(OR(INFOS!V14=0,INFOS!V14=""),"",INFOS!V14) | T16: =+INFOS!N14 -> 0 | U16: =IF(OR(LEFT(INFOS!O14,3)="BIS",LEFT(INFOS!O14,3)="TER"),LEFT(INFOS!O14,1),"") | V16: =TRIM(IF(U16="",UPPER(LEFT(INFOS!O14,26)),MID(INFOS!O14,5,26))) | X16: =+INFOS!S14 -> 0 | Y16: =TRIM(UPPER(INFOS!T14)) | AB16: =VALUE(CONCATENATE(0,INFOS!D14)) -> 0 | AC16: V | AK16: ACTRICE DE COMPLEMENT | AL16: 354c | AM16: I | AN16: A | AO16: =IF(TEXT(INFOS!K14,"0")="0","",TEXT(INFOS!K14,"0")) | AY16: =TRIM(UPPER(INFOS!H14)) | AZ16: =IF(TEXT(INFOS!L14,"0")="0","",TEXT(INFOS!L14,"0")) | BD16: =LOWER(INFOS!E14) | BG16: 43 | BI16: ACT020 | BK16: =INFOS!AD14 -> 0 | BL16: =INFOS!AC14 -> 0
A17: =+A16+1 -> 11124 | C17: =+LEFT(AO17,1) | D17: =TRIM(UPPER(INFOS!A15)) | E17: =TRIM(UPPER(INFOS!B15)) | G17: =+IF(C17="2",D17,"") | H17: =VALUE(INFOS!F15) -> 0 | I17: =TRIM(UPPER(INFOS!G15)) | K17: =TRIM(IF(LEFT(INFOS!J15,3)="FRA","FRANCAISE",UPPER(INFOS!J15))) | N17: =UPPER(INFOS!X15) | P17: =IF(OR(INFOS!W15="0",INFOS!U15=""),"",IF(INFOS!U15="concubinage","K",LEFT(INFOS!U15,1))) | R17: =IF(OR(INFOS!V15=0,INFOS!V15=""),"",INFOS!V15) | T17: =+INFOS!N15 -> 0 | U17: =IF(OR(LEFT(INFOS!O15,3)="BIS",LEFT(INFOS!O15,3)="TER"),LEFT(INFOS!O15,1),"") | V17: =TRIM(IF(U17="",UPPER(LEFT(INFOS!O15,26)),MID(INFOS!O15,5,26))) | X17: =+INFOS!S15 -> 0 | Y17: =TRIM(UPPER(INFOS!T15)) | AB17: =VALUE(CONCATENATE(0,INFOS!D15)) -> 0 | AC17: V | AK17: ACTRICE DE COMPLEMENT | AL17: 354c | AM17: I | AN17: A | AO17: =IF(TEXT(INFOS!K15,"0")="0","",TEXT(INFOS!K15,"0")) | AY17: =TRIM(UPPER(INFOS!H15)) | AZ17: =IF(TEXT(INFOS!L15,"0")="0","",TEXT(INFOS!L15,"0")) | BD17: =LOWER(INFOS!E15) | BG17: 43 | BI17: ACT020 | BK17: =INFOS!AD15 -> 0 | BL17: =INFOS!AC15 -> 0
A18: =+A17+1 -> 11125 | C18: =+LEFT(AO18,1) | D18: =TRIM(UPPER(INFOS!A16)) | E18: =TRIM(UPPER(INFOS!B16)) | G18: =+IF(C18="2",D18,"") | H18: =VALUE(INFOS!F16) -> 0 | I18: =TRIM(UPPER(INFOS!G16)) | K18: =TRIM(IF(LEFT(INFOS!J16,3)="FRA","FRANCAISE",UPPER(INFOS!J16))) | N18: =UPPER(INFOS!X16) | P18: =IF(OR(INFOS!W16="0",INFOS!U16=""),"",IF(INFOS!U16="concubinage","K",LEFT(INFOS!U16,1))) | R18: =IF(OR(INFOS!V16=0,INFOS!V16=""),"",INFOS!V16) | T18: =+INFOS!N16 -> 0 | U18: =IF(OR(LEFT(INFOS!O16,3)="BIS",LEFT(INFOS!O16,3)="TER"),LEFT(INFOS!O16,1),"") | V18: =TRIM(IF(U18="",UPPER(LEFT(INFOS!O16,26)),MID(INFOS!O16,5,26))) | X18: =+INFOS!S16 -> 0 | Y18: =TRIM(UPPER(INFOS!T16)) | AB18: =VALUE(CONCATENATE(0,INFOS!D16)) -> 0 | AC18: V | AK18: ACTRICE DE COMPLEMENT | AL18: 354c | AM18: I | AN18: A | AO18: =IF(TEXT(INFOS!K16,"0")="0","",TEXT(INFOS!K16,"0")) | AY18: =TRIM(UPPER(INFOS!H16)) | AZ18: =IF(TEXT(INFOS!L16,"0")="0","",TEXT(INFOS!L16,"0")) | BD18: =LOWER(INFOS!E16) | BG18: 43 | BI18: ACT020 | BK18: =INFOS!AD16 -> 0 | BL18: =INFOS!AC16 -> 0
A19: =+A18+1 -> 11126 | C19: =+LEFT(AO19,1) | D19: =TRIM(UPPER(INFOS!A17)) | E19: =TRIM(UPPER(INFOS!B17)) | G19: =+IF(C19="2",D19,"") | H19: =VALUE(INFOS!F17) -> 0 | I19: =TRIM(UPPER(INFOS!G17)) | K19: =TRIM(IF(LEFT(INFOS!J17,3)="FRA","FRANCAISE",UPPER(INFOS!J17))) | N19: =UPPER(INFOS!X17) | P19: =IF(OR(INFOS!W17="0",INFOS!U17=""),"",IF(INFOS!U17="concubinage","K",LEFT(INFOS!U17,1))) | R19: =IF(OR(INFOS!V17=0,INFOS!V17=""),"",INFOS!V17) | T19: =+INFOS!N17 -> 0 | U19: =IF(OR(LEFT(INFOS!O17,3)="BIS",LEFT(INFOS!O17,3)="TER"),LEFT(INFOS!O17,1),"") | V19: =TRIM(IF(U19="",UPPER(LEFT(INFOS!O17,26)),MID(INFOS!O17,5,26))) | X19: =+INFOS!S17 -> 0 | Y19: =TRIM(UPPER(INFOS!T17)) | AB19: =VALUE(CONCATENATE(0,INFOS!D17)) -> 0 | AC19: V | AK19: ACTRICE DE COMPLEMENT | AL19: 354c | AM19: I | AN19: A | AO19: =IF(TEXT(INFOS!K17,"0")="0","",TEXT(INFOS!K17,"0")) | AY19: =TRIM(UPPER(INFOS!H17)) | AZ19: =IF(TEXT(INFOS!L17,"0")="0","",TEXT(INFOS!L17,"0")) | BD19: =LOWER(INFOS!E17) | BG19: 43 | BI19: ACT020 | BK19: =INFOS!AD17 -> 0 | BL19: =INFOS!AC17 -> 0
A20: =+A19+1 -> 11127 | C20: =+LEFT(AO20,1) | D20: =TRIM(UPPER(INFOS!A18)) | E20: =TRIM(UPPER(INFOS!B18)) | G20: =+IF(C20="2",D20,"") | H20: =VALUE(INFOS!F18) -> 0 | I20: =TRIM(UPPER(INFOS!G18)) | K20: =TRIM(IF(LEFT(INFOS!J18,3)="FRA","FRANCAISE",UPPER(INFOS!J18))) | N20: =UPPER(INFOS!X18) | P20: =IF(OR(INFOS!W18="0",INFOS!U18=""),"",IF(INFOS!U18="concubinage","K",LEFT(INFOS!U18,1))) | R20: =IF(OR(INFOS!V18=0,INFOS!V18=""),"",INFOS!V18) | T20: =+INFOS!N18 -> 0 | U20: =IF(OR(LEFT(INFOS!O18,3)="BIS",LEFT(INFOS!O18,3)="TER"),LEFT(INFOS!O18,1),"") | V20: =TRIM(IF(U20="",UPPER(LEFT(INFOS!O18,26)),MID(INFOS!O18,5,26))) | X20: =+INFOS!S18 -> 0 | Y20: =TRIM(UPPER(INFOS!T18)) | AB20: =VALUE(CONCATENATE(0,INFOS!D18)) -> 0 | AC20: V | AK20: ACTRICE DE COMPLEMENT | AL20: 354c | AM20: I | AN20: A | AO20: =IF(TEXT(INFOS!K18,"0")="0","",TEXT(INFOS!K18,"0")) | AY20: =TRIM(UPPER(INFOS!H18)) | AZ20: =IF(TEXT(INFOS!L18,"0")="0","",TEXT(INFOS!L18,"0")) | BD20: =LOWER(INFOS!E18) | BG20: 43 | BI20: ACT020
A21: =+A20+1 -> 11128 | C21: =+LEFT(AO21,1) | D21: =TRIM(UPPER(INFOS!A19)) | E21: =TRIM(UPPER(INFOS!B19)) | G21: =+IF(C21="2",D21,"") | H21: =VALUE(INFOS!F19) -> 0 | I21: =TRIM(UPPER(INFOS!G19)) | K21: =TRIM(IF(LEFT(INFOS!J19,3)="FRA","FRANCAISE",UPPER(INFOS!J19))) | N21: =UPPER(INFOS!X19) | P21: =IF(OR(INFOS!W19="0",INFOS!U19=""),"",IF(INFOS!U19="concubinage","K",LEFT(INFOS!U19,1))) | R21: =IF(OR(INFOS!V19=0,INFOS!V19=""),"",INFOS!V19) | T21: =+INFOS!N19 -> 0 | U21: =IF(OR(LEFT(INFOS!O19,3)="BIS",LEFT(INFOS!O19,3)="TER"),LEFT(INFOS!O19,1),"") | V21: =TRIM(IF(U21="",UPPER(LEFT(INFOS!O19,26)),MID(INFOS!O19,5,26))) | X21: =+INFOS!S19 -> 0 | Y21: =TRIM(UPPER(INFOS!T19)) | AB21: =VALUE(CONCATENATE(0,INFOS!D19)) -> 0 | AC21: V | AK21: ACTRICE DE COMPLEMENT | AL21: 354c | AM21: I | AN21: A | AO21: =IF(TEXT(INFOS!K19,"0")="0","",TEXT(INFOS!K19,"0")) | AY21: =TRIM(UPPER(INFOS!H19)) | AZ21: =IF(TEXT(INFOS!L19,"0")="0","",TEXT(INFOS!L19,"0")) | BD21: =LOWER(INFOS!E19) | BG21: 43 | BI21: ACT020
A22: =+A21+1 -> 11129 | C22: =+LEFT(AO22,1) | D22: =TRIM(UPPER(INFOS!A20)) | E22: =TRIM(UPPER(INFOS!B20)) | G22: =+IF(C22="2",D22,"") | H22: =VALUE(INFOS!F20) -> 0 | I22: =TRIM(UPPER(INFOS!G20)) | K22: =TRIM(IF(LEFT(INFOS!J20,3)="FRA","FRANCAISE",UPPER(INFOS!J20))) | N22: =UPPER(INFOS!X20) | P22: =IF(OR(INFOS!W20="0",INFOS!U20=""),"",IF(INFOS!U20="concubinage","K",LEFT(INFOS!U20,1))) | R22: =IF(OR(INFOS!V20=0,INFOS!V20=""),"",INFOS!V20) | T22: =+INFOS!N20 -> 0 | U22: =IF(OR(LEFT(INFOS!O20,3)="BIS",LEFT(INFOS!O20,3)="TER"),LEFT(INFOS!O20,1),"") | V22: =TRIM(IF(U22="",UPPER(LEFT(INFOS!O20,26)),MID(INFOS!O20,5,26))) | X22: =+INFOS!S20 -> 0 | Y22: =TRIM(UPPER(INFOS!T20)) | AB22: =VALUE(CONCATENATE(0,INFOS!D20)) -> 0 | AC22: V | AK22: ACTRICE DE COMPLEMENT | AL22: 354c | AM22: I | AN22: A | AO22: =IF(TEXT(INFOS!K20,"0")="0","",TEXT(INFOS!K20,"0")) | AY22: =TRIM(UPPER(INFOS!H20)) | AZ22: =IF(TEXT(INFOS!L20,"0")="0","",TEXT(INFOS!L20,"0")) | BD22: =LOWER(INFOS!E20) | BG22: 43 | BI22: ACT020
A23: =+A22+1 -> 11130 | C23: =+LEFT(AO23,1) | D23: =TRIM(UPPER(INFOS!A21)) | E23: =TRIM(UPPER(INFOS!B21)) | G23: =+IF(C23="2",D23,"") | H23: =VALUE(INFOS!F21) -> 0 | I23: =TRIM(UPPER(INFOS!G21)) | K23: =TRIM(IF(LEFT(INFOS!J21,3)="FRA","FRANCAISE",UPPER(INFOS!J21))) | N23: =UPPER(INFOS!X21) | P23: =IF(OR(INFOS!W21="0",INFOS!U21=""),"",IF(INFOS!U21="concubinage","K",LEFT(INFOS!U21,1))) | R23: =IF(OR(INFOS!V21=0,INFOS!V21=""),"",INFOS!V21) | T23: =+INFOS!N21 -> 0 | U23: =IF(OR(LEFT(INFOS!O21,3)="BIS",LEFT(INFOS!O21,3)="TER"),LEFT(INFOS!O21,1),"") | V23: =TRIM(IF(U23="",UPPER(LEFT(INFOS!O21,26)),MID(INFOS!O21,5,26))) | X23: =+INFOS!S21 -> 0 | Y23: =TRIM(UPPER(INFOS!T21)) | AB23: =VALUE(CONCATENATE(0,INFOS!D21)) -> 0 | AC23: V | AK23: ACTRICE DE COMPLEMENT | AL23: 354c | AM23: I | AN23: A | AO23: =IF(TEXT(INFOS!K21,"0")="0","",TEXT(INFOS!K21,"0")) | AY23: =TRIM(UPPER(INFOS!H21)) | AZ23: =IF(TEXT(INFOS!L21,"0")="0","",TEXT(INFOS!L21,"0")) | BD23: =LOWER(INFOS!E21) | BG23: 43 | BI23: ACT020
A24: =+A23+1 -> 11131 | C24: =+LEFT(AO24,1) | D24: =TRIM(UPPER(INFOS!A22)) | E24: =TRIM(UPPER(INFOS!B22)) | G24: =+IF(C24="2",D24,"") | H24: =VALUE(INFOS!F22) -> 0 | I24: =TRIM(UPPER(INFOS!G22)) | K24: =TRIM(IF(LEFT(INFOS!J22,3)="FRA","FRANCAISE",UPPER(INFOS!J22))) | N24: =UPPER(INFOS!X22) | P24: =IF(OR(INFOS!W22="0",INFOS!U22=""),"",IF(INFOS!U22="concubinage","K",LEFT(INFOS!U22,1))) | R24: =IF(OR(INFOS!V22=0,INFOS!V22=""),"",INFOS!V22) | T24: =+INFOS!N22 -> 0 | U24: =IF(OR(LEFT(INFOS!O22,3)="BIS",LEFT(INFOS!O22,3)="TER"),LEFT(INFOS!O22,1),"") | V24: =TRIM(IF(U24="",UPPER(LEFT(INFOS!O22,26)),MID(INFOS!O22,5,26))) | X24: =+INFOS!S22 -> 0 | Y24: =TRIM(UPPER(INFOS!T22)) | AB24: =VALUE(CONCATENATE(0,INFOS!D22)) -> 0 | AC24: V | AK24: ACTRICE DE COMPLEMENT | AL24: 354c | AM24: I | AN24: A | AO24: =IF(TEXT(INFOS!K22,"0")="0","",TEXT(INFOS!K22,"0")) | AY24: =TRIM(UPPER(INFOS!H22)) | AZ24: =IF(TEXT(INFOS!L22,"0")="0","",TEXT(INFOS!L22,"0")) | BD24: =LOWER(INFOS!E22) | BG24: 43 | BI24: ACT020
A25: =+A24+1 -> 11132 | C25: =+LEFT(AO25,1) | D25: =TRIM(UPPER(INFOS!A23)) | E25: =TRIM(UPPER(INFOS!B23)) | G25: =+IF(C25="2",D25,"") | H25: =VALUE(INFOS!F23) -> 0 | I25: =TRIM(UPPER(INFOS!G23)) | K25: =TRIM(IF(LEFT(INFOS!J23,3)="FRA","FRANCAISE",UPPER(INFOS!J23))) | N25: =UPPER(INFOS!X23) | P25: =IF(OR(INFOS!W23="0",INFOS!U23=""),"",IF(INFOS!U23="concubinage","K",LEFT(INFOS!U23,1))) | R25: =IF(OR(INFOS!V23=0,INFOS!V23=""),"",INFOS!V23) | T25: =+INFOS!N23 -> 0 | U25: =IF(OR(LEFT(INFOS!O23,3)="BIS",LEFT(INFOS!O23,3)="TER"),LEFT(INFOS!O23,1),"") | V25: =TRIM(IF(U25="",UPPER(LEFT(INFOS!O23,26)),MID(INFOS!O23,5,26))) | X25: =+INFOS!S23 -> 0 | Y25: =TRIM(UPPER(INFOS!T23)) | AB25: =VALUE(CONCATENATE(0,INFOS!D23)) -> 0 | AC25: V | AK25: ACTRICE DE COMPLEMENT | AL25: 354c | AM25: I | AN25: A | AO25: =IF(TEXT(INFOS!K23,"0")="0","",TEXT(INFOS!K23,"0")) | AY25: =TRIM(UPPER(INFOS!H23)) | AZ25: =IF(TEXT(INFOS!L23,"0")="0","",TEXT(INFOS!L23,"0")) | BD25: =LOWER(INFOS!E23) | BG25: 43 | BI25: ACT020
A26: =+A25+1 -> 11133 | C26: =+LEFT(AO26,1) | D26: =TRIM(UPPER(INFOS!A24)) | E26: =TRIM(UPPER(INFOS!B24)) | G26: =+IF(C26="2",D26,"") | H26: =VALUE(INFOS!F24) -> 0 | I26: =TRIM(UPPER(INFOS!G24)) | K26: =TRIM(IF(LEFT(INFOS!J24,3)="FRA","FRANCAISE",UPPER(INFOS!J24))) | N26: =UPPER(INFOS!X24) | P26: =IF(OR(INFOS!W24="0",INFOS!U24=""),"",IF(INFOS!U24="concubinage","K",LEFT(INFOS!U24,1))) | R26: =IF(OR(INFOS!V24=0,INFOS!V24=""),"",INFOS!V24) | T26: =+INFOS!N24 -> 0 | U26: =IF(OR(LEFT(INFOS!O24,3)="BIS",LEFT(INFOS!O24,3)="TER"),LEFT(INFOS!O24,1),"") | V26: =TRIM(IF(U26="",UPPER(LEFT(INFOS!O24,26)),MID(INFOS!O24,5,26))) | X26: =+INFOS!S24 -> 0 | Y26: =TRIM(UPPER(INFOS!T24)) | AB26: =VALUE(CONCATENATE(0,INFOS!D24)) -> 0 | AC26: V | AK26: ACTRICE DE COMPLEMENT | AL26: 354c | AM26: I | AN26: A | AO26: =IF(TEXT(INFOS!K24,"0")="0","",TEXT(INFOS!K24,"0")) | AY26: =TRIM(UPPER(INFOS!H24)) | AZ26: =IF(TEXT(INFOS!L24,"0")="0","",TEXT(INFOS!L24,"0")) | BD26: =LOWER(INFOS!E24) | BG26: 43 | BI26: ACT020
A27: =+A26+1 -> 11134 | C27: =+LEFT(AO27,1) | D27: =TRIM(UPPER(INFOS!A25)) | E27: =TRIM(UPPER(INFOS!B25)) | G27: =+IF(C27="2",D27,"") | H27: =VALUE(INFOS!F25) -> 0 | I27: =TRIM(UPPER(INFOS!G25)) | K27: =TRIM(IF(LEFT(INFOS!J25,3)="FRA","FRANCAISE",UPPER(INFOS!J25))) | N27: =UPPER(INFOS!X25) | P27: =IF(OR(INFOS!W25="0",INFOS!U25=""),"",IF(INFOS!U25="concubinage","K",LEFT(INFOS!U25,1))) | R27: =IF(OR(INFOS!V25=0,INFOS!V25=""),"",INFOS!V25) | T27: =+INFOS!N25 -> 0 | U27: =IF(OR(LEFT(INFOS!O25,3)="BIS",LEFT(INFOS!O25,3)="TER"),LEFT(INFOS!O25,1),"") | V27: =TRIM(IF(U27="",UPPER(LEFT(INFOS!O25,26)),MID(INFOS!O25,5,26))) | X27: =+INFOS!S25 -> 0 | Y27: =TRIM(UPPER(INFOS!T25)) | AB27: =VALUE(CONCATENATE(0,INFOS!D25)) -> 0 | AC27: V | AK27: ACTRICE DE COMPLEMENT | AL27: 354c | AM27: I | AN27: A | AO27: =IF(TEXT(INFOS!K25,"0")="0","",TEXT(INFOS!K25,"0")) | AY27: =TRIM(UPPER(INFOS!H25)) | AZ27: =IF(TEXT(INFOS!L25,"0")="0","",TEXT(INFOS!L25,"0")) | BD27: =LOWER(INFOS!E25) | BG27: 43 | BI27: ACT020
A28: =+A27+1 -> 11135 | C28: =+LEFT(AO28,1) | D28: =TRIM(UPPER(INFOS!A26)) | E28: =TRIM(UPPER(INFOS!B26)) | G28: =+IF(C28="2",D28,"") | H28: =VALUE(INFOS!F26) -> 0 | I28: =TRIM(UPPER(INFOS!G26)) | K28: =TRIM(IF(LEFT(INFOS!J26,3)="FRA","FRANCAISE",UPPER(INFOS!J26))) | N28: =UPPER(INFOS!X26) | P28: =IF(OR(INFOS!W26="0",INFOS!U26=""),"",IF(INFOS!U26="concubinage","K",LEFT(INFOS!U26,1))) | R28: =IF(OR(INFOS!V26=0,INFOS!V26=""),"",INFOS!V26) | T28: =+INFOS!N26 -> 0 | U28: =IF(OR(LEFT(INFOS!O26,3)="BIS",LEFT(INFOS!O26,3)="TER"),LEFT(INFOS!O26,1),"") | V28: =TRIM(IF(U28="",UPPER(LEFT(INFOS!O26,26)),MID(INFOS!O26,5,26))) | X28: =+INFOS!S26 -> 0 | Y28: =TRIM(UPPER(INFOS!T26)) | AB28: =VALUE(CONCATENATE(0,INFOS!D26)) -> 0 | AC28: V | AK28: ACTRICE DE COMPLEMENT | AL28: 354c | AM28: I | AN28: A | AO28: =IF(TEXT(INFOS!K26,"0")="0","",TEXT(INFOS!K26,"0")) | AY28: =TRIM(UPPER(INFOS!H26)) | AZ28: =IF(TEXT(INFOS!L26,"0")="0","",TEXT(INFOS!L26,"0")) | BD28: =LOWER(INFOS!E26) | BG28: 43 | BI28: ACT020
A29: =+A28+1 -> 11136 | C29: =+LEFT(AO29,1) | D29: =TRIM(UPPER(INFOS!A27)) | E29: =TRIM(UPPER(INFOS!B27)) | G29: =+IF(C29="2",D29,"") | H29: =VALUE(INFOS!F27) -> 0 | I29: =TRIM(UPPER(INFOS!G27)) | K29: =TRIM(IF(LEFT(INFOS!J27,3)="FRA","FRANCAISE",UPPER(INFOS!J27))) | N29: =UPPER(INFOS!X27) | P29: =IF(OR(INFOS!W27="0",INFOS!U27=""),"",IF(INFOS!U27="concubinage","K",LEFT(INFOS!U27,1))) | R29: =IF(OR(INFOS!V27=0,INFOS!V27=""),"",INFOS!V27) | T29: =+INFOS!N27 -> 0 | U29: =IF(OR(LEFT(INFOS!O27,3)="BIS",LEFT(INFOS!O27,3)="TER"),LEFT(INFOS!O27,1),"") | V29: =TRIM(IF(U29="",UPPER(LEFT(INFOS!O27,26)),MID(INFOS!O27,5,26))) | X29: =+INFOS!S27 -> 0 | Y29: =TRIM(UPPER(INFOS!T27)) | AB29: =VALUE(CONCATENATE(0,INFOS!D27)) -> 0 | AC29: V | AK29: ACTRICE DE COMPLEMENT | AL29: 354c | AM29: I | AN29: A | AO29: =IF(TEXT(INFOS!K27,"0")="0","",TEXT(INFOS!K27,"0")) | AY29: =TRIM(UPPER(INFOS!H27)) | AZ29: =IF(TEXT(INFOS!L27,"0")="0","",TEXT(INFOS!L27,"0")) | BD29: =LOWER(INFOS!E27) | BG29: 43 | BI29: ACT020
A30: =+A29+1 -> 11137 | C30: =+LEFT(AO30,1) | D30: =TRIM(UPPER(INFOS!A28)) | E30: =TRIM(UPPER(INFOS!B28)) | G30: =+IF(C30="2",D30,"") | H30: =VALUE(INFOS!F28) -> 0 | I30: =TRIM(UPPER(INFOS!G28)) | K30: =TRIM(IF(LEFT(INFOS!J28,3)="FRA","FRANCAISE",UPPER(INFOS!J28))) | N30: =UPPER(INFOS!X28) | P30: =IF(OR(INFOS!W28="0",INFOS!U28=""),"",IF(INFOS!U28="concubinage","K",LEFT(INFOS!U28,1))) | Q30: =UPPER(INFOS!V28) | R30: =IF(OR(INFOS!V28=0,INFOS!V28=""),"",INFOS!V28) | T30: =+INFOS!N28 -> 0 | U30: =IF(OR(LEFT(INFOS!O28,3)="BIS",LEFT(INFOS!O28,3)="TER"),LEFT(INFOS!O28,1),"") | V30: =TRIM(IF(U30="",UPPER(LEFT(INFOS!O28,26)),MID(INFOS!O28,5,26))) | X30: =+INFOS!S28 -> 0 | Y30: =TRIM(UPPER(INFOS!T28)) | AB30: =VALUE(CONCATENATE(0,INFOS!D28)) -> 0 | AC30: V | AK30: ACTRICE DE COMPLEMENT | AL30: 354c | AM30: I | AN30: A | AO30: =IF(TEXT(INFOS!K28,"0")="0","",TEXT(INFOS!K28,"0")) | AY30: =TRIM(UPPER(INFOS!H28)) | AZ30: =IF(TEXT(INFOS!L28,"0")="0","",TEXT(INFOS!L28,"0")) | BD30: =LOWER(INFOS!E28) | BG30: 43 | BI30: ACT020
A31: =+A30+1 -> 11138 | C31: =+LEFT(AO31,1) | D31: =TRIM(UPPER(INFOS!A29)) | E31: =TRIM(UPPER(INFOS!B29)) | G31: =+IF(C31="2",D31,"") | H31: =VALUE(INFOS!F29) -> 0 | I31: =TRIM(UPPER(INFOS!G29)) | K31: =TRIM(IF(LEFT(INFOS!J29,3)="FRA","FRANCAISE",UPPER(INFOS!J29))) | N31: =UPPER(INFOS!X29) | P31: =IF(OR(INFOS!W29="0",INFOS!U29=""),"",IF(INFOS!U29="concubinage","K",LEFT(INFOS!U29,1))) | Q31: =UPPER(INFOS!V29) | R31: =IF(OR(INFOS!V29=0,INFOS!V29=""),"",INFOS!V29) | T31: =+INFOS!N29 -> 0 | U31: =IF(OR(LEFT(INFOS!O29,3)="BIS",LEFT(INFOS!O29,3)="TER"),LEFT(INFOS!O29,1),"") | V31: =TRIM(IF(U31="",UPPER(LEFT(INFOS!O29,26)),MID(INFOS!O29,5,26))) | X31: =+INFOS!S29 -> 0 | Y31: =TRIM(UPPER(INFOS!T29)) | AB31: =VALUE(CONCATENATE(0,INFOS!D29)) -> 0 | AC31: V | AK31: ACTRICE DE COMPLEMENT | AL31: 354c | AM31: I | AN31: A | AO31: =IF(TEXT(INFOS!K29,"0")="0","",TEXT(INFOS!K29,"0")) | AY31: =TRIM(UPPER(INFOS!H29)) | AZ31: =IF(TEXT(INFOS!L29,"0")="0","",TEXT(INFOS!L29,"0")) | BD31: =LOWER(INFOS!E29) | BG31: 43 | BI31: ACT020
A32: =+A31+1 -> 11139 | C32: =+LEFT(AO32,1) | D32: =TRIM(UPPER(INFOS!A30)) | E32: =TRIM(UPPER(INFOS!B30)) | G32: =+IF(C32="2",D32,"") | H32: =VALUE(INFOS!F30) -> 0 | I32: =TRIM(UPPER(INFOS!G30)) | K32: =TRIM(IF(LEFT(INFOS!J30,3)="FRA","FRANCAISE",UPPER(INFOS!J30))) | N32: =UPPER(INFOS!X30) | P32: =IF(OR(INFOS!W30="0",INFOS!U30=""),"",IF(INFOS!U30="concubinage","K",LEFT(INFOS!U30,1))) | Q32: =UPPER(INFOS!V30) | R32: =IF(OR(INFOS!V30=0,INFOS!V30=""),"",INFOS!V30) | T32: =+INFOS!N30 -> 0 | U32: =IF(OR(LEFT(INFOS!O30,3)="BIS",LEFT(INFOS!O30,3)="TER"),LEFT(INFOS!O30,1),"") | V32: =TRIM(IF(U32="",UPPER(LEFT(INFOS!O30,26)),MID(INFOS!O30,5,26))) | X32: =+INFOS!S30 -> 0 | Y32: =TRIM(UPPER(INFOS!T30)) | AB32: =VALUE(CONCATENATE(0,INFOS!D30)) -> 0 | AC32: V | AK32: ACTRICE DE COMPLEMENT | AL32: 354c | AM32: I | AN32: A | AO32: =IF(TEXT(INFOS!K30,"0")="0","",TEXT(INFOS!K30,"0")) | AY32: =TRIM(UPPER(INFOS!H30)) | AZ32: =IF(TEXT(INFOS!L30,"0")="0","",TEXT(INFOS!L30,"0")) | BD32: =LOWER(INFOS!E30) | BG32: 43 | BI32: ACT020
I33: =TRIM(UPPER(INFOS!G31)) | K33: =TRIM(IF(LEFT(INFOS!J31,3)="FRA","FRANCAISE",UPPER(INFOS!J31))) | P33: =IF(OR(INFOS!W31="0",INFOS!U31=""),"",IF(INFOS!U31="concubinage","K",LEFT(INFOS!U31,1))) | Q33: =UPPER(INFOS!V31) | R33: =IF(OR(INFOS!V31=0,INFOS!V31=""),"",INFOS!V31) | U33: =IF(OR(LEFT(INFOS!O31,3)="BIS",LEFT(INFOS!O31,3)="TER"),LEFT(INFOS!O31,1),"") | V33: =TRIM(IF(U33="",UPPER(LEFT(INFOS!O31,26)),MID(INFOS!O31,5,26))) | Y33: =TRIM(UPPER(INFOS!T31)) | AK33: ACTRICE DE COMPLEMENT | AL33: 354c | AM33: I | AN33: A | AO33: =IF(TEXT(INFOS!K31,"0")="0","",TEXT(INFOS!K31,"0")) | AY33: =TRIM(UPPER(INFOS!H31)) | AZ33: =IF(TEXT(INFOS!L31,"0")="0","",TEXT(INFOS!L31,"0")) | BD33: =LOWER(INFOS!E31) | BG33: 43
I34: =TRIM(UPPER(INFOS!G32)) | P34: =IF(OR(INFOS!W32="0",INFOS!U32=""),"",IF(INFOS!U32="concubinage","K",LEFT(INFOS!U32,1))) | Q34: =UPPER(INFOS!V32) | R34: =IF(OR(INFOS!V32=0,INFOS!V32=""),"",INFOS!V32) | U34: =IF(OR(LEFT(INFOS!O32,3)="BIS",LEFT(INFOS!O32,3)="TER"),LEFT(INFOS!O32,1),"") | V34: =TRIM(IF(U34="",UPPER(LEFT(INFOS!O32,26)),MID(INFOS!O32,5,26))) | Y34: =TRIM(UPPER(INFOS!T32)) | AK34: ACTEUR DE COMPLEMENT | AL34: 354c | AM34: I | AN34: A | AO34: =IF(TEXT(INFOS!K32,"0")="0","",TEXT(INFOS!K32,"0")) | AY34: =TRIM(UPPER(INFOS!H32)) | AZ34: =IF(TEXT(INFOS!L32,"0")="0","",TEXT(INFOS!L32,"0")) | BD34: =LOWER(INFOS!E32)
I35: =TRIM(UPPER(INFOS!G33)) | P35: =IF(OR(INFOS!W33="0",INFOS!U33=""),"",IF(INFOS!U33="concubinage","K",LEFT(INFOS!U33,1))) | Q35: =UPPER(INFOS!V33) | R35: =IF(OR(INFOS!V33=0,INFOS!V33=""),"",INFOS!V33) | U35: =IF(OR(LEFT(INFOS!O33,3)="BIS",LEFT(INFOS!O33,3)="TER"),LEFT(INFOS!O33,1),"") | V35: =TRIM(IF(U35="",UPPER(LEFT(INFOS!O33,26)),MID(INFOS!O33,5,26))) | Y35: =TRIM(UPPER(INFOS!T33)) | AK35: ACTEUR DE COMPLEMENT | AL35: 354c | AM35: I | AN35: A | AO35: =IF(TEXT(INFOS!K33,"0")="0","",TEXT(INFOS!K33,"0")) | AY35: =TRIM(UPPER(INFOS!H33)) | AZ35: =IF(TEXT(INFOS!L33,"0")="0","",TEXT(INFOS!L33,"0")) | BD35: =LOWER(INFOS!E33)
I36: =TRIM(UPPER(INFOS!G34)) | P36: =IF(OR(INFOS!W34="0",INFOS!U34=""),"",IF(INFOS!U34="concubinage","K",LEFT(INFOS!U34,1))) | Q36: =UPPER(INFOS!V34) | R36: =IF(OR(INFOS!V34=0,INFOS!V34=""),"",INFOS!V34) | U36: =IF(OR(LEFT(INFOS!O34,3)="BIS",LEFT(INFOS!O34,3)="TER"),LEFT(INFOS!O34,1),"") | V36: =TRIM(IF(U36="",UPPER(LEFT(INFOS!O34,26)),MID(INFOS!O34,5,26))) | Y36: =TRIM(UPPER(INFOS!T34)) | AK36: ACTEUR DE COMPLEMENT | AL36: 354c | AM36: I | AN36: A | AO36: =IF(TEXT(INFOS!K34,"0")="0","",TEXT(INFOS!K34,"0")) | AY36: =TRIM(UPPER(INFOS!H34)) | AZ36: =IF(TEXT(INFOS!L34,"0")="0","",TEXT(INFOS!L34,"0")) | BD36: =LOWER(INFOS!E34)
I37: =TRIM(UPPER(INFOS!G35)) | P37: =IF(OR(INFOS!W35="0",INFOS!U35=""),"",IF(INFOS!U35="concubinage","K",LEFT(INFOS!U35,1))) | Q37: =UPPER(INFOS!V35) | R37: =IF(OR(INFOS!V35=0,INFOS!V35=""),"",INFOS!V35) | U37: =IF(OR(LEFT(INFOS!O35,3)="BIS",LEFT(INFOS!O35,3)="TER"),LEFT(INFOS!O35,1),"") | V37: =TRIM(IF(U37="",UPPER(LEFT(INFOS!O35,26)),MID(INFOS!O35,5,26))) | Y37: =TRIM(UPPER(INFOS!T35)) | AK37: ACTEUR DE COMPLEMENT | AL37: 354c | AM37: I | AN37: A | AO37: =IF(TEXT(INFOS!K35,"0")="0","",TEXT(INFOS!K35,"0")) | AY37: =TRIM(UPPER(INFOS!H35)) | AZ37: =IF(TEXT(INFOS!L35,"0")="0","",TEXT(INFOS!L35,"0")) | BD37: =LOWER(INFOS!E35)
I38: =TRIM(UPPER(INFOS!G36)) | P38: =IF(OR(INFOS!W36="0",INFOS!U36=""),"",IF(INFOS!U36="concubinage","K",LEFT(INFOS!U36,1))) | Q38: =UPPER(INFOS!V36) | R38: =IF(OR(INFOS!V36=0,INFOS!V36=""),"",INFOS!V36) | U38: =IF(OR(LEFT(INFOS!O36,3)="BIS",LEFT(INFOS!O36,3)="TER"),LEFT(INFOS!O36,1),"") | V38: =TRIM(IF(U38="",UPPER(LEFT(INFOS!O36,26)),MID(INFOS!O36,5,26))) | Y38: =TRIM(UPPER(INFOS!T36)) | AK38: ACTEUR DE COMPLEMENT | AL38: 354c | AM38: I | AN38: A | AO38: =IF(TEXT(INFOS!K36,"0")="0","",TEXT(INFOS!K36,"0")) | AY38: =TRIM(UPPER(INFOS!H36)) | AZ38: =IF(TEXT(INFOS!L36,"0")="0","",TEXT(INFOS!L36,"0")) | BD38: =LOWER(INFOS!E36)
I39: =TRIM(UPPER(INFOS!G37)) | P39: =IF(OR(INFOS!W37="0",INFOS!U37=""),"",IF(INFOS!U37="concubinage","K",LEFT(INFOS!U37,1))) | Q39: =UPPER(INFOS!V37) | R39: =IF(OR(INFOS!V37=0,INFOS!V37=""),"",INFOS!V37) | U39: =IF(OR(LEFT(INFOS!O37,3)="BIS",LEFT(INFOS!O37,3)="TER"),LEFT(INFOS!O37,1),"") | V39: =TRIM(IF(U39="",UPPER(LEFT(INFOS!O37,26)),MID(INFOS!O37,5,26))) | Y39: =TRIM(UPPER(INFOS!T37)) | AK39: ACTEUR DE COMPLEMENT | AL39: 354c | AM39: I | AN39: A | AO39: =IF(TEXT(INFOS!K37,"0")="0","",TEXT(INFOS!K37,"0")) | AY39: =TRIM(UPPER(INFOS!H37)) | AZ39: =IF(TEXT(INFOS!L37,"0")="0","",TEXT(INFOS!L37,"0")) | BD39: =LOWER(INFOS!E37)
P40: =IF(OR(INFOS!W38="0",INFOS!U38=""),"",IF(INFOS!U38="concubinage","K",LEFT(INFOS!U38,1))) | Q40: =UPPER(INFOS!V38) | R40: =IF(OR(INFOS!V38=0,INFOS!V38=""),"",INFOS!V38) | U40: =IF(OR(LEFT(INFOS!O38,3)="BIS",LEFT(INFOS!O38,3)="TER"),LEFT(INFOS!O38,1),"") | V40: =TRIM(IF(U40="",UPPER(LEFT(INFOS!O38,26)),MID(INFOS!O38,5,26))) | AK40: ACTEUR DE COMPLEMENT | AL40: 354c | AM40: I | AN40: A | AO40: =IF(TEXT(INFOS!K38,"0")="0","",TEXT(INFOS!K38,"0")) | AY40: =TRIM(UPPER(INFOS!H38)) | AZ40: =IF(TEXT(INFOS!L38,"0")="0","",TEXT(INFOS!L38,"0")) | BD40: =LOWER(INFOS!E38)
...

Sheet BASE EMPLOI
A1: Dénomination | B1: Dénomination au féminin | C1: Code C N C | D1: Abattement | E1: Groupe | F1: Code Emploi AEM | G1: Code insee | H1: Type Emploi AEM | I1: P/I | J1: Type contrat Word | K1: Annexe | L1: Fin validité | M1: 2 1
A2: 1ER ASSISTANT DECORATEUR (S) | B2: 1ERE ASSISTANTE DECORATRICE (S) | C2: 2413 | E2: 1 | F2: PRE010S | G2: 353c | H2: 2 | K2: Annexe 8 | M2: 1
A3: 1ER ASSISTANT OPV (S) | B3: 1ERE ASSISTANTE OPV (S) | C3: 2353 | E3: 1 | F3: PRE020S | G3: 353c | H3: 2 | K3: Annexe 8 | M3: 1
A4: 1ER ASSISTANT REALISATEUR (S) | B4: 1ERE ASSISTANTE REALISATRICE (S) | C4: 2333 | E4: 1 | F4: PRE030S | G4: 353c | H4: 2 | K4: Annexe 8 | M4: 1
A5: 1ER ASSISTANT SON (S) | B5: 1ERE ASSISTANTE SON (S) | C5: 2362 | E5: 1 | F5: PRE050S | G5: 353c | H5: 2 | K5: Annexe 8 | M5: 1
A6: 1ER DANSEUR | B6: 1ERE DANSEUSE | D6: 25 | E6: 5 | F6: PRE060 | G6: 354e | H6: 3 | K6: Annexe 10 | M6: *
A7: 2EME ASSISTANT DECORATEUR (S) | B7: 2EME ASSISTANTE DECORATRICE (S) | C7: 2414 | E7: 2 | F7: DEU010S | G7: 465b | H7: 2 | K7: Annexe 8 | M7: 1
A8: 2EME ASSISTANT OPV (S) | B8: 2EME ASSISTANTE OPV (S) | C8: 2354 | E8: 2 | F8: DEU020S | G8: 465b | H8: 2 | K8: Annexe 8 | M8: 1
A9: 2EME ASSISTANT REALISATEUR (S) | B9: 2EME ASSISTANTE REALISATRICE (S) | C9: 2334 | E9: 2 | F9: DEU030S | G9: 465b | H9: 2 | K9: Annexe 8 | M9: 1
A10: ACCESSOIRISTE (S) | C10: 2393 | E10: 2 | F10: ACC010S | G10: 465b | H10: 2 | K10: Annexe 8 | M10: 1
A11: ACCOMPAGNATEUR PIANO | B11: ACCOMPAGNATRICE PIANO | D11: 20 | E11: 5 | F11: ACC070 | G11: 354b | H11: 3 | K11: Annexe 10 | M11: *
A12: ACCOMPAGNATEUR REPETITEUR | B12: ACCOMPAGNATRICE REPETITRICE | D12: 20 | E12: 5 | F12: ACC040 | G12: 354b | H12: 3 | K12: Annexe 10 | M12: *
A13: ACCORDEONISTE | D13: 20 | E13: 7 | F13: ACC050 | G13: 354b | H13: 3 | K13: Annexe 10 | M13: *
A14: ACROBATE | E14: 5 | F14: ACR010 | G14: 354f | H14: 3 | K14: Annexe 10 | M14: *
A15: ACTEUR | B15: ACTRICE | C15: 3111 | D15: 25 | E15: 5 | F15: ACT010 | G15: 354c | H15: 3 | K15: Annexe 10 | M15: *
A16: ACTEUR | B16: ACTRICE | C16: 3211 | D16: 25 | E16: 5 | F16: ACT010 | G16: 354c | H16: 3 | K16: Annexe 10 | M16: *
A17: ACTEUR | B17: ACTRICE | C17: 3121 | D17: 25 | E17: C | F17: ACT010 | G17: 354c | H17: 3 | K17: Annexe 10 | M17: *
A18: ACTEUR | B18: ACTRICE | C18: 3221 | D18: 25 | E18: C | F18: ACT010 | G18: 354c | H18: 3 | K18: Annexe 10 | M18: *
A19: ACTEUR | B19: ACTRICE | C19: 3321 | D19: 25 | E19: C | F19: ACT010 | G19: 354c | H19: 3 | K19: Annexe 10 | M19: *
A20: ACTEUR | B20: ACTRICE | C20: 3311 | D20: 25 | E20: 5 | F20: ACT010 | G20: 354c | H20: 3 | K20: Annexe 10 | M20: *
A21: ACTEUR DE COMPLEMENT | B21: ACTRICE DE COMPLEMENT | C21: 3521 | D21: 25 | E21: 7 | F21: ACT020 | G21: 354c | H21: 3 | K21: Annexe 10 | M21: *
A22: ACTEUR DE COMPLEMENT | B22: ACTRICE DE COMPLEMENT | C22: 3331 | D22: 25 | E22: 7 | F22: ACT020 | G22: 354c | H22: 3 | K22: Annexe 10 | M22: *
A23: ACTEUR DE COMPLEMENT | B23: ACTRICE DE COMPLEMENT | C23: 3511 | D23: 25 | E23: 7 | F23: ACT020 | G23: 354c | H23: 3 | K23: Annexe 10 | M23: *
A24: ACTEUR DE SYNCHRONISATION | B24: ACTRICE DE SYNCHRONISATION | C24: 3611 | D24: 25 | E24: 5 | F24: ACT030 | G24: 354c | H24: 3 | K24: Annexe 10 | M24: *
A25: ADMINISTRATEUR DE PRODUCTION (S) | B25: ADMINISTRATRICE DE PRODUCTION (S) | C25: 2314 | E25: 1 | F25: ADM020S | G25: 353c | H25: 2 | K25: Annexe 8 | M25: 1
A26: ADMINISTRATEUR DE PRODUCTION SPECIALISE | B26: ADMINISTRATRICE DE PRODUCTION SPECIALISEE | C26: 2314 | E26: 1 | F26: ADM025 | G26: 353c | H26: 2 | K26: Annexe 8 | L26: 44104 | M26: 1
A27: AIDE DE PLATEAU | E27: 2 | F27: AID010 | G27: 637c | H27: 2 | K27: Annexe 8 | M27: 1
A28: ALTO | D28: 20 | E28: 5 | F28: ALT010 | G28: 354b | H28: 3 | K28: Annexe 10 | M28: *
A29: ANIMATEUR | B29: ANIMATRICE | E29: 1 | F29: ANI010 | G29: 353c | H29: 2 | K29: Anexxe 8 | M29: 1
A30: ANIMATEUR CHANT | B30: ANIMATRICE CHANT | E30: 5 | F30: ANI100 | G30: 354f | H30: 3 | K30: Annexe 10 | M30: *
A31: ANIMATEUR D EMISSION | B31: ANIMATRICE D EMISSION | E31: 1 | F31: ANI030 | G31: 353c | H31: 2 | K31: Annexe 8 | L31: 44104 | M31: 1
A32: ANIMATEUR DE RUE | B32: ANIMATRICE DE RUE | E32: 5 | F32: ANI110 | G32: 354f | H32: 3 | K32: Annexe 10 | M32: *
A33: ANIMATEUR VOCALE | B33: ANIMATRICE VOCALE | E33: 5 | F33: ANI090 | G33: 354f | H33: 3 | K33: Annexe 10 | M33: *
A34: ANIMATRONICIEN | B34: ANIMATRONICIENNE | E34: 1 | F34: ANI070 | G34: 353c | H34: 2 | K34: Annexe 8 | M34: 1
A35: ANTIPODISTE | E35: 5 | F35: ANT010 | G35: 354f | H35: 3 | K35: Annexe 10 | M35: *
A36: ARRANGEUR ORCHESTRATEUR | B36: ARRANGEUSE ORCHESTRATRICE | C36: 3711 | E36: 5 | F36: ARA010 | G36: 354b | H36: 3 | K36: Annexe 10 | M36: *
A37: ARTISTE ACTION | E37: 5 | F37: ART210 | G37: 354f | H37: 3 | K37: Annexe 10 | M37: *
A38: ARTISTE BRUITEUR | E38: 5 | F38: ART220 | G38: 354f | H38: 3 | K38: Annexe 10 | M38: *
A39: ARTISTE CHANTEUR | B39: ARTISTE CHANTEUSE | D39: 25 | E39: 5 | F39: ART030 | G39: 354b | H39: 3 | K39: Annexe 10 | M39: *
A40: ARTISTE CHOREGRAPHIQUE OU DE CHOREGRAPHIE | D40: 25 | E40: 5 | F40: ART040 | G40: 354e | H40: 3 | K40: Annexe 10 | M40: *
...
