Workbook
Name Codearticle: 'Base de donnée'!$A$2

Sheet Base de donnée
A1: Article piece | B1: Tableau TPS | C1: TPS Machine | D1: TPS réglage | E1: MAJ | F1: PDC | G1: Machine | H1: Programme | I1: Epure | J1: FT | K1: OPE | L1: Pince | M1: Pignon | N1: Designation outil 1 | O1: Code outil 1 | P1: Usinage outil 1 | Q1: Durée de vie outil 1 | R1: Emplacement outil 1 | S1: Designation outil 2 | T1: Code outil 2 | U1: Usinage outil 2 | V1: Durée de vie outil 2 | W1: Emplacement outil 2 | X1: Designation outil 3 | Y1: Code outil 3 | Z1: Usinage outil 3 | AA1: Durée de vie outil 3 | AB1: Emplacement outil 3 | AC1: Designation outil 4 | AD1: Code outil 4 | AE1: Usinage outil 4 | AF1: Durée de vie outil 4 | AG1: Emplacement outil 4 | AH1: Designation outil 5 | AI1: Code outil 5 | AJ1: Usinage outil 5 | AK1: Durée de vie outil 5 | AL1: Emplacement outil 5 | AM1: Designation outil 6 | AN1: Code outil 6 | AO1: Usinage outil 6 | AP1: Durée de vie outil 6 | AQ1: Emplacement outil 6 | AR1: Designation outil 7 | AS1: Code outil 7 | AT1: Usinage outil 7 | AU1: Durée de vie outil 7 | AV1: Emplacement outil 7 | AW1: Designation outil 8 | AX1: Code outil 8 | AY1: Usinage outil 8 | AZ1: Durée de vie outil 8 | BA1: Emplacement outil 8 | BB1: Remarques
F2: 21240
A3: =IFERROR(VLOOKUP(Codearticle,fichederéglage,'Fiche de réglage'!A8:B7FAUX),"") | F3: 21240
A4: =IFERROR(VLOOKUP(Codearticle,fichederéglage,'Fiche de réglage'!A9:B7FAUX),"") | F4: 21240
A5: =IFERROR(VLOOKUP(Codearticle,fichederéglage,'Fiche de réglage'!A10:B7FAUX),"") | F5: 21240
A6: =IFERROR(VLOOKUP(Codearticle,fichederéglage,'Fiche de réglage'!A11:B7FAUX),"") | F6: 21240
A7: =IFERROR(VLOOKUP(Codearticle,fichederéglage,'Fiche de réglage'!A12:B7FAUX),"") | F7: 21240
A8: =IFERROR(VLOOKUP(Codearticle,fichederéglage,'Fiche de réglage'!A13:B7FAUX),"") | F8: 21240
A9: =IFERROR(VLOOKUP(Codearticle,fichederéglage,'Fiche de réglage'!A14:B7FAUX),"") | F9: 21240
A10: =IFERROR(VLOOKUP(Codearticle,fichederéglage,'Fiche de réglage'!A15:B7FAUX),"") | F10: 21240
A11: =IFERROR(VLOOKUP(Codearticle,fichederéglage,'Fiche de réglage'!A16:B7FAUX),"") | F11: 21240
A12: =IFERROR(VLOOKUP(Codearticle,fichederéglage,'Fiche de réglage'!A17:B7FAUX),"") | F12: 21240
A13: =IFERROR(VLOOKUP(Codearticle,fichederéglage,'Fiche de réglage'!A18:B7FAUX),"") | F13: 21240
A14: =IFERROR(VLOOKUP(Codearticle,fichederéglage,'Fiche de réglage'!A19:B7FAUX),"") | F14: 21240
... A109: =IFERROR(VLOOKUP(Codearticle,fichederéglage,'Fiche de réglage'!A114:B7FAUX),"") | F109: 21240
A110: =IFERROR(VLOOKUP(Codearticle,fichederéglage,'Fiche de réglage'!A115:B7FAUX),"")
A111: =IFERROR(VLOOKUP(Codearticle,fichederéglage,'Fiche de réglage'!A116:B7FAUX),"")
A112: =IFERROR(VLOOKUP(Codearticle,fichederéglage,'Fiche de réglage'!A117:B7FAUX),"")
A113: =IFERROR(VLOOKUP(Codearticle,fichederéglage,'Fiche de réglage'!A118:B7FAUX),"")

Sheet Fiche de réglage
A1: FICHE DE REGLAGE
G3: DATE | I3: 44704
A4: ARTICLE PIECE | J4: TABLEAU TPS
A5: 515240 | J5: 52
A6: P D C
A7: 021240
A8: MACHINE | J8: TPS REGLAGE
A10: PROGRAMME | J10: MAJ
J11: 44685
A12: EPURE
A14: FT
A18: OPE
A20: OUTILLAGE
A22: PINCE | D22: RAMPE N°
A24: OUTILS | B24: Désignation plqtte /outil | D24: Code | E24: Usinage | H24: Durée de vie | J24: Emplacement
A26: N° 1
A27: N° 2
A28: N° 3
A29: N° 4
A30: N° 5
A31: N° 6
A32: N° 7
A33: N° 8
A35: CONSIGNES
A36: REMARQUES :
A47: L'ensemble des informations portées sur cette fiche proviennent de notre expérience . Elles sont évolutives et à titre indicatif.

Sheet Feuil3
