Workbook
Name Condition_of_Equipment: Options!$A$1:$A$6
Name Replacement_needed: Options!$B$2:$B$5

Sheet Instructions
B1: xxxxxxxxxxxxx
B2: BREWERY | D2: GBNC
B4: YEAR OF UPDATE | D4: 2018
B7: INSTRUCTIONS
A8: 1 | B8: Name your brewery and define the year of this report.
A9: =A8+1 -> 2 | B9: Update the Equipment List for each process at the brewery, add lines as required. | D9: Go to Equipment List
A10: =A9+1 -> 3 | B10: Define the conditions of each equipment by selecting for the drop down menu | D10: Condition of Equipment
D11: Bad/Obsolete/Not safe
D12: Functional but inefficient
D13: Acceptable conditions
D14: Good
D15: Very Good
A17: =A10+1 -> 4 | B17: Select your recomendation for the replacement of each equipment. | D17: Replacement needed
D18: Urgent (1 Year)
D19: As soon as possible (2 years)
D20: Short term (< 3 years)
D21: Mid Term. (3 to 5 years)
D22: Long Term > 5 years
A23: 5 | B23: Include your comments for the equipments that you consider necessary to describe its condition.
A24: 6 | B24: If have available any quotation for the machinery include the price of replacement of the machine, the budget will be calculated for budget purposes according the following table. | D24: Plant & Machinery | F24: 100
D25: Transport | E25: 0.15 | F25: =+E25*$F$24 -> 15
D26: Import duties | E26: 0.164 | F26: =+E26*$F$24 -> 16.4
D27: Installation | E27: 0.15 | F27: =+E27*$F$24 -> 15
D28: Engineering | E28: 0.1 | F28: =+E28*$F$24 -> 10
D29: Handling Fees | E29: 0.030285 | F29: =+E29*F24 -> 3.0285
D30: Sub total | F30: =SUM(F24:F29) -> 159.4285
D31: Contingencies | E31: 0.1 | F31: =+E31*F30 -> 15.94285
D32: Total | F32: =SUM(F30:F31) -> 175.37135 | G32: =ROUND(F32/F24,2) -> 1.75

Sheet Options
A1: Condition of Equipment | B1: Replacement needed | C1: Units
A2: Bad/Obsolete/Not safe | B2: Urgent (1 Year) | C2: mt2
A3: Functional but inefficient | B3: As soon as possible (2 years) | C3: Mt3
A4: Acceptable conditions | B4: Short term (< 3 years) | C4: HL
A5: Good | B5: Mid Term. (3 to 5 years) | C5: Hl/hr
A6: Very Good | B6: Long Term > 5 years | C6: KW
C7: KVA
C8: Ton
B62: Other input 1750hl gross

Sheet Liste des équipements
C1: GLOBAL MACHINE DATABASE LINK
A2: Equipment Information | X2: Equipment condition
X3: Quick Scan Condition/Criticality Dropdown list | Z3: Maintenance | AC3: Likelihood | AD3: Effect | AG3: Comments | AI3: Support
A4: Description of the first location | B4: First level location | C4: N° location | D4: Description location | E4: N° equipment | F4: Description equipment | G4: Serial no. | H4: # units | I4: Capacity/unit | J4: supplier | K4: Brand | L4: Year of built | M4: E | N4: S | O4: Q | P4: W | Q4: D | R4: F | S4: M | T4: ABC Class | U4: A/PM status | V4: HACS Status | W4: Préventif | X4: Condition of Equipment | Y4: Replacement needed | Z4: Running hours Actual Rotating equipment | AA4: Hours Last Maintenance | AB4: Last Maintenance | AC4: Likelihood Breakdown | AD4: Effect: Downtime class | AE4: Effect Safety | AF4: Effect Production | AG4: Backup plan Present | AH4: General Notes Problem discription | AI4: Audit needed
A5: Production de Boissons | B5: =LEFT(C5,6) -> NC01-1 | C5: NC01-1-0001 | D5: Stockage Et Versement Malt | M5: c | N5: c | O5: c | P5: b | Q5: b | R5: b | S5: c | T5: =IF(OR(M5="A",N5="A",O5="A",AND(P5<>"C",Q5="A",R5="A",S5="A")),"A",IF(OR(AND(P5<>"C",OR(AND(Q5<>"A",R5<>"C",S5<>"C"),AND(Q5="A",R5<>"A",S5<>"C"),AND(Q5="A",R5="A",S5<>"A"))),AND(P5="C",Q5<>"C",R5<>"C",S5<>"C")),"B","C")) -> C
A6: Production de Boissons | B6: =LEFT(C6,6) -> NC01-1 | C6: NC01-1-0001-0001 | D6: Palan Electrique 5T | M6: c | N6: c | O6: c | P6: b | Q6: b | R6: b | S6: c | T6: =IF(OR(M6="A",N6="A",O6="A",AND(P6<>"C",Q6="A",R6="A",S6="A")),"A",IF(OR(AND(P6<>"C",OR(AND(Q6<>"A",R6<>"C",S6<>"C"),AND(Q6="A",R6<>"A",S6<>"C"),AND(Q6="A",R6="A",S6<>"A"))),AND(P6="C",Q6<>"C",R6<>"C",S6<>"C")),"B","C")) -> C
A7: Production de Boissons | B7: =LEFT(C7,6) -> NC01-1 | C7: NC01-1-0001-0002 | D7: Tremie Reception | M7: c | N7: c | O7: c | P7: b | Q7: b | R7: b | S7: c | T7: =IF(OR(M7="A",N7="A",O7="A",AND(P7<>"C",Q7="A",R7="A",S7="A")),"A",IF(OR(AND(P7<>"C",OR(AND(Q7<>"A",R7<>"C",S7<>"C"),AND(Q7="A",R7<>"A",S7<>"C"),AND(Q7="A",R7="A",S7<>"A"))),AND(P7="C",Q7<>"C",R7<>"C",S7<>"C")),"B","C")) -> C
A8: Production de Boissons | B8: =LEFT(C8,6) -> NC01-1 | C8: NC01-1-0001-0003 | D8: Aspirateur Poussiere | M8: c | N8: c | O8: c | P8: b | Q8: b | R8: b | S8: c | T8: =IF(OR(M8="A",N8="A",O8="A",AND(P8<>"C",Q8="A",R8="A",S8="A")),"A",IF(OR(AND(P8<>"C",OR(AND(Q8<>"A",R8<>"C",S8<>"C"),AND(Q8="A",R8<>"A",S8<>"C"),AND(Q8="A",R8="A",S8<>"A"))),AND(P8="C",Q8<>"C",R8<>"C",S8<>"C")),"B","C")) -> C
A9: Production de Boissons | B9: =LEFT(C9,6) -> NC01-1 | C9: NC01-1-0001-0004 | D9: Elevateur Godet 1 | M9: c | N9: c | O9: c | P9: b | Q9: b | R9: b | S9: c | T9: =IF(OR(M9="A",N9="A",O9="A",AND(P9<>"C",Q9="A",R9="A",S9="A")),"A",IF(OR(AND(P9<>"C",OR(AND(Q9<>"A",R9<>"C",S9<>"C"),AND(Q9="A",R9<>"A",S9<>"C"),AND(Q9="A",R9="A",S9<>"A"))),AND(P9="C",Q9<>"C",R9<>"C",S9<>"C")),"B","C")) -> C
A10: Production de Boissons | B10: =LEFT(C10,6) -> NC01-1 | C10: NC01-1-0001-0005 | D10: Filtre Manchette 1 | M10: c | N10: c | O10: c | P10: b | Q10: b | R10: b | S10: c | T10: =IF(OR(M10="A",N10="A",O10="A",AND(P10<>"C",Q10="A",R10="A",S10="A")),"A",IF(OR(AND(P10<>"C",OR(AND(Q10<>"A",R10<>"C",S10<>"C"),AND(Q10="A",R10<>"A",S10<>"C"),AND(Q10="A",R10="A",S10<>"A"))),AND(P10="C",Q10<>"C",R10<>"C",S10<>"C")),"B","C")) -> C
A11: Production de Boissons | B11: =LEFT(C11,6) -> NC01-1 | C11: NC01-1-0001-0006 | D11: Elevateur Godet 2 | M11: c | N11: c | O11: c | P11: b | Q11: b | R11: b | S11: c | T11: =IF(OR(M11="A",N11="A",O11="A",AND(P11<>"C",Q11="A",R11="A",S11="A")),"A",IF(OR(AND(P11<>"C",OR(AND(Q11<>"A",R11<>"C",S11<>"C"),AND(Q11="A",R11<>"A",S11<>"C"),AND(Q11="A",R11="A",S11<>"A"))),AND(P11="C",Q11<>"C",R11<>"C",S11<>"C")),"B","C")) -> C
A12: Production de Boissons | B12: =LEFT(C12,6) -> NC01-1 | C12: NC01-1-0001-0007 | D12: Filtre Manchette 2 | M12: c | N12: c | O12: c | P12: b | Q12: b | R12: b | S12: c | T12: =IF(OR(M12="A",N12="A",O12="A",AND(P12<>"C",Q12="A",R12="A",S12="A")),"A",IF(OR(AND(P12<>"C",OR(AND(Q12<>"A",R12<>"C",S12<>"C"),AND(Q12="A",R12<>"A",S12<>"C"),AND(Q12="A",R12="A",S12<>"A"))),AND(P12="C",Q12<>"C",R12<>"C",S12<>"C")),"B","C")) -> C
A13: Production de Boissons | B13: =LEFT(C13,6) -> NC01-1 | C13: NC01-1-0001-0008 | D13: Silo Malt | M13: c | N13: c | O13: c | P13: b | Q13: b | R13: b | S13: c | T13: =IF(OR(M13="A",N13="A",O13="A",AND(P13<>"C",Q13="A",R13="A",S13="A")),"A",IF(OR(AND(P13<>"C",OR(AND(Q13<>"A",R13<>"C",S13<>"C"),AND(Q13="A",R13<>"A",S13<>"C"),AND(Q13="A",R13="A",S13<>"A"))),AND(P13="C",Q13<>"C",R13<>"C",S13<>"C")),"B","C")) -> C
A14: Production de Boissons | B14: =LEFT(C14,6) -> NC01-1 | C14: NC01-1-0001-0009 | D14: Separateur | M14: c | N14: c | O14: c | P14: b | Q14: b | R14: b | S14: c | T14: =IF(OR(M14="A",N14="A",O14="A",AND(P14<>"C",Q14="A",R14="A",S14="A")),"A",IF(OR(AND(P14<>"C",OR(AND(Q14<>"A",R14<>"C",S14<>"C"),AND(Q14="A",R14<>"A",S14<>"C"),AND(Q14="A",R14="A",S14<>"A"))),AND(P14="C",Q14<>"C",R14<>"C",S14<>"C")),"B","C")) -> C
A15: Production de Boissons | B15: =LEFT(C15,6) -> NC01-1 | C15: NC01-1-0001-0010 | D15: Epierreur | M15: c | N15: c | O15: c | P15: b | Q15: b | R15: b | S15: c | T15: =IF(OR(M15="A",N15="A",O15="A",AND(P15<>"C",Q15="A",R15="A",S15="A")),"A",IF(OR(AND(P15<>"C",OR(AND(Q15<>"A",R15<>"C",S15<>"C"),AND(Q15="A",R15<>"A",S15<>"C"),AND(Q15="A",R15="A",S15<>"A"))),AND(P15="C",Q15<>"C",R15<>"C",S15<>"C")),"B","C")) -> C
A16: Production de Boissons | B16: =LEFT(C16,6) -> NC01-1 | C16: NC01-1-0001-0011 | D16: Surpresseur Aerzen | M16: c | N16: c | O16: c | P16: b | Q16: b | R16: b | S16: c | T16: =IF(OR(M16="A",N16="A",O16="A",AND(P16<>"C",Q16="A",R16="A",S16="A")),"A",IF(OR(AND(P16<>"C",OR(AND(Q16<>"A",R16<>"C",S16<>"C"),AND(Q16="A",R16<>"A",S16<>"C"),AND(Q16="A",R16="A",S16<>"A"))),AND(P16="C",Q16<>"C",R16<>"C",S16<>"C")),"B","C")) -> C
... A48: Production de Boissons | B48: =LEFT(C48,6) -> NC01-1 | C48: NC01-1-0010-0022 | D48: Raccords Vers CIP | M48: b | N48: a | O48: c | P48: a | Q48: b | R48: c | S48: c | T48: =IF(OR(M48="A",N48="A",O48="A",AND(P48<>"C",Q48="A",R48="A",S48="A")),"A",IF(OR(AND(P48<>"C",OR(AND(Q48<>"A",R48<>"C",S48<>"C"),AND(Q48="A",R48<>"A",S48<>"C"),AND(Q48="A",R48="A",S48<>"A"))),AND(P48="C",Q48<>"C",R48<>"C",S48<>"C")),"B","C")) -> A
A49: Production de Boissons | B49: =LEFT(C49,6) -> NC01-1 | C49: NC01-1-0010-0023 | D49: Cuve CIP Traitement Mout | M49: b | N49: a | O49: c | P49: b | Q49: b | R49: c | T49: =IF(OR(M49="A",N49="A",O49="A",AND(P49<>"C",Q49="A",R49="A",S49="A")),"A",IF(OR(AND(P49<>"C",OR(AND(Q49<>"A",R49<>"C",S49<>"C"),AND(Q49="A",R49<>"A",S49<>"C"),AND(Q49="A",R49="A",S49<>"A"))),AND(P49="C",Q49<>"C",R49<>"C",S49<>"C")),"B","C")) -> A
A50: Production de Boissons | B50: =LEFT(C50,6) -> NC01-1 | C50: NC01-1-0020-0001 | D50: Cuve Fermentation 111 | M50: b | N50: b | O50: c | P50: b | Q50: b | R50: c | T50: =IF(OR(M50="A",N50="A",O50="A",AND(P50<>"C",Q50="A",R50="A",S50="A")),"A",IF(OR(AND(P50<>"C",OR(AND(Q50<>"A",R50<>"C",S50<>"C"),AND(Q50="A",R50<>"A",S50<>"C"),AND(Q50="A",R50="A",S50<>"A"))),AND(P50="C",Q50<>"C",R50<>"C",S50<>"C")),"B","C")) -> C
A51: Production de Boissons | B51: =LEFT(C51,6) -> NC01-1 | C51: NC01-1-0020-0002 | D51: Cuve Fermentation 112 | M51: b | N51: b | O51: c | P51: b | Q51: b | R51: c | T51: =IF(OR(M51="A",N51="A",O51="A",AND(P51<>"C",Q51="A",R51="A",S51="A")),"A",IF(OR(AND(P51<>"C",OR(AND(Q51<>"A",R51<>"C",S51<>"C"),AND(Q51="A",R51<>"A",S51<>"C"),AND(Q51="A",R51="A",S51<>"A"))),AND(P51="C",Q51<>"C",R51<>"C",S51<>"C")),"B","C")) -> C
A52: Production de Boissons | B52: =LEFT(C52,6) -> NC01-1 | C52: NC01-1-0020-0003 | D52: Cuve Fermentation 113 | M52: b | N52: b | O52: c | P52: b | Q52: b | R52: c | T52: =IF(OR(M52="A",N52="A",O52="A",AND(P52<>"C",Q52="A",R52="A",S52="A")),"A",IF(OR(AND(P52<>"C",OR(AND(Q52<>"A",R52<>"C",S52<>"C"),AND(Q52="A",R52<>"A",S52<>"C"),AND(Q52="A",R52="A",S52<>"A"))),AND(P52="C",Q52<>"C",R52<>"C",S52<>"C")),"B","C")) -> C
A53: Production de Boissons | B53: =LEFT(C53,6) -> NC01-1 | C53: NC01-1-0020-0004 | D53: Cuve Fermentation 121 | M53: b | N53: b | O53: c | P53: b | Q53: b | R53: c | T53: =IF(OR(M53="A",N53="A",O53="A",AND(P53<>"C",Q53="A",R53="A",S53="A")),"A",IF(OR(AND(P53<>"C",OR(AND(Q53<>"A",R53<>"C",S53<>"C"),AND(Q53="A",R53<>"A",S53<>"C"),AND(Q53="A",R53="A",S53<>"A"))),AND(P53="C",Q53<>"C",R53<>"C",S53<>"C")),"B","C")) -> C
A54: Production de Boissons | B54: =LEFT(C54,6) -> NC01-1 | C54: NC01-1-0020-0005 | D54: Cuve Fermentation 122 | M54: b | N54: b | O54: c | P54: b | Q54: b | R54: c | T54: =IF(OR(M54="A",N54="A",O54="A",AND(P54<>"C",Q54="A",R54="A",S54="A")),"A",IF(OR(AND(P54<>"C",OR(AND(Q54<>"A",R54<>"C",S54<>"C"),AND(Q54="A",R54<>"A",S54<>"C"),AND(Q54="A",R54="A",S54<>"A"))),AND(P54="C",Q54<>"C",R54<>"C",S54<>"C")),"B","C")) -> C
A55: Production de Boissons | B55: =LEFT(C55,6) -> NC01-1 | C55: NC01-1-0020-0006 | D55: Cuve Fermentation 123 | M55: b | N55: b | O55: c | P55: b | Q55: b | R55: c | T55: =IF(OR(M55="A",N55="A",O55="A",AND(P55<>"C",Q55="A",R55="A",S55="A")),"A",IF(OR(AND(P55<>"C",OR(AND(Q55<>"A",R55<>"C",S55<>"C"),AND(Q55="A",R55<>"A",S55<>"C"),AND(Q55="A",R55="A",S55<>"A"))),AND(P55="C",Q55<>"C",R55<>"C",S55<>"C")),"B","C")) -> C
A56: Production de Boissons | B56: =LEFT(C56,6) -> NC01-1 | C56: NC01-1-0020-0007 | D56: Cuve Fermentation 131 | M56: b | N56: b | O56: c | P56: b | Q56: b | R56: c | T56: =IF(OR(M56="A",N56="A",O56="A",AND(P56<>"C",Q56="A",R56="A",S56="A")),"A",IF(OR(AND(P56<>"C",OR(AND(Q56<>"A",R56<>"C",S56<>"C"),AND(Q56="A",R56<>"A",S56<>"C"),AND(Q56="A",R56="A",S56<>"A"))),AND(P56="C",Q56<>"C",R56<>"C",S56<>"C")),"B","C")) -> C
A57: Production de Boissons | B57: =LEFT(C57,6) -> NC01-1 | C57: NC01-1-0020-0008 | D57: Cuve Fermentation 132 | M57: b | N57: b | O57: c | P57: b | Q57: b | R57: c | T57: =IF(OR(M57="A",N57="A",O57="A",AND(P57<>"C",Q57="A",R57="A",S57="A")),"A",IF(OR(AND(P57<>"C",OR(AND(Q57<>"A",R57<>"C",S57<>"C"),AND(Q57="A",R57<>"A",S57<>"C"),AND(Q57="A",R57="A",S57<>"A"))),AND(P57="C",Q57<>"C",R57<>"C",S57<>"C")),"B","C")) -> C
A58: Production de Boissons | B58: =LEFT(C58,6) -> NC01-1 | C58: NC01-1-0020-0009 | D58: Cuve Fermentation 133 | M58: b | N58: b | O58: c | P58: b | Q58: b | R58: c | T58: =IF(OR(M58="A",N58="A",O58="A",AND(P58<>"C",Q58="A",R58="A",S58="A")),"A",IF(OR(AND(P58<>"C",OR(AND(Q58<>"A",R58<>"C",S58<>"C"),AND(Q58="A",R58<>"A",S58<>"C"),AND(Q58="A",R58="A",S58<>"A"))),AND(P58="C",Q58<>"C",R58<>"C",S58<>"C")),"B","C")) -> C
A59: Production de Boissons | B59: =LEFT(C59,6) -> NC01-1 | C59: NC01-1-0020-0010 | D59: Cuve Fermentation 141 | M59: b | N59: b | O59: c | P59: b | Q59: b | R59: c | T59: =IF(OR(M59="A",N59="A",O59="A",AND(P59<>"C",Q59="A",R59="A",S59="A")),"A",IF(OR(AND(P59<>"C",OR(AND(Q59<>"A",R59<>"C",S59<>"C"),AND(Q59="A",R59<>"A",S59<>"C"),AND(Q59="A",R59="A",S59<>"A"))),AND(P59="C",Q59<>"C",R59<>"C",S59<>"C")),"B","C")) -> C
A60: Production de Boissons | B60: =LEFT(C60,6) -> NC01-1 | C60: NC01-1-0020-0011 | D60: Cuve Fermentation 142 | M60: b | N60: b | O60: c | P60: b | Q60: b | R60: c | T60: =IF(OR(M60="A",N60="A",O60="A",AND(P60<>"C",Q60="A",R60="A",S60="A")),"A",IF(OR(AND(P60<>"C",OR(AND(Q60<>"A",R60<>"C",S60<>"C"),AND(Q60="A",R60<>"A",S60<>"C"),AND(Q60="A",R60="A",S60<>"A"))),AND(P60="C",Q60<>"C",R60<>"C",S60<>"C")),"B","C")) -> C
... A73: Production de Boissons | B73: =LEFT(C73,6) -> NC01-1 | C73: NC01-1-0030-0001 | D73: Filtres Steriles GAF | M73: b | N73: b | O73: a | P73: b | Q73: b | R73: c | T73: =IF(OR(M73="A",N73="A",O73="A",AND(P73<>"C",Q73="A",R73="A",S73="A")),"A",IF(OR(AND(P73<>"C",OR(AND(Q73<>"A",R73<>"C",S73<>"C"),AND(Q73="A",R73<>"A",S73<>"C"),AND(Q73="A",R73="A",S73<>"A"))),AND(P73="C",Q73<>"C",R73<>"C",S73<>"C")),"B","C")) -> A
A74: Production de Boissons | B74: =LEFT(C74,6) -> NC01-1 | C74: NC01-1-0030-0002 | D74: CO2 Balancing System | M74: b | N74: b | O74: c | P74: b | Q74: b | R74: c | S74: b | T74: =IF(OR(M74="A",N74="A",O74="A",AND(P74<>"C",Q74="A",R74="A",S74="A")),"A",IF(OR(AND(P74<>"C",OR(AND(Q74<>"A",R74<>"C",S74<>"C"),AND(Q74="A",R74<>"A",S74<>"C"),AND(Q74="A",R74="A",S74<>"A"))),AND(P74="C",Q74<>"C",R74<>"C",S74<>"C")),"B","C")) -> C
A75: Production de Boissons | B75: =LEFT(C75,6) -> NC01-1 | C75: NC01-1-0030-0003 | D75: Station Dosage PVPP | M75: b | N75: b | O75: c | P75: b | Q75: b | R75: c | S75: a | T75: =IF(OR(M75="A",N75="A",O75="A",AND(P75<>"C",Q75="A",R75="A",S75="A")),"A",IF(OR(AND(P75<>"C",OR(AND(Q75<>"A",R75<>"C",S75<>"C"),AND(Q75="A",R75<>"A",S75<>"C"),AND(Q75="A",R75="A",S75<>"A"))),AND(P75="C",Q75<>"C",R75<>"C",S75<>"C")),"B","C")) -> C
A76: Production de Boissons | B76: =LEFT(C76,6) -> NC01-1 | C76: NC01-1-0030-0004 | D76: Filtre Schenk | M76: b | N76: b | O76: c | P76: b | Q76: b | R76: c | T76: =IF(OR(M76="A",N76="A",O76="A",AND(P76<>"C",Q76="A",R76="A",S76="A")),"A",IF(OR(AND(P76<>"C",OR(AND(Q76<>"A",R76<>"C",S76<>"C"),AND(Q76="A",R76<>"A",S76<>"C"),AND(Q76="A",R76="A",S76<>"A"))),AND(P76="C",Q76<>"C",R76<>"C",S76<>"C")),"B","C")) -> C
A77: Production de Boissons | B77: =LEFT(C77,6) -> NC01-1 | C77: NC01-1-0030-0005 | D77: Station D'Eau Désaérée Aldox | M77: b | N77: b | O77: a | P77: b | Q77: b | R77: c | S77: a | T77: =IF(OR(M77="A",N77="A",O77="A",AND(P77<>"C",Q77="A",R77="A",S77="A")),"A",IF(OR(AND(P77<>"C",OR(AND(Q77<>"A",R77<>"C",S77<>"C"),AND(Q77="A",R77<>"A",S77<>"C"),AND(Q77="A",R77="A",S77<>"A"))),AND(P77="C",Q77<>"C",R77<>"C",S77<>"C")),"B","C")) -> A
A78: Production de Boissons | B78: =LEFT(C78,6) -> NC01-1 | C78: NC01-1-0030-0006 | D78: Système Carbonatation Carboblender | M78: b | N78: b | O78: a | P78: b | Q78: b | R78: c | S78: a | T78: =IF(OR(M78="A",N78="A",O78="A",AND(P78<>"C",Q78="A",R78="A",S78="A")),"A",IF(OR(AND(P78<>"C",OR(AND(Q78<>"A",R78<>"C",S78<>"C"),AND(Q78="A",R78<>"A",S78<>"C"),AND(Q78="A",R78="A",S78<>"A"))),AND(P78="C",Q78<>"C",R78<>"C",S78<>"C")),"B","C")) -> A
A79: Production de Boissons | B79: =LEFT(C79,6) -> NC01-1 | C79: NC01-1-0030-0007 | D79: Station Dosage D'Arôme Corosys | M79: c | N79: c | O79: c | P79: b | Q79: b | R79: c | T79: =IF(OR(M79="A",N79="A",O79="A",AND(P79<>"C",Q79="A",R79="A",S79="A")),"A",IF(OR(AND(P79<>"C",OR(AND(Q79<>"A",R79<>"C",S79<>"C"),AND(Q79="A",R79<>"A",S79<>"C"),AND(Q79="A",R79="A",S79<>"A"))),AND(P79="C",Q79<>"C",R79<>"C",S79<>"C")),"B","C")) -> C
A80: Production de Boissons | B80: =LEFT(C80,6) -> NC01-1 | C80: NC01-1-0030-0009 | D80: Tank Biere Filtree 111 | M80: b | N80: b | O80: c | P80: b | Q80: b | R80: c | T80: =IF(OR(M80="A",N80="A",O80="A",AND(P80<>"C",Q80="A",R80="A",S80="A")),"A",IF(OR(AND(P80<>"C",OR(AND(Q80<>"A",R80<>"C",S80<>"C"),AND(Q80="A",R80<>"A",S80<>"C"),AND(Q80="A",R80="A",S80<>"A"))),AND(P80="C",Q80<>"C",R80<>"C",S80<>"C")),"B","C")) -> C
A81: Production de Boissons | B81: =LEFT(C81,6) -> NC01-1 | C81: NC01-1-0030-0010 | D81: Tank Biere Filtree 112 | M81: b | N81: b | O81: c | P81: b | Q81: b | R81: c | T81: =IF(OR(M81="A",N81="A",O81="A",AND(P81<>"C",Q81="A",R81="A",S81="A")),"A",IF(OR(AND(P81<>"C",OR(AND(Q81<>"A",R81<>"C",S81<>"C"),AND(Q81="A",R81<>"A",S81<>"C"),AND(Q81="A",R81="A",S81<>"A"))),AND(P81="C",Q81<>"C",R81<>"C",S81<>"C")),"B","C")) -> C
A82: Production de Boissons | B82: =LEFT(C82,6) -> NC01-1 | C82: NC01-1-0030-0011 | D82: Tank Biere Filtree 113 | M82: b | N82: b | O82: c | P82: b | Q82: b | R82: c | T82: =IF(OR(M82="A",N82="A",O82="A",AND(P82<>"C",Q82="A",R82="A",S82="A")),"A",IF(OR(AND(P82<>"C",OR(AND(Q82<>"A",R82<>"C",S82<>"C"),AND(Q82="A",R82<>"A",S82<>"C"),AND(Q82="A",R82="A",S82<>"A"))),AND(P82="C",Q82<>"C",R82<>"C",S82<>"C")),"B","C")) -> C
A83: Production de Boissons | B83: =LEFT(C83,6) -> NC01-1 | C83: NC01-1-0030-0012 | D83: Tank Biere Filtree 114 | M83: b | N83: b | O83: c | P83: b | Q83: b | R83: c | T83: =IF(OR(M83="A",N83="A",O83="A",AND(P83<>"C",Q83="A",R83="A",S83="A")),"A",IF(OR(AND(P83<>"C",OR(AND(Q83<>"A",R83<>"C",S83<>"C"),AND(Q83="A",R83<>"A",S83<>"C"),AND(Q83="A",R83="A",S83<>"A"))),AND(P83="C",Q83<>"C",R83<>"C",S83<>"C")),"B","C")) -> C
...

Sheet Analyse ABC
C7: A | E7: B | G7: C | L7: Nombre de ABC Class | M7: Étiquettes de colonnes
A8: E | B8: Environment | C8: Has caused parameters out of legal specification, with external impact | E8: Has caused parameters out of legal specification, with internal impact | G8: No environmental impact | L8: Étiquettes de lignes | M8: Conditionnement | N8: Distribution & Logistique | O8: Service Technique | P8: Installation sur le site | Q8: Production de Boissons | R8: Utilité | S8: Total général | T8: =M8 -> Conditionnement | U8: =N8 -> Distribution & Logistique | V8: =O8 -> Service Technique | W8: =P8 -> Installation sur le site | X8: =Q8 -> Production de Boissons | Y8: =R8 -> Utilité | Z8: Total général
A9: S | B9: Safety | C9: Has caused safety risks involving death or permanent disability | E9: Has caused safety risks involving temporary disability or labour disease | G9: Has caused safety risks without accidents or disabilities | L9: A | M9: 18 | Q9: 15 | R9: 17 | S9: 50 | T9: =M9/M$12 -> 0.29032258 | U9: =N9/N$12 -> 0 | V9: =O9/O$12 -> 0 | W9: =P9/P$12 -> 0 | X9: =Q9/Q$12 -> 0.15 | Y9: =R9/R$12 -> 0.41463415 | Z9: =S9/S$12 -> 0.23696682
A10: Q | B10: Quality | C10: Has caused non-conformities perceived by the customer | E10: Has caused non-conformities which can reject a batch or a lot | G10: Has caused re-process or has no impact | L10: B | M10: 3 | Q10: 1 | R10: 24 | S10: 28 | T10: =M10/M$12 -> 0.048387097 | U10: =N10/N$12 -> 0 | V10: =O10/O$12 -> 0 | W10: =P10/P$12 -> 0 | X10: =Q10/Q$12 -> 0.01 | Y10: =R10/R$12 -> 0.58536585 | Z10: =S10/S$12 -> 0.13270142
A11: W | B11: Working Time | C11: 24 hours / day | E11: 8 – 24 hours / day | G11: < 8 hours / day | L11: C | M11: 41 | N11: 2 | O11: 1 | P11: 5 | Q11: 84 | S11: 133 | T11: =M11/M$12 -> 0.66129032 | U11: =N11/N$12 -> 1 | V11: =O11/O$12 -> 1 | W11: =P11/P$12 -> 1 | X11: =Q11/Q$12 -> 0.84 | Y11: =R11/R$12 -> 0 | Z11: =S11/S$12 -> 0.63033175
A12: D | B12: Delivery | C12: Has caused an impact on the whole brewery production | E12: Has caused an impact on the line production | G12: No production impact | L12: Total général | M12: 62 | N12: 2 | O12: 1 | P12: 5 | Q12: 100 | R12: 41 | S12: 211 | T12: =M12/M$12 -> 1 | U12: =N12/N$12 -> 1 | V12: =O12/O$12 -> 1 | W12: =P12/P$12 -> 1 | X12: =Q12/Q$12 -> 1 | Y12: =R12/R$12 -> 1 | Z12: =S12/S$12 -> 1
A13: F | B13: Frequency1) | C13: F > “X” BD / month | E13: “Y” < F < “X” BD / month | G13: F < “Y” BD / month
A14: M | B14: Maintainability2) | C14: MTTR > “Z” hours | E14: “T” min < MTTR < “Z” hours | G14: MTTR < “T” min
B17: 1) | C17: X is the average N°of BD-value | E17: Y is 70% of X
B18: 2) | C18: Z is the average N°of MTTR-value | E18: T is 70% of Z

Sheet 20220726 Fiches MP
A1: MP | B1: Description | C1: Emplacement | D1: Actif | E1: Asset Location | F1: Tournée | G1: Gamme d'opérations | H1: Priorité | I1: La prévision existe-t-elle | J1: Statut | K1: Prochaine date d'échéance prévue | L1: Site | M1: Location | N1: Classification
A2: 20056897 | B2: UTL-Chaudiere-CLE-1W | C2: NC01-3-0010-0001 | G2: 10032032 | H2: 2 | I2: O | J2: ACTIVE | K2: 44802 | L2: NC01 | M2: =IF(C2<>"",LEFT(C2,16),LEFT(E2,16)) -> NC01-3-0010-0001 | N2: =VLOOKUP(M2,'Liste des équipements'!C4:T215,18) -> A
A3: 20056940 | B3: COND-PET-ZH-Convoyeurs-Paliers De Roulement-LUB-6M | C3: NC01-2-0040-0015-01 | F3: 1001 | G3: 10032058 | I3: O | J3: ACTIVE | K3: 44818 | L3: NC01 | M3: =IF(C3<>"",LEFT(C3,16),LEFT(E3,16)) -> NC01-2-0040-0015 | N3: =VLOOKUP(M3,'Liste des équipements'!C5:T216,18) -> C
A4: 20057697 | B4: COND-PET-ZS-Convoyeurs-Paliers De Roulement-LUB-3M | C4: NC01-2-0040-0015-01 | F4: 1003 | G4: 10032058 | I4: O | J4: ACTIVE | K4: 44818 | L4: NC01 | M4: =IF(C4<>"",LEFT(C4,16),LEFT(E4,16)) -> NC01-2-0040-0015 | N4: =VLOOKUP(M4,'Liste des équipements'!C6:T217,18) -> C
A5: 20057707 | B5: COND-BOUTEILLE-Convoyeurs ZS-Paliers De Roulement-LUB-3M | C5: NC01-2-0001-0009-01 | F5: 1005 | G5: 10032058 | H5: 2 | I5: O | J5: ACTIVE | K5: 44818 | L5: NC01 | M5: =IF(C5<>"",LEFT(C5,16),LEFT(E5,16)) -> NC01-2-0001-0009 | N5: =VLOOKUP(M5,'Liste des équipements'!C7:T218,18) -> B
A6: 20057708 | B6: COND-BOITE-Convoyeurs CAN-ZH-Paliers De Roulement-LUB-6M | C6: NC01-2-0020-0008-01 | F6: 1006 | G6: 10032058 | H6: 2 | I6: O | J6: ACTIVE | K6: 44818 | L6: NC01 | M6: =IF(C6<>"",LEFT(C6,16),LEFT(E6,16)) -> NC01-2-0020-0008 | N6: =VLOOKUP(M6,'Liste des équipements'!C8:T219,18) -> C
A7: 20057929 | B7: UTL-Traitement Eaux-Filtre GAF-REP-2W | D7: 10368024 | E7: NC01-3-0070-0003 | G7: 10032792 | I7: O | J7: ACTIVE | K7: 44803 | L7: NC01 | M7: =IF(C7<>"",LEFT(C7,16),LEFT(E7,16)) -> NC01-3-0070-0003 | N7: =VLOOKUP(M7,'Liste des équipements'!C9:T220,18) -> A
A8: 20057930 | B8: COND-PET-FARDELEUSE-Convoyeur Four-INS-1A | D8: 10367460 | E8: NC01-2-0040-0011-01 | F8: 1012 | H8: 1 | I8: N | J8: ACTIVE | K8: 44880 | L8: NC01 | M8: =IF(C8<>"",LEFT(C8,16),LEFT(E8,16)) -> NC01-2-0040-0011 | N8: =VLOOKUP(M8,'Liste des équipements'!C10:T221,18) -> C
A9: 20059275 | B9: COND-NRB-Pasteurisateur-Gicleurs-INS-CLE-6M | C9: NC01-2-0001-0005-01 | G9: 10032675 | I9: O | J9: ACTIVE | K9: 44915 | L9: NC01 | M9: =IF(C9<>"",LEFT(C9,16),LEFT(E9,16)) -> NC01-2-0001-0005 | N9: =VLOOKUP(M9,'Liste des équipements'!C11:T222,18) -> A
A10: 20059336 | B10: COND-NRB-Soutireuse-Distributeur Rotatif-OVH-2Y | C10: NC01-2-0001-0004-01 | G10: 10032721 | I10: N | J10: ACTIVE | K10: 45394 | L10: NC01 | M10: =IF(C10<>"",LEFT(C10,16),LEFT(E10,16)) -> NC01-2-0001-0004 | N10: =VLOOKUP(M10,'Liste des équipements'!C12:T223,18) -> C
A11: 20059442 | B11: NC01-(Parasitech)Traitement Nuisible Armoires Electriques-INS-2M | C11: NC01 | G11: 10032789 | H11: 3 | I11: O | J11: ACTIVE | K11: 44809 | L11: NC01 | M11: =IF(C11<>"",LEFT(C11,16),LEFT(E11,16)) -> NC01 | N11: A
A12: 20059445 | B12: UTL-Soupape Securite NH3-Groupe Froid 1-INS-1Y | D12: 10367993 | E12: NC01-3-0040-0001 | H12: 3 | I12: O | J12: ACTIVE | L12: NC01 | M12: =IF(C12<>"",LEFT(C12,16),LEFT(E12,16)) -> NC01-3-0040-0001 | N12: =VLOOKUP(M12,'Liste des équipements'!C14:T225,18) -> A
A13: 20059446 | B13: UTL-Soupape Securite NH3-Groupe Froid 2-INS-1Y | D13: 10367996 | E13: NC01-3-0040-0002 | H13: 3 | I13: O | J13: ACTIVE | L13: NC01 | M13: =IF(C13<>"",LEFT(C13,16),LEFT(E13,16)) -> NC01-3-0040-0002 | N13: =VLOOKUP(M13,'Liste des équipements'!C15:T226,18) -> A
A14: 20059447 | B14: UTL-Soupape Securite NH3-Groupe Froid 3-INS-1Y | D14: 10367999 | E14: NC01-3-0040-0003 | H14: 3 | I14: O | J14: ACTIVE | L14: NC01 | M14: =IF(C14<>"",LEFT(C14,16),LEFT(E14,16)) -> NC01-3-0040-0003 | N14: =VLOOKUP(M14,'Liste des équipements'!C16:T227,18) -> A
A15: 20059448 | B15: UTL-Analyse Huile-Groupe Froid 1-INS-1Y | D15: 10368002 | E15: NC01-3-0040-0001 | H15: 3 | I15: O | J15: ACTIVE | L15: NC01 | M15: =IF(C15<>"",LEFT(C15,16),LEFT(E15,16)) -> NC01-3-0040-0001 | N15: =VLOOKUP(M15,'Liste des équipements'!C17:T228,18) -> A
A16: 20059451 | B16: UTL-Soupapes Securite-Station CO2-INS-1Y | D16: 10367950 | E16: NC01-3-0001-0003 | H16: 3 | I16: O | J16: ACTIVE | L16: NC01 | M16: =IF(C16<>"",LEFT(C16,16),LEFT(E16,16)) -> NC01-3-0001-0003 | N16: =VLOOKUP(M16,'Liste des équipements'!C18:T229,18) -> B
A17: 20059453 | B17: UTL-Detecteurs Mousse-Station CO2-INS-1Y | D17: 10367818 | E17: NC01-3-0001-0001 | H17: 3 | I17: O | J17: ACTIVE | L17: NC01 | M17: =IF(C17<>"",LEFT(C17,16),LEFT(E17,16)) -> NC01-3-0001-0001 | N17: =VLOOKUP(M17,'Liste des équipements'!C19:T230,18) -> B
A18: 20059454 | B18: UTL-Pressostat-Compresseurs CO2-INS-1Y | D18: 10367955 | E18: NC01-3-0001-0005 | I18: O | J18: ACTIVE | K18: 44993 | L18: NC01 | M18: =IF(C18<>"",LEFT(C18,16),LEFT(E18,16)) -> NC01-3-0001-0005 | N18: =VLOOKUP(M18,'Liste des équipements'!C20:T231,18) -> B
A19: 20059456 | B19: UTL-Pressostat-Station CO2-INS-1Y | D19: 10367950 | E19: NC01-3-0001-0003 | H19: 3 | I19: O | J19: ACTIVE | L19: NC01 | M19: =IF(C19<>"",LEFT(C19,16),LEFT(E19,16)) -> NC01-3-0001-0003 | N19: =VLOOKUP(M19,'Liste des équipements'!C21:T232,18) -> B
A20: 20059458 | B20: UTL-Transmetteur Température-Purificateur CO2 A.76.15.01-CAL-1Y | D20: 10367963 | E20: NC01-3-0001-0006 | H20: 3 | I20: O | J20: ACTIVE | K20: 45042 | L20: NC01 | M20: =IF(C20<>"",LEFT(C20,16),LEFT(E20,16)) -> NC01-3-0001-0006 | N20: =VLOOKUP(M20,'Liste des équipements'!C22:T233,18) -> B
A21: 20059664 | B21: COND-FUT-Convoyeur FUT.01-Motoreducteur -LUB-2A | D21: 10081007 | E21: NC01-2-0030-0002-01 | G21: 10190200 | H21: 2 | I21: N | J21: ACTIVE | K21: 45414 | L21: NC01 | M21: =IF(C21<>"",LEFT(C21,16),LEFT(E21,16)) -> NC01-2-0030-0002 | N21: =VLOOKUP(M21,'Liste des équipements'!C23:T234,18) -> C
A22: 20059665 | B22: COND-FUT-Convoyeur FUT.04-Motoreducteur -LUB-2A | D22: 10081008 | E22: NC01-2-0030-0002-01 | G22: 10190200 | H22: 2 | I22: N | J22: ACTIVE | K22: 45414 | L22: NC01 | M22: =IF(C22<>"",LEFT(C22,16),LEFT(E22,16)) -> NC01-2-0030-0002 | N22: =VLOOKUP(M22,'Liste des équipements'!C24:T235,18) -> C
A23: 20059667 | B23: COND-FUT-Convoyeur FUT.01-Motoreducteur-INS-1A | D23: 10081007 | E23: NC01-2-0030-0002-01 | G23: 10190133 | H23: 2 | I23: O | J23: ACTIVE | K23: 45048 | L23: NC01 | M23: =IF(C23<>"",LEFT(C23,16),LEFT(E23,16)) -> NC01-2-0030-0002 | N23: =VLOOKUP(M23,'Liste des équipements'!C25:T236,18) -> C
A24: 20059668 | B24: COND-FUT-Convoyeur FUT.04-Motoreducteur-INS-1A | D24: 10081008 | E24: NC01-2-0030-0002-01 | G24: 10190133 | H24: 2 | I24: O | J24: ACTIVE | K24: 45048 | L24: NC01 | M24: =IF(C24<>"",LEFT(C24,16),LEFT(E24,16)) -> NC01-2-0030-0002 | N24: =VLOOKUP(M24,'Liste des équipements'!C26:T237,18) -> C
A25: 20059670 | B25: COND-FUT-Convoyeur FUT.01-Motoreducteur-REP-5A | D25: 10081007 | E25: NC01-2-0030-0002-01 | G25: 10190189 | H25: 2 | I25: N | J25: ACTIVE | K25: 46509 | L25: NC01 | M25: =IF(C25<>"",LEFT(C25,16),LEFT(E25,16)) -> NC01-2-0030-0002 | N25: =VLOOKUP(M25,'Liste des équipements'!C27:T238,18) -> C
A26: 20059671 | B26: COND-FUT-Convoyeur FUT.04-Motoreducteur-REP-5A | D26: 10081008 | E26: NC01-2-0030-0002-01 | G26: 10190189 | H26: 2 | I26: N | J26: ACTIVE | K26: 46509 | L26: NC01 | M26: =IF(C26<>"",LEFT(C26,16),LEFT(E26,16)) -> NC01-2-0030-0002 | N26: =VLOOKUP(M26,'Liste des équipements'!C28:T239,18) -> C
A27: 20059673 | B27: COND-FUT-Convoyeur FUT-Paliers De Roulement-LUB-3M | D27: 10081011 | E27: NC01-2-0030-0002-01 | G27: 10190152 | H27: 2 | I27: O | J27: ACTIVE | K27: 44867 | L27: NC01 | M27: =IF(C27<>"",LEFT(C27,16),LEFT(E27,16)) -> NC01-2-0030-0002 | N27: =VLOOKUP(M27,'Liste des équipements'!C29:T240,18) -> C
A28: 20059674 | B28: COND-FUT-Convoyeur FUT.04-Paliers De Roulement-LUB-3M | D28: 10081012 | E28: NC01-2-0030-0002-01 | G28: 10190152 | H28: 2 | I28: O | J28: ACTIVE | K28: 44867 | L28: NC01 | M28: =IF(C28<>"",LEFT(C28,16),LEFT(E28,16)) -> NC01-2-0030-0002 | N28: =VLOOKUP(M28,'Liste des équipements'!C30:T241,18) -> C
A29: 20059675 | B29: COND-FUT-Convoyeur FUT.05-Paliers De Roulement-LUB-3M | D29: 10081013 | E29: NC01-2-0030-0002-01 | G29: 10190152 | H29: 2 | I29: O | J29: ACTIVE | K29: 44867 | L29: NC01 | M29: =IF(C29<>"",LEFT(C29,16),LEFT(E29,16)) -> NC01-2-0030-0002 | N29: =VLOOKUP(M29,'Liste des équipements'!C31:T242,18) -> C
A30: 20059676 | B30: COND-FUT-Convoyeur FUT.01-Transmission Par Chaine-LUB-3M | D30: 10081014 | E30: NC01-2-0030-0002-01 | G30: 10190153 | H30: 2 | I30: O | J30: ACTIVE | K30: 44807 | L30: NC01 | M30: =IF(C30<>"",LEFT(C30,16),LEFT(E30,16)) -> NC01-2-0030-0002 | N30: =VLOOKUP(M30,'Liste des équipements'!C32:T243,18) -> C
A31: 20059677 | B31: COND-FUT-Convoyeur FUT.01-Pignonnerie-INS-1A | D31: 10081449 | E31: NC01-2-0030-0002-01 | G31: 10190136 | H31: 2 | I31: O | J31: ACTIVE | K31: 45048 | L31: NC01 | M31: =IF(C31<>"",LEFT(C31,16),LEFT(E31,16)) -> NC01-2-0030-0002 | N31: =VLOOKUP(M31,'Liste des équipements'!C33:T244,18) -> C
A32: 20059678 | B32: COND-FUT-Convoyeur FUT.04-Pignonnerie-INS-1A | D32: 10081456 | E32: NC01-2-0030-0002-01 | G32: 10190136 | H32: 2 | I32: O | J32: ACTIVE | K32: 45048 | L32: NC01 | M32: =IF(C32<>"",LEFT(C32,16),LEFT(E32,16)) -> NC01-2-0030-0002 | N32: =VLOOKUP(M32,'Liste des équipements'!C34:T245,18) -> C
... A41: 20059704 | B41: COND-NRB-Pasteurisateur-Gicleurs-REP-2A | D41: 10366093 | E41: NC01-2-0001-0005-01 | G41: 10032899 | H41: 2 | I41: N | J41: ACTIVE | K41: 45299 | L41: NC01 | M41: =IF(C41<>"",LEFT(C41,16),LEFT(E41,16)) -> NC01-2-0001-0005 | N41: =VLOOKUP(M41,'Liste des équipements'!C43:T254,18) -> A
A42: 20060043 | B42: UTL-Lampe UV Eau BG-CLE-3M | C42: NC01-3-0070-0003 | G42: 10035605 | H42: 1 | I42: O | J42: ACTIVE | K42: 44868 | L42: NC01 | M42: =IF(C42<>"",LEFT(C42,16),LEFT(E42,16)) -> NC01-3-0070-0003 | N42: =VLOOKUP(M42,'Liste des équipements'!C44:T255,18) -> A
A43: 20060215 | B43: PROD-Batiment Brasserie Et Conditionnement-Curage caniveaux -CLE-1A | C43: NC01-7-0003 | H43: 2 | I43: O | J43: ACTIVE | K43: 44896 | L43: NC01 | M43: =IF(C43<>"",LEFT(C43,16),LEFT(E43,16)) -> NC01-7-0003 | N43: =VLOOKUP(M43,'Liste des équipements'!C45:T256,18) -> C
A44: 20060216 | B44: PROD-SIROPERIE-Premix-Filtres CO2-REP-6M | D44: 10366079 | E44: NC01-1-0060-0010 | G44: 10033268 | H44: 2 | I44: O | J44: ACTIVE | K44: 44812 | L44: NC01 | M44: =IF(C44<>"",LEFT(C44,16),LEFT(E44,16)) -> NC01-1-0060-0010 | N44: =VLOOKUP(M44,'Liste des équipements'!C46:T257,18) -> C
A45: 20060218 | B45: Distribution C02-Filtres CO2-REP-6M | D45: 10367978 | E45: NC01-3-0001-0010 | G45: 10033268 | H45: 2 | I45: O | J45: ACTIVE | K45: 44832 | L45: NC01 | M45: =IF(C45<>"",LEFT(C45,16),LEFT(E45,16)) -> NC01-3-0001-0010 | N45: =VLOOKUP(M45,'Liste des équipements'!C47:T258,18) -> B
A46: 20060241 | B46: COND-PET-Soutireuse Modulfill-LUB-2A | D46: 10367452 | E46: NC01-2-0040-0003-01 | G46: 10033275 | H46: 2 | I46: O | J46: ACTIVE | K46: 44986 | L46: NC01 | M46: =IF(C46<>"",LEFT(C46,16),LEFT(E46,16)) -> NC01-2-0040-0003 | N46: =VLOOKUP(M46,'Liste des équipements'!C48:T259,18) -> C
A47: 20060242 | B47: COND-COMMUN-Bras Prehenseur-Bras Robotise-OVH-1A | D47: 10367207 | E47: NC01-2-0060-0004-01 | G47: 10033277 | H47: 2 | I47: O | J47: ACTIVE | K47: 44981 | L47: NC01 | M47: =IF(C47<>"",LEFT(C47,16),LEFT(E47,16)) -> NC01-2-0060-0004 | N47: =VLOOKUP(M47,'Liste des équipements'!C49:T260,18) -> A
A48: 20060243 | B48: UTL-Production vapeur-Chaudière Babcock-OVH-1A | D48: 10368046 | E48: NC01-3-0010-0001 | G48: 10033278 | H48: 2 | I48: O | J48: ACTIVE | K48: 44981 | L48: NC01 | M48: =IF(C48<>"",LEFT(C48,16),LEFT(E48,16)) -> NC01-3-0010-0001 | N48: =VLOOKUP(M48,'Liste des équipements'!C50:T261,18) -> A
...
