Workbook

Sheet Données
C2: Airbus SE
C3: Premium Export
C6: Balance Sheet
D8: FY-9 | E8: FY-8 | F8: FY-7 | G8: FY-6 | H8: FY-5 | I8: FY-4 | J8: FY-3 | K8: FY-2 | L8: FY-1 | M8: FY
C10: Period End Date | D10: 2012-12-31 | E10: 2013-12-31 | F10: 2014-12-31 | G10: 2015-12-31 | H10: 2016-12-31 | I10: 2017-12-31 | J10: 2018-12-31 | K10: 2019-12-31 | L10: 2020-12-31 | M10: 2021-12-31
C12: Cash And Equivalents | D12: 8.756 | E12: 7.201 | F12: 7.271 | G12: 6.59 | H12: 10.143 | I12: 12.016 | J12: 9.413 | K12: 9.314 | L12: 14.439 | M12: 14.572
C13: Short Term Investments | D13: 2.615 | E13: 2.717 | F13: 3.35 | G13: 1.966 | H13: 2.073 | I13: 2.156 | J13: 2.621 | K13: 2.751 | L13: 2.086 | M13: 1.854
C14: Accounts Receivable, Net | D14: 6.788 | E14: 6.628 | F14: 6.798 | G14: 7.877 | H14: 8.101 | I14: 5.983 | J14: 6.867 | K14: 6.841 | L14: 6.206 | M14: 6.44
C15: Inventory | D15: 23.216 | E15: 24.023 | F15: 25.355 | G15: 29.051 | H15: 29.688 | I15: 29.737 | J15: 31.891 | K15: 31.55 | L15: 30.401 | M15: 28.538
C16: Prepaid Expenses | D16: 586 | E16: 429 | F16: 487 | G16: 663 | H16: 552 | I16: 146 | J16: 121 | K16: 147 | L16: 191 | M16: 392
C17: Other Current Assets | D17: 3.366 | E17: 3.75 | F17: 4.421 | G17: 6.197 | H17: 5.539 | I17: 5.886 | J17: 7.721 | K17: 6.12 | L17: 5.077 | M17: 4.004
C18: Total Current Assets | D18: 45.327 | E18: 44.748 | F18: 47.682 | G18: 52.344 | H18: 56.096 | I18: 55.924 | J18: 58.634 | K18: 56.723 | L18: 58.4 | M18: 55.8
C20: Property Plant And Equipment, Net | D20: 15.196 | E20: 15.585 | F20: 16.321 | G20: 17.127 | H20: 16.913 | I20: 16.61 | J20: 16.773 | K20: 17.294 | L20: 16.674 | M20: 16.536
C21: Real Estate Owned
C22: Capitalized / Purchased Software
C23: Long-term Investments | D23: 10.764 | E23: 9.912 | F23: 11.149 | G23: 13.669 | H23: 15.16 | I23: 16.765 | J23: 16.166 | K23: 17.145 | L23: 10.783 | M23: 12.467
C24: Goodwill | D24: 11.017 | E24: 9.872 | F24: 9.979 | G24: 9.907 | H24: 9.425 | I24: 9.139 | J24: 13.039 | K24: 13.019 | L24: 12.999 | M24: 13.028
C25: Other Intangibles | D25: 1.047 | E25: 1.031 | F25: 1.091 | G25: 989 | H25: 936 | I25: 726 | J25: 2.105 | K25: 2.112 | L25: 1.942 | M25: 2.053
C26: Other Long-term Assets | D26: 8.77 | E26: 9.126 | F26: 9.88 | G26: 11.746 | H26: 12.603 | I26: 10.285 | J26: 8.481 | K26: 8.116 | L26: 9.297 | M26: 7.163
C27: Total Assets | D27: 92.121 | E27: 90.274 | F27: 96.102 | G27: 105.782 | H27: 111.133 | I27: 109.449 | J27: 115.198 | K27: 114.409 | L27: 110.095 | M27: 107.047
C29: Accounts Payable | D29: 9.921 | E29: 9.72 | F29: 10.233 | G29: 10.944 | H29: 12.648 | I29: 13.605 | J29: 16.412 | K29: 14.967 | L29: 8.852 | M29: 9.873
C30: Accrued Expenses | D30: 904 | E30: 976 | F30: 1.061 | G30: 885 | H30: 1.047 | I30: 1.397 | J30: 2.706 | K30: 614 | L30: 749 | M30: 771
C31: Short-term Borrowings | D31: 853
C32: Current Portion of LT Debt | D32: 407 | E32: 1.813 | F32: 1.061 | G32: 2.777 | H32: 1.672 | I32: 2.195 | J32: 1.44 | K32: 1.697 | L32: 2.753 | M32: 1.701
C33: Current Portion of Capital Lease Obligations | D33: 13 | E33: 13 | F33: 12 | G33: 13 | H33: 15 | I33: 17 | J33: 23 | K33: 262 | L33: 260 | M33: 245
C34: Other Current Liabilities | D34: 36.551 | E34: 33.829 | F34: 35.81 | G34: 38.49 | H34: 41.31 | I34: 38.671 | J34: 40.205 | K34: 44.834 | L34: 36.857 | M34: 35.217
C35: Total Current Liabilities | D35: 48.649 | E35: 46.351 | F35: 48.177 | G35: 53.109 | H35: 56.692 | I35: 55.885 | J35: 60.786 | K35: 62.374 | L35: 49.471 | M35: 47.807
C37: Long-term Debt | D37: 3.338 | E37: 3.645 | F37: 6.092 | G37: 5.96 | H37: 8.417 | I37: 8.659 | J37: 7.156 | K37: 6.891 | L37: 12.544 | M37: 11.603
C38: Capital Leases | D38: 168 | E38: 159 | F38: 186 | G38: 375 | H38: 374 | I38: 325 | J38: 307 | K38: 1.298 | L38: 1.538 | M38: 1.491
C39: Other Non-current Liabilities | D39: 29.546 | E39: 29.213 | F39: 34.568 | G39: 40.365 | H39: 41.998 | I39: 33.838 | J39: 37.23 | K39: 37.856 | L39: 40.086 | M39: 36.66
C40: Total Liabilities | D40: 81.701 | E40: 79.368 | F40: 89.023 | G40: 99.809 | H40: 107.481 | I40: 98.707 | J40: 105.479 | K40: 108.419 | L40: 103.639 | M40: 97.561
C42: Common Stock | D42: 827 | E42: 783 | F42: 785 | G42: 785 | H42: 773 | I42: 775 | J42: 777 | K42: 784 | L42: 785 | M42: 787
C43: Additional Paid In Capital | D43: 7.253 | E43: 5.049 | F43: 4.5 | G43: 3.484 | H43: 2.745 | I43: 2.826 | J43: 2.941 | K43: 3.555 | L43: 3.599 | M43: 3.712
C44: Retained Earnings | D44: 894 | E44: 2.167 | F44: 2.989 | G44: 6.316 | H44: 4.987 | I44: 4.399 | J44: 5.923 | K44: 2.241 | L44: 250 | M44: 6.834
C45: Treasury Stock | D45: -84 | E45: -50 | F45: -8 | G45: -303 | H45: -3 | I45: -2 | J45: -51 | K45: -82 | L45: -42 | M45: -45
... C47: Common Equity | D47: 10.403 | E47: 10.864 | F47: 7.061 | G47: 5.966 | H47: 3.657 | I47: 10.74 | J47: 9.724 | K47: 5.975 | L47: 6.445 | M47: 9.466
C48: Total Preferred Equity
C49: Minority Interest, Total | D49: 17 | E49: 42 | F49: 18 | G49: 7 | H49: -5 | I49: 2 | J49: -5 | K49: 15 | L49: 11 | M49: 20
C50: Other Equity | D50: 0 | E50: 0 | F50: 0 | G50: 0 | H50: 0 | I50: 0 | J50: 0 | K50: 0 | L50: 0 | M50: 0
C51: Total Equity | D51: 10.42 | E51: 10.906 | F51: 7.079 | G51: 5.973 | H51: 3.652 | I51: 10.742 | J51: 9.719 | K51: 5.99 | L51: 6.456 | M51: 9.486
...

Sheet Calculs1
A2: =Données!C10 -> Period End Date | B2: =Données!D10 -> 2012-12-31 | C2: =Données!E10 -> 2013-12-31 | D2: =Données!F10 -> 2014-12-31 | E2: =Données!G10 -> 2015-12-31 | F2: =Données!H10 -> 2016-12-31 | G2: =Données!I10 -> 2017-12-31 | H2: =Données!J10 -> 2018-12-31 | ... K2: =Données!M10 -> 2021-12-31
A3: =Données!C11 -> 0 | B3: =Données!D11 -> 0 | C3: =Données!E11 -> 0 | D3: =Données!F11 -> 0 | E3: =Données!G11 -> 0 | F3: =Données!H11 -> 0 | G3: =Données!I11 -> 0 | H3: =Données!J11 -> 0 | ... K3: =Données!M11 -> 0
A4: =Données!C12 -> Cash And Equivalents | B4: =Données!D12 -> 8.756 | C4: =Données!E12 -> 7.201 | D4: =Données!F12 -> 7.271 | E4: =Données!G12 -> 6.59 | F4: =Données!H12 -> 10.143 | G4: =Données!I12 -> 12.016 | H4: =Données!J12 -> 9.413 | ... K4: =Données!M12 -> 14.572
A5: =Données!C13 -> Short Term Investments | B5: =Données!D13 -> 2.615 | C5: =Données!E13 -> 2.717 | D5: =Données!F13 -> 3.35 | E5: =Données!G13 -> 1.966 | F5: =Données!H13 -> 2.073 | G5: =Données!I13 -> 2.156 | H5: =Données!J13 -> 2.621 | ... K5: =Données!M13 -> 1.854
A7: Total1 | B7: =B4+B5 -> 11.371 | C7: =C4+C5 -> 9.918 | D7: =D4+D5 -> 10.621 | E7: =E4+E5 -> 8.556 | F7: =F4+F5 -> 12.216 | G7: =G4+G5 -> 14.172 | H7: =H4+H5 -> 12.034 | I7: =I4+I5 -> 12.065 | ... K7: =K4+K5 -> 16.426
J9: moyenne T1 | K9: =AVERAGE(B7:K7) -> 12.3904

Sheet Calculs2
A2: {=Calculs1!A2:K2} -> Period End Date | B2: 2012-12-31 | C2: 2013-12-31 | D2: 2014-12-31 | E2: 2015-12-31 | F2: 2016-12-31 | G2: 2017-12-31 | H2: 2018-12-31 | I2: 2019-12-31 | J2: 2020-12-31 | K2: 2021-12-31
A4: {=Calculs1!A7:K7} -> Total1 | B4: 11.371 | C4: 9.918 | D4: 10.621 | E4: 8.556 | F4: 12.216 | G4: 14.172 | H4: 12.034 | I4: 12.065 | J4: 16.525 | K4: 16.426
A6: =Données!C14 -> Accounts Receivable, Net | B6: =Données!D14 -> 6.788 | C6: =Données!E14 -> 6.628 | D6: =Données!F14 -> 6.798 | E6: =Données!G14 -> 7.877 | F6: =Données!H14 -> 8.101 | G6: =Données!I14 -> 5.983 | H6: =Données!J14 -> 6.867 | ... K6: =Données!M14 -> 6.44
A8: Total2 | B8: =B4+B6 -> 18.159 | C8: =C4+C6 -> 16.546 | D8: =D4+D6 -> 17.419 | E8: =E4+E6 -> 16.433 | F8: =F4+F6 -> 20.317 | G8: =G4+G6 -> 20.155 | H8: =H4+H6 -> 18.901 | I8: =I4+I6 -> 18.906 | ... K8: =K4+K6 -> 22.866
J10: moyenne T2 | K10: =AVERAGE(B8:K8) -> 19.2433

Sheet Calculs3
A2: =Données!C10 -> Period End Date | B2: =Données!D10 -> 2012-12-31 | C2: =Données!E10 -> 2013-12-31 | D2: =Données!F10 -> 2014-12-31 | E2: =Données!G10 -> 2015-12-31 | F2: =Données!H10 -> 2016-12-31 | G2: =Données!I10 -> 2017-12-31 | H2: =Données!J10 -> 2018-12-31 | ... L2: =Données!N10 -> 0
A4: =Calculs2!A8 -> Total2 | B4: =Calculs2!B8 -> 18.159 | C4: =Calculs2!C8 -> 16.546 | D4: =Calculs2!D8 -> 17.419 | E4: =Calculs2!E8 -> 16.433 | F4: =Calculs2!F8 -> 20.317 | G4: =Calculs2!G8 -> 20.155 | H4: =Calculs2!H8 -> 18.901 | ... K4: =Calculs2!K8 -> 22.866
A6: =Données!C15 -> Inventory | B6: =Données!D15 -> 23.216 | C6: =Données!E15 -> 24.023 | D6: =Données!F15 -> 25.355 | E6: =Données!G15 -> 29.051 | F6: =Données!H15 -> 29.688 | G6: =Données!I15 -> 29.737 | H6: =Données!J15 -> 31.891 | ... K6: =Données!M15 -> 28.538
A8: Total3 | B8: =B4+B6 -> 41.375 | C8: =C4+C6 -> 40.569 | D8: =D4+D6 -> 42.774 | E8: =E4+E6 -> 45.484 | F8: =F4+F6 -> 50.005 | G8: =G4+G6 -> 49.892 | H8: =H4+H6 -> 50.792 | I8: =I4+I6 -> 50.456 | ... K8: =K4+K6 -> 51.404
J10: moyenne T3 | K10: =AVERAGE(B8:K8) -> 47.5883

Sheet Calculs4
A2: =Données!C10 -> Period End Date | B2: =Données!D10 -> 2012-12-31 | C2: =Données!E10 -> 2013-12-31 | D2: =Données!F10 -> 2014-12-31 | E2: =Données!G10 -> 2015-12-31 | F2: =Données!H10 -> 2016-12-31 | G2: =Données!I10 -> 2017-12-31 | H2: =Données!J10 -> 2018-12-31 | ... L2: =Données!N10 -> 0
A4: =Calculs3!A8 -> Total3 | B4: =Calculs3!B8 -> 41.375 | C4: =Calculs3!C8 -> 40.569 | D4: =Calculs3!D8 -> 42.774 | E4: =Calculs3!E8 -> 45.484 | F4: =Calculs3!F8 -> 50.005 | G4: =Calculs3!G8 -> 49.892 | H4: =Calculs3!H8 -> 50.792 | ... K4: =Calculs3!K8 -> 51.404
A6: =Données!C16 -> Prepaid Expenses | B6: =Données!D16 -> 586 | C6: =Données!E16 -> 429 | D6: =Données!F16 -> 487 | E6: =Données!G16 -> 663 | F6: =Données!H16 -> 552 | G6: =Données!I16 -> 146 | H6: =Données!J16 -> 121 | ... K6: =Données!M16 -> 392
A8: total4 | B8: =B4+B6 -> 627.375 | C8: =C4+C6 -> 469.569 | D8: =D4+D6 -> 529.774 | E8: =E4+E6 -> 708.484 | F8: =F4+F6 -> 602.005 | G8: =G4+G6 -> 195.892 | H8: =H4+H6 -> 171.792 | I8: =I4+I6 -> 197.456 | ... K8: =K4+K6 -> 443.404
J10: moyenne T4 | K10: =AVERAGE(B8:K8) -> 418.9883

Sheet Synthèse
A2: =Calculs1!A2 -> Period End Date | B2: =Calculs1!B2 -> 2012-12-31 | C2: =Calculs1!C2 -> 2013-12-31 | D2: =Calculs1!D2 -> 2014-12-31 | E2: =Calculs1!E2 -> 2015-12-31 | F2: =Calculs1!F2 -> 2016-12-31 | G2: =Calculs1!G2 -> 2017-12-31 | H2: =Calculs1!H2 -> 2018-12-31 | ... L2: =Calculs1!L2 -> 0
A3: =Calculs1!A7 -> Total1 | B3: =Calculs1!B7 -> 11.371 | C3: =Calculs1!C7 -> 9.918 | D3: =Calculs1!D7 -> 10.621 | E3: =Calculs1!E7 -> 8.556 | F3: =Calculs1!F7 -> 12.216 | G3: =Calculs1!G7 -> 14.172 | H3: =Calculs1!H7 -> 12.034 | ... K3: =Calculs1!K7 -> 16.426
A4: =Calculs2!A8 -> Total2 | B4: =Calculs2!B8 -> 18.159 | C4: =Calculs2!C8 -> 16.546 | D4: =Calculs2!D8 -> 17.419 | E4: =Calculs2!E8 -> 16.433 | F4: =Calculs2!F8 -> 20.317 | G4: =Calculs2!G8 -> 20.155 | H4: =Calculs2!H8 -> 18.901 | ... K4: =Calculs2!K8 -> 22.866
A5: =Calculs3!A8 -> Total3 | B5: =Calculs3!B8 -> 41.375 | C5: =Calculs3!C8 -> 40.569 | D5: =Calculs3!D8 -> 42.774 | E5: =Calculs3!E8 -> 45.484 | F5: =Calculs3!F8 -> 50.005 | G5: =Calculs3!G8 -> 49.892 | H5: =Calculs3!H8 -> 50.792 | ... K5: =Calculs3!K8 -> 51.404
A6: =Calculs4!A8 -> total4 | B6: =Calculs4!B8 -> 627.375 | C6: =Calculs4!C8 -> 469.569 | D6: =Calculs4!D8 -> 529.774 | E6: =Calculs4!E8 -> 708.484 | F6: =Calculs4!F8 -> 602.005 | G6: =Calculs4!G8 -> 195.892 | H6: =Calculs4!H8 -> 171.792 | ... K6: =Calculs4!K8 -> 443.404
H9: moyenne
H10: T1 | I10: =Calculs1!K9 -> 12.3904
H11: T2 | I11: =Calculs2!K10 -> 19.2433
H12: T3 | I12: =Calculs3!K10 -> 47.5883
H13: T4 | I13: =Calculs4!K10 -> 418.9883
