Workbook
Name ModelePC: Modele!$A$2:$A$87

Sheet Inventaire
A1: PEDAGOGIQUE | B1: Détails
A2: Salle | B2: Modèle 1 | C2: Année 1 | D2: Nb 1 | E2: Modèle 2 | F2: Année 2 | G2: Nb 2 | H2: Modèle 3 | I2: Année 3 | J2: Nb 3 | K2: Modèle 4 | L2: Année 4 | M2: Nb 4 | N2: Nombre Total | O2: Nb Hors Domaine
A3: 1 | B3: OptiPlex 3080 | C3: =IFERROR(VLOOKUP(CLEAN(LOWER(B3)),Modele!$A$2:$B$100,2,FALSE),"") -> 2021 | D3: 1 | F3: =IFERROR(VLOOKUP(CLEAN(LOWER(E3)),Modele!$A$2:$B$100,2,FALSE),"") | I3: =IFERROR(VLOOKUP(CLEAN(LOWER(H3)),Modele!$A$2:$B$100,2,FALSE),"") | L3: =IFERROR(VLOOKUP(CLEAN(LOWER(K3)),Modele!$A$2:$B$100,2,FALSE),"") | N3: =SUM(D3,G3,J3,M3) -> 1
A4: 2 | B4: OptiPlex 3010 | C4: =IFERROR(VLOOKUP(CLEAN(LOWER(B4)),Modele!$A$2:$B$100,2,FALSE),"") -> 2012 | D4: 1 | F4: =IFERROR(VLOOKUP(CLEAN(LOWER(E4)),Modele!$A$2:$B$100,2,FALSE),"") | I4: =IFERROR(VLOOKUP(CLEAN(LOWER(H4)),Modele!$A$2:$B$100,2,FALSE),"") | L4: =IFERROR(VLOOKUP(CLEAN(LOWER(K4)),Modele!$A$2:$B$100,2,FALSE),"") | N4: =SUM(D4,G4,J4,M4) -> 1
A5: 3 | B5: OptiPlex 3010 | C5: =IFERROR(VLOOKUP(CLEAN(LOWER(B5)),Modele!$A$2:$B$100,2,FALSE),"") -> 2012 | D5: 1 | F5: =IFERROR(VLOOKUP(CLEAN(LOWER(E5)),Modele!$A$2:$B$100,2,FALSE),"") | I5: =IFERROR(VLOOKUP(CLEAN(LOWER(H5)),Modele!$A$2:$B$100,2,FALSE),"") | L5: =IFERROR(VLOOKUP(CLEAN(LOWER(K5)),Modele!$A$2:$B$100,2,FALSE),"") | N5: =SUM(D5,G5,J5,M5) -> 1
A6: 4 | B6: OptiPlex 3010 | C6: =IFERROR(VLOOKUP(CLEAN(LOWER(B6)),Modele!$A$2:$B$100,2,FALSE),"") -> 2012 | D6: 1 | F6: =IFERROR(VLOOKUP(CLEAN(LOWER(E6)),Modele!$A$2:$B$100,2,FALSE),"") | I6: =IFERROR(VLOOKUP(CLEAN(LOWER(H6)),Modele!$A$2:$B$100,2,FALSE),"") | L6: =IFERROR(VLOOKUP(CLEAN(LOWER(K6)),Modele!$A$2:$B$100,2,FALSE),"") | N6: =SUM(D6,G6,J6,M6) -> 1
A7: 6 | B7: OptiPlex 3010 | C7: =IFERROR(VLOOKUP(CLEAN(LOWER(B7)),Modele!$A$2:$B$100,2,FALSE),"") -> 2012 | D7: 4 | F7: =IFERROR(VLOOKUP(CLEAN(LOWER(E7)),Modele!$A$2:$B$100,2,FALSE),"") | I7: =IFERROR(VLOOKUP(CLEAN(LOWER(H7)),Modele!$A$2:$B$100,2,FALSE),"") | L7: =IFERROR(VLOOKUP(CLEAN(LOWER(K7)),Modele!$A$2:$B$100,2,FALSE),"") | N7: =SUM(D7,G7,J7,M7) -> 4
A8: 7 | B8: DELL Ancien | C8: =IFERROR(VLOOKUP(CLEAN(LOWER(B8)),Modele!$A$2:$B$100,2,FALSE),"") -> 2011 | D8: 1 | E8: Optiplex 3020 | F8: =IFERROR(VLOOKUP(CLEAN(LOWER(E8)),Modele!$A$2:$B$100,2,FALSE),"") -> 2013 | G8: 3 | I8: =IFERROR(VLOOKUP(CLEAN(LOWER(H8)),Modele!$A$2:$B$100,2,FALSE),"") | L8: =IFERROR(VLOOKUP(CLEAN(LOWER(K8)),Modele!$A$2:$B$100,2,FALSE),"") | N8: =SUM(D8,G8,J8,M8) -> 4
A9: 9 | B9: OptiPlex 3080 | C9: =IFERROR(VLOOKUP(CLEAN(LOWER(B9)),Modele!$A$2:$B$100,2,FALSE),"") -> 2021 | D9: 1 | F9: =IFERROR(VLOOKUP(CLEAN(LOWER(E9)),Modele!$A$2:$B$100,2,FALSE),"") | I9: =IFERROR(VLOOKUP(CLEAN(LOWER(H9)),Modele!$A$2:$B$100,2,FALSE),"") | L9: =IFERROR(VLOOKUP(CLEAN(LOWER(K9)),Modele!$A$2:$B$100,2,FALSE),"") | N9: =SUM(D9,G9,J9,M9) -> 1
A10: 10 | B10: OptiPlex 3080 | C10: =IFERROR(VLOOKUP(CLEAN(LOWER(B10)),Modele!$A$2:$B$100,2,FALSE),"") -> 2021 | D10: 1 | F10: =IFERROR(VLOOKUP(CLEAN(LOWER(E10)),Modele!$A$2:$B$100,2,FALSE),"") | I10: =IFERROR(VLOOKUP(CLEAN(LOWER(H10)),Modele!$A$2:$B$100,2,FALSE),"") | L10: =IFERROR(VLOOKUP(CLEAN(LOWER(K10)),Modele!$A$2:$B$100,2,FALSE),"") | N10: =SUM(D10,G10,J10,M10) -> 1
A11: 11 | B11: OptiPlex 3080 | C11: =IFERROR(VLOOKUP(CLEAN(LOWER(B11)),Modele!$A$2:$B$100,2,FALSE),"") -> 2021 | D11: 1 | F11: =IFERROR(VLOOKUP(CLEAN(LOWER(E11)),Modele!$A$2:$B$100,2,FALSE),"") | I11: =IFERROR(VLOOKUP(CLEAN(LOWER(H11)),Modele!$A$2:$B$100,2,FALSE),"") | L11: =IFERROR(VLOOKUP(CLEAN(LOWER(K11)),Modele!$A$2:$B$100,2,FALSE),"") | N11: =SUM(D11,G11,J11,M11) -> 1
A12: 13 | B12: OptiPlex 3010 | C12: =IFERROR(VLOOKUP(CLEAN(LOWER(B12)),Modele!$A$2:$B$100,2,FALSE),"") -> 2012 | D12: 1 | F12: =IFERROR(VLOOKUP(CLEAN(LOWER(E12)),Modele!$A$2:$B$100,2,FALSE),"") | I12: =IFERROR(VLOOKUP(CLEAN(LOWER(H12)),Modele!$A$2:$B$100,2,FALSE),"") | L12: =IFERROR(VLOOKUP(CLEAN(LOWER(K12)),Modele!$A$2:$B$100,2,FALSE),"") | N12: =SUM(D12,G12,J12,M12) -> 1
A13: 15 | B13: Optiplex 3000 | C13: =IFERROR(VLOOKUP(CLEAN(LOWER(B13)),Modele!$A$2:$B$100,2,FALSE),"") -> 2023 | D13: 1 | F13: =IFERROR(VLOOKUP(CLEAN(LOWER(E13)),Modele!$A$2:$B$100,2,FALSE),"") | I13: =IFERROR(VLOOKUP(CLEAN(LOWER(H13)),Modele!$A$2:$B$100,2,FALSE),"") | L13: =IFERROR(VLOOKUP(CLEAN(LOWER(K13)),Modele!$A$2:$B$100,2,FALSE),"") | N13: =SUM(D13,G13,J13,M13) -> 1
A14: 16 | B14: Optiplex 3080 | C14: =IFERROR(VLOOKUP(CLEAN(LOWER(B14)),Modele!$A$2:$B$100,2,FALSE),"") -> 2021 | D14: 21 | F14: =IFERROR(VLOOKUP(CLEAN(LOWER(E14)),Modele!$A$2:$B$100,2,FALSE),"") | I14: =IFERROR(VLOOKUP(CLEAN(LOWER(H14)),Modele!$A$2:$B$100,2,FALSE),"") | L14: =IFERROR(VLOOKUP(CLEAN(LOWER(K14)),Modele!$A$2:$B$100,2,FALSE),"") | N14: =SUM(D14,G14,J14,M14) -> 21
A15: 101 | B15: Optiplex 3050 | C15: =IFERROR(VLOOKUP(CLEAN(LOWER(B15)),Modele!$A$2:$B$100,2,FALSE),"") -> 2017 | D15: 1 | F15: =IFERROR(VLOOKUP(CLEAN(LOWER(E15)),Modele!$A$2:$B$100,2,FALSE),"") | I15: =IFERROR(VLOOKUP(CLEAN(LOWER(H15)),Modele!$A$2:$B$100,2,FALSE),"") | L15: =IFERROR(VLOOKUP(CLEAN(LOWER(K15)),Modele!$A$2:$B$100,2,FALSE),"") | N15: =SUM(D15,G15,J15,M15) -> 1
A16: 103 | B16: Optiplex 3010 | C16: =IFERROR(VLOOKUP(CLEAN(LOWER(B16)),Modele!$A$2:$B$100,2,FALSE),"") -> 2012 | D16: 1 | F16: =IFERROR(VLOOKUP(CLEAN(LOWER(E16)),Modele!$A$2:$B$100,2,FALSE),"") | I16: =IFERROR(VLOOKUP(CLEAN(LOWER(H16)),Modele!$A$2:$B$100,2,FALSE),"") | L16: =IFERROR(VLOOKUP(CLEAN(LOWER(K16)),Modele!$A$2:$B$100,2,FALSE),"") | N16: =SUM(D16,G16,J16,M16) -> 1
A17: 104 | B17: OptiPlex 3020 | C17: =IFERROR(VLOOKUP(CLEAN(LOWER(B17)),Modele!$A$2:$B$100,2,FALSE),"") -> 2013 | D17: 20 | E17: Optiplex 3010 | F17: =IFERROR(VLOOKUP(CLEAN(LOWER(E17)),Modele!$A$2:$B$100,2,FALSE),"") -> 2012 | G17: 2 | H17: Optiplex 3090 | I17: =IFERROR(VLOOKUP(CLEAN(LOWER(H17)),Modele!$A$2:$B$100,2,FALSE),"") -> 2022 | J17: 1 | L17: =IFERROR(VLOOKUP(CLEAN(LOWER(K17)),Modele!$A$2:$B$100,2,FALSE),"") | N17: =SUM(D17,G17,J17,M17) -> 23
A18: 105 | B18: Optiplex 3020 | C18: =IFERROR(VLOOKUP(CLEAN(LOWER(B18)),Modele!$A$2:$B$100,2,FALSE),"") -> 2013 | D18: 1 | F18: =IFERROR(VLOOKUP(CLEAN(LOWER(E18)),Modele!$A$2:$B$100,2,FALSE),"") | I18: =IFERROR(VLOOKUP(CLEAN(LOWER(H18)),Modele!$A$2:$B$100,2,FALSE),"") | L18: =IFERROR(VLOOKUP(CLEAN(LOWER(K18)),Modele!$A$2:$B$100,2,FALSE),"") | N18: =SUM(D18,G18,J18,M18) -> 1
A19: 106 | B19: Optiplex 3080 | C19: =IFERROR(VLOOKUP(CLEAN(LOWER(B19)),Modele!$A$2:$B$100,2,FALSE),"") -> 2021 | D19: 1 | F19: =IFERROR(VLOOKUP(CLEAN(LOWER(E19)),Modele!$A$2:$B$100,2,FALSE),"") | I19: =IFERROR(VLOOKUP(CLEAN(LOWER(H19)),Modele!$A$2:$B$100,2,FALSE),"") | L19: =IFERROR(VLOOKUP(CLEAN(LOWER(K19)),Modele!$A$2:$B$100,2,FALSE),"") | N19: =SUM(D19,G19,J19,M19) -> 1
A20: 107 | B20: Optiplex 3090 | C20: =IFERROR(VLOOKUP(CLEAN(LOWER(B20)),Modele!$A$2:$B$100,2,FALSE),"") -> 2022 | D20: 30 | E20: Optiplex 3080 | F20: =IFERROR(VLOOKUP(CLEAN(LOWER(E20)),Modele!$A$2:$B$100,2,FALSE),"") -> 2021 | G20: 1 | I20: =IFERROR(VLOOKUP(CLEAN(LOWER(H20)),Modele!$A$2:$B$100,2,FALSE),"") | L20: =IFERROR(VLOOKUP(CLEAN(LOWER(K20)),Modele!$A$2:$B$100,2,FALSE),"") | N20: =SUM(D20,G20,J20,M20) -> 31
A21: 108 | B21: Optiplex 3010 | C21: =IFERROR(VLOOKUP(CLEAN(LOWER(B21)),Modele!$A$2:$B$100,2,FALSE),"") -> 2012 | D21: 1 | F21: =IFERROR(VLOOKUP(CLEAN(LOWER(E21)),Modele!$A$2:$B$100,2,FALSE),"") | I21: =IFERROR(VLOOKUP(CLEAN(LOWER(H21)),Modele!$A$2:$B$100,2,FALSE),"") | L21: =IFERROR(VLOOKUP(CLEAN(LOWER(K21)),Modele!$A$2:$B$100,2,FALSE),"") | N21: =SUM(D21,G21,J21,M21) -> 1
A22: 110 | B22: Optiplex 3010 | C22: =IFERROR(VLOOKUP(CLEAN(LOWER(B22)),Modele!$A$2:$B$100,2,FALSE),"") -> 2012 | D22: 1 | F22: =IFERROR(VLOOKUP(CLEAN(LOWER(E22)),Modele!$A$2:$B$100,2,FALSE),"") | I22: =IFERROR(VLOOKUP(CLEAN(LOWER(H22)),Modele!$A$2:$B$100,2,FALSE),"") | L22: =IFERROR(VLOOKUP(CLEAN(LOWER(K22)),Modele!$A$2:$B$100,2,FALSE),"") | N22: =SUM(D22,G22,J22,M22) -> 1
A23: 114 | B23: Optiplex 3000 | C23: =IFERROR(VLOOKUP(CLEAN(LOWER(B23)),Modele!$A$2:$B$100,2,FALSE),"") -> 2023 | D23: 1 | F23: =IFERROR(VLOOKUP(CLEAN(LOWER(E23)),Modele!$A$2:$B$100,2,FALSE),"") | I23: =IFERROR(VLOOKUP(CLEAN(LOWER(H23)),Modele!$A$2:$B$100,2,FALSE),"") | L23: =IFERROR(VLOOKUP(CLEAN(LOWER(K23)),Modele!$A$2:$B$100,2,FALSE),"") | N23: =SUM(D23,G23,J23,M23) -> 1
A24: 116 | B24: Optiplex 3060 | C24: =IFERROR(VLOOKUP(CLEAN(LOWER(B24)),Modele!$A$2:$B$100,2,FALSE),"") -> 2018 | D24: 1 | F24: =IFERROR(VLOOKUP(CLEAN(LOWER(E24)),Modele!$A$2:$B$100,2,FALSE),"") | I24: =IFERROR(VLOOKUP(CLEAN(LOWER(H24)),Modele!$A$2:$B$100,2,FALSE),"") | L24: =IFERROR(VLOOKUP(CLEAN(LOWER(K24)),Modele!$A$2:$B$100,2,FALSE),"") | N24: =SUM(D24,G24,J24,M24) -> 1
A25: 118 | B25: Optiplex 3010 | C25: =IFERROR(VLOOKUP(CLEAN(LOWER(B25)),Modele!$A$2:$B$100,2,FALSE),"") -> 2012 | D25: 1 | F25: =IFERROR(VLOOKUP(CLEAN(LOWER(E25)),Modele!$A$2:$B$100,2,FALSE),"") | I25: =IFERROR(VLOOKUP(CLEAN(LOWER(H25)),Modele!$A$2:$B$100,2,FALSE),"") | L25: =IFERROR(VLOOKUP(CLEAN(LOWER(K25)),Modele!$A$2:$B$100,2,FALSE),"") | N25: =SUM(D25,G25,J25,M25) -> 1
A26: 201 | B26: Optiplex 3010 | C26: =IFERROR(VLOOKUP(CLEAN(LOWER(B26)),Modele!$A$2:$B$100,2,FALSE),"") -> 2012 | D26: 1 | F26: =IFERROR(VLOOKUP(CLEAN(LOWER(E26)),Modele!$A$2:$B$100,2,FALSE),"") | I26: =IFERROR(VLOOKUP(CLEAN(LOWER(H26)),Modele!$A$2:$B$100,2,FALSE),"") | L26: =IFERROR(VLOOKUP(CLEAN(LOWER(K26)),Modele!$A$2:$B$100,2,FALSE),"") | N26: =SUM(D26,G26,J26,M26) -> 1
A27: 202 | B27: Optiplex 3010 | C27: =IFERROR(VLOOKUP(CLEAN(LOWER(B27)),Modele!$A$2:$B$100,2,FALSE),"") -> 2012 | D27: 1 | F27: =IFERROR(VLOOKUP(CLEAN(LOWER(E27)),Modele!$A$2:$B$100,2,FALSE),"") | I27: =IFERROR(VLOOKUP(CLEAN(LOWER(H27)),Modele!$A$2:$B$100,2,FALSE),"") | L27: =IFERROR(VLOOKUP(CLEAN(LOWER(K27)),Modele!$A$2:$B$100,2,FALSE),"") | N27: =SUM(D27,G27,J27,M27) -> 1
A28: 203 | B28: Optiplex 3010 | C28: =IFERROR(VLOOKUP(CLEAN(LOWER(B28)),Modele!$A$2:$B$100,2,FALSE),"") -> 2012 | D28: 1 | F28: =IFERROR(VLOOKUP(CLEAN(LOWER(E28)),Modele!$A$2:$B$100,2,FALSE),"") | I28: =IFERROR(VLOOKUP(CLEAN(LOWER(H28)),Modele!$A$2:$B$100,2,FALSE),"") | L28: =IFERROR(VLOOKUP(CLEAN(LOWER(K28)),Modele!$A$2:$B$100,2,FALSE),"") | N28: =SUM(D28,G28,J28,M28) -> 1
A29: 205 | B29: Optiplex 3080 | C29: =IFERROR(VLOOKUP(CLEAN(LOWER(B29)),Modele!$A$2:$B$100,2,FALSE),"") -> 2021 | D29: 1 | F29: =IFERROR(VLOOKUP(CLEAN(LOWER(E29)),Modele!$A$2:$B$100,2,FALSE),"") | I29: =IFERROR(VLOOKUP(CLEAN(LOWER(H29)),Modele!$A$2:$B$100,2,FALSE),"") | L29: =IFERROR(VLOOKUP(CLEAN(LOWER(K29)),Modele!$A$2:$B$100,2,FALSE),"") | N29: =SUM(D29,G29,J29,M29) -> 1
A30: 206 | B30: Optiplex 3010 | C30: =IFERROR(VLOOKUP(CLEAN(LOWER(B30)),Modele!$A$2:$B$100,2,FALSE),"") -> 2012 | D30: 1 | F30: =IFERROR(VLOOKUP(CLEAN(LOWER(E30)),Modele!$A$2:$B$100,2,FALSE),"") | I30: =IFERROR(VLOOKUP(CLEAN(LOWER(H30)),Modele!$A$2:$B$100,2,FALSE),"") | L30: =IFERROR(VLOOKUP(CLEAN(LOWER(K30)),Modele!$A$2:$B$100,2,FALSE),"") | N30: =SUM(D30,G30,J30,M30) -> 1
A31: 207 | B31: Optiplex 3010 | C31: =IFERROR(VLOOKUP(CLEAN(LOWER(B31)),Modele!$A$2:$B$100,2,FALSE),"") -> 2012 | D31: 1 | F31: =IFERROR(VLOOKUP(CLEAN(LOWER(E31)),Modele!$A$2:$B$100,2,FALSE),"") | I31: =IFERROR(VLOOKUP(CLEAN(LOWER(H31)),Modele!$A$2:$B$100,2,FALSE),"") | L31: =IFERROR(VLOOKUP(CLEAN(LOWER(K31)),Modele!$A$2:$B$100,2,FALSE),"") | N31: =SUM(D31,G31,J31,M31) -> 1
A32: 210 | B32: Optiplex 3010 | C32: =IFERROR(VLOOKUP(CLEAN(LOWER(B32)),Modele!$A$2:$B$100,2,FALSE),"") -> 2012 | D32: 1 | F32: =IFERROR(VLOOKUP(CLEAN(LOWER(E32)),Modele!$A$2:$B$100,2,FALSE),"") | I32: =IFERROR(VLOOKUP(CLEAN(LOWER(H32)),Modele!$A$2:$B$100,2,FALSE),"") | L32: =IFERROR(VLOOKUP(CLEAN(LOWER(K32)),Modele!$A$2:$B$100,2,FALSE),"") | N32: =SUM(D32,G32,J32,M32) -> 1
A33: Amphi Musique | B33: Optiplex 3080 | C33: =IFERROR(VLOOKUP(CLEAN(LOWER(B33)),Modele!$A$2:$B$100,2,FALSE),"") -> 2021 | D33: 1 | F33: =IFERROR(VLOOKUP(CLEAN(LOWER(E33)),Modele!$A$2:$B$100,2,FALSE),"") | I33: =IFERROR(VLOOKUP(CLEAN(LOWER(H33)),Modele!$A$2:$B$100,2,FALSE),"") | L33: =IFERROR(VLOOKUP(CLEAN(LOWER(K33)),Modele!$A$2:$B$100,2,FALSE),"") | N33: =SUM(D33,G33,J33,M33) -> 1
A34: Salle Polyvalente | B34: Optiplex 3010 | C34: =IFERROR(VLOOKUP(CLEAN(LOWER(B34)),Modele!$A$2:$B$100,2,FALSE),"") -> 2012 | D34: 1 | F34: =IFERROR(VLOOKUP(CLEAN(LOWER(E34)),Modele!$A$2:$B$100,2,FALSE),"") | I34: =IFERROR(VLOOKUP(CLEAN(LOWER(H34)),Modele!$A$2:$B$100,2,FALSE),"") | L34: =IFERROR(VLOOKUP(CLEAN(LOWER(K34)),Modele!$A$2:$B$100,2,FALSE),"") | N34: =SUM(D34,G34,J34,M34) -> 1
A35: CDI | B35: Optiplex 3020 | C35: =IFERROR(VLOOKUP(CLEAN(LOWER(B35)),Modele!$A$2:$B$100,2,FALSE),"") -> 2013 | D35: 1 | E35: Optiplex 7010 | F35: =IFERROR(VLOOKUP(CLEAN(LOWER(E35)),Modele!$A$2:$B$100,2,FALSE),"") -> 2012 | G35: 3 | H35: Optiplex 3010 | I35: =IFERROR(VLOOKUP(CLEAN(LOWER(H35)),Modele!$A$2:$B$100,2,FALSE),"") -> 2012 | J35: 3 | K35: DELL Ancien | L35: =IFERROR(VLOOKUP(CLEAN(LOWER(K35)),Modele!$A$2:$B$100,2,FALSE),"") -> 2011 | M35: 1 | N35: =SUM(D35,G35,J35,M35) -> 8
A36: EPN (Informatique) | B36: Optiplex 7020 SFF | C36: =IFERROR(VLOOKUP(CLEAN(LOWER(B36)),Modele!$A$2:$B$100,2,FALSE),"") -> 2024 | D36: 31 | F36: =IFERROR(VLOOKUP(CLEAN(LOWER(E36)),Modele!$A$2:$B$100,2,FALSE),"") | I36: =IFERROR(VLOOKUP(CLEAN(LOWER(H36)),Modele!$A$2:$B$100,2,FALSE),"") | L36: =IFERROR(VLOOKUP(CLEAN(LOWER(K36)),Modele!$A$2:$B$100,2,FALSE),"") | N36: =SUM(D36,G36,J36,M36) -> 31
A37: Classe Mobile 1 et 2 | B37: Latitude 3510 | C37: =IFERROR(VLOOKUP(CLEAN(LOWER(B37)),Modele!$A$2:$B$100,2,FALSE),"") -> 2020 | D37: 43 | F37: =IFERROR(VLOOKUP(CLEAN(LOWER(E37)),Modele!$A$2:$B$100,2,FALSE),"") | I37: =IFERROR(VLOOKUP(CLEAN(LOWER(H37)),Modele!$A$2:$B$100,2,FALSE),"") | L37: =IFERROR(VLOOKUP(CLEAN(LOWER(K37)),Modele!$A$2:$B$100,2,FALSE),"") | N37: =SUM(D37,G37,J37,M37) -> 43
A38: Classe Mobile Science | B38: Lenovo 21KK | C38: =IFERROR(VLOOKUP(CLEAN(LOWER(B38)),Modele!$A$2:$B$100,2,FALSE),"") -> 2024 | D38: 15 | F38: =IFERROR(VLOOKUP(CLEAN(LOWER(E38)),Modele!$A$2:$B$100,2,FALSE),"") | I38: =IFERROR(VLOOKUP(CLEAN(LOWER(H38)),Modele!$A$2:$B$100,2,FALSE),"") | L38: =IFERROR(VLOOKUP(CLEAN(LOWER(K38)),Modele!$A$2:$B$100,2,FALSE),"") | N38: =SUM(D38,G38,J38,M38) -> 15
C39: =IFERROR(VLOOKUP(CLEAN(LOWER(B39)),Modele!$A$2:$B$100,2,FALSE),"") | F39: =IFERROR(VLOOKUP(CLEAN(LOWER(E39)),Modele!$A$2:$B$100,2,FALSE),"") | I39: =IFERROR(VLOOKUP(CLEAN(LOWER(H39)),Modele!$A$2:$B$100,2,FALSE),"") | L39: =IFERROR(VLOOKUP(CLEAN(LOWER(K39)),Modele!$A$2:$B$100,2,FALSE),"") | N39: =SUM(D39,G39,J39,M39) -> 0
C40: =IFERROR(VLOOKUP(CLEAN(LOWER(B40)),Modele!$A$2:$B$100,2,FALSE),"") | F40: =IFERROR(VLOOKUP(CLEAN(LOWER(E40)),Modele!$A$2:$B$100,2,FALSE),"") | I40: =IFERROR(VLOOKUP(CLEAN(LOWER(H40)),Modele!$A$2:$B$100,2,FALSE),"") | L40: =IFERROR(VLOOKUP(CLEAN(LOWER(K40)),Modele!$A$2:$B$100,2,FALSE),"") | N40: =SUM(D40,G40,J40,M40) -> 0
...

Sheet Modele
A1: modele pc | B1: année | C1: eligible W11
A2: Lenovo 20TES7B900 | B2: 2022 | C2: O
A3: Lenovo 20TES7HQ00 | B3: 2022 | C3: O
A4: Lenovo 21A4 | B4: 2022 | C4: O
A5: Lenovo 21DL | B5: 2023 | C5: O
A6: Lenovo 21KK | B6: 2024 | C6: O
A7: Lenovo 21DLA04CFR | B7: 2023 | C7: O
A8: Lenovo 21E7S4NP00 | B8: 2023 | C8: O
A9: Lenovo 21DJ | B9: 2023 | C9: O
A10: Latitude 3510 | B10: 2020 | C10: O
A11: Latitude 3520 | B11: 2021 | C11: O
A12: Latitude 3540 | B12: 2024 | C12: O
A13: Latitude 3590 | B13: 2018 | C13: O
... A37: Autres | B37: 2011 | C37: N

Sheet Ancienneté
A2: Ancienneté 1 | C2: Ancienneté 2 | F2: Ancienneté 3 | J2: Ancienneté 4
A3: =IF(ISBLANK(Inventaire!B3), "", IFERROR(2025-VLOOKUP(TRIM(LOWER(Inventaire!B3)),Modele!A:B,2,FALSE), "")) -> 4 | C3: =IF(ISBLANK(Inventaire!E3), "", IFERROR(2025-VLOOKUP(TRIM(LOWER(Inventaire!E3)),Modele!A:B,2,FALSE), "")) | F3: =IF(ISBLANK(Inventaire!H3), "", IFERROR(2025-VLOOKUP(TRIM(LOWER(Inventaire!H3)),Modele!A:B,2,FALSE), "")) | J3: =IF(ISBLANK(Inventaire!K3), "", IFERROR(2025-VLOOKUP(TRIM(LOWER(Inventaire!K3)),Modele!A:B,2,FALSE), ""))
A4: =IF(ISBLANK(Inventaire!B4), "", IFERROR(2025-VLOOKUP(TRIM(LOWER(Inventaire!B4)),Modele!A:B,2,FALSE), "")) -> 13 | C4: =IF(ISBLANK(Inventaire!E4), "", IFERROR(2025-VLOOKUP(TRIM(LOWER(Inventaire!E4)),Modele!A:B,2,FALSE), "")) | F4: =IF(ISBLANK(Inventaire!H4), "", IFERROR(2025-VLOOKUP(TRIM(LOWER(Inventaire!H4)),Modele!A:B,2,FALSE), "")) | J4: =IF(ISBLANK(Inventaire!K4), "", IFERROR(2025-VLOOKUP(TRIM(LOWER(Inventaire!K4)),Modele!A:B,2,FALSE), ""))
A5: =IF(ISBLANK(Inventaire!B5), "", IFERROR(2025-VLOOKUP(TRIM(LOWER(Inventaire!B5)),Modele!A:B,2,FALSE), "")) -> 13 | C5: =IF(ISBLANK(Inventaire!E5), "", IFERROR(2025-VLOOKUP(TRIM(LOWER(Inventaire!E5)),Modele!A:B,2,FALSE), "")) | F5: =IF(ISBLANK(Inventaire!H5), "", IFERROR(2025-VLOOKUP(TRIM(LOWER(Inventaire!H5)),Modele!A:B,2,FALSE), "")) | J5: =IF(ISBLANK(Inventaire!K5), "", IFERROR(2025-VLOOKUP(TRIM(LOWER(Inventaire!K5)),Modele!A:B,2,FALSE), ""))
A6: =IF(ISBLANK(Inventaire!B6), "", IFERROR(2025-VLOOKUP(TRIM(LOWER(Inventaire!B6)),Modele!A:B,2,FALSE), "")) -> 13 | C6: =IF(ISBLANK(Inventaire!E6), "", IFERROR(2025-VLOOKUP(TRIM(LOWER(Inventaire!E6)),Modele!A:B,2,FALSE), "")) | F6: =IF(ISBLANK(Inventaire!H6), "", IFERROR(2025-VLOOKUP(TRIM(LOWER(Inventaire!H6)),Modele!A:B,2,FALSE), "")) | J6: =IF(ISBLANK(Inventaire!K6), "", IFERROR(2025-VLOOKUP(TRIM(LOWER(Inventaire!K6)),Modele!A:B,2,FALSE), ""))
A7: =IF(ISBLANK(Inventaire!B7), "", IFERROR(2025-VLOOKUP(TRIM(LOWER(Inventaire!B7)),Modele!A:B,2,FALSE), "")) -> 13 | C7: =IF(ISBLANK(Inventaire!E7), "", IFERROR(2025-VLOOKUP(TRIM(LOWER(Inventaire!E7)),Modele!A:B,2,FALSE), "")) | F7: =IF(ISBLANK(Inventaire!H7), "", IFERROR(2025-VLOOKUP(TRIM(LOWER(Inventaire!H7)),Modele!A:B,2,FALSE), "")) | J7: =IF(ISBLANK(Inventaire!K7), "", IFERROR(2025-VLOOKUP(TRIM(LOWER(Inventaire!K7)),Modele!A:B,2,FALSE), ""))
A8: =IF(ISBLANK(Inventaire!B8), "", IFERROR(2025-VLOOKUP(TRIM(LOWER(Inventaire!B8)),Modele!A:B,2,FALSE), "")) -> 14 | C8: =IF(ISBLANK(Inventaire!E8), "", IFERROR(2025-VLOOKUP(TRIM(LOWER(Inventaire!E8)),Modele!A:B,2,FALSE), "")) -> 12 | F8: =IF(ISBLANK(Inventaire!H8), "", IFERROR(2025-VLOOKUP(TRIM(LOWER(Inventaire!H8)),Modele!A:B,2,FALSE), "")) | J8: =IF(ISBLANK(Inventaire!K8), "", IFERROR(2025-VLOOKUP(TRIM(LOWER(Inventaire!K8)),Modele!A:B,2,FALSE), ""))
A9: =IF(ISBLANK(Inventaire!B9), "", IFERROR(2025-VLOOKUP(TRIM(LOWER(Inventaire!B9)),Modele!A:B,2,FALSE), "")) -> 4 | C9: =IF(ISBLANK(Inventaire!E9), "", IFERROR(2025-VLOOKUP(TRIM(LOWER(Inventaire!E9)),Modele!A:B,2,FALSE), "")) | F9: =IF(ISBLANK(Inventaire!H9), "", IFERROR(2025-VLOOKUP(TRIM(LOWER(Inventaire!H9)),Modele!A:B,2,FALSE), "")) | J9: =IF(ISBLANK(Inventaire!K9), "", IFERROR(2025-VLOOKUP(TRIM(LOWER(Inventaire!K9)),Modele!A:B,2,FALSE), ""))
A10: =IF(ISBLANK(Inventaire!B10), "", IFERROR(2025-VLOOKUP(TRIM(LOWER(Inventaire!B10)),Modele!A:B,2,FALSE), "")) -> 4 | C10: =IF(ISBLANK(Inventaire!E10), "", IFERROR(2025-VLOOKUP(TRIM(LOWER(Inventaire!E10)),Modele!A:B,2,FALSE), "")) | F10: =IF(ISBLANK(Inventaire!H10), "", IFERROR(2025-VLOOKUP(TRIM(LOWER(Inventaire!H10)),Modele!A:B,2,FALSE), "")) | J10: =IF(ISBLANK(Inventaire!K10), "", IFERROR(2025-VLOOKUP(TRIM(LOWER(Inventaire!K10)),Modele!A:B,2,FALSE), ""))
A11: =IF(ISBLANK(Inventaire!B11), "", IFERROR(2025-VLOOKUP(TRIM(LOWER(Inventaire!B11)),Modele!A:B,2,FALSE), "")) -> 4 | C11: =IF(ISBLANK(Inventaire!E11), "", IFERROR(2025-VLOOKUP(TRIM(LOWER(Inventaire!E11)),Modele!A:B,2,FALSE), "")) | F11: =IF(ISBLANK(Inventaire!H11), "", IFERROR(2025-VLOOKUP(TRIM(LOWER(Inventaire!H11)),Modele!A:B,2,FALSE), "")) | J11: =IF(ISBLANK(Inventaire!K11), "", IFERROR(2025-VLOOKUP(TRIM(LOWER(Inventaire!K11)),Modele!A:B,2,FALSE), ""))
A12: =IF(ISBLANK(Inventaire!B12), "", IFERROR(2025-VLOOKUP(TRIM(LOWER(Inventaire!B12)),Modele!A:B,2,FALSE), "")) -> 13 | C12: =IF(ISBLANK(Inventaire!E12), "", IFERROR(2025-VLOOKUP(TRIM(LOWER(Inventaire!E12)),Modele!A:B,2,FALSE), "")) | F12: =IF(ISBLANK(Inventaire!H12), "", IFERROR(2025-VLOOKUP(TRIM(LOWER(Inventaire!H12)),Modele!A:B,2,FALSE), "")) | J12: =IF(ISBLANK(Inventaire!K12), "", IFERROR(2025-VLOOKUP(TRIM(LOWER(Inventaire!K12)),Modele!A:B,2,FALSE), ""))
A13: =IF(ISBLANK(Inventaire!B13), "", IFERROR(2025-VLOOKUP(TRIM(LOWER(Inventaire!B13)),Modele!A:B,2,FALSE), "")) -> 2 | C13: =IF(ISBLANK(Inventaire!E13), "", IFERROR(2025-VLOOKUP(TRIM(LOWER(Inventaire!E13)),Modele!A:B,2,FALSE), "")) | F13: =IF(ISBLANK(Inventaire!H13), "", IFERROR(2025-VLOOKUP(TRIM(LOWER(Inventaire!H13)),Modele!A:B,2,FALSE), "")) | J13: =IF(ISBLANK(Inventaire!K13), "", IFERROR(2025-VLOOKUP(TRIM(LOWER(Inventaire!K13)),Modele!A:B,2,FALSE), ""))
A14: =IF(ISBLANK(Inventaire!B14), "", IFERROR(2025-VLOOKUP(TRIM(LOWER(Inventaire!B14)),Modele!A:B,2,FALSE), "")) -> 4 | C14: =IF(ISBLANK(Inventaire!E14), "", IFERROR(2025-VLOOKUP(TRIM(LOWER(Inventaire!E14)),Modele!A:B,2,FALSE), "")) | F14: =IF(ISBLANK(Inventaire!H14), "", IFERROR(2025-VLOOKUP(TRIM(LOWER(Inventaire!H14)),Modele!A:B,2,FALSE), "")) | J14: =IF(ISBLANK(Inventaire!K14), "", IFERROR(2025-VLOOKUP(TRIM(LOWER(Inventaire!K14)),Modele!A:B,2,FALSE), ""))
... A44: =IF(ISBLANK(Inventaire!B44), "", IFERROR(2025-VLOOKUP(TRIM(LOWER(Inventaire!B44)),Modele!A:B,2,FALSE), "")) | C44: =IF(ISBLANK(Inventaire!E44), "", IFERROR(2025-VLOOKUP(TRIM(LOWER(Inventaire!E44)),Modele!A:B,2,FALSE), "")) | F44: =IF(ISBLANK(Inventaire!H44), "", IFERROR(2025-VLOOKUP(TRIM(LOWER(Inventaire!H44)),Modele!A:B,2,FALSE), "")) | J44: =IF(ISBLANK(Inventaire!K44), "", IFERROR(2025-VLOOKUP(TRIM(LOWER(Inventaire!K44)),Modele!A:B,2,FALSE), ""))
B45: =IF(ISBLANK(Inventaire!F45), "", IFERROR(2025-VLOOKUP(TRIM(LOWER(Inventaire!F45)),Modele!A:B,2,FALSE), "")) | F45: =IF(ISBLANK(Inventaire!H45), "", IFERROR(2025-VLOOKUP(TRIM(LOWER(Inventaire!H45)),Modele!A:B,2,FALSE), ""))
B46: =IF(ISBLANK(Inventaire!F63), "", IFERROR(2025-VLOOKUP(TRIM(LOWER(Inventaire!F63)),Modele!A:B,2,FALSE), "")) | F46: =IF(ISBLANK(Inventaire!H63), "", IFERROR(2025-VLOOKUP(TRIM(LOWER(Inventaire!H63)),Modele!A:B,2,FALSE), ""))
A47: =IF(ISBLANK(Inventaire!B64), "", IFERROR(2025-VLOOKUP(TRIM(LOWER(Inventaire!B64)),Modele!A:B,2,FALSE), "")) | C47: =IF(ISBLANK(Inventaire!E64), "", IFERROR(2025-VLOOKUP(TRIM(LOWER(Inventaire!E64)),Modele!A:B,2,FALSE), "")) | F47: =IF(ISBLANK(Inventaire!H64), "", IFERROR(2025-VLOOKUP(TRIM(LOWER(Inventaire!H64)),Modele!A:B,2,FALSE), "")) | J47: =IF(ISBLANK(Inventaire!K64), "", IFERROR(2025-VLOOKUP(TRIM(LOWER(Inventaire!K64)),Modele!A:B,2,FALSE), ""))
A48: =IF(ISBLANK(Inventaire!B65), "", IFERROR(2025-VLOOKUP(TRIM(LOWER(Inventaire!B65)),Modele!A:B,2,FALSE), "")) -> 2 | C48: =IF(ISBLANK(Inventaire!E65), "", IFERROR(2025-VLOOKUP(TRIM(LOWER(Inventaire!E65)),Modele!A:B,2,FALSE), "")) | F48: =IF(ISBLANK(Inventaire!H65), "", IFERROR(2025-VLOOKUP(TRIM(LOWER(Inventaire!H65)),Modele!A:B,2,FALSE), "")) | J48: =IF(ISBLANK(Inventaire!K65), "", IFERROR(2025-VLOOKUP(TRIM(LOWER(Inventaire!K65)),Modele!A:B,2,FALSE), ""))
A49: =IF(ISBLANK(Inventaire!B66), "", IFERROR(2025-VLOOKUP(TRIM(LOWER(Inventaire!B66)),Modele!A:B,2,FALSE), "")) -> 2 | C49: =IF(ISBLANK(Inventaire!E66), "", IFERROR(2025-VLOOKUP(TRIM(LOWER(Inventaire!E66)),Modele!A:B,2,FALSE), "")) | F49: =IF(ISBLANK(Inventaire!H66), "", IFERROR(2025-VLOOKUP(TRIM(LOWER(Inventaire!H66)),Modele!A:B,2,FALSE), "")) | J49: =IF(ISBLANK(Inventaire!K66), "", IFERROR(2025-VLOOKUP(TRIM(LOWER(Inventaire!K66)),Modele!A:B,2,FALSE), ""))
A50: =IF(ISBLANK(Inventaire!B67), "", IFERROR(2025-VLOOKUP(TRIM(LOWER(Inventaire!B67)),Modele!A:B,2,FALSE), "")) -> 4 | C50: =IF(ISBLANK(Inventaire!E67), "", IFERROR(2025-VLOOKUP(TRIM(LOWER(Inventaire!E67)),Modele!A:B,2,FALSE), "")) | F50: =IF(ISBLANK(Inventaire!H67), "", IFERROR(2025-VLOOKUP(TRIM(LOWER(Inventaire!H67)),Modele!A:B,2,FALSE), "")) | J50: =IF(ISBLANK(Inventaire!K67), "", IFERROR(2025-VLOOKUP(TRIM(LOWER(Inventaire!K67)),Modele!A:B,2,FALSE), ""))
A51: =IF(ISBLANK(Inventaire!B68), "", IFERROR(2025-VLOOKUP(TRIM(LOWER(Inventaire!B68)),Modele!A:B,2,FALSE), "")) -> 7 | C51: =IF(ISBLANK(Inventaire!E68), "", IFERROR(2025-VLOOKUP(TRIM(LOWER(Inventaire!E68)),Modele!A:B,2,FALSE), "")) | F51: =IF(ISBLANK(Inventaire!H68), "", IFERROR(2025-VLOOKUP(TRIM(LOWER(Inventaire!H68)),Modele!A:B,2,FALSE), "")) | J51: =IF(ISBLANK(Inventaire!K68), "", IFERROR(2025-VLOOKUP(TRIM(LOWER(Inventaire!K68)),Modele!A:B,2,FALSE), ""))
A52: =IF(ISBLANK(Inventaire!B69), "", IFERROR(2025-VLOOKUP(TRIM(LOWER(Inventaire!B69)),Modele!A:B,2,FALSE), "")) -> 7 | C52: =IF(ISBLANK(Inventaire!E69), "", IFERROR(2025-VLOOKUP(TRIM(LOWER(Inventaire!E69)),Modele!A:B,2,FALSE), "")) | F52: =IF(ISBLANK(Inventaire!H69), "", IFERROR(2025-VLOOKUP(TRIM(LOWER(Inventaire!H69)),Modele!A:B,2,FALSE), "")) | J52: =IF(ISBLANK(Inventaire!K69), "", IFERROR(2025-VLOOKUP(TRIM(LOWER(Inventaire!K69)),Modele!A:B,2,FALSE), ""))
A53: =IF(ISBLANK(Inventaire!B70), "", IFERROR(2025-VLOOKUP(TRIM(LOWER(Inventaire!B70)),Modele!A:B,2,FALSE), "")) -> 3 | C53: =IF(ISBLANK(Inventaire!E70), "", IFERROR(2025-VLOOKUP(TRIM(LOWER(Inventaire!E70)),Modele!A:B,2,FALSE), "")) | F53: =IF(ISBLANK(Inventaire!H70), "", IFERROR(2025-VLOOKUP(TRIM(LOWER(Inventaire!H70)),Modele!A:B,2,FALSE), "")) | J53: =IF(ISBLANK(Inventaire!K70), "", IFERROR(2025-VLOOKUP(TRIM(LOWER(Inventaire!K70)),Modele!A:B,2,FALSE), ""))
A54: =IF(ISBLANK(Inventaire!B71), "", IFERROR(2025-VLOOKUP(TRIM(LOWER(Inventaire!B71)),Modele!A:B,2,FALSE), "")) -> 12 | C54: =IF(ISBLANK(Inventaire!E71), "", IFERROR(2025-VLOOKUP(TRIM(LOWER(Inventaire!E71)),Modele!A:B,2,FALSE), "")) | F54: =IF(ISBLANK(Inventaire!H71), "", IFERROR(2025-VLOOKUP(TRIM(LOWER(Inventaire!H71)),Modele!A:B,2,FALSE), "")) | J54: =IF(ISBLANK(Inventaire!K71), "", IFERROR(2025-VLOOKUP(TRIM(LOWER(Inventaire!K71)),Modele!A:B,2,FALSE), ""))
A55: =IF(ISBLANK(Inventaire!B72), "", IFERROR(2025-VLOOKUP(TRIM(LOWER(Inventaire!B72)),Modele!A:B,2,FALSE), "")) -> 13 | C55: =IF(ISBLANK(Inventaire!E72), "", IFERROR(2025-VLOOKUP(TRIM(LOWER(Inventaire!E72)),Modele!A:B,2,FALSE), "")) | F55: =IF(ISBLANK(Inventaire!H72), "", IFERROR(2025-VLOOKUP(TRIM(LOWER(Inventaire!H72)),Modele!A:B,2,FALSE), "")) | J55: =IF(ISBLANK(Inventaire!K72), "", IFERROR(2025-VLOOKUP(TRIM(LOWER(Inventaire!K72)),Modele!A:B,2,FALSE), ""))
A56: =IF(ISBLANK(Inventaire!B73), "", IFERROR(2025-VLOOKUP(TRIM(LOWER(Inventaire!B73)),Modele!A:B,2,FALSE), "")) -> 13 | C56: =IF(ISBLANK(Inventaire!E73), "", IFERROR(2025-VLOOKUP(TRIM(LOWER(Inventaire!E73)),Modele!A:B,2,FALSE), "")) | F56: =IF(ISBLANK(Inventaire!H73), "", IFERROR(2025-VLOOKUP(TRIM(LOWER(Inventaire!H73)),Modele!A:B,2,FALSE), "")) | J56: =IF(ISBLANK(Inventaire!K73), "", IFERROR(2025-VLOOKUP(TRIM(LOWER(Inventaire!K73)),Modele!A:B,2,FALSE), ""))
A57: =IF(ISBLANK(Inventaire!B74), "", IFERROR(2025-VLOOKUP(TRIM(LOWER(Inventaire!B74)),Modele!A:B,2,FALSE), "")) -> 4 | C57: =IF(ISBLANK(Inventaire!E74), "", IFERROR(2025-VLOOKUP(TRIM(LOWER(Inventaire!E74)),Modele!A:B,2,FALSE), "")) -> 12 | F57: =IF(ISBLANK(Inventaire!H74), "", IFERROR(2025-VLOOKUP(TRIM(LOWER(Inventaire!H74)),Modele!A:B,2,FALSE), "")) | J57: =IF(ISBLANK(Inventaire!K74), "", IFERROR(2025-VLOOKUP(TRIM(LOWER(Inventaire!K74)),Modele!A:B,2,FALSE), ""))
A58: =IF(ISBLANK(Inventaire!B75), "", IFERROR(2025-VLOOKUP(TRIM(LOWER(Inventaire!B75)),Modele!A:B,2,FALSE), "")) -> 7 | C58: =IF(ISBLANK(Inventaire!E75), "", IFERROR(2025-VLOOKUP(TRIM(LOWER(Inventaire!E75)),Modele!A:B,2,FALSE), "")) -> 12 | F58: =IF(ISBLANK(Inventaire!H75), "", IFERROR(2025-VLOOKUP(TRIM(LOWER(Inventaire!H75)),Modele!A:B,2,FALSE), "")) | J58: =IF(ISBLANK(Inventaire!K75), "", IFERROR(2025-VLOOKUP(TRIM(LOWER(Inventaire!K75)),Modele!A:B,2,FALSE), ""))
... A69: =IF(ISBLANK(Inventaire!B86), "", IFERROR(2025-VLOOKUP(TRIM(LOWER(Inventaire!B86)),Modele!A:B,2,FALSE), "")) | C69: =IF(ISBLANK(Inventaire!E86), "", IFERROR(2025-VLOOKUP(TRIM(LOWER(Inventaire!E86)),Modele!A:B,2,FALSE), "")) | F69: =IF(ISBLANK(Inventaire!H86), "", IFERROR(2025-VLOOKUP(TRIM(LOWER(Inventaire!H86)),Modele!A:B,2,FALSE), "")) | J69: =IF(ISBLANK(Inventaire!K86), "", IFERROR(2025-VLOOKUP(TRIM(LOWER(Inventaire!K86)),Modele!A:B,2,FALSE), ""))
B70: =IF(ISBLANK(Inventaire!F88), "", IFERROR(2025-VLOOKUP(TRIM(LOWER(Inventaire!F88)),Modele!A:B,2,FALSE), "")) | F70: =IF(ISBLANK(Inventaire!H88), "", IFERROR(2025-VLOOKUP(TRIM(LOWER(Inventaire!H88)),Modele!A:B,2,FALSE), ""))
B71: =IF(ISBLANK(#REF!), "", IFERROR(2025-VLOOKUP(TRIM(LOWER(#REF!)),Modele!A:B,2,FALSE), "")) | F71: =IF(ISBLANK(#REF!), "", IFERROR(2025-VLOOKUP(TRIM(LOWER(#REF!)),Modele!A:B,2,FALSE), ""))
B72: =IF(ISBLANK(#REF!), "", IFERROR(2025-VLOOKUP(TRIM(LOWER(#REF!)),Modele!A:B,2,FALSE), "")) | F72: =IF(ISBLANK(#REF!), "", IFERROR(2025-VLOOKUP(TRIM(LOWER(#REF!)),Modele!A:B,2,FALSE), ""))
