Workbook

Sheet Inventaire
A1: PEDAGOGIQUE | B1: Détails
A2: Salle | B2: Modèle 1 | C2: Nb 1 | D2: Modèle 2 | E2: Nb 2 | F2: Modèle 3 | G2: Nb 3 | H2: Modèle 4 | I2: Nb 4 | J2: Nombre Total | K2: Nb Hors Domaine | Q2: Ancienneté 1 | S2: Ancienneté 2 | V2: Ancienneté 3 | Z2: Ancienneté 4
B3: Latitude D520 | C3: 5 | D3: OptiPlex 3070 | E3: 2 | F3: OptiPlex SFF 7020 | G3: 23 | J3: =SUM(C3,E3,G3,I3) -> 30 | Q3: =IF(ISBLANK(B3), "", IFERROR(2025-VLOOKUP(TRIM(LOWER(B3)),Modele!A:B,2,FALSE), "")) -> 19 | S3: =IF(ISBLANK(D3), "", IFERROR(2025-VLOOKUP(TRIM(LOWER(D3)),Modele!A:B,2,FALSE), "")) -> 6 | V3: =IF(ISBLANK(F3), "", IFERROR(2025-VLOOKUP(TRIM(LOWER(F3)),Modele!A:B,2,FALSE), "")) -> 1 | Z3: =IF(ISBLANK(H3), "", IFERROR(2025-VLOOKUP(TRIM(LOWER(H3)),Modele!A:B,2,FALSE), ""))
B4: OptiPlex 3070 | C4: 1 | D4: OptiPlex SFF 7020 | E4: 2 | F4: Latitude D520 | G4: 5 | J4: =SUM(C4,E4,G4,I4) -> 8 | Q4: =IF(ISBLANK(B4), "", IFERROR(2025-VLOOKUP(TRIM(LOWER(B4)),Modele!A:B,2,FALSE), "")) -> 6 | S4: =IF(ISBLANK(D4), "", IFERROR(2025-VLOOKUP(TRIM(LOWER(D4)),Modele!A:B,2,FALSE), "")) -> 1 | V4: =IF(ISBLANK(F4), "", IFERROR(2025-VLOOKUP(TRIM(LOWER(F4)),Modele!A:B,2,FALSE), "")) -> 19 | Z4: =IF(ISBLANK(H4), "", IFERROR(2025-VLOOKUP(TRIM(LOWER(H4)),Modele!A:B,2,FALSE), ""))
B5: Lenovo E15 | C5: 2 | J5: =SUM(C5,E5,G5,I5) -> 2 | Q5: =IF(ISBLANK(B5), "", IFERROR(2025-VLOOKUP(TRIM(LOWER(B5)),Modele!A:B,2,FALSE), "")) -> 2 | S5: =IF(ISBLANK(D5), "", IFERROR(2025-VLOOKUP(TRIM(LOWER(D5)),Modele!A:B,2,FALSE), "")) | V5: =IF(ISBLANK(F5), "", IFERROR(2025-VLOOKUP(TRIM(LOWER(F5)),Modele!A:B,2,FALSE), "")) | Z5: =IF(ISBLANK(H5), "", IFERROR(2025-VLOOKUP(TRIM(LOWER(H5)),Modele!A:B,2,FALSE), ""))
J6: =SUM(C6,E6,G6,I6) -> 0 | Q6: =IF(ISBLANK(B6), "", IFERROR(2025-VLOOKUP(TRIM(LOWER(B6)),Modele!A:B,2,FALSE), "")) | S6: =IF(ISBLANK(D6), "", IFERROR(2025-VLOOKUP(TRIM(LOWER(D6)),Modele!A:B,2,FALSE), "")) | V6: =IF(ISBLANK(F6), "", IFERROR(2025-VLOOKUP(TRIM(LOWER(F6)),Modele!A:B,2,FALSE), "")) | Z6: =IF(ISBLANK(H6), "", IFERROR(2025-VLOOKUP(TRIM(LOWER(H6)),Modele!A:B,2,FALSE), ""))
J7: =SUM(C7,E7,G7,I7) -> 0 | Q7: =IF(ISBLANK(B7), "", IFERROR(2025-VLOOKUP(TRIM(LOWER(B7)),Modele!A:B,2,FALSE), "")) | S7: =IF(ISBLANK(D7), "", IFERROR(2025-VLOOKUP(TRIM(LOWER(D7)),Modele!A:B,2,FALSE), "")) | V7: =IF(ISBLANK(F7), "", IFERROR(2025-VLOOKUP(TRIM(LOWER(F7)),Modele!A:B,2,FALSE), "")) | Z7: =IF(ISBLANK(H7), "", IFERROR(2025-VLOOKUP(TRIM(LOWER(H7)),Modele!A:B,2,FALSE), ""))
J8: =SUM(C8,E8,G8,I8) -> 0 | Q8: =IF(ISBLANK(B8), "", IFERROR(2025-VLOOKUP(TRIM(LOWER(B8)),Modele!A:B,2,FALSE), "")) | S8: =IF(ISBLANK(D8), "", IFERROR(2025-VLOOKUP(TRIM(LOWER(D8)),Modele!A:B,2,FALSE), "")) | V8: =IF(ISBLANK(F8), "", IFERROR(2025-VLOOKUP(TRIM(LOWER(F8)),Modele!A:B,2,FALSE), "")) | Z8: =IF(ISBLANK(H8), "", IFERROR(2025-VLOOKUP(TRIM(LOWER(H8)),Modele!A:B,2,FALSE), ""))
J9: =SUM(C9,E9,G9,I9) -> 0 | Q9: =IF(ISBLANK(B9), "", IFERROR(2025-VLOOKUP(TRIM(LOWER(B9)),Modele!A:B,2,FALSE), "")) | S9: =IF(ISBLANK(D9), "", IFERROR(2025-VLOOKUP(TRIM(LOWER(D9)),Modele!A:B,2,FALSE), "")) | V9: =IF(ISBLANK(F9), "", IFERROR(2025-VLOOKUP(TRIM(LOWER(F9)),Modele!A:B,2,FALSE), "")) | Z9: =IF(ISBLANK(H9), "", IFERROR(2025-VLOOKUP(TRIM(LOWER(H9)),Modele!A:B,2,FALSE), ""))
J10: =SUM(C10,E10,G10,I10) -> 0 | Q10: =IF(ISBLANK(B10), "", IFERROR(2025-VLOOKUP(TRIM(LOWER(B10)),Modele!A:B,2,FALSE), "")) | S10: =IF(ISBLANK(D10), "", IFERROR(2025-VLOOKUP(TRIM(LOWER(D10)),Modele!A:B,2,FALSE), "")) | V10: =IF(ISBLANK(F10), "", IFERROR(2025-VLOOKUP(TRIM(LOWER(F10)),Modele!A:B,2,FALSE), "")) | Z10: =IF(ISBLANK(H10), "", IFERROR(2025-VLOOKUP(TRIM(LOWER(H10)),Modele!A:B,2,FALSE), ""))
J11: =SUM(C11,E11,G11,I11) -> 0 | Q11: =IF(ISBLANK(B11), "", IFERROR(2025-VLOOKUP(TRIM(LOWER(B11)),Modele!A:B,2,FALSE), "")) | S11: =IF(ISBLANK(D11), "", IFERROR(2025-VLOOKUP(TRIM(LOWER(D11)),Modele!A:B,2,FALSE), "")) | V11: =IF(ISBLANK(F11), "", IFERROR(2025-VLOOKUP(TRIM(LOWER(F11)),Modele!A:B,2,FALSE), "")) | Z11: =IF(ISBLANK(H11), "", IFERROR(2025-VLOOKUP(TRIM(LOWER(H11)),Modele!A:B,2,FALSE), ""))
J12: =SUM(C12,E12,G12,I12) -> 0 | Q12: =IF(ISBLANK(B12), "", IFERROR(2025-VLOOKUP(TRIM(LOWER(B12)),Modele!A:B,2,FALSE), "")) | S12: =IF(ISBLANK(D12), "", IFERROR(2025-VLOOKUP(TRIM(LOWER(D12)),Modele!A:B,2,FALSE), "")) | V12: =IF(ISBLANK(F12), "", IFERROR(2025-VLOOKUP(TRIM(LOWER(F12)),Modele!A:B,2,FALSE), "")) | Z12: =IF(ISBLANK(H12), "", IFERROR(2025-VLOOKUP(TRIM(LOWER(H12)),Modele!A:B,2,FALSE), ""))
J13: =SUM(C13,E13,G13,I13) -> 0 | Q13: =IF(ISBLANK(B13), "", IFERROR(2025-VLOOKUP(TRIM(LOWER(B13)),Modele!A:B,2,FALSE), "")) | S13: =IF(ISBLANK(D13), "", IFERROR(2025-VLOOKUP(TRIM(LOWER(D13)),Modele!A:B,2,FALSE), "")) | V13: =IF(ISBLANK(F13), "", IFERROR(2025-VLOOKUP(TRIM(LOWER(F13)),Modele!A:B,2,FALSE), "")) | Z13: =IF(ISBLANK(H13), "", IFERROR(2025-VLOOKUP(TRIM(LOWER(H13)),Modele!A:B,2,FALSE), ""))
J14: =SUM(C14,E14,G14,I14) -> 0 | Q14: =IF(ISBLANK(B14), "", IFERROR(2025-VLOOKUP(TRIM(LOWER(B14)),Modele!A:B,2,FALSE), "")) | S14: =IF(ISBLANK(D14), "", IFERROR(2025-VLOOKUP(TRIM(LOWER(D14)),Modele!A:B,2,FALSE), "")) | V14: =IF(ISBLANK(F14), "", IFERROR(2025-VLOOKUP(TRIM(LOWER(F14)),Modele!A:B,2,FALSE), "")) | Z14: =IF(ISBLANK(H14), "", IFERROR(2025-VLOOKUP(TRIM(LOWER(H14)),Modele!A:B,2,FALSE), ""))
J15: =SUM(C15,E15,G15,I15) -> 0 | Q15: =IF(ISBLANK(B15), "", IFERROR(2025-VLOOKUP(TRIM(LOWER(B15)),Modele!A:B,2,FALSE), "")) | S15: =IF(ISBLANK(D15), "", IFERROR(2025-VLOOKUP(TRIM(LOWER(D15)),Modele!A:B,2,FALSE), "")) | V15: =IF(ISBLANK(F15), "", IFERROR(2025-VLOOKUP(TRIM(LOWER(F15)),Modele!A:B,2,FALSE), "")) | Z15: =IF(ISBLANK(H15), "", IFERROR(2025-VLOOKUP(TRIM(LOWER(H15)),Modele!A:B,2,FALSE), ""))
J16: =SUM(C16,E16,G16,I16) -> 0 | Q16: =IF(ISBLANK(B16), "", IFERROR(2025-VLOOKUP(TRIM(LOWER(B16)),Modele!A:B,2,FALSE), "")) | S16: =IF(ISBLANK(D16), "", IFERROR(2025-VLOOKUP(TRIM(LOWER(D16)),Modele!A:B,2,FALSE), "")) | V16: =IF(ISBLANK(F16), "", IFERROR(2025-VLOOKUP(TRIM(LOWER(F16)),Modele!A:B,2,FALSE), "")) | Z16: =IF(ISBLANK(H16), "", IFERROR(2025-VLOOKUP(TRIM(LOWER(H16)),Modele!A:B,2,FALSE), ""))
J17: =SUM(C17,E17,G17,I17) -> 0 | Q17: =IF(ISBLANK(B17), "", IFERROR(2025-VLOOKUP(TRIM(LOWER(B17)),Modele!A:B,2,FALSE), "")) | S17: =IF(ISBLANK(D17), "", IFERROR(2025-VLOOKUP(TRIM(LOWER(D17)),Modele!A:B,2,FALSE), "")) | V17: =IF(ISBLANK(F17), "", IFERROR(2025-VLOOKUP(TRIM(LOWER(F17)),Modele!A:B,2,FALSE), "")) | Z17: =IF(ISBLANK(H17), "", IFERROR(2025-VLOOKUP(TRIM(LOWER(H17)),Modele!A:B,2,FALSE), ""))
... J41: =SUM(C41,E41,G41,I41) -> 0 | Q41: =IF(ISBLANK(B41), "", IFERROR(2025-VLOOKUP(TRIM(LOWER(B41)),Modele!A:B,2,FALSE), "")) | S41: =IF(ISBLANK(D41), "", IFERROR(2025-VLOOKUP(TRIM(LOWER(D41)),Modele!A:B,2,FALSE), "")) | V41: =IF(ISBLANK(F41), "", IFERROR(2025-VLOOKUP(TRIM(LOWER(F41)),Modele!A:B,2,FALSE), "")) | Z41: =IF(ISBLANK(H41), "", IFERROR(2025-VLOOKUP(TRIM(LOWER(H41)),Modele!A:B,2,FALSE), ""))
A42: Sous-total pédagogique | J42: =SUM(J3:J41) -> 40 | K42: =SUM(K3:K41) -> 0 | Q42: =IF(ISBLANK(B42), "", IFERROR(2025-VLOOKUP(TRIM(LOWER(B42)),Modele!A:B,2,FALSE), "")) | S42: =IF(ISBLANK(D42), "", IFERROR(2025-VLOOKUP(TRIM(LOWER(D42)),Modele!A:B,2,FALSE), "")) | V42: =IF(ISBLANK(F42), "", IFERROR(2025-VLOOKUP(TRIM(LOWER(F42)),Modele!A:B,2,FALSE), "")) | Z42: =IF(ISBLANK(H42), "", IFERROR(2025-VLOOKUP(TRIM(LOWER(H42)),Modele!A:B,2,FALSE), ""))
Q43: =IF(ISBLANK(B43), "", IFERROR(2025-VLOOKUP(TRIM(LOWER(B43)),Modele!A:B,2,FALSE), "")) | S43: =IF(ISBLANK(D43), "", IFERROR(2025-VLOOKUP(TRIM(LOWER(D43)),Modele!A:B,2,FALSE), "")) | V43: =IF(ISBLANK(F43), "", IFERROR(2025-VLOOKUP(TRIM(LOWER(F43)),Modele!A:B,2,FALSE), "")) | Z43: =IF(ISBLANK(H43), "", IFERROR(2025-VLOOKUP(TRIM(LOWER(H43)),Modele!A:B,2,FALSE), ""))
Q44: =IF(ISBLANK(B44), "", IFERROR(2025-VLOOKUP(TRIM(LOWER(B44)),Modele!A:B,2,FALSE), "")) | S44: =IF(ISBLANK(D44), "", IFERROR(2025-VLOOKUP(TRIM(LOWER(D44)),Modele!A:B,2,FALSE), "")) | V44: =IF(ISBLANK(F44), "", IFERROR(2025-VLOOKUP(TRIM(LOWER(F44)),Modele!A:B,2,FALSE), "")) | Z44: =IF(ISBLANK(H44), "", IFERROR(2025-VLOOKUP(TRIM(LOWER(H44)),Modele!A:B,2,FALSE), ""))
Q45: =IF(ISBLANK(B45), "", IFERROR(2025-VLOOKUP(TRIM(LOWER(B45)),Modele!A:B,2,FALSE), "")) | S45: =IF(ISBLANK(D45), "", IFERROR(2025-VLOOKUP(TRIM(LOWER(D45)),Modele!A:B,2,FALSE), "")) | V45: =IF(ISBLANK(F45), "", IFERROR(2025-VLOOKUP(TRIM(LOWER(F45)),Modele!A:B,2,FALSE), "")) | Z45: =IF(ISBLANK(H45), "", IFERROR(2025-VLOOKUP(TRIM(LOWER(H45)),Modele!A:B,2,FALSE), ""))
A46: ADMINISTRATIF | B46: Détails | Q46: =IF(ISBLANK(B46), "", IFERROR(2025-VLOOKUP(TRIM(LOWER(B46)),Modele!A:B,2,FALSE), "")) | S46: =IF(ISBLANK(D46), "", IFERROR(2025-VLOOKUP(TRIM(LOWER(D46)),Modele!A:B,2,FALSE), "")) | V46: =IF(ISBLANK(F46), "", IFERROR(2025-VLOOKUP(TRIM(LOWER(F46)),Modele!A:B,2,FALSE), "")) | Z46: =IF(ISBLANK(H46), "", IFERROR(2025-VLOOKUP(TRIM(LOWER(H46)),Modele!A:B,2,FALSE), ""))
A47: Salle | B47: Modèle 1 | C47: Nb 1 | D47: Modèle 2 | E47: Nb 2 | F47: Modèle 3 | G47: Nb 3 | H47: Modèle 4 | I47: Nb 4 | J47: Nombre Total | K47: Nb Hors Domaine | Q47: =IF(ISBLANK(B47), "", IFERROR(2025-VLOOKUP(TRIM(LOWER(B47)),Modele!A:B,2,FALSE), "")) | S47: =IF(ISBLANK(D47), "", IFERROR(2025-VLOOKUP(TRIM(LOWER(D47)),Modele!A:B,2,FALSE), "")) | V47: =IF(ISBLANK(F47), "", IFERROR(2025-VLOOKUP(TRIM(LOWER(F47)),Modele!A:B,2,FALSE), "")) | Z47: =IF(ISBLANK(H47), "", IFERROR(2025-VLOOKUP(TRIM(LOWER(H47)),Modele!A:B,2,FALSE), ""))
J48: =SUM(C48,E48,G48,I48) -> 0 | Q48: =IF(ISBLANK(B48), "", IFERROR(2025-VLOOKUP(TRIM(LOWER(B48)),Modele!A:B,2,FALSE), "")) | S48: =IF(ISBLANK(D48), "", IFERROR(2025-VLOOKUP(TRIM(LOWER(D48)),Modele!A:B,2,FALSE), "")) | V48: =IF(ISBLANK(F48), "", IFERROR(2025-VLOOKUP(TRIM(LOWER(F48)),Modele!A:B,2,FALSE), "")) | Z48: =IF(ISBLANK(H48), "", IFERROR(2025-VLOOKUP(TRIM(LOWER(H48)),Modele!A:B,2,FALSE), ""))
J49: =SUM(C49,E49,G49,I49) -> 0 | Q49: =IF(ISBLANK(B49), "", IFERROR(2025-VLOOKUP(TRIM(LOWER(B49)),Modele!A:B,2,FALSE), "")) | S49: =IF(ISBLANK(D49), "", IFERROR(2025-VLOOKUP(TRIM(LOWER(D49)),Modele!A:B,2,FALSE), "")) | V49: =IF(ISBLANK(F49), "", IFERROR(2025-VLOOKUP(TRIM(LOWER(F49)),Modele!A:B,2,FALSE), "")) | Z49: =IF(ISBLANK(H49), "", IFERROR(2025-VLOOKUP(TRIM(LOWER(H49)),Modele!A:B,2,FALSE), ""))
J50: =SUM(C50,E50,G50,I50) -> 0 | Q50: =IF(ISBLANK(B50), "", IFERROR(2025-VLOOKUP(TRIM(LOWER(B50)),Modele!A:B,2,FALSE), "")) | S50: =IF(ISBLANK(D50), "", IFERROR(2025-VLOOKUP(TRIM(LOWER(D50)),Modele!A:B,2,FALSE), "")) | V50: =IF(ISBLANK(F50), "", IFERROR(2025-VLOOKUP(TRIM(LOWER(F50)),Modele!A:B,2,FALSE), "")) | Z50: =IF(ISBLANK(H50), "", IFERROR(2025-VLOOKUP(TRIM(LOWER(H50)),Modele!A:B,2,FALSE), ""))
J51: =SUM(C51,E51,G51,I51) -> 0 | Q51: =IF(ISBLANK(B51), "", IFERROR(2025-VLOOKUP(TRIM(LOWER(B51)),Modele!A:B,2,FALSE), "")) | S51: =IF(ISBLANK(D51), "", IFERROR(2025-VLOOKUP(TRIM(LOWER(D51)),Modele!A:B,2,FALSE), "")) | V51: =IF(ISBLANK(F51), "", IFERROR(2025-VLOOKUP(TRIM(LOWER(F51)),Modele!A:B,2,FALSE), "")) | Z51: =IF(ISBLANK(H51), "", IFERROR(2025-VLOOKUP(TRIM(LOWER(H51)),Modele!A:B,2,FALSE), ""))
J52: =SUM(C52,E52,G52,I52) -> 0 | Q52: =IF(ISBLANK(B52), "", IFERROR(2025-VLOOKUP(TRIM(LOWER(B52)),Modele!A:B,2,FALSE), "")) | S52: =IF(ISBLANK(D52), "", IFERROR(2025-VLOOKUP(TRIM(LOWER(D52)),Modele!A:B,2,FALSE), "")) | V52: =IF(ISBLANK(F52), "", IFERROR(2025-VLOOKUP(TRIM(LOWER(F52)),Modele!A:B,2,FALSE), "")) | Z52: =IF(ISBLANK(H52), "", IFERROR(2025-VLOOKUP(TRIM(LOWER(H52)),Modele!A:B,2,FALSE), ""))
J53: =SUM(C53,E53,G53,I53) -> 0 | Q53: =IF(ISBLANK(B53), "", IFERROR(2025-VLOOKUP(TRIM(LOWER(B53)),Modele!A:B,2,FALSE), "")) | S53: =IF(ISBLANK(D53), "", IFERROR(2025-VLOOKUP(TRIM(LOWER(D53)),Modele!A:B,2,FALSE), "")) | V53: =IF(ISBLANK(F53), "", IFERROR(2025-VLOOKUP(TRIM(LOWER(F53)),Modele!A:B,2,FALSE), "")) | Z53: =IF(ISBLANK(H53), "", IFERROR(2025-VLOOKUP(TRIM(LOWER(H53)),Modele!A:B,2,FALSE), ""))
J54: =SUM(C54,E54,G54,I54) -> 0 | Q54: =IF(ISBLANK(B54), "", IFERROR(2025-VLOOKUP(TRIM(LOWER(B54)),Modele!A:B,2,FALSE), "")) | S54: =IF(ISBLANK(D54), "", IFERROR(2025-VLOOKUP(TRIM(LOWER(D54)),Modele!A:B,2,FALSE), "")) | V54: =IF(ISBLANK(F54), "", IFERROR(2025-VLOOKUP(TRIM(LOWER(F54)),Modele!A:B,2,FALSE), "")) | Z54: =IF(ISBLANK(H54), "", IFERROR(2025-VLOOKUP(TRIM(LOWER(H54)),Modele!A:B,2,FALSE), ""))
J55: =SUM(C55,E55,G55,I55) -> 0 | Q55: =IF(ISBLANK(B55), "", IFERROR(2025-VLOOKUP(TRIM(LOWER(B55)),Modele!A:B,2,FALSE), "")) | S55: =IF(ISBLANK(D55), "", IFERROR(2025-VLOOKUP(TRIM(LOWER(D55)),Modele!A:B,2,FALSE), "")) | V55: =IF(ISBLANK(F55), "", IFERROR(2025-VLOOKUP(TRIM(LOWER(F55)),Modele!A:B,2,FALSE), "")) | Z55: =IF(ISBLANK(H55), "", IFERROR(2025-VLOOKUP(TRIM(LOWER(H55)),Modele!A:B,2,FALSE), ""))
J56: =SUM(C56,E56,G56,I56) -> 0 | Q56: =IF(ISBLANK(B56), "", IFERROR(2025-VLOOKUP(TRIM(LOWER(B56)),Modele!A:B,2,FALSE), "")) | S56: =IF(ISBLANK(D56), "", IFERROR(2025-VLOOKUP(TRIM(LOWER(D56)),Modele!A:B,2,FALSE), "")) | V56: =IF(ISBLANK(F56), "", IFERROR(2025-VLOOKUP(TRIM(LOWER(F56)),Modele!A:B,2,FALSE), "")) | Z56: =IF(ISBLANK(H56), "", IFERROR(2025-VLOOKUP(TRIM(LOWER(H56)),Modele!A:B,2,FALSE), ""))
J57: =SUM(C57,E57,G57,I57) -> 0 | Q57: =IF(ISBLANK(B57), "", IFERROR(2025-VLOOKUP(TRIM(LOWER(B57)),Modele!A:B,2,FALSE), "")) | S57: =IF(ISBLANK(D57), "", IFERROR(2025-VLOOKUP(TRIM(LOWER(D57)),Modele!A:B,2,FALSE), "")) | V57: =IF(ISBLANK(F57), "", IFERROR(2025-VLOOKUP(TRIM(LOWER(F57)),Modele!A:B,2,FALSE), "")) | Z57: =IF(ISBLANK(H57), "", IFERROR(2025-VLOOKUP(TRIM(LOWER(H57)),Modele!A:B,2,FALSE), ""))
J58: =SUM(C58,E58,G58,I58) -> 0 | Q58: =IF(ISBLANK(B58), "", IFERROR(2025-VLOOKUP(TRIM(LOWER(B58)),Modele!A:B,2,FALSE), "")) | S58: =IF(ISBLANK(D58), "", IFERROR(2025-VLOOKUP(TRIM(LOWER(D58)),Modele!A:B,2,FALSE), "")) | V58: =IF(ISBLANK(F58), "", IFERROR(2025-VLOOKUP(TRIM(LOWER(F58)),Modele!A:B,2,FALSE), "")) | Z58: =IF(ISBLANK(H58), "", IFERROR(2025-VLOOKUP(TRIM(LOWER(H58)),Modele!A:B,2,FALSE), ""))
J59: =SUM(C59,E59,G59,I59) -> 0 | Q59: =IF(ISBLANK(B59), "", IFERROR(2025-VLOOKUP(TRIM(LOWER(B59)),Modele!A:B,2,FALSE), "")) | S59: =IF(ISBLANK(D59), "", IFERROR(2025-VLOOKUP(TRIM(LOWER(D59)),Modele!A:B,2,FALSE), "")) | V59: =IF(ISBLANK(F59), "", IFERROR(2025-VLOOKUP(TRIM(LOWER(F59)),Modele!A:B,2,FALSE), "")) | Z59: =IF(ISBLANK(H59), "", IFERROR(2025-VLOOKUP(TRIM(LOWER(H59)),Modele!A:B,2,FALSE), ""))
... J69: =SUM(C69,E69,G69,I69) -> 0 | Q69: =IF(ISBLANK(B69), "", IFERROR(2025-VLOOKUP(TRIM(LOWER(B69)),Modele!A:B,2,FALSE), "")) | S69: =IF(ISBLANK(D69), "", IFERROR(2025-VLOOKUP(TRIM(LOWER(D69)),Modele!A:B,2,FALSE), "")) | V69: =IF(ISBLANK(F69), "", IFERROR(2025-VLOOKUP(TRIM(LOWER(F69)),Modele!A:B,2,FALSE), "")) | Z69: =IF(ISBLANK(H69), "", IFERROR(2025-VLOOKUP(TRIM(LOWER(H69)),Modele!A:B,2,FALSE), ""))
A70: Sous-total administratif | J70: =SUM(J48:J69) -> 0 | K70: =SUM(K48:K69) -> 0 | Q70: =IF(ISBLANK(B70), "", IFERROR(2025-VLOOKUP(TRIM(LOWER(B70)),Modele!A:B,2,FALSE), "")) | S70: =IF(ISBLANK(D70), "", IFERROR(2025-VLOOKUP(TRIM(LOWER(D70)),Modele!A:B,2,FALSE), "")) | V70: =IF(ISBLANK(F70), "", IFERROR(2025-VLOOKUP(TRIM(LOWER(F70)),Modele!A:B,2,FALSE), "")) | Z70: =IF(ISBLANK(H70), "", IFERROR(2025-VLOOKUP(TRIM(LOWER(H70)),Modele!A:B,2,FALSE), ""))
Q71: =IF(ISBLANK(B71), "", IFERROR(2025-VLOOKUP(TRIM(LOWER(B71)),Modele!A:B,2,FALSE), "")) | S71: =IF(ISBLANK(D71), "", IFERROR(2025-VLOOKUP(TRIM(LOWER(D71)),Modele!A:B,2,FALSE), "")) | V71: =IF(ISBLANK(F71), "", IFERROR(2025-VLOOKUP(TRIM(LOWER(F71)),Modele!A:B,2,FALSE), "")) | Z71: =IF(ISBLANK(H71), "", IFERROR(2025-VLOOKUP(TRIM(LOWER(H71)),Modele!A:B,2,FALSE), ""))
A72: Nombre Total des postes | B72: =SUM(J42,K42,J70,K70) -> 40 | Q72: =IF(ISBLANK(B72), "", IFERROR(2025-VLOOKUP(TRIM(LOWER(B72)),Modele!A:B,2,FALSE), "")) | S72: =IF(ISBLANK(D72), "", IFERROR(2025-VLOOKUP(TRIM(LOWER(D72)),Modele!A:B,2,FALSE), "")) | V72: =IF(ISBLANK(F72), "", IFERROR(2025-VLOOKUP(TRIM(LOWER(F72)),Modele!A:B,2,FALSE), "")) | Z72: =IF(ISBLANK(H72), "", IFERROR(2025-VLOOKUP(TRIM(LOWER(H72)),Modele!A:B,2,FALSE), ""))

Sheet Modele
A1: modele pc | B1: année
A2: Latitude D520 | B2: 2006
A3: OptiPlex 320 | B3: 2006
A4: Precision WorkStation 390 | B4: 2006
A5: OptiPlex 330 | B5: 2007
A6: HP ProBook 4510s | B6: 2009
A7: Latitude E5500 | B7: 2009
A8: OptiPlex 380 | B8: 2009
A9: Vostro 430 | B9: 2009
A10: HP ProBook 4720s | B10: 2010
A11: Precision T1500 | B11: 2010
A12: Vostro 3700 | B12: 2010
A13: HP ProBook 4520s | B13: 2011
... A86: 20TES7B900 | B86: 2024

Sheet Calc
A2: Ancienneté | B2: Ancienneté | C2: Ancienneté | D2: Ancienneté | E2: Ancienneté
A3: =IFERROR(2025-VLOOKUP(#REF!,Modele!#REF!,2,FALSE),"") | B3: =IF(ISBLANK(#REF!), "", IFERROR(2025-VLOOKUP(#REF!,Modele!#REF!,2,FALSE), "")) | C3: =IF(ISBLANK(#REF!), "", IFERROR(2025-VLOOKUP(#REF!,Modele!#REF!,2,FALSE), "")) | D3: =IF(ISBLANK(#REF!), "", IFERROR(2025-VLOOKUP(#REF!,Modele!#REF!,2,FALSE), "")) | E3: =IF(ISBLANK(#REF!), "", IFERROR(2025-VLOOKUP(TRIM(LOWER(#REF!)),Modele!#REF!,2,FALSE), ""))
A4: =IFERROR(2025-VLOOKUP(#REF!,Modele!#REF!,2,FALSE),"") | B4: =IF(ISBLANK(#REF!), "", IFERROR(2025-VLOOKUP(#REF!,Modele!#REF!,2,FALSE), "")) | C4: =IF(ISBLANK(#REF!), "", IFERROR(2025-VLOOKUP(#REF!,Modele!#REF!,2,FALSE), "")) | D4: =IF(ISBLANK(#REF!), "", IFERROR(2025-VLOOKUP(#REF!,Modele!#REF!,2,FALSE), "")) | E4: =IF(ISBLANK(#REF!), "", IFERROR(2025-VLOOKUP(TRIM(LOWER(#REF!)),Modele!#REF!,2,FALSE), ""))
A5: =IFERROR(2025-VLOOKUP(#REF!,Modele!#REF!,2,FALSE),"") | B5: =IF(ISBLANK(#REF!), "", IFERROR(2025-VLOOKUP(#REF!,Modele!#REF!,2,FALSE), "")) | C5: =IF(ISBLANK(#REF!), "", IFERROR(2025-VLOOKUP(#REF!,Modele!#REF!,2,FALSE), "")) | D5: =IF(ISBLANK(#REF!), "", IFERROR(2025-VLOOKUP(#REF!,Modele!#REF!,2,FALSE), "")) | E5: =IF(ISBLANK(#REF!), "", IFERROR(2025-VLOOKUP(TRIM(LOWER(#REF!)),Modele!#REF!,2,FALSE), ""))
A6: =IFERROR(2025-VLOOKUP(#REF!,Modele!#REF!,2,FALSE),"") | B6: =IF(ISBLANK(#REF!), "", IFERROR(2025-VLOOKUP(#REF!,Modele!#REF!,2,FALSE), "")) | C6: =IF(ISBLANK(#REF!), "", IFERROR(2025-VLOOKUP(#REF!,Modele!#REF!,2,FALSE), "")) | D6: =IF(ISBLANK(#REF!), "", IFERROR(2025-VLOOKUP(#REF!,Modele!#REF!,2,FALSE), "")) | E6: =IF(ISBLANK(#REF!), "", IFERROR(2025-VLOOKUP(TRIM(LOWER(#REF!)),Modele!#REF!,2,FALSE), ""))
A7: =IFERROR(2025-VLOOKUP(#REF!,Modele!#REF!,2,FALSE),"") | B7: =IF(ISBLANK(#REF!), "", IFERROR(2025-VLOOKUP(#REF!,Modele!#REF!,2,FALSE), "")) | C7: =IF(ISBLANK(#REF!), "", IFERROR(2025-VLOOKUP(#REF!,Modele!#REF!,2,FALSE), "")) | D7: =IF(ISBLANK(#REF!), "", IFERROR(2025-VLOOKUP(#REF!,Modele!#REF!,2,FALSE), "")) | E7: =IF(ISBLANK(#REF!), "", IFERROR(2025-VLOOKUP(TRIM(LOWER(#REF!)),Modele!#REF!,2,FALSE), ""))
A8: =IFERROR(2025-VLOOKUP(#REF!,Modele!#REF!,2,FALSE),"") | B8: =IF(ISBLANK(#REF!), "", IFERROR(2025-VLOOKUP(#REF!,Modele!#REF!,2,FALSE), "")) | C8: =IF(ISBLANK(#REF!), "", IFERROR(2025-VLOOKUP(#REF!,Modele!#REF!,2,FALSE), "")) | D8: =IF(ISBLANK(#REF!), "", IFERROR(2025-VLOOKUP(#REF!,Modele!#REF!,2,FALSE), "")) | E8: =IF(ISBLANK(#REF!), "", IFERROR(2025-VLOOKUP(TRIM(LOWER(#REF!)),Modele!#REF!,2,FALSE), ""))
A9: =IFERROR(2025-VLOOKUP(#REF!,Modele!#REF!,2,FALSE),"") | B9: =IF(ISBLANK(#REF!), "", IFERROR(2025-VLOOKUP(#REF!,Modele!#REF!,2,FALSE), "")) | C9: =IF(ISBLANK(#REF!), "", IFERROR(2025-VLOOKUP(#REF!,Modele!#REF!,2,FALSE), "")) | D9: =IF(ISBLANK(#REF!), "", IFERROR(2025-VLOOKUP(#REF!,Modele!#REF!,2,FALSE), "")) | E9: =IF(ISBLANK(#REF!), "", IFERROR(2025-VLOOKUP(TRIM(LOWER(#REF!)),Modele!#REF!,2,FALSE), ""))
A10: =IFERROR(2025-VLOOKUP(#REF!,Modele!#REF!,2,FALSE),"") | B10: =IF(ISBLANK(#REF!), "", IFERROR(2025-VLOOKUP(#REF!,Modele!#REF!,2,FALSE), "")) | C10: =IF(ISBLANK(#REF!), "", IFERROR(2025-VLOOKUP(#REF!,Modele!#REF!,2,FALSE), "")) | D10: =IF(ISBLANK(#REF!), "", IFERROR(2025-VLOOKUP(#REF!,Modele!#REF!,2,FALSE), "")) | E10: =IF(ISBLANK(#REF!), "", IFERROR(2025-VLOOKUP(TRIM(LOWER(#REF!)),Modele!#REF!,2,FALSE), ""))
A11: =IFERROR(2025-VLOOKUP(#REF!,Modele!#REF!,2,FALSE),"") | B11: =IF(ISBLANK(#REF!), "", IFERROR(2025-VLOOKUP(#REF!,Modele!#REF!,2,FALSE), "")) | C11: =IF(ISBLANK(#REF!), "", IFERROR(2025-VLOOKUP(#REF!,Modele!#REF!,2,FALSE), "")) | D11: =IF(ISBLANK(#REF!), "", IFERROR(2025-VLOOKUP(#REF!,Modele!#REF!,2,FALSE), "")) | E11: =IF(ISBLANK(#REF!), "", IFERROR(2025-VLOOKUP(TRIM(LOWER(#REF!)),Modele!#REF!,2,FALSE), ""))
A12: =IFERROR(2025-VLOOKUP(#REF!,Modele!#REF!,2,FALSE),"") | B12: =IF(ISBLANK(#REF!), "", IFERROR(2025-VLOOKUP(#REF!,Modele!#REF!,2,FALSE), "")) | C12: =IF(ISBLANK(#REF!), "", IFERROR(2025-VLOOKUP(#REF!,Modele!#REF!,2,FALSE), "")) | D12: =IF(ISBLANK(#REF!), "", IFERROR(2025-VLOOKUP(#REF!,Modele!#REF!,2,FALSE), "")) | E12: =IF(ISBLANK(#REF!), "", IFERROR(2025-VLOOKUP(TRIM(LOWER(#REF!)),Modele!#REF!,2,FALSE), ""))
A13: =IFERROR(2025-VLOOKUP(#REF!,Modele!#REF!,2,FALSE),"") | B13: =IF(ISBLANK(#REF!), "", IFERROR(2025-VLOOKUP(#REF!,Modele!#REF!,2,FALSE), "")) | C13: =IF(ISBLANK(#REF!), "", IFERROR(2025-VLOOKUP(#REF!,Modele!#REF!,2,FALSE), "")) | D13: =IF(ISBLANK(#REF!), "", IFERROR(2025-VLOOKUP(#REF!,Modele!#REF!,2,FALSE), "")) | E13: =IF(ISBLANK(#REF!), "", IFERROR(2025-VLOOKUP(TRIM(LOWER(#REF!)),Modele!#REF!,2,FALSE), ""))
A14: =IFERROR(2025-VLOOKUP(#REF!,Modele!#REF!,2,FALSE),"") | B14: =IF(ISBLANK(#REF!), "", IFERROR(2025-VLOOKUP(#REF!,Modele!#REF!,2,FALSE), "")) | C14: =IF(ISBLANK(#REF!), "", IFERROR(2025-VLOOKUP(#REF!,Modele!#REF!,2,FALSE), "")) | D14: =IF(ISBLANK(#REF!), "", IFERROR(2025-VLOOKUP(#REF!,Modele!#REF!,2,FALSE), "")) | E14: =IF(ISBLANK(#REF!), "", IFERROR(2025-VLOOKUP(TRIM(LOWER(#REF!)),Modele!#REF!,2,FALSE), ""))
... A72: =IFERROR(2025-VLOOKUP(#REF!,Modele!#REF!,2,FALSE),"") | B72: =IF(ISBLANK(#REF!), "", IFERROR(2025-VLOOKUP(#REF!,Modele!#REF!,2,FALSE), "")) | C72: =IF(ISBLANK(#REF!), "", IFERROR(2025-VLOOKUP(#REF!,Modele!#REF!,2,FALSE), "")) | D72: =IF(ISBLANK(#REF!), "", IFERROR(2025-VLOOKUP(#REF!,Modele!#REF!,2,FALSE), "")) | E72: =IF(ISBLANK(#REF!), "", IFERROR(2025-VLOOKUP(TRIM(LOWER(#REF!)),Modele!#REF!,2,FALSE), ""))
