Workbook

Sheet Feuil1
A2: Numéro | B2: Nom de l'ouvrage | C2: Indice d'état mécanique (IEm) | D2: Indice d'état d'usage (IEu) | E2: Indice d'état de l'ouvrage (IE= min (IEm, IEu)) | F2: Indice stratégique (IS) | G2: Dernière note IQOA | H2: Année IDP
A3: 1 | B3: Pont 1 | C3: ='[1]IEm -Indice d''état méca '!AS3 -> 3.3142857 | D3: ='[1]IEu - Indice d''état usage'!AK3 -> 2.8 | E3: =C3 -> 3.3142857 | F3: =ROUND('[1]IS - Indice stratégique'!K2,10) -> 3.7142857 | G3: 2 | H3: 2021 | I3: =IF(AND(E3>=1, E3<2), "immédiat", IF(AND(E3>=2, E3<3), "court terme", IF(AND(E3>=3, E3<4), "moyen terme", IF(E3>=4, "long terme", "")))) -> moyen terme | J3: =IF(I3="immédiat", "moins de 1 an", IF(I3="court terme", "1 à 2 ans", IF(I3="moyen terme", "2 à 3 ans", IF(I3="long terme", "> 4 ans", "")))) -> 2 à 3 ans
A4: 2 | B4: Pont 2 | C4: ='[1]IEm -Indice d''état méca '!AS4 -> 2.7 | D4: ='[1]IEu - Indice d''état usage'!AK4 -> 2.7 | E4: =C4 -> 2.7 | F4: =ROUND('[1]IS - Indice stratégique'!K3,10) -> 4.047619 | G4: 2 | H4: 2021 | I4: =IF(AND(E4>=1, E4<2), "immédiat", IF(AND(E4>=2, E4<3), "court terme", IF(AND(E4>=3, E4<4), "moyen terme", IF(E4>=4, "long terme", "")))) -> court terme | J4: =IF(I4="immédiat", "moins de 1 an", IF(I4="court terme", "1 à 2 ans", IF(I4="moyen terme", "2 à 3 ans", IF(I4="long terme", "> 4 ans", "")))) -> 1 à 2 ans
A5: 3 | B5: Pont 3 | C5: ='[1]IEm -Indice d''état méca '!AS5 -> 2.2428571 | D5: ='[1]IEu - Indice d''état usage'!AK5 -> 3.1 | E5: =C5 -> 2.2428571 | F5: =ROUND('[1]IS - Indice stratégique'!K4,10) -> 3.952381 | G5: 2 E | H5: 2021 | I5: =IF(AND(E5>=1, E5<2), "immédiat", IF(AND(E5>=2, E5<3), "court terme", IF(AND(E5>=3, E5<4), "moyen terme", IF(E5>=4, "long terme", "")))) -> court terme | J5: =IF(I5="immédiat", "moins de 1 an", IF(I5="court terme", "1 à 2 ans", IF(I5="moyen terme", "2 à 3 ans", IF(I5="long terme", "> 4 ans", "")))) -> 1 à 2 ans
A6: 4 | B6: Pont 4 | C6: ='[1]IEm -Indice d''état méca '!AS6 -> 2.4625 | D6: ='[1]IEu - Indice d''état usage'!AK6 -> 2.8 | E6: =C6 -> 2.4625 | F6: =ROUND('[1]IS - Indice stratégique'!K5,10) -> 3.1904762 | G6: 2 E | H6: 2021 | I6: =IF(AND(E6>=1, E6<2), "immédiat", IF(AND(E6>=2, E6<3), "court terme", IF(AND(E6>=3, E6<4), "moyen terme", IF(E6>=4, "long terme", "")))) -> court terme | J6: =IF(I6="immédiat", "moins de 1 an", IF(I6="court terme", "1 à 2 ans", IF(I6="moyen terme", "2 à 3 ans", IF(I6="long terme", "> 4 ans", "")))) -> 1 à 2 ans
A7: 5 | B7: Pont 5 | C7: ='[1]IEm -Indice d''état méca '!AS7 -> 2.125 | D7: ='[1]IEu - Indice d''état usage'!AK7 -> 2.5 | E7: =C7 -> 2.125 | F7: =ROUND('[1]IS - Indice stratégique'!K6,10) -> 3.4285714 | G7: 2 E | H7: 2021 | I7: =IF(AND(E7>=1, E7<2), "immédiat", IF(AND(E7>=2, E7<3), "court terme", IF(AND(E7>=3, E7<4), "moyen terme", IF(E7>=4, "long terme", "")))) -> court terme | J7: =IF(I7="immédiat", "moins de 1 an", IF(I7="court terme", "1 à 2 ans", IF(I7="moyen terme", "2 à 3 ans", IF(I7="long terme", "> 4 ans", "")))) -> 1 à 2 ans
A8: 6 | B8: Pont 6 | C8: ='[1]IEm -Indice d''état méca '!AS8 -> 1.84 | D8: ='[1]IEu - Indice d''état usage'!AK8 -> 2.15 | E8: =C8 -> 1.84 | F8: =ROUND('[1]IS - Indice stratégique'!K7,10) -> 2.2380952 | G8: 3 | H8: 2021 | I8: =IF(AND(E8>=1, E8<2), "immédiat", IF(AND(E8>=2, E8<3), "court terme", IF(AND(E8>=3, E8<4), "moyen terme", IF(E8>=4, "long terme", "")))) -> immédiat | J8: =IF(I8="immédiat", "moins de 1 an", IF(I8="court terme", "1 à 2 ans", IF(I8="moyen terme", "2 à 3 ans", IF(I8="long terme", "> 4 ans", "")))) -> moins de 1 an
A9: 7 | B9: Pont 7 | C9: ='[1]IEm -Indice d''état méca '!AS9 -> 2.92 | D9: ='[1]IEu - Indice d''état usage'!AK9 -> 2.7 | E9: =C9 -> 2.92 | F9: =ROUND('[1]IS - Indice stratégique'!K8,10) -> 2.5238095 | G9: 2 E | H9: 2021 | I9: =IF(AND(E9>=1, E9<2), "immédiat", IF(AND(E9>=2, E9<3), "court terme", IF(AND(E9>=3, E9<4), "moyen terme", IF(E9>=4, "long terme", "")))) -> court terme | J9: =IF(I9="immédiat", "moins de 1 an", IF(I9="court terme", "1 à 2 ans", IF(I9="moyen terme", "2 à 3 ans", IF(I9="long terme", "> 4 ans", "")))) -> 1 à 2 ans
A10: 8 | B10: Pont 8 | C10: ='[1]IEm -Indice d''état méca '!AS10 -> 2.5428571 | D10: ='[1]IEu - Indice d''état usage'!AK10 -> 2.7 | E10: =C10 -> 2.5428571 | F10: =ROUND('[1]IS - Indice stratégique'!K9,10) -> 4.1428571 | G10: 2 E | H10: 2021 | I10: =IF(AND(E10>=1, E10<2), "immédiat", IF(AND(E10>=2, E10<3), "court terme", IF(AND(E10>=3, E10<4), "moyen terme", IF(E10>=4, "long terme", "")))) -> court terme | J10: =IF(I10="immédiat", "moins de 1 an", IF(I10="court terme", "1 à 2 ans", IF(I10="moyen terme", "2 à 3 ans", IF(I10="long terme", "> 4 ans", "")))) -> 1 à 2 ans
A11: 9 | B11: Pont 9 | C11: ='[1]IEm -Indice d''état méca '!AS11 -> 2.32 | D11: ='[1]IEu - Indice d''état usage'!AK11 -> 2.86 | E11: =C11 -> 2.32 | F11: =ROUND('[1]IS - Indice stratégique'!K10,10) -> 3.7142857 | G11: 2 E | H11: 2021 | I11: =IF(AND(E11>=1, E11<2), "immédiat", IF(AND(E11>=2, E11<3), "court terme", IF(AND(E11>=3, E11<4), "moyen terme", IF(E11>=4, "long terme", "")))) -> court terme | J11: =IF(I11="immédiat", "moins de 1 an", IF(I11="court terme", "1 à 2 ans", IF(I11="moyen terme", "2 à 3 ans", IF(I11="long terme", "> 4 ans", "")))) -> 1 à 2 ans
A12: 10 | B12: Pont 10 | C12: ='[1]IEm -Indice d''état méca '!AS12 -> 2.3 | D12: ='[1]IEu - Indice d''état usage'!AK12 -> 2.8 | E12: =C12 -> 2.3 | F12: =ROUND('[1]IS - Indice stratégique'!K11,10) -> 2.2857143 | G12: 2 E | H12: 2021 | I12: =IF(AND(E12>=1, E12<2), "immédiat", IF(AND(E12>=2, E12<3), "court terme", IF(AND(E12>=3, E12<4), "moyen terme", IF(E12>=4, "long terme", "")))) -> court terme | J12: =IF(I12="immédiat", "moins de 1 an", IF(I12="court terme", "1 à 2 ans", IF(I12="moyen terme", "2 à 3 ans", IF(I12="long terme", "> 4 ans", "")))) -> 1 à 2 ans
A13: 11 | B13: Pont 11 | C13: ='[1]IEm -Indice d''état méca '!AS13 -> 2.62 | D13: ='[1]IEu - Indice d''état usage'!AK13 -> 1.975 | E13: =C13 -> 2.62 | F13: =ROUND('[1]IS - Indice stratégique'!K12,10) -> 4.3809524 | G13: 2 S | H13: 2021 | I13: =IF(AND(E13>=1, E13<2), "immédiat", IF(AND(E13>=2, E13<3), "court terme", IF(AND(E13>=3, E13<4), "moyen terme", IF(E13>=4, "long terme", "")))) -> court terme | J13: =IF(I13="immédiat", "moins de 1 an", IF(I13="court terme", "1 à 2 ans", IF(I13="moyen terme", "2 à 3 ans", IF(I13="long terme", "> 4 ans", "")))) -> 1 à 2 ans
A14: 12 | B14: Pont 12 | C14: ='[1]IEm -Indice d''état méca '!AS14 -> 2.725 | D14: ='[1]IEu - Indice d''état usage'!AK14 -> 2.125 | E14: =C14 -> 2.725 | F14: =ROUND('[1]IS - Indice stratégique'!K13,10) -> 4.3333333 | G14: 2 E | H14: 2021 | I14: =IF(AND(E14>=1, E14<2), "immédiat", IF(AND(E14>=2, E14<3), "court terme", IF(AND(E14>=3, E14<4), "moyen terme", IF(E14>=4, "long terme", "")))) -> court terme | J14: =IF(I14="immédiat", "moins de 1 an", IF(I14="court terme", "1 à 2 ans", IF(I14="moyen terme", "2 à 3 ans", IF(I14="long terme", "> 4 ans", "")))) -> 1 à 2 ans
A15: 13 | B15: Pont 13 | C15: ='[1]IEm -Indice d''état méca '!AS15 -> 3.175 | D15: ='[1]IEu - Indice d''état usage'!AK15 -> 2.4 | E15: =C15 -> 3.175 | F15: =ROUND('[1]IS - Indice stratégique'!K14,10) -> 2.5238095 | G15: 2 | H15: 2021 | I15: =IF(AND(E15>=1, E15<2), "immédiat", IF(AND(E15>=2, E15<3), "court terme", IF(AND(E15>=3, E15<4), "moyen terme", IF(E15>=4, "long terme", "")))) -> moyen terme | J15: =IF(I15="immédiat", "moins de 1 an", IF(I15="court terme", "1 à 2 ans", IF(I15="moyen terme", "2 à 3 ans", IF(I15="long terme", "> 4 ans", "")))) -> 2 à 3 ans
A16: 14 | B16: Pont 14 | C16: ='[1]IEm -Indice d''état méca '!AS16 -> 3.0571429 | D16: ='[1]IEu - Indice d''état usage'!AK16 -> 1.75 | E16: =C16 -> 3.0571429 | F16: =ROUND('[1]IS - Indice stratégique'!K15,10) -> 4.3809524 | G16: 2 S | H16: 2021 | I16: =IF(AND(E16>=1, E16<2), "immédiat", IF(AND(E16>=2, E16<3), "court terme", IF(AND(E16>=3, E16<4), "moyen terme", IF(E16>=4, "long terme", "")))) -> moyen terme | J16: =IF(I16="immédiat", "moins de 1 an", IF(I16="court terme", "1 à 2 ans", IF(I16="moyen terme", "2 à 3 ans", IF(I16="long terme", "> 4 ans", "")))) -> 2 à 3 ans
A17: 15 | B17: Pont 15 | C17: ='[1]IEm -Indice d''état méca '!AS17 -> 2.74 | D17: ='[1]IEu - Indice d''état usage'!AK17 -> 3.1 | E17: =C17 -> 2.74 | F17: =ROUND('[1]IS - Indice stratégique'!K16,10) -> 4.2380952 | G17: 2 | H17: 2021 | I17: =IF(AND(E17>=1, E17<2), "immédiat", IF(AND(E17>=2, E17<3), "court terme", IF(AND(E17>=3, E17<4), "moyen terme", IF(E17>=4, "long terme", "")))) -> court terme | J17: =IF(I17="immédiat", "moins de 1 an", IF(I17="court terme", "1 à 2 ans", IF(I17="moyen terme", "2 à 3 ans", IF(I17="long terme", "> 4 ans", "")))) -> 1 à 2 ans
A18: 16 | B18: Pont 16 | C18: ='[1]IEm -Indice d''état méca '!AS18 -> 3.2 | D18: ='[1]IEu - Indice d''état usage'!AK18 -> 3.46 | E18: =C18 -> 3.2 | F18: =ROUND('[1]IS - Indice stratégique'!K17,10) -> 2.5714286 | G18: 2 | H18: 2022 | I18: =IF(AND(E18>=1, E18<2), "immédiat", IF(AND(E18>=2, E18<3), "court terme", IF(AND(E18>=3, E18<4), "moyen terme", IF(E18>=4, "long terme", "")))) -> moyen terme | J18: =IF(I18="immédiat", "moins de 1 an", IF(I18="court terme", "1 à 2 ans", IF(I18="moyen terme", "2 à 3 ans", IF(I18="long terme", "> 4 ans", "")))) -> 2 à 3 ans
A19: 17 | B19: Pont 17 | C19: ='[1]IEm -Indice d''état méca '!AS19 -> 3.325 | D19: ='[1]IEu - Indice d''état usage'!AK19 -> 2.2 | E19: =C19 -> 3.325 | F19: =ROUND('[1]IS - Indice stratégique'!K18,10) -> 4.4761905 | G19: 2 | H19: 2021 | I19: =IF(AND(E19>=1, E19<2), "immédiat", IF(AND(E19>=2, E19<3), "court terme", IF(AND(E19>=3, E19<4), "moyen terme", IF(E19>=4, "long terme", "")))) -> moyen terme | J19: =IF(I19="immédiat", "moins de 1 an", IF(I19="court terme", "1 à 2 ans", IF(I19="moyen terme", "2 à 3 ans", IF(I19="long terme", "> 4 ans", "")))) -> 2 à 3 ans
A20: 18 | B20: Pont 18 | C20: ='[1]IEm -Indice d''état méca '!AS20 -> 3.2 | D20: ='[1]IEu - Indice d''état usage'!AK20 -> 3.7 | E20: =C20 -> 3.2 | F20: =ROUND('[1]IS - Indice stratégique'!K19,10) -> 4.3333333 | G20: 2 | H20: 2021 | I20: =IF(AND(E20>=1, E20<2), "immédiat", IF(AND(E20>=2, E20<3), "court terme", IF(AND(E20>=3, E20<4), "moyen terme", IF(E20>=4, "long terme", "")))) -> moyen terme | J20: =IF(I20="immédiat", "moins de 1 an", IF(I20="court terme", "1 à 2 ans", IF(I20="moyen terme", "2 à 3 ans", IF(I20="long terme", "> 4 ans", "")))) -> 2 à 3 ans
A21: 19 | B21: Pont 19 | C21: ='[1]IEm -Indice d''état méca '!AS21 -> 2.2428571 | D21: ='[1]IEu - Indice d''état usage'!AK21 -> 1.975 | E21: =C21 -> 2.2428571 | F21: =ROUND('[1]IS - Indice stratégique'!K20,10) -> 2.6190476 | G21: 2 E | H21: 2022 | I21: =IF(AND(E21>=1, E21<2), "immédiat", IF(AND(E21>=2, E21<3), "court terme", IF(AND(E21>=3, E21<4), "moyen terme", IF(E21>=4, "long terme", "")))) -> court terme | J21: =IF(I21="immédiat", "moins de 1 an", IF(I21="court terme", "1 à 2 ans", IF(I21="moyen terme", "2 à 3 ans", IF(I21="long terme", "> 4 ans", "")))) -> 1 à 2 ans
A22: 20 | B22: Pont 20 | C22: ='[1]IEm -Indice d''état méca '!AS22 -> 3.1 | D22: ='[1]IEu - Indice d''état usage'!AK22 -> 1.9 | E22: =C22 -> 3.1 | F22: =ROUND('[1]IS - Indice stratégique'!K21,10) -> 4.7619048 | G22: 2 | H22: 2019 | I22: =IF(AND(E22>=1, E22<2), "immédiat", IF(AND(E22>=2, E22<3), "court terme", IF(AND(E22>=3, E22<4), "moyen terme", IF(E22>=4, "long terme", "")))) -> moyen terme | J22: =IF(I22="immédiat", "moins de 1 an", IF(I22="court terme", "1 à 2 ans", IF(I22="moyen terme", "2 à 3 ans", IF(I22="long terme", "> 4 ans", "")))) -> 2 à 3 ans
A23: 21 | B23: Pont 21 | C23: ='[1]IEm -Indice d''état méca '!AS23 -> 2.92 | D23: ='[1]IEu - Indice d''état usage'!AK23 -> 2.125 | E23: =C23 -> 2.92 | F23: =ROUND('[1]IS - Indice stratégique'!K22,10) -> 2.5238095 | G23: 2 E | H23: 2019 | I23: =IF(AND(E23>=1, E23<2), "immédiat", IF(AND(E23>=2, E23<3), "court terme", IF(AND(E23>=3, E23<4), "moyen terme", IF(E23>=4, "long terme", "")))) -> court terme | J23: =IF(I23="immédiat", "moins de 1 an", IF(I23="court terme", "1 à 2 ans", IF(I23="moyen terme", "2 à 3 ans", IF(I23="long terme", "> 4 ans", "")))) -> 1 à 2 ans
A24: 22 | B24: Pont 22 | C24: ='[1]IEm -Indice d''état méca '!AS24 -> 3.5 | D24: ='[1]IEu - Indice d''état usage'!AK24 -> 3.7 | E24: =C24 -> 3.5 | F24: =ROUND('[1]IS - Indice stratégique'!K23,10) -> 2.2857143 | G24: 2 | H24: 2022 | I24: =IF(AND(E24>=1, E24<2), "immédiat", IF(AND(E24>=2, E24<3), "court terme", IF(AND(E24>=3, E24<4), "moyen terme", IF(E24>=4, "long terme", "")))) -> moyen terme | J24: =IF(I24="immédiat", "moins de 1 an", IF(I24="court terme", "1 à 2 ans", IF(I24="moyen terme", "2 à 3 ans", IF(I24="long terme", "> 4 ans", "")))) -> 2 à 3 ans
A25: 23 | B25: Pont 23 | C25: ='[1]IEm -Indice d''état méca '!AS25 -> 2.86 | D25: ='[1]IEu - Indice d''état usage'!AK25 -> 2.08 | E25: =C25 -> 2.86 | F25: =ROUND('[1]IS - Indice stratégique'!K24,10) -> 2.3333333 | G25: 2 E | H25: 2019 | I25: =IF(AND(E25>=1, E25<2), "immédiat", IF(AND(E25>=2, E25<3), "court terme", IF(AND(E25>=3, E25<4), "moyen terme", IF(E25>=4, "long terme", "")))) -> court terme | J25: =IF(I25="immédiat", "moins de 1 an", IF(I25="court terme", "1 à 2 ans", IF(I25="moyen terme", "2 à 3 ans", IF(I25="long terme", "> 4 ans", "")))) -> 1 à 2 ans
A26: 24 | B26: Pont 24 | C26: ='[1]IEm -Indice d''état méca '!AS26 -> 1.9 | D26: ='[1]IEu - Indice d''état usage'!AK26 -> 1.825 | E26: =C26 -> 1.9 | F26: =ROUND('[1]IS - Indice stratégique'!K25,10) -> 2.7142857 | G26: 2 ES | H26: 2019 | I26: =IF(AND(E26>=1, E26<2), "immédiat", IF(AND(E26>=2, E26<3), "court terme", IF(AND(E26>=3, E26<4), "moyen terme", IF(E26>=4, "long terme", "")))) -> immédiat | J26: =IF(I26="immédiat", "moins de 1 an", IF(I26="court terme", "1 à 2 ans", IF(I26="moyen terme", "2 à 3 ans", IF(I26="long terme", "> 4 ans", "")))) -> moins de 1 an
A27: 25 | B27: Pont 25 | C27: ='[1]IEm -Indice d''état méca '!AS27 -> 2.8 | D27: ='[1]IEu - Indice d''état usage'!AK27 -> 2.2 | E27: =C27 -> 2.8 | F27: =ROUND('[1]IS - Indice stratégique'!K26,10) -> 4.0952381 | G27: 2 E | H27: 2022 | I27: =IF(AND(E27>=1, E27<2), "immédiat", IF(AND(E27>=2, E27<3), "court terme", IF(AND(E27>=3, E27<4), "moyen terme", IF(E27>=4, "long terme", "")))) -> court terme | J27: =IF(I27="immédiat", "moins de 1 an", IF(I27="court terme", "1 à 2 ans", IF(I27="moyen terme", "2 à 3 ans", IF(I27="long terme", "> 4 ans", "")))) -> 1 à 2 ans
A28: 26 | B28: Pont 26 | C28: ='[1]IEm -Indice d''état méca '!AS28 -> 2.62 | D28: ='[1]IEu - Indice d''état usage'!AK28 -> 3.55 | E28: =C28 -> 2.62 | F28: =ROUND('[1]IS - Indice stratégique'!K27,10) -> 2.5714286 | G28: 2 | H28: 2022 | I28: =IF(AND(E28>=1, E28<2), "immédiat", IF(AND(E28>=2, E28<3), "court terme", IF(AND(E28>=3, E28<4), "moyen terme", IF(E28>=4, "long terme", "")))) -> court terme | J28: =IF(I28="immédiat", "moins de 1 an", IF(I28="court terme", "1 à 2 ans", IF(I28="moyen terme", "2 à 3 ans", IF(I28="long terme", "> 4 ans", "")))) -> 1 à 2 ans
A29: 27 | B29: Pont 27 | C29: ='[1]IEm -Indice d''état méca '!AS29 -> 2.35 | D29: ='[1]IEu - Indice d''état usage'!AK29 -> 2.8 | E29: =C29 -> 2.35 | F29: =ROUND('[1]IS - Indice stratégique'!K28,10) -> 1.6666667 | G29: 2 E | H29: 2019 | I29: =IF(AND(E29>=1, E29<2), "immédiat", IF(AND(E29>=2, E29<3), "court terme", IF(AND(E29>=3, E29<4), "moyen terme", IF(E29>=4, "long terme", "")))) -> court terme | J29: =IF(I29="immédiat", "moins de 1 an", IF(I29="court terme", "1 à 2 ans", IF(I29="moyen terme", "2 à 3 ans", IF(I29="long terme", "> 4 ans", "")))) -> 1 à 2 ans
A30: 28 | B30: Pont 28 | C30: ='[1]IEm -Indice d''état méca '!AS30 -> 3.1 | D30: ='[1]IEu - Indice d''état usage'!AK30 -> 4.6 | E30: =C30 -> 3.1 | F30: =ROUND('[1]IS - Indice stratégique'!K29,10) -> 4.2857143 | G30: 2 | H30: 2021 | I30: =IF(AND(E30>=1, E30<2), "immédiat", IF(AND(E30>=2, E30<3), "court terme", IF(AND(E30>=3, E30<4), "moyen terme", IF(E30>=4, "long terme", "")))) -> moyen terme | J30: =IF(I30="immédiat", "moins de 1 an", IF(I30="court terme", "1 à 2 ans", IF(I30="moyen terme", "2 à 3 ans", IF(I30="long terme", "> 4 ans", "")))) -> 2 à 3 ans
A31: 29 | B31: Pont 29 | C31: ='[1]IEm -Indice d''état méca '!AS31 -> 3.7 | D31: ='[1]IEu - Indice d''état usage'!AK31 -> 3.85 | E31: =C31 -> 3.7 | F31: =ROUND('[1]IS - Indice stratégique'!K30,10) -> 3.6666667 | G31: 1 | H31: 2022 | I31: =IF(AND(E31>=1, E31<2), "immédiat", IF(AND(E31>=2, E31<3), "court terme", IF(AND(E31>=3, E31<4), "moyen terme", IF(E31>=4, "long terme", "")))) -> moyen terme | J31: =IF(I31="immédiat", "moins de 1 an", IF(I31="court terme", "1 à 2 ans", IF(I31="moyen terme", "2 à 3 ans", IF(I31="long terme", "> 4 ans", "")))) -> 2 à 3 ans
A32: 30 | B32: Pont 30 | C32: ='[1]IEm -Indice d''état méca '!AS32 -> 2.2428571 | D32: ='[1]IEu - Indice d''état usage'!AK32 -> 3.16 | E32: =C32 -> 2.2428571 | F32: =ROUND('[1]IS - Indice stratégique'!K31,10) -> 3.3809524 | G32: 3 | H32: 2022 | I32: =IF(AND(E32>=1, E32<2), "immédiat", IF(AND(E32>=2, E32<3), "court terme", IF(AND(E32>=3, E32<4), "moyen terme", IF(E32>=4, "long terme", "")))) -> court terme | J32: =IF(I32="immédiat", "moins de 1 an", IF(I32="court terme", "1 à 2 ans", IF(I32="moyen terme", "2 à 3 ans", IF(I32="long terme", "> 4 ans", "")))) -> 1 à 2 ans
A33: 31 | B33: Pont 31 | C33: ='[1]IEm -Indice d''état méca '!AS33 -> 2.2 | D33: ='[1]IEu - Indice d''état usage'!AK33 -> 3.7 | E33: =C33 -> 2.2 | F33: =ROUND('[1]IS - Indice stratégique'!K32,10) -> 4.5714286 | G33: 2 E | H33: 2022 | I33: =IF(AND(E33>=1, E33<2), "immédiat", IF(AND(E33>=2, E33<3), "court terme", IF(AND(E33>=3, E33<4), "moyen terme", IF(E33>=4, "long terme", "")))) -> court terme | J33: =IF(I33="immédiat", "moins de 1 an", IF(I33="court terme", "1 à 2 ans", IF(I33="moyen terme", "2 à 3 ans", IF(I33="long terme", "> 4 ans", "")))) -> 1 à 2 ans
A34: 32 | B34: Pont 32 | C34: ='[1]IEm -Indice d''état méca '!AS34 -> 2.62 | D34: ='[1]IEu - Indice d''état usage'!AK34 -> 2.26 | E34: =C34 -> 2.62 | F34: =ROUND('[1]IS - Indice stratégique'!K33,10) -> 1.9047619 | G34: 2 E | H34: 2020 | I34: =IF(AND(E34>=1, E34<2), "immédiat", IF(AND(E34>=2, E34<3), "court terme", IF(AND(E34>=3, E34<4), "moyen terme", IF(E34>=4, "long terme", "")))) -> court terme | J34: =IF(I34="immédiat", "moins de 1 an", IF(I34="court terme", "1 à 2 ans", IF(I34="moyen terme", "2 à 3 ans", IF(I34="long terme", "> 4 ans", "")))) -> 1 à 2 ans
A35: 33 | B35: Pont 33 | C35: ='[1]IEm -Indice d''état méca '!AS35 -> 1.9 | D35: ='[1]IEu - Indice d''état usage'!AK35 -> 2.26 | E35: =C35 -> 1.9 | F35: =ROUND('[1]IS - Indice stratégique'!K34,10) -> 4.047619 | G35: 3 | H35: 2022 | I35: =IF(AND(E35>=1, E35<2), "immédiat", IF(AND(E35>=2, E35<3), "court terme", IF(AND(E35>=3, E35<4), "moyen terme", IF(E35>=4, "long terme", "")))) -> immédiat | J35: =IF(I35="immédiat", "moins de 1 an", IF(I35="court terme", "1 à 2 ans", IF(I35="moyen terme", "2 à 3 ans", IF(I35="long terme", "> 4 ans", "")))) -> moins de 1 an
A36: 34 | B36: Pont 34 | C36: 2.3 | D36: 2.2 | E36: =C36 -> 2.3 | F36: =ROUND('[1]IS - Indice stratégique'!K35,10) -> 2.2380952 | G36: 2 E | H36: 2022 | I36: =IF(AND(E36>=1, E36<2), "immédiat", IF(AND(E36>=2, E36<3), "court terme", IF(AND(E36>=3, E36<4), "moyen terme", IF(E36>=4, "long terme", "")))) -> court terme | J36: =IF(I36="immédiat", "moins de 1 an", IF(I36="court terme", "1 à 2 ans", IF(I36="moyen terme", "2 à 3 ans", IF(I36="long terme", "> 4 ans", "")))) -> 1 à 2 ans
A37: 35 | B37: Pont 35 | C37: ='[1]IEm -Indice d''état méca '!AS37 -> 2.5375 | D37: ='[1]IEu - Indice d''état usage'!AK37 -> 2.1 | E37: =C37 -> 2.5375 | F37: =ROUND('[1]IS - Indice stratégique'!K36,10) -> 2.2857143 | G37: 2 E | H37: 2019 | I37: =IF(AND(E37>=1, E37<2), "immédiat", IF(AND(E37>=2, E37<3), "court terme", IF(AND(E37>=3, E37<4), "moyen terme", IF(E37>=4, "long terme", "")))) -> court terme | J37: =IF(I37="immédiat", "moins de 1 an", IF(I37="court terme", "1 à 2 ans", IF(I37="moyen terme", "2 à 3 ans", IF(I37="long terme", "> 4 ans", "")))) -> 1 à 2 ans
A38: 36 | B38: Pont 36 | C38: ='[1]IEm -Indice d''état méca '!AS38 -> 2.2 | D38: ='[1]IEu - Indice d''état usage'!AK38 -> 2 | E38: =C38 -> 2.2 | F38: =ROUND('[1]IS - Indice stratégique'!K37,10) -> 2.5238095 | G38: 3 | H38: 2019 | I38: =IF(AND(E38>=1, E38<2), "immédiat", IF(AND(E38>=2, E38<3), "court terme", IF(AND(E38>=3, E38<4), "moyen terme", IF(E38>=4, "long terme", "")))) -> court terme | J38: =IF(I38="immédiat", "moins de 1 an", IF(I38="court terme", "1 à 2 ans", IF(I38="moyen terme", "2 à 3 ans", IF(I38="long terme", "> 4 ans", "")))) -> 1 à 2 ans
A39: 37 | B39: Pont 37 | C39: ='[1]IEm -Indice d''état méca '!AS39 -> 2.2 | D39: ='[1]IEu - Indice d''état usage'!AK39 -> 2.5 | E39: =C39 -> 2.2 | F39: =ROUND('[1]IS - Indice stratégique'!K38,10) -> 1.5714286 | G39: 3 | H39: 2019 | I39: =IF(AND(E39>=1, E39<2), "immédiat", IF(AND(E39>=2, E39<3), "court terme", IF(AND(E39>=3, E39<4), "moyen terme", IF(E39>=4, "long terme", "")))) -> court terme | J39: =IF(I39="immédiat", "moins de 1 an", IF(I39="court terme", "1 à 2 ans", IF(I39="moyen terme", "2 à 3 ans", IF(I39="long terme", "> 4 ans", "")))) -> 1 à 2 ans
A40: 38 | B40: Pont 38 | C40: ='[1]IEm -Indice d''état méca '!AS40 -> 3.625 | D40: ='[1]IEu - Indice d''état usage'!AK40 -> 3.1 | E40: =C40 -> 3.625 | F40: =ROUND('[1]IS - Indice stratégique'!K39,10) -> 4.7619048 | G40: 2 | H40: 2019 | I40: =IF(AND(E40>=1, E40<2), "immédiat", IF(AND(E40>=2, E40<3), "court terme", IF(AND(E40>=3, E40<4), "moyen terme", IF(E40>=4, "long terme", "")))) -> moyen terme | J40: =IF(I40="immédiat", "moins de 1 an", IF(I40="court terme", "1 à 2 ans", IF(I40="moyen terme", "2 à 3 ans", IF(I40="long terme", "> 4 ans", "")))) -> 2 à 3 ans
A41: 39 | B41: Pont 39 | C41: ='[1]IEm -Indice d''état méca '!AS41 -> 3.1 | D41: ='[1]IEu - Indice d''état usage'!AK41 -> 3.7 | E41: =C41 -> 3.1 | F41: =ROUND('[1]IS - Indice stratégique'!K40,10) -> 4.7619048 | G41: 2 | H41: 2021 | I41: =IF(AND(E41>=1, E41<2), "immédiat", IF(AND(E41>=2, E41<3), "court terme", IF(AND(E41>=3, E41<4), "moyen terme", IF(E41>=4, "long terme", "")))) -> moyen terme | J41: =IF(I41="immédiat", "moins de 1 an", IF(I41="court terme", "1 à 2 ans", IF(I41="moyen terme", "2 à 3 ans", IF(I41="long terme", "> 4 ans", "")))) -> 2 à 3 ans
...
