Workbook

Sheet Feuil1
A2: Numéro | B2: Nom de l'ouvrage | C2: Indice d'état mécanique (IEm) | D2: Indice d'état d'usage (IEu) | E2: Indice d'état de l'ouvrage (IE= min (IEm, IEu)) | F2: Indice stratégique (IS) | G2: Dernière note IQOA | H2: Année IDP
A3: 1 | B3: Pont 1 | C3: ='[1]IEm -Indice d''état méca '!AS3 -> 3.3142857 | D3: ='[1]IEu - Indice d''état usage'!AK3 -> 2.8 | E3: =C3 -> 3.3142857 | F3: =ROUND('[1]IS - Indice stratégique'!K2,10) -> 3.7142857 | G3: 2 | H3: 2021 | I3: =IF(AND(E3>=1, E3<2), "immédiat", IF(AND(E3>=2, E3<3), "court terme", IF(AND(E3>=3, E3<4), "moyen terme", IF(E3>=4, "long terme", "")))) -> moyen terme | J3: =IF(I3="immédiat", "moins de 1 an", IF(I3="court terme", "1 à 2 ans", IF(I3="moyen terme", "2 à 3 ans", IF(I3="long terme", "> 4 ans", "")))) -> 2 à 3 ans
A4: 2 | B4: Pont 2 | C4: ='[1]IEm -Indice d''état méca '!AS4 -> 2.7 | D4: ='[1]IEu - Indice d''état usage'!AK4 -> 2.7 | E4: =C4 -> 2.7 | F4: =ROUND('[1]IS - Indice stratégique'!K3,10) -> 4.047619 | G4: 2 | H4: 2021 | I4: =IF(AND(E4>=1, E4<2), "immédiat", IF(AND(E4>=2, E4<3), "court terme", IF(AND(E4>=3, E4<4), "moyen terme", IF(E4>=4, "long terme", "")))) -> court terme | J4: =IF(I4="immédiat", "moins de 1 an", IF(I4="court terme", "1 à 2 ans", IF(I4="moyen terme", "2 à 3 ans", IF(I4="long terme", "> 4 ans", "")))) -> 1 à 2 ans
A5: 3 | B5: Pont 3 | C5: ='[1]IEm -Indice d''état méca '!AS5 -> 2.2428571 | D5: ='[1]IEu - Indice d''état usage'!AK5 -> 3.1 | E5: =C5 -> 2.2428571 | F5: =ROUND('[1]IS - Indice stratégique'!K4,10) -> 3.952381 | G5: 2 E | H5: 2021 | I5: =IF(AND(E5>=1, E5<2), "immédiat", IF(AND(E5>=2, E5<3), "court terme", IF(AND(E5>=3, E5<4), "moyen terme", IF(E5>=4, "long terme", "")))) -> court terme | J5: =IF(I5="immédiat", "moins de 1 an", IF(I5="court terme", "1 à 2 ans", IF(I5="moyen terme", "2 à 3 ans", IF(I5="long terme", "> 4 ans", "")))) -> 1 à 2 ans
A6: 4 | B6: Pont 4 | C6: ='[1]IEm -Indice d''état méca '!AS6 -> 2.4625 | D6: ='[1]IEu - Indice d''état usage'!AK6 -> 2.8 | E6: =C6 -> 2.4625 | F6: =ROUND('[1]IS - Indice stratégique'!K5,10) -> 3.1904762 | G6: 2 E | H6: 2021 | I6: =IF(AND(E6>=1, E6<2), "immédiat", IF(AND(E6>=2, E6<3), "court terme", IF(AND(E6>=3, E6<4), "moyen terme", IF(E6>=4, "long terme", "")))) -> court terme | J6: =IF(I6="immédiat", "moins de 1 an", IF(I6="court terme", "1 à 2 ans", IF(I6="moyen terme", "2 à 3 ans", IF(I6="long terme", "> 4 ans", "")))) -> 1 à 2 ans
A7: 5 | B7: Pont 5 | C7: ='[1]IEm -Indice d''état méca '!AS7 -> 2.125 | D7: ='[1]IEu - Indice d''état usage'!AK7 -> 2.5 | E7: =C7 -> 2.125 | F7: =ROUND('[1]IS - Indice stratégique'!K6,10) -> 3.4285714 | G7: 2 E | H7: 2021 | I7: =IF(AND(E7>=1, E7<2), "immédiat", IF(AND(E7>=2, E7<3), "court terme", IF(AND(E7>=3, E7<4), "moyen terme", IF(E7>=4, "long terme", "")))) -> court terme | J7: =IF(I7="immédiat", "moins de 1 an", IF(I7="court terme", "1 à 2 ans", IF(I7="moyen terme", "2 à 3 ans", IF(I7="long terme", "> 4 ans", "")))) -> 1 à 2 ans
A8: 6 | B8: Pont 6 | C8: ='[1]IEm -Indice d''état méca '!AS8 -> 1.84 | D8: ='[1]IEu - Indice d''état usage'!AK8 -> 2.15 | E8: =C8 -> 1.84 | F8: =ROUND('[1]IS - Indice stratégique'!K7,10) -> 2.2380952 | G8: 3 | H8: 2021 | I8: =IF(AND(E8>=1, E8<2), "immédiat", IF(AND(E8>=2, E8<3), "court terme", IF(AND(E8>=3, E8<4), "moyen terme", IF(E8>=4, "long terme", "")))) -> immédiat | J8: =IF(I8="immédiat", "moins de 1 an", IF(I8="court terme", "1 à 2 ans", IF(I8="moyen terme", "2 à 3 ans", IF(I8="long terme", "> 4 ans", "")))) -> moins de 1 an
A9: 7 | B9: Pont 7 | C9: ='[1]IEm -Indice d''état méca '!AS9 -> 2.92 | D9: ='[1]IEu - Indice d''état usage'!AK9 -> 2.7 | E9: =C9 -> 2.92 | F9: =ROUND('[1]IS - Indice stratégique'!K8,10) -> 2.5238095 | G9: 2 E | H9: 2021 | I9: =IF(AND(E9>=1, E9<2), "immédiat", IF(AND(E9>=2, E9<3), "court terme", IF(AND(E9>=3, E9<4), "moyen terme", IF(E9>=4, "long terme", "")))) -> court terme | J9: =IF(I9="immédiat", "moins de 1 an", IF(I9="court terme", "1 à 2 ans", IF(I9="moyen terme", "2 à 3 ans", IF(I9="long terme", "> 4 ans", "")))) -> 1 à 2 ans
A10: 8 | B10: Pont 8 | C10: ='[1]IEm -Indice d''état méca '!AS10 -> 2.5428571 | D10: ='[1]IEu - Indice d''état usage'!AK10 -> 2.7 | E10: =C10 -> 2.5428571 | F10: =ROUND('[1]IS - Indice stratégique'!K9,10) -> 4.1428571 | G10: 2 E | H10: 2021 | I10: =IF(AND(E10>=1, E10<2), "immédiat", IF(AND(E10>=2, E10<3), "court terme", IF(AND(E10>=3, E10<4), "moyen terme", IF(E10>=4, "long terme", "")))) -> court terme | J10: =IF(I10="immédiat", "moins de 1 an", IF(I10="court terme", "1 à 2 ans", IF(I10="moyen terme", "2 à 3 ans", IF(I10="long terme", "> 4 ans", "")))) -> 1 à 2 ans
A11: 9 | B11: Pont 9 | C11: ='[1]IEm -Indice d''état méca '!AS11 -> 2.32 | D11: ='[1]IEu - Indice d''état usage'!AK11 -> 2.86 | E11: =C11 -> 2.32 | F11: =ROUND('[1]IS - Indice stratégique'!K10,10) -> 3.7142857 | G11: 2 E | H11: 2021 | I11: =IF(AND(E11>=1, E11<2), "immédiat", IF(AND(E11>=2, E11<3), "court terme", IF(AND(E11>=3, E11<4), "moyen terme", IF(E11>=4, "long terme", "")))) -> court terme | J11: =IF(I11="immédiat", "moins de 1 an", IF(I11="court terme", "1 à 2 ans", IF(I11="moyen terme", "2 à 3 ans", IF(I11="long terme", "> 4 ans", "")))) -> 1 à 2 ans
A12: 10 | B12: Pont 10 | C12: ='[1]IEm -Indice d''état méca '!AS12 -> 2.3 | D12: ='[1]IEu - Indice d''état usage'!AK12 -> 2.8 | E12: =C12 -> 2.3 | F12: =ROUND('[1]IS - Indice stratégique'!K11,10) -> 2.2857143 | G12: 2 E | H12: 2021 | I12: =IF(AND(E12>=1, E12<2), "immédiat", IF(AND(E12>=2, E12<3), "court terme", IF(AND(E12>=3, E12<4), "moyen terme", IF(E12>=4, "long terme", "")))) -> court terme | J12: =IF(I12="immédiat", "moins de 1 an", IF(I12="court terme", "1 à 2 ans", IF(I12="moyen terme", "2 à 3 ans", IF(I12="long terme", "> 4 ans", "")))) -> 1 à 2 ans
A13: 11 | B13: Pont 11 | C13: ='[1]IEm -Indice d''état méca '!AS13 -> 2.62 | D13: ='[1]IEu - Indice d''état usage'!AK13 -> 1.975 | E13: =C13 -> 2.62 | F13: =ROUND('[1]IS - Indice stratégique'!K12,10) -> 4.3809524 | G13: 2 S | H13: 2021 | I13: =IF(AND(E13>=1, E13<2), "immédiat", IF(AND(E13>=2, E13<3), "court terme", IF(AND(E13>=3, E13<4), "moyen terme", IF(E13>=4, "long terme", "")))) -> court terme | J13: =IF(I13="immédiat", "moins de 1 an", IF(I13="court terme", "1 à 2 ans", IF(I13="moyen terme", "2 à 3 ans", IF(I13="long terme", "> 4 ans", "")))) -> 1 à 2 ans
A14: 12 | B14: Pont 12 | C14: ='[1]IEm -Indice d''état méca '!AS14 -> 2.725 | D14: ='[1]IEu - Indice d''état usage'!AK14 -> 2.125 | E14: =C14 -> 2.725 | F14: =ROUND('[1]IS - Indice stratégique'!K13,10) -> 4.3333333 | G14: 2 E | H14: 2021 | I14: =IF(AND(E14>=1, E14<2), "immédiat", IF(AND(E14>=2, E14<3), "court terme", IF(AND(E14>=3, E14<4), "moyen terme", IF(E14>=4, "long terme", "")))) -> court terme | J14: =IF(I14="immédiat", "moins de 1 an", IF(I14="court terme", "1 à 2 ans", IF(I14="moyen terme", "2 à 3 ans", IF(I14="long terme", "> 4 ans", "")))) -> 1 à 2 ans
A15: 13 | B15: Pont 13 | C15: ='[1]IEm -Indice d''état méca '!AS15 -> 3.175 | D15: ='[1]IEu - Indice d''état usage'!AK15 -> 2.4 | E15: =C15 -> 3.175 | F15: =ROUND('[1]IS - Indice stratégique'!K14,10) -> 2.5238095 | G15: 2 | H15: 2021 | I15: =IF(AND(E15>=1, E15<2), "immédiat", IF(AND(E15>=2, E15<3), "court terme", IF(AND(E15>=3, E15<4), "moyen terme", IF(E15>=4, "long terme", "")))) -> moyen terme | J15: =IF(I15="immédiat", "moins de 1 an", IF(I15="court terme", "1 à 2 ans", IF(I15="moyen terme", "2 à 3 ans", IF(I15="long terme", "> 4 ans", "")))) -> 2 à 3 ans
A16: 14 | B16: Pont 14 | C16: ='[1]IEm -Indice d''état méca '!AS16 -> 3.0571429 | D16: ='[1]IEu - Indice d''état usage'!AK16 -> 1.75 | E16: =C16 -> 3.0571429 | F16: =ROUND('[1]IS - Indice stratégique'!K15,10) -> 4.3809524 | G16: 2 S | H16: 2021 | I16: =IF(AND(E16>=1, E16<2), "immédiat", IF(AND(E16>=2, E16<3), "court terme", IF(AND(E16>=3, E16<4), "moyen terme", IF(E16>=4, "long terme", "")))) -> moyen terme | J16: =IF(I16="immédiat", "moins de 1 an", IF(I16="court terme", "1 à 2 ans", IF(I16="moyen terme", "2 à 3 ans", IF(I16="long terme", "> 4 ans", "")))) -> 2 à 3 ans
A17: 15 | B17: Pont 15 | C17: ='[1]IEm -Indice d''état méca '!AS17 -> 2.74 | D17: ='[1]IEu - Indice d''état usage'!AK17 -> 3.1 | E17: =C17 -> 2.74 | F17: =ROUND('[1]IS - Indice stratégique'!K16,10) -> 4.2380952 | G17: 2 | H17: 2021 | I17: =IF(AND(E17>=1, E17<2), "immédiat", IF(AND(E17>=2, E17<3), "court terme", IF(AND(E17>=3, E17<4), "moyen terme", IF(E17>=4, "long terme", "")))) -> court terme | J17: =IF(I17="immédiat", "moins de 1 an", IF(I17="court terme", "1 à 2 ans", IF(I17="moyen terme", "2 à 3 ans", IF(I17="long terme", "> 4 ans", "")))) -> 1 à 2 ans
A18: 16 | B18: Pont 16 | C18: ='[1]IEm -Indice d''état méca '!AS18 -> 3.2 | D18: ='[1]IEu - Indice d''état usage'!AK18 -> 3.46 | E18: =C18 -> 3.2 | F18: =ROUND('[1]IS - Indice stratégique'!K17,10) -> 2.5714286 | G18: 2 | H18: 2022 | I18: =IF(AND(E18>=1, E18<2), "immédiat", IF(AND(E18>=2, E18<3), "court terme", IF(AND(E18>=3, E18<4), "moyen terme", IF(E18>=4, "long terme", "")))) -> moyen terme | J18: =IF(I18="immédiat", "moins de 1 an", IF(I18="court terme", "1 à 2 ans", IF(I18="moyen terme", "2 à 3 ans", IF(I18="long terme", "> 4 ans", "")))) -> 2 à 3 ans
A19: 17 | B19: Pont 17 | C19: ='[1]IEm -Indice d''état méca '!AS19 -> 3.325 | D19: ='[1]IEu - Indice d''état usage'!AK19 -> 2.2 | E19: =C19 -> 3.325 | F19: =ROUND('[1]IS - Indice stratégique'!K18,10) -> 4.4761905 | G19: 2 | H19: 2021 | I19: =IF(AND(E19>=1, E19<2), "immédiat", IF(AND(E19>=2, E19<3), "court terme", IF(AND(E19>=3, E19<4), "moyen terme", IF(E19>=4, "long terme", "")))) -> moyen terme | J19: =IF(I19="immédiat", "moins de 1 an", IF(I19="court terme", "1 à 2 ans", IF(I19="moyen terme", "2 à 3 ans", IF(I19="long terme", "> 4 ans", "")))) -> 2 à 3 ans
A20: 18 | B20: Pont 18 | C20: ='[1]IEm -Indice d''état méca '!AS20 -> 3.2 | D20: ='[1]IEu - Indice d''état usage'!AK20 -> 3.7 | E20: =C20 -> 3.2 | F20: =ROUND('[1]IS - Indice stratégique'!K19,10) -> 4.3333333 | G20: 2 | H20: 2021 | I20: =IF(AND(E20>=1, E20<2), "immédiat", IF(AND(E20>=2, E20<3), "court terme", IF(AND(E20>=3, E20<4), "moyen terme", IF(E20>=4, "long terme", "")))) -> moyen terme | J20: =IF(I20="immédiat", "moins de 1 an", IF(I20="court terme", "1 à 2 ans", IF(I20="moyen terme", "2 à 3 ans", IF(I20="long terme", "> 4 ans", "")))) -> 2 à 3 ans
A21: 19 | B21: Pont 19 | C21: ='[1]IEm -Indice d''état méca '!AS21 -> 2.2428571 | D21: ='[1]IEu - Indice d''état usage'!AK21 -> 1.975 | E21: =C21 -> 2.2428571 | F21: =ROUND('[1]IS - Indice stratégique'!K20,10) -> 2.6190476 | G21: 2 E | H21: 2022 | I21: =IF(AND(E21>=1, E21<2), "immédiat", IF(AND(E21>=2, E21<3), "court terme", IF(AND(E21>=3, E21<4), "moyen terme", IF(E21>=4, "long terme", "")))) -> court terme | J21: =IF(I21="immédiat", "moins de 1 an", IF(I21="court terme", "1 à 2 ans", IF(I21="moyen terme", "2 à 3 ans", IF(I21="long terme", "> 4 ans", "")))) -> 1 à 2 ans
A22: 20 | B22: Pont 20 | C22: ='[1]IEm -Indice d''état méca '!AS22 -> 3.1 | D22: ='[1]IEu - Indice d''état usage'!AK22 -> 1.9 | E22: =C22 -> 3.1 | F22: =ROUND('[1]IS - Indice stratégique'!K21,10) -> 4.7619048 | G22: 2 | H22: 2019 | I22: =IF(AND(E22>=1, E22<2), "immédiat", IF(AND(E22>=2, E22<3), "court terme", IF(AND(E22>=3, E22<4), "moyen terme", IF(E22>=4, "long terme", "")))) -> moyen terme | J22: =IF(I22="immédiat", "moins de 1 an", IF(I22="court terme", "1 à 2 ans", IF(I22="moyen terme", "2 à 3 ans", IF(I22="long terme", "> 4 ans", "")))) -> 2 à 3 ans
A23: 21 | B23: Pont 21 | C23: ='[1]IEm -Indice d''état méca '!AS23 -> 2.92 | D23: ='[1]IEu - Indice d''état usage'!AK23 -> 2.125 | E23: =C23 -> 2.92 | F23: =ROUND('[1]IS - Indice stratégique'!K22,10) -> 2.5238095 | G23: 2 E | H23: 2019 | I23: =IF(AND(E23>=1, E23<2), "immédiat", IF(AND(E23>=2, E23<3), "court terme", IF(AND(E23>=3, E23<4), "moyen terme", IF(E23>=4, "long terme", "")))) -> court terme | J23: =IF(I23="immédiat", "moins de 1 an", IF(I23="court terme", "1 à 2 ans", IF(I23="moyen terme", "2 à 3 ans", IF(I23="long terme", "> 4 ans", "")))) -> 1 à 2 ans
A24: 22 | B24: Pont 22 | C24: ='[1]IEm -Indice d''état méca '!AS24 -> 3.5 | D24: ='[1]IEu - Indice d''état usage'!AK24 -> 3.7 | E24: =C24 -> 3.5 | F24: =ROUND('[1]IS - Indice stratégique'!K23,10) -> 2.2857143 | G24: 2 | H24: 2022 | I24: =IF(AND(E24>=1, E24<2), "immédiat", IF(AND(E24>=2, E24<3), "court terme", IF(AND(E24>=3, E24<4), "moyen terme", IF(E24>=4, "long terme", "")))) -> moyen terme | J24: =IF(I24="immédiat", "moins de 1 an", IF(I24="court terme", "1 à 2 ans", IF(I24="moyen terme", "2 à 3 ans", IF(I24="long terme", "> 4 ans", "")))) -> 2 à 3 ans
A25: 23 | B25: Pont 23 | C25: ='[1]IEm -Indice d''état méca '!AS25 -> 2.86 | D25: ='[1]IEu - Indice d''état usage'!AK25 -> 2.08 | E25: =C25 -> 2.86 | F25: =ROUND('[1]IS - Indice stratégique'!K24,10) -> 2.3333333 | G25: 2 E | H25: 2019 | I25: =IF(AND(E25>=1, E25<2), "immédiat", IF(AND(E25>=2, E25<3), "court terme", IF(AND(E25>=3, E25<4), "moyen terme", IF(E25>=4, "long terme", "")))) -> court terme | J25: =IF(I25="immédiat", "moins de 1 an", IF(I25="court terme", "1 à 2 ans", IF(I25="moyen terme", "2 à 3 ans", IF(I25="long terme", "> 4 ans", "")))) -> 1 à 2 ans
A26: 24 | B26: Pont 24 | C26: ='[1]IEm -Indice d''état méca '!AS26 -> 1.9 | D26: ='[1]IEu - Indice d''état usage'!AK26 -> 1.825 | E26: =C26 -> 1.9 | F26: =ROUND('[1]IS - Indice stratégique'!K25,10) -> 2.7142857 | G26: 2 ES | H26: 2019 | I26: =IF(AND(E26>=1, E26<2), "immédiat", IF(AND(E26>=2, E26<3), "court terme", IF(AND(E26>=3, E26<4), "moyen terme", IF(E26>=4, "long terme", "")))) -> immédiat | J26: =IF(I26="immédiat", "moins de 1 an", IF(I26="court terme", "1 à 2 ans", IF(I26="moyen terme", "2 à 3 ans", IF(I26="long terme", "> 4 ans", "")))) -> moins de 1 an
A27: 25 | B27: Pont 25 | C27: ='[1]IEm -Indice d''état méca '!AS27 -> 2.8 | D27: ='[1]IEu - Indice d''état usage'!AK27 -> 2.2 | E27: =C27 -> 2.8 | F27: =ROUND('[1]IS - Indice stratégique'!K26,10) -> 4.0952381 | G27: 2 E | H27: 2022 | I27: =IF(AND(E27>=1, E27<2), "immédiat", IF(AND(E27>=2, E27<3), "court terme", IF(AND(E27>=3, E27<4), "moyen terme", IF(E27>=4, "long terme", "")))) -> court terme | J27: =IF(I27="immédiat", "moins de 1 an", IF(I27="court terme", "1 à 2 ans", IF(I27="moyen terme", "2 à 3 ans", IF(I27="long terme", "> 4 ans", "")))) -> 1 à 2 ans
A28: 26 | B28: Pont 26 | C28: ='[1]IEm -Indice d''état méca '!AS28 -> 2.62 | D28: ='[1]IEu - Indice d''état usage'!AK28 -> 3.55 | E28: =C28 -> 2.62 | F28: =ROUND('[1]IS - Indice stratégique'!K27,10) -> 2.5714286 | G28: 2 | H28: 2022 | I28: =IF(AND(E28>=1, E28<2), "immédiat", IF(AND(E28>=2, E28<3), "court terme", IF(AND(E28>=3, E28<4), "moyen terme", IF(E28>=4, "long terme", "")))) -> court terme | J28: =IF(I28="immédiat", "moins de 1 an", IF(I28="court terme", "1 à 2 ans", IF(I28="moyen terme", "2 à 3 ans", IF(I28="long terme", "> 4 ans", "")))) -> 1 à 2 ans
A29: 27 | B29: Pont 27 | C29: ='[1]IEm -Indice d''état méca '!AS29 -> 2.35 | D29: ='[1]IEu - Indice d''état usage'!AK29 -> 2.8 | E29: =C29 -> 2.35 | F29: =ROUND('[1]IS - Indice stratégique'!K28,10) -> 1.6666667 | G29: 2 E | H29: 2019 | I29: =IF(AND(E29>=1, E29<2), "immédiat", IF(AND(E29>=2, E29<3), "court terme", IF(AND(E29>=3, E29<4), "moyen terme", IF(E29>=4, "long terme", "")))) -> court terme | J29: =IF(I29="immédiat", "moins de 1 an", IF(I29="court terme", "1 à 2 ans", IF(I29="moyen terme", "2 à 3 ans", IF(I29="long terme", "> 4 ans", "")))) -> 1 à 2 ans
A30: 28 | B30: Pont 28 | C30: ='[1]IEm -Indice d''état méca '!AS30 -> 3.1 | D30: ='[1]IEu - Indice d''état usage'!AK30 -> 4.6 | E30: =C30 -> 3.1 | F30: =ROUND('[1]IS - Indice stratégique'!K29,10) -> 4.2857143 | G30: 2 | H30: 2021 | I30: =IF(AND(E30>=1, E30<2), "immédiat", IF(AND(E30>=2, E30<3), "court terme", IF(AND(E30>=3, E30<4), "moyen terme", IF(E30>=4, "long terme", "")))) -> moyen terme | J30: =IF(I30="immédiat", "moins de 1 an", IF(I30="court terme", "1 à 2 ans", IF(I30="moyen terme", "2 à 3 ans", IF(I30="long terme", "> 4 ans", "")))) -> 2 à 3 ans
A31: 29 | B31: Pont 29 | C31: ='[1]IEm -Indice d''état méca '!AS31 -> 3.7 | D31: ='[1]IEu - Indice d''état usage'!AK31 -> 3.85 | E31: =C31 -> 3.7 | F31: =ROUND('[1]IS - Indice stratégique'!K30,10) -> 3.6666667 | G31: 1 | H31: 2022 | I31: =IF(AND(E31>=1, E31<2), "immédiat", IF(AND(E31>=2, E31<3), "court terme", IF(AND(E31>=3, E31<4), "moyen terme", IF(E31>=4, "long terme", "")))) -> moyen terme | J31: =IF(I31="immédiat", "moins de 1 an", IF(I31="court terme", "1 à 2 ans", IF(I31="moyen terme", "2 à 3 ans", IF(I31="long terme", "> 4 ans", "")))) -> 2 à 3 ans
A32: 30 | B32: Pont 30 | C32: ='[1]IEm -Indice d''état méca '!AS32 -> 2.2428571 | D32: ='[1]IEu - Indice d''état usage'!AK32 -> 3.16 | E32: =C32 -> 2.2428571 | F32: =ROUND('[1]IS - Indice stratégique'!K31,10) -> 3.3809524 | G32: 3 | H32: 2022 | I32: =IF(AND(E32>=1, E32<2), "immédiat", IF(AND(E32>=2, E32<3), "court terme", IF(AND(E32>=3, E32<4), "moyen terme", IF(E32>=4, "long terme", "")))) -> court terme | J32: =IF(I32="immédiat", "moins de 1 an", IF(I32="court terme", "1 à 2 ans", IF(I32="moyen terme", "2 à 3 ans", IF(I32="long terme", "> 4 ans", "")))) -> 1 à 2 ans
A33: 31 | B33: Pont 31 | C33: ='[1]IEm -Indice d''état méca '!AS33 -> 2.2 | D33: ='[1]IEu - Indice d''état usage'!AK33 -> 3.7 | E33: =C33 -> 2.2 | F33: =ROUND('[1]IS - Indice stratégique'!K32,10) -> 4.5714286 | G33: 2 E | H33: 2022 | I33: =IF(AND(E33>=1, E33<2), "immédiat", IF(AND(E33>=2, E33<3), "court terme", IF(AND(E33>=3, E33<4), "moyen terme", IF(E33>=4, "long terme", "")))) -> court terme | J33: =IF(I33="immédiat", "moins de 1 an", IF(I33="court terme", "1 à 2 ans", IF(I33="moyen terme", "2 à 3 ans", IF(I33="long terme", "> 4 ans", "")))) -> 1 à 2 ans
A34: 32 | B34: Pont 32 | C34: ='[1]IEm -Indice d''état méca '!AS34 -> 2.62 | D34: ='[1]IEu - Indice d''état usage'!AK34 -> 2.26 | E34: =C34 -> 2.62 | F34: =ROUND('[1]IS - Indice stratégique'!K33,10) -> 1.9047619 | G34: 2 E | H34: 2020 | I34: =IF(AND(E34>=1, E34<2), "immédiat", IF(AND(E34>=2, E34<3), "court terme", IF(AND(E34>=3, E34<4), "moyen terme", IF(E34>=4, "long terme", "")))) -> court terme | J34: =IF(I34="immédiat", "moins de 1 an", IF(I34="court terme", "1 à 2 ans", IF(I34="moyen terme", "2 à 3 ans", IF(I34="long terme", "> 4 ans", "")))) -> 1 à 2 ans
A35: 33 | B35: Pont 33 | C35: ='[1]IEm -Indice d''état méca '!AS35 -> 1.9 | D35: ='[1]IEu - Indice d''état usage'!AK35 -> 2.26 | E35: =C35 -> 1.9 | F35: =ROUND('[1]IS - Indice stratégique'!K34,10) -> 4.047619 | G35: 3 | H35: 2022 | I35: =IF(AND(E35>=1, E35<2), "immédiat", IF(AND(E35>=2, E35<3), "court terme", IF(AND(E35>=3, E35<4), "moyen terme", IF(E35>=4, "long terme", "")))) -> immédiat | J35: =IF(I35="immédiat", "moins de 1 an", IF(I35="court terme", "1 à 2 ans", IF(I35="moyen terme", "2 à 3 ans", IF(I35="long terme", "> 4 ans", "")))) -> moins de 1 an
A36: 34 | B36: Pont 34 | C36: 2.3 | D36: 2.2 | E36: =C36 -> 2.3 | F36: =ROUND('[1]IS - Indice stratégique'!K35,10) -> 2.2380952 | G36: 2 E | H36: 2022 | I36: =IF(AND(E36>=1, E36<2), "immédiat", IF(AND(E36>=2, E36<3), "court terme", IF(AND(E36>=3, E36<4), "moyen terme", IF(E36>=4, "long terme", "")))) -> court terme | J36: =IF(I36="immédiat", "moins de 1 an", IF(I36="court terme", "1 à 2 ans", IF(I36="moyen terme", "2 à 3 ans", IF(I36="long terme", "> 4 ans", "")))) -> 1 à 2 ans
A37: 35 | B37: Pont 35 | C37: ='[1]IEm -Indice d''état méca '!AS37 -> 2.5375 | D37: ='[1]IEu - Indice d''état usage'!AK37 -> 2.1 | E37: =C37 -> 2.5375 | F37: =ROUND('[1]IS - Indice stratégique'!K36,10) -> 2.2857143 | G37: 2 E | H37: 2019 | I37: =IF(AND(E37>=1, E37<2), "immédiat", IF(AND(E37>=2, E37<3), "court terme", IF(AND(E37>=3, E37<4), "moyen terme", IF(E37>=4, "long terme", "")))) -> court terme | J37: =IF(I37="immédiat", "moins de 1 an", IF(I37="court terme", "1 à 2 ans", IF(I37="moyen terme", "2 à 3 ans", IF(I37="long terme", "> 4 ans", "")))) -> 1 à 2 ans
A38: 36 | B38: Pont 36 | C38: ='[1]IEm -Indice d''état méca '!AS38 -> 2.2 | D38: ='[1]IEu - Indice d''état usage'!AK38 -> 2 | E38: =C38 -> 2.2 | F38: =ROUND('[1]IS - Indice stratégique'!K37,10) -> 2.5238095 | G38: 3 | H38: 2019 | I38: =IF(AND(E38>=1, E38<2), "immédiat", IF(AND(E38>=2, E38<3), "court terme", IF(AND(E38>=3, E38<4), "moyen terme", IF(E38>=4, "long terme", "")))) -> court terme | J38: =IF(I38="immédiat", "moins de 1 an", IF(I38="court terme", "1 à 2 ans", IF(I38="moyen terme", "2 à 3 ans", IF(I38="long terme", "> 4 ans", "")))) -> 1 à 2 ans
A39: 37 | B39: Pont 37 | C39: ='[1]IEm -Indice d''état méca '!AS39 -> 2.2 | D39: ='[1]IEu - Indice d''état usage'!AK39 -> 2.5 | E39: =C39 -> 2.2 | F39: =ROUND('[1]IS - Indice stratégique'!K38,10) -> 1.5714286 | G39: 3 | H39: 2019 | I39: =IF(AND(E39>=1, E39<2), "immédiat", IF(AND(E39>=2, E39<3), "court terme", IF(AND(E39>=3, E39<4), "moyen terme", IF(E39>=4, "long terme", "")))) -> court terme | J39: =IF(I39="immédiat", "moins de 1 an", IF(I39="court terme", "1 à 2 ans", IF(I39="moyen terme", "2 à 3 ans", IF(I39="long terme", "> 4 ans", "")))) -> 1 à 2 ans
A40: 38 | B40: Pont 38 | C40: ='[1]IEm -Indice d''état méca '!AS40 -> 3.625 | D40: ='[1]IEu - Indice d''état usage'!AK40 -> 3.1 | E40: =C40 -> 3.625 | F40: =ROUND('[1]IS - Indice stratégique'!K39,10) -> 4.7619048 | G40: 2 | H40: 2019 | I40: =IF(AND(E40>=1, E40<2), "immédiat", IF(AND(E40>=2, E40<3), "court terme", IF(AND(E40>=3, E40<4), "moyen terme", IF(E40>=4, "long terme", "")))) -> moyen terme | J40: =IF(I40="immédiat", "moins de 1 an", IF(I40="court terme", "1 à 2 ans", IF(I40="moyen terme", "2 à 3 ans", IF(I40="long terme", "> 4 ans", "")))) -> 2 à 3 ans
A41: 39 | B41: Pont 39 | C41: ='[1]IEm -Indice d''état méca '!AS41 -> 3.1 | D41: ='[1]IEu - Indice d''état usage'!AK41 -> 3.7 | E41: =C41 -> 3.1 | F41: =ROUND('[1]IS - Indice stratégique'!K40,10) -> 4.7619048 | G41: 2 | H41: 2021 | I41: =IF(AND(E41>=1, E41<2), "immédiat", IF(AND(E41>=2, E41<3), "court terme", IF(AND(E41>=3, E41<4), "moyen terme", IF(E41>=4, "long terme", "")))) -> moyen terme | J41: =IF(I41="immédiat", "moins de 1 an", IF(I41="court terme", "1 à 2 ans", IF(I41="moyen terme", "2 à 3 ans", IF(I41="long terme", "> 4 ans", "")))) -> 2 à 3 ans
A42: 40 | B42: Pont 40 | C42: ='[1]IEm -Indice d''état méca '!AS42 -> 2.6 | D42: ='[1]IEu - Indice d''état usage'!AK42 -> 3.7 | E42: =C42 -> 2.6 | F42: =ROUND('[1]IS - Indice stratégique'!K41,10) -> 4.7619048 | G42: 2 | H42: 2021 | I42: =IF(AND(E42>=1, E42<2), "immédiat", IF(AND(E42>=2, E42<3), "court terme", IF(AND(E42>=3, E42<4), "moyen terme", IF(E42>=4, "long terme", "")))) -> court terme | J42: =IF(I42="immédiat", "moins de 1 an", IF(I42="court terme", "1 à 2 ans", IF(I42="moyen terme", "2 à 3 ans", IF(I42="long terme", "> 4 ans", "")))) -> 1 à 2 ans
A43: 41 | B43: Pont 41 | C43: ='[1]IEm -Indice d''état méca '!AS43 -> 2.6 | D43: ='[1]IEu - Indice d''état usage'!AK43 -> 4 | E43: =C43 -> 2.6 | F43: =ROUND('[1]IS - Indice stratégique'!K42,10) -> 4.7619048 | G43: 2 | H43: 2021 | I43: =IF(AND(E43>=1, E43<2), "immédiat", IF(AND(E43>=2, E43<3), "court terme", IF(AND(E43>=3, E43<4), "moyen terme", IF(E43>=4, "long terme", "")))) -> court terme | J43: =IF(I43="immédiat", "moins de 1 an", IF(I43="court terme", "1 à 2 ans", IF(I43="moyen terme", "2 à 3 ans", IF(I43="long terme", "> 4 ans", "")))) -> 1 à 2 ans
A44: 42 | B44: Pont 42 | C44: ='[1]IEm -Indice d''état méca '!AS44 -> 2.5 | D44: ='[1]IEu - Indice d''état usage'!AK44 -> 2.2 | E44: =C44 -> 2.5 | F44: =ROUND('[1]IS - Indice stratégique'!K43,10) -> 2.5238095 | G44: 2 E | H44: 2019 | I44: =IF(AND(E44>=1, E44<2), "immédiat", IF(AND(E44>=2, E44<3), "court terme", IF(AND(E44>=3, E44<4), "moyen terme", IF(E44>=4, "long terme", "")))) -> court terme | J44: =IF(I44="immédiat", "moins de 1 an", IF(I44="court terme", "1 à 2 ans", IF(I44="moyen terme", "2 à 3 ans", IF(I44="long terme", "> 4 ans", "")))) -> 1 à 2 ans
A45: 43 | B45: Pont 43 | C45: ='[1]IEm -Indice d''état méca '!AS45 -> 2.3285714 | D45: ='[1]IEu - Indice d''état usage'!AK45 -> 2.05 | E45: =C45 -> 2.3285714 | F45: =ROUND('[1]IS - Indice stratégique'!K44,10) -> 3.2857143 | G45: 3 S | H45: 2022 | I45: =IF(AND(E45>=1, E45<2), "immédiat", IF(AND(E45>=2, E45<3), "court terme", IF(AND(E45>=3, E45<4), "moyen terme", IF(E45>=4, "long terme", "")))) -> court terme | J45: =IF(I45="immédiat", "moins de 1 an", IF(I45="court terme", "1 à 2 ans", IF(I45="moyen terme", "2 à 3 ans", IF(I45="long terme", "> 4 ans", "")))) -> 1 à 2 ans
A46: 44 | B46: Pont 44 | C46: ='[1]IEm -Indice d''état méca '!AS46 -> 2.35 | D46: ='[1]IEu - Indice d''état usage'!AK46 -> 1.9 | E46: =C46 -> 2.35 | F46: =ROUND('[1]IS - Indice stratégique'!K45,10) -> 3.8571429 | G46: 2 ES | H46: 2019 | I46: =IF(AND(E46>=1, E46<2), "immédiat", IF(AND(E46>=2, E46<3), "court terme", IF(AND(E46>=3, E46<4), "moyen terme", IF(E46>=4, "long terme", "")))) -> court terme | J46: =IF(I46="immédiat", "moins de 1 an", IF(I46="court terme", "1 à 2 ans", IF(I46="moyen terme", "2 à 3 ans", IF(I46="long terme", "> 4 ans", "")))) -> 1 à 2 ans
A47: 45 | B47: Pont 45 | C47: ='[1]IEm -Indice d''état méca '!AS47 -> 2.3666667 | D47: ='[1]IEu - Indice d''état usage'!AK47 -> 3.325 | E47: =C47 -> 2.3666667 | F47: =ROUND('[1]IS - Indice stratégique'!K46,10) -> 1.7619048 | G47: 2 E | H47: 2022 | I47: =IF(AND(E47>=1, E47<2), "immédiat", IF(AND(E47>=2, E47<3), "court terme", IF(AND(E47>=3, E47<4), "moyen terme", IF(E47>=4, "long terme", "")))) -> court terme | J47: =IF(I47="immédiat", "moins de 1 an", IF(I47="court terme", "1 à 2 ans", IF(I47="moyen terme", "2 à 3 ans", IF(I47="long terme", "> 4 ans", "")))) -> 1 à 2 ans
A48: 46 | B48: Pont 46 | C48: ='[1]IEm -Indice d''état méca '!AS48 -> 2.2857143 | D48: ='[1]IEu - Indice d''état usage'!AK48 -> 2.8 | E48: =C48 -> 2.2857143 | F48: =ROUND('[1]IS - Indice stratégique'!K47,10) -> 3.4285714 | G48: 3 | H48: 2022 | I48: =IF(AND(E48>=1, E48<2), "immédiat", IF(AND(E48>=2, E48<3), "court terme", IF(AND(E48>=3, E48<4), "moyen terme", IF(E48>=4, "long terme", "")))) -> court terme | J48: =IF(I48="immédiat", "moins de 1 an", IF(I48="court terme", "1 à 2 ans", IF(I48="moyen terme", "2 à 3 ans", IF(I48="long terme", "> 4 ans", "")))) -> 1 à 2 ans
A49: 47 | B49: Pont 47 | C49: ='[1]IEm -Indice d''état méca '!AS49 -> 1.9857143 | D49: ='[1]IEu - Indice d''état usage'!AK49 -> 3.55 | E49: =C49 -> 1.9857143 | F49: =ROUND('[1]IS - Indice stratégique'!K48,10) -> 1.952381 | G49: 3 | H49: 2022 | I49: =IF(AND(E49>=1, E49<2), "immédiat", IF(AND(E49>=2, E49<3), "court terme", IF(AND(E49>=3, E49<4), "moyen terme", IF(E49>=4, "long terme", "")))) -> immédiat | J49: =IF(I49="immédiat", "moins de 1 an", IF(I49="court terme", "1 à 2 ans", IF(I49="moyen terme", "2 à 3 ans", IF(I49="long terme", "> 4 ans", "")))) -> moins de 1 an
A50: 48 | B50: Pont 48 | C50: ='[1]IEm -Indice d''état méca '!AS50 -> 2.8 | D50: ='[1]IEu - Indice d''état usage'!AK50 -> 2.3 | E50: =C50 -> 2.8 | F50: =ROUND('[1]IS - Indice stratégique'!K49,10) -> 3.9047619 | G50: 2 S | H50: 2019 | I50: =IF(AND(E50>=1, E50<2), "immédiat", IF(AND(E50>=2, E50<3), "court terme", IF(AND(E50>=3, E50<4), "moyen terme", IF(E50>=4, "long terme", "")))) -> court terme | J50: =IF(I50="immédiat", "moins de 1 an", IF(I50="court terme", "1 à 2 ans", IF(I50="moyen terme", "2 à 3 ans", IF(I50="long terme", "> 4 ans", "")))) -> 1 à 2 ans
A51: 49 | B51: Pont 49 | C51: ='[1]IEm -Indice d''état méca '!AS51 -> 2.95 | D51: ='[1]IEu - Indice d''état usage'!AK51 -> 4 | E51: =C51 -> 2.95 | F51: =ROUND('[1]IS - Indice stratégique'!K50,10) -> 4 | G51: 2 | H51: 2020 | I51: =IF(AND(E51>=1, E51<2), "immédiat", IF(AND(E51>=2, E51<3), "court terme", IF(AND(E51>=3, E51<4), "moyen terme", IF(E51>=4, "long terme", "")))) -> court terme | J51: =IF(I51="immédiat", "moins de 1 an", IF(I51="court terme", "1 à 2 ans", IF(I51="moyen terme", "2 à 3 ans", IF(I51="long terme", "> 4 ans", "")))) -> 1 à 2 ans
A52: 50 | B52: Pont 50 | C52: ='[1]IEm -Indice d''état méca '!AS52 -> #DIV/0! | D52: ='[1]IEu - Indice d''état usage'!AK52 -> #DIV/0! | E52: =C52 -> #DIV/0! | F52: =ROUND('[1]IS - Indice stratégique'!K51,10) -> 4.4285714 | G52: néant | H52: néant | I52: =IF(AND(E52>=1, E52<2), "immédiat", IF(AND(E52>=2, E52<3), "court terme", IF(AND(E52>=3, E52<4), "moyen terme", IF(E52>=4, "long terme", "")))) -> #DIV/0! | J52: =IF(I52="immédiat", "moins de 1 an", IF(I52="court terme", "1 à 2 ans", IF(I52="moyen terme", "2 à 3 ans", IF(I52="long terme", "> 4 ans", "")))) -> #DIV/0!
A53: 51 | B53: Pont 51 | C53: ='[1]IEm -Indice d''état méca '!AS53 -> 2.5 | D53: ='[1]IEu - Indice d''état usage'!AK53 -> 3.7 | E53: =C53 -> 2.5 | F53: =ROUND('[1]IS - Indice stratégique'!K52,10) -> 3.952381 | G53: 2 | H53: 2020 | I53: =IF(AND(E53>=1, E53<2), "immédiat", IF(AND(E53>=2, E53<3), "court terme", IF(AND(E53>=3, E53<4), "moyen terme", IF(E53>=4, "long terme", "")))) -> court terme | J53: =IF(I53="immédiat", "moins de 1 an", IF(I53="court terme", "1 à 2 ans", IF(I53="moyen terme", "2 à 3 ans", IF(I53="long terme", "> 4 ans", "")))) -> 1 à 2 ans
A54: 52 | B54: Pont 52 | C54: ='[1]IEm -Indice d''état méca '!AS54 -> 1.525 | D54: ='[1]IEu - Indice d''état usage'!AK54 -> 2.95 | E54: =C54 -> 1.525 | F54: =ROUND('[1]IS - Indice stratégique'!K53,10) -> 1.8095238 | G54: 2 E | H54: 2022 | I54: =IF(AND(E54>=1, E54<2), "immédiat", IF(AND(E54>=2, E54<3), "court terme", IF(AND(E54>=3, E54<4), "moyen terme", IF(E54>=4, "long terme", "")))) -> immédiat | J54: =IF(I54="immédiat", "moins de 1 an", IF(I54="court terme", "1 à 2 ans", IF(I54="moyen terme", "2 à 3 ans", IF(I54="long terme", "> 4 ans", "")))) -> moins de 1 an
A55: 53 | B55: Pont 53 | C55: ='[1]IEm -Indice d''état méca '!AS55 -> 1.975 | D55: ='[1]IEu - Indice d''état usage'!AK55 -> 2.95 | E55: =C55 -> 1.975 | F55: =ROUND('[1]IS - Indice stratégique'!K54,10) -> 2.6190476 | G55: 2 | H55: 2022 | I55: =IF(AND(E55>=1, E55<2), "immédiat", IF(AND(E55>=2, E55<3), "court terme", IF(AND(E55>=3, E55<4), "moyen terme", IF(E55>=4, "long terme", "")))) -> immédiat | J55: =IF(I55="immédiat", "moins de 1 an", IF(I55="court terme", "1 à 2 ans", IF(I55="moyen terme", "2 à 3 ans", IF(I55="long terme", "> 4 ans", "")))) -> moins de 1 an
A56: 54 | B56: Pont 54 | C56: ='[1]IEm -Indice d''état méca '!AS56 -> 1.84 | D56: ='[1]IEu - Indice d''état usage'!AK56 -> 3.6 | E56: =C56 -> 1.84 | F56: =ROUND('[1]IS - Indice stratégique'!K55,10) -> 3.952381 | G56: 2 E | H56: 2022 | I56: =IF(AND(E56>=1, E56<2), "immédiat", IF(AND(E56>=2, E56<3), "court terme", IF(AND(E56>=3, E56<4), "moyen terme", IF(E56>=4, "long terme", "")))) -> immédiat | J56: =IF(I56="immédiat", "moins de 1 an", IF(I56="court terme", "1 à 2 ans", IF(I56="moyen terme", "2 à 3 ans", IF(I56="long terme", "> 4 ans", "")))) -> moins de 1 an
A57: 55 | B57: Pont 55 | C57: ='[1]IEm -Indice d''état méca '!AS57 -> 2.56 | D57: ='[1]IEu - Indice d''état usage'!AK57 -> 2.4 | E57: =C57 -> 2.56 | F57: =ROUND('[1]IS - Indice stratégique'!K56,10) -> 2.6666667 | G57: 2 E | H57: 2019 | I57: =IF(AND(E57>=1, E57<2), "immédiat", IF(AND(E57>=2, E57<3), "court terme", IF(AND(E57>=3, E57<4), "moyen terme", IF(E57>=4, "long terme", "")))) -> court terme | J57: =IF(I57="immédiat", "moins de 1 an", IF(I57="court terme", "1 à 2 ans", IF(I57="moyen terme", "2 à 3 ans", IF(I57="long terme", "> 4 ans", "")))) -> 1 à 2 ans
A58: 56 | B58: Pont 56 | C58: ='[1]IEm -Indice d''état méca '!AS58 -> 1.96 | D58: ='[1]IEu - Indice d''état usage'!AK58 -> 2.6 | E58: =C58 -> 1.96 | F58: =ROUND('[1]IS - Indice stratégique'!K57,10) -> 3.9047619 | G58: 2 | H58: 2020 | I58: =IF(AND(E58>=1, E58<2), "immédiat", IF(AND(E58>=2, E58<3), "court terme", IF(AND(E58>=3, E58<4), "moyen terme", IF(E58>=4, "long terme", "")))) -> immédiat | J58: =IF(I58="immédiat", "moins de 1 an", IF(I58="court terme", "1 à 2 ans", IF(I58="moyen terme", "2 à 3 ans", IF(I58="long terme", "> 4 ans", "")))) -> moins de 1 an
A59: 57 | B59: Pont 57 | C59: ='[1]IEm -Indice d''état méca '!AS59 -> 2.3 | D59: ='[1]IEu - Indice d''état usage'!AK59 -> 3.1 | E59: =C59 -> 2.3 | F59: =ROUND('[1]IS - Indice stratégique'!K58,10) -> 2.5238095 | G59: 2 E | H59: 2022 | I59: =IF(AND(E59>=1, E59<2), "immédiat", IF(AND(E59>=2, E59<3), "court terme", IF(AND(E59>=3, E59<4), "moyen terme", IF(E59>=4, "long terme", "")))) -> court terme | J59: =IF(I59="immédiat", "moins de 1 an", IF(I59="court terme", "1 à 2 ans", IF(I59="moyen terme", "2 à 3 ans", IF(I59="long terme", "> 4 ans", "")))) -> 1 à 2 ans
A60: 58 | B60: Pont 58 | C60: ='[1]IEm -Indice d''état méca '!AS60 -> 2.74 | D60: ='[1]IEu - Indice d''état usage'!AK60 -> 1.8 | E60: =C60 -> 2.74 | F60: =ROUND('[1]IS - Indice stratégique'!K59,10) -> 2.047619 | G60: 2 S | H60: 2019 | I60: =IF(AND(E60>=1, E60<2), "immédiat", IF(AND(E60>=2, E60<3), "court terme", IF(AND(E60>=3, E60<4), "moyen terme", IF(E60>=4, "long terme", "")))) -> court terme | J60: =IF(I60="immédiat", "moins de 1 an", IF(I60="court terme", "1 à 2 ans", IF(I60="moyen terme", "2 à 3 ans", IF(I60="long terme", "> 4 ans", "")))) -> 1 à 2 ans
A61: 59 | B61: Pont 59 | C61: ='[1]IEm -Indice d''état méca '!AS61 -> 2.14 | D61: ='[1]IEu - Indice d''état usage'!AK61 -> 2.15 | E61: =C61 -> 2.14 | F61: =ROUND('[1]IS - Indice stratégique'!K60,10) -> 1.6666667 | G61: 2 ES | H61: 2020 | I61: =IF(AND(E61>=1, E61<2), "immédiat", IF(AND(E61>=2, E61<3), "court terme", IF(AND(E61>=3, E61<4), "moyen terme", IF(E61>=4, "long terme", "")))) -> court terme | J61: =IF(I61="immédiat", "moins de 1 an", IF(I61="court terme", "1 à 2 ans", IF(I61="moyen terme", "2 à 3 ans", IF(I61="long terme", "> 4 ans", "")))) -> 1 à 2 ans
A62: 60 | B62: Pont 60 | C62: ='[1]IEm -Indice d''état méca '!AS62 -> 4 | D62: ='[1]IEu - Indice d''état usage'!AK62 -> 4 | E62: =C62 -> 4 | F62: =ROUND('[1]IS - Indice stratégique'!K61,10) -> 3.4761905 | G62: 2 | H62: 2020 | I62: =IF(AND(E62>=1, E62<2), "immédiat", IF(AND(E62>=2, E62<3), "court terme", IF(AND(E62>=3, E62<4), "moyen terme", IF(E62>=4, "long terme", "")))) -> long terme | J62: =IF(I62="immédiat", "moins de 1 an", IF(I62="court terme", "1 à 2 ans", IF(I62="moyen terme", "2 à 3 ans", IF(I62="long terme", "> 4 ans", "")))) -> > 4 ans
A63: 61 | B63: Pont 61 | C63: ='[1]IEm -Indice d''état méca '!AS63 -> 2.38 | D63: ='[1]IEu - Indice d''état usage'!AK63 -> 3.25 | E63: =C63 -> 2.38 | F63: =ROUND('[1]IS - Indice stratégique'!K62,10) -> 3.952381 | G63: 2 E | H63: 2020 | I63: =IF(AND(E63>=1, E63<2), "immédiat", IF(AND(E63>=2, E63<3), "court terme", IF(AND(E63>=3, E63<4), "moyen terme", IF(E63>=4, "long terme", "")))) -> court terme | J63: =IF(I63="immédiat", "moins de 1 an", IF(I63="court terme", "1 à 2 ans", IF(I63="moyen terme", "2 à 3 ans", IF(I63="long terme", "> 4 ans", "")))) -> 1 à 2 ans
A64: 62 | B64: Pont 62 | C64: ='[1]IEm -Indice d''état méca '!AS64 -> 2.92 | D64: ='[1]IEu - Indice d''état usage'!AK64 -> 2.95 | E64: =C64 -> 2.92 | F64: =ROUND('[1]IS - Indice stratégique'!K63,10) -> 3.5714286 | G64: 2 | H64: 2019 | I64: =IF(AND(E64>=1, E64<2), "immédiat", IF(AND(E64>=2, E64<3), "court terme", IF(AND(E64>=3, E64<4), "moyen terme", IF(E64>=4, "long terme", "")))) -> court terme | J64: =IF(I64="immédiat", "moins de 1 an", IF(I64="court terme", "1 à 2 ans", IF(I64="moyen terme", "2 à 3 ans", IF(I64="long terme", "> 4 ans", "")))) -> 1 à 2 ans
A65: 63 | B65: Pont 63 | C65: ='[1]IEm -Indice d''état méca '!AS65 -> 3.025 | D65: ='[1]IEu - Indice d''état usage'!AK65 -> 1.3 | E65: =C65 -> 3.025 | F65: =ROUND('[1]IS - Indice stratégique'!K64,10) -> 3.9047619 | G65: 2 S | H65: 2019 | I65: =IF(AND(E65>=1, E65<2), "immédiat", IF(AND(E65>=2, E65<3), "court terme", IF(AND(E65>=3, E65<4), "moyen terme", IF(E65>=4, "long terme", "")))) -> moyen terme | J65: =IF(I65="immédiat", "moins de 1 an", IF(I65="court terme", "1 à 2 ans", IF(I65="moyen terme", "2 à 3 ans", IF(I65="long terme", "> 4 ans", "")))) -> 2 à 3 ans
A66: 64 | B66: Pont 64 | C66: ='[1]IEm -Indice d''état méca '!AS66 -> 2.05 | D66: ='[1]IEu - Indice d''état usage'!AK66 -> 2.95 | E66: =C66 -> 2.05 | F66: =ROUND('[1]IS - Indice stratégique'!K65,10) -> 3.047619 | G66: 2 E | H66: 2020 | I66: =IF(AND(E66>=1, E66<2), "immédiat", IF(AND(E66>=2, E66<3), "court terme", IF(AND(E66>=3, E66<4), "moyen terme", IF(E66>=4, "long terme", "")))) -> court terme | J66: =IF(I66="immédiat", "moins de 1 an", IF(I66="court terme", "1 à 2 ans", IF(I66="moyen terme", "2 à 3 ans", IF(I66="long terme", "> 4 ans", "")))) -> 1 à 2 ans
A67: 65 | B67: Pont 65 | C67: ='[1]IEm -Indice d''état méca '!AS67 -> 2.5 | D67: ='[1]IEu - Indice d''état usage'!AK67 -> 2.8 | E67: =C67 -> 2.5 | F67: =ROUND('[1]IS - Indice stratégique'!K66,10) -> 3.5238095 | G67: 3 | H67: 2022 | I67: =IF(AND(E67>=1, E67<2), "immédiat", IF(AND(E67>=2, E67<3), "court terme", IF(AND(E67>=3, E67<4), "moyen terme", IF(E67>=4, "long terme", "")))) -> court terme | J67: =IF(I67="immédiat", "moins de 1 an", IF(I67="court terme", "1 à 2 ans", IF(I67="moyen terme", "2 à 3 ans", IF(I67="long terme", "> 4 ans", "")))) -> 1 à 2 ans
A68: 66 | B68: Pont 66 | C68: ='[1]IEm -Indice d''état méca '!AS68 -> 2.8 | D68: ='[1]IEu - Indice d''état usage'!AK68 -> 2.7 | E68: =C68 -> 2.8 | F68: =ROUND('[1]IS - Indice stratégique'!K67,10) -> 3.5238095 | G68: 2 | H68: 2022 | I68: =IF(AND(E68>=1, E68<2), "immédiat", IF(AND(E68>=2, E68<3), "court terme", IF(AND(E68>=3, E68<4), "moyen terme", IF(E68>=4, "long terme", "")))) -> court terme | J68: =IF(I68="immédiat", "moins de 1 an", IF(I68="court terme", "1 à 2 ans", IF(I68="moyen terme", "2 à 3 ans", IF(I68="long terme", "> 4 ans", "")))) -> 1 à 2 ans
A69: 67 | B69: Pont 67 | C69: ='[1]IEm -Indice d''état méca '!AS69 -> 2.95 | D69: ='[1]IEu - Indice d''état usage'!AK69 -> 4 | E69: =C69 -> 2.95 | F69: =ROUND('[1]IS - Indice stratégique'!K68,10) -> 4.3333333 | G69: 2 | H69: 2020 | I69: =IF(AND(E69>=1, E69<2), "immédiat", IF(AND(E69>=2, E69<3), "court terme", IF(AND(E69>=3, E69<4), "moyen terme", IF(E69>=4, "long terme", "")))) -> court terme | J69: =IF(I69="immédiat", "moins de 1 an", IF(I69="court terme", "1 à 2 ans", IF(I69="moyen terme", "2 à 3 ans", IF(I69="long terme", "> 4 ans", "")))) -> 1 à 2 ans
A70: 68 | B70: Pont 68 | C70: ='[1]IEm -Indice d''état méca '!AS70 -> 2.2 | D70: ='[1]IEu - Indice d''état usage'!AK70 -> 2.68 | E70: =C70 -> 2.2 | F70: =ROUND('[1]IS - Indice stratégique'!K69,10) -> 2.6666667 | G70: 2 S | H70: 2022 | I70: =IF(AND(E70>=1, E70<2), "immédiat", IF(AND(E70>=2, E70<3), "court terme", IF(AND(E70>=3, E70<4), "moyen terme", IF(E70>=4, "long terme", "")))) -> court terme | J70: =IF(I70="immédiat", "moins de 1 an", IF(I70="court terme", "1 à 2 ans", IF(I70="moyen terme", "2 à 3 ans", IF(I70="long terme", "> 4 ans", "")))) -> 1 à 2 ans
A71: 69 | B71: Pont 69 | C71: ='[1]IEm -Indice d''état méca '!AS71 -> 2.7 | D71: ='[1]IEu - Indice d''état usage'!AK71 -> 1.9 | E71: =C71 -> 2.7 | F71: =ROUND('[1]IS - Indice stratégique'!K70,10) -> 4.3333333 | G71: 2 | H71: 2020 | I71: =IF(AND(E71>=1, E71<2), "immédiat", IF(AND(E71>=2, E71<3), "court terme", IF(AND(E71>=3, E71<4), "moyen terme", IF(E71>=4, "long terme", "")))) -> court terme | J71: =IF(I71="immédiat", "moins de 1 an", IF(I71="court terme", "1 à 2 ans", IF(I71="moyen terme", "2 à 3 ans", IF(I71="long terme", "> 4 ans", "")))) -> 1 à 2 ans
A72: 70 | B72: Pont 70 | C72: ='[1]IEm -Indice d''état méca '!AS72 -> 2.6 | D72: ='[1]IEu - Indice d''état usage'!AK72 -> 3 | E72: =C72 -> 2.6 | F72: =ROUND('[1]IS - Indice stratégique'!K71,10) -> 2.8095238 | G72: 2 | H72: 2022 | I72: =IF(AND(E72>=1, E72<2), "immédiat", IF(AND(E72>=2, E72<3), "court terme", IF(AND(E72>=3, E72<4), "moyen terme", IF(E72>=4, "long terme", "")))) -> court terme | J72: =IF(I72="immédiat", "moins de 1 an", IF(I72="court terme", "1 à 2 ans", IF(I72="moyen terme", "2 à 3 ans", IF(I72="long terme", "> 4 ans", "")))) -> 1 à 2 ans
A73: 71 | B73: Pont 71 | C73: ='[1]IEm -Indice d''état méca '!AS73 -> 1.975 | D73: ='[1]IEu - Indice d''état usage'!AK73 -> 2.2 | E73: =C73 -> 1.975 | F73: =ROUND('[1]IS - Indice stratégique'!K72,10) -> 4.0952381 | G73: 3 | H73: 2019 | I73: =IF(AND(E73>=1, E73<2), "immédiat", IF(AND(E73>=2, E73<3), "court terme", IF(AND(E73>=3, E73<4), "moyen terme", IF(E73>=4, "long terme", "")))) -> immédiat | J73: =IF(I73="immédiat", "moins de 1 an", IF(I73="court terme", "1 à 2 ans", IF(I73="moyen terme", "2 à 3 ans", IF(I73="long terme", "> 4 ans", "")))) -> moins de 1 an
A74: 72 | B74: Pont 72 | C74: ='[1]IEm -Indice d''état méca '!AS74 -> 2.25 | D74: ='[1]IEu - Indice d''état usage'!AK74 -> 2.1 | E74: =C74 -> 2.25 | F74: =ROUND('[1]IS - Indice stratégique'!K73,10) -> 3.952381 | G74: 2 S | H74: 2020 | I74: =IF(AND(E74>=1, E74<2), "immédiat", IF(AND(E74>=2, E74<3), "court terme", IF(AND(E74>=3, E74<4), "moyen terme", IF(E74>=4, "long terme", "")))) -> court terme | J74: =IF(I74="immédiat", "moins de 1 an", IF(I74="court terme", "1 à 2 ans", IF(I74="moyen terme", "2 à 3 ans", IF(I74="long terme", "> 4 ans", "")))) -> 1 à 2 ans
A75: 73 | B75: Pont 73 | C75: ='[1]IEm -Indice d''état méca '!AS75 -> 2.8 | D75: ='[1]IEu - Indice d''état usage'!AK75 -> 2.95 | E75: =C75 -> 2.8 | F75: =ROUND('[1]IS - Indice stratégique'!K74,10) -> 3.6190476 | G75: 2 | H75: 2022 | I75: =IF(AND(E75>=1, E75<2), "immédiat", IF(AND(E75>=2, E75<3), "court terme", IF(AND(E75>=3, E75<4), "moyen terme", IF(E75>=4, "long terme", "")))) -> court terme | J75: =IF(I75="immédiat", "moins de 1 an", IF(I75="court terme", "1 à 2 ans", IF(I75="moyen terme", "2 à 3 ans", IF(I75="long terme", "> 4 ans", "")))) -> 1 à 2 ans
A76: 74 | B76: Pont 74 | C76: ='[1]IEm -Indice d''état méca '!AS76 -> 2.65 | D76: ='[1]IEu - Indice d''état usage'!AK76 -> 2 | E76: =C76 -> 2.65 | F76: =ROUND('[1]IS - Indice stratégique'!K75,10) -> 4.4285714 | G76: 2 | H76: 2019 | I76: =IF(AND(E76>=1, E76<2), "immédiat", IF(AND(E76>=2, E76<3), "court terme", IF(AND(E76>=3, E76<4), "moyen terme", IF(E76>=4, "long terme", "")))) -> court terme | J76: =IF(I76="immédiat", "moins de 1 an", IF(I76="court terme", "1 à 2 ans", IF(I76="moyen terme", "2 à 3 ans", IF(I76="long terme", "> 4 ans", "")))) -> 1 à 2 ans
A77: 75 | B77: Pont 75 | C77: ='[1]IEm -Indice d''état méca '!AS77 -> 4 | D77: ='[1]IEu - Indice d''état usage'!AK77 -> 1.75 | E77: =C77 -> 4 | F77: =ROUND('[1]IS - Indice stratégique'!K76,10) -> 4.1428571 | G77: 2 S | H77: 2020 | I77: =IF(AND(E77>=1, E77<2), "immédiat", IF(AND(E77>=2, E77<3), "court terme", IF(AND(E77>=3, E77<4), "moyen terme", IF(E77>=4, "long terme", "")))) -> long terme | J77: =IF(I77="immédiat", "moins de 1 an", IF(I77="court terme", "1 à 2 ans", IF(I77="moyen terme", "2 à 3 ans", IF(I77="long terme", "> 4 ans", "")))) -> > 4 ans
A78: 76 | B78: Pont 76 | C78: ='[1]IEm -Indice d''état méca '!AS78 -> 2.2 | D78: ='[1]IEu - Indice d''état usage'!AK78 -> 2.2 | E78: =C78 -> 2.2 | F78: =ROUND('[1]IS - Indice stratégique'!K77,10) -> 2.6190476 | G78: 2 | H78: 2019 | I78: =IF(AND(E78>=1, E78<2), "immédiat", IF(AND(E78>=2, E78<3), "court terme", IF(AND(E78>=3, E78<4), "moyen terme", IF(E78>=4, "long terme", "")))) -> court terme | J78: =IF(I78="immédiat", "moins de 1 an", IF(I78="court terme", "1 à 2 ans", IF(I78="moyen terme", "2 à 3 ans", IF(I78="long terme", "> 4 ans", "")))) -> 1 à 2 ans
A79: 77 | B79: Pont 77 | C79: ='[1]IEm -Indice d''état méca '!AS79 -> 4 | D79: ='[1]IEu - Indice d''état usage'!AK79 -> 2.5 | E79: =C79 -> 4 | F79: =ROUND('[1]IS - Indice stratégique'!K78,10) -> 3.7619048 | G79: 2 S | H79: 2020 | I79: =IF(AND(E79>=1, E79<2), "immédiat", IF(AND(E79>=2, E79<3), "court terme", IF(AND(E79>=3, E79<4), "moyen terme", IF(E79>=4, "long terme", "")))) -> long terme | J79: =IF(I79="immédiat", "moins de 1 an", IF(I79="court terme", "1 à 2 ans", IF(I79="moyen terme", "2 à 3 ans", IF(I79="long terme", "> 4 ans", "")))) -> > 4 ans
A80: 78 | B80: Pont 78 | C80: ='[1]IEm -Indice d''état méca '!AS80 -> 2.45 | D80: ='[1]IEu - Indice d''état usage'!AK80 -> 2.38 | E80: =C80 -> 2.45 | F80: =ROUND('[1]IS - Indice stratégique'!K79,10) -> 4.3809524 | G80: 2 | H80: 2020 | I80: =IF(AND(E80>=1, E80<2), "immédiat", IF(AND(E80>=2, E80<3), "court terme", IF(AND(E80>=3, E80<4), "moyen terme", IF(E80>=4, "long terme", "")))) -> court terme | J80: =IF(I80="immédiat", "moins de 1 an", IF(I80="court terme", "1 à 2 ans", IF(I80="moyen terme", "2 à 3 ans", IF(I80="long terme", "> 4 ans", "")))) -> 1 à 2 ans
A81: 79 | B81: Pont 79 | C81: ='[1]IEm -Indice d''état méca '!AS81 -> 2.05 | D81: ='[1]IEu - Indice d''état usage'!AK81 -> 2.4 | E81: =C81 -> 2.05 | F81: =ROUND('[1]IS - Indice stratégique'!K80,10) -> 2.6190476 | G81: 2E | H81: 2019 | I81: =IF(AND(E81>=1, E81<2), "immédiat", IF(AND(E81>=2, E81<3), "court terme", IF(AND(E81>=3, E81<4), "moyen terme", IF(E81>=4, "long terme", "")))) -> court terme | J81: =IF(I81="immédiat", "moins de 1 an", IF(I81="court terme", "1 à 2 ans", IF(I81="moyen terme", "2 à 3 ans", IF(I81="long terme", "> 4 ans", "")))) -> 1 à 2 ans
A82: 80 | B82: Pont 80 | C82: ='[1]IEm -Indice d''état méca '!AS82 -> 2.7 | D82: ='[1]IEu - Indice d''état usage'!AK82 -> 3.1 | E82: =C82 -> 2.7 | F82: =ROUND('[1]IS - Indice stratégique'!K81,10) -> 3.5714286 | G82: 2 | H82: 2022 | I82: =IF(AND(E82>=1, E82<2), "immédiat", IF(AND(E82>=2, E82<3), "court terme", IF(AND(E82>=3, E82<4), "moyen terme", IF(E82>=4, "long terme", "")))) -> court terme | J82: =IF(I82="immédiat", "moins de 1 an", IF(I82="court terme", "1 à 2 ans", IF(I82="moyen terme", "2 à 3 ans", IF(I82="long terme", "> 4 ans", "")))) -> 1 à 2 ans
A83: 81 | B83: Pont 81 | C83: ='[1]IEm -Indice d''état méca '!AS83 -> 2.5 | D83: ='[1]IEu - Indice d''état usage'!AK83 -> 2.725 | E83: =C83 -> 2.5 | F83: =ROUND('[1]IS - Indice stratégique'!K82,10) -> 4 | G83: 2 | H83: 2020 | I83: =IF(AND(E83>=1, E83<2), "immédiat", IF(AND(E83>=2, E83<3), "court terme", IF(AND(E83>=3, E83<4), "moyen terme", IF(E83>=4, "long terme", "")))) -> court terme | J83: =IF(I83="immédiat", "moins de 1 an", IF(I83="court terme", "1 à 2 ans", IF(I83="moyen terme", "2 à 3 ans", IF(I83="long terme", "> 4 ans", "")))) -> 1 à 2 ans
A84: 82 | B84: Pont 82 | C84: ='[1]IEm -Indice d''état méca '!AS84 -> 2.3 | D84: ='[1]IEu - Indice d''état usage'!AK84 -> 2.5 | E84: =C84 -> 2.3 | F84: =ROUND('[1]IS - Indice stratégique'!K83,10) -> 2.3333333 | G84: 2ES | H84: 2020 | I84: =IF(AND(E84>=1, E84<2), "immédiat", IF(AND(E84>=2, E84<3), "court terme", IF(AND(E84>=3, E84<4), "moyen terme", IF(E84>=4, "long terme", "")))) -> court terme | J84: =IF(I84="immédiat", "moins de 1 an", IF(I84="court terme", "1 à 2 ans", IF(I84="moyen terme", "2 à 3 ans", IF(I84="long terme", "> 4 ans", "")))) -> 1 à 2 ans
A85: 83 | B85: Pont 83 | C85: ='[1]IEm -Indice d''état méca '!AS85 -> 2.38 | D85: ='[1]IEu - Indice d''état usage'!AK85 -> 2.25 | E85: =C85 -> 2.38 | F85: =ROUND('[1]IS - Indice stratégique'!K84,10) -> 2.047619 | G85: 2ES | H85: 2020 | I85: =IF(AND(E85>=1, E85<2), "immédiat", IF(AND(E85>=2, E85<3), "court terme", IF(AND(E85>=3, E85<4), "moyen terme", IF(E85>=4, "long terme", "")))) -> court terme | J85: =IF(I85="immédiat", "moins de 1 an", IF(I85="court terme", "1 à 2 ans", IF(I85="moyen terme", "2 à 3 ans", IF(I85="long terme", "> 4 ans", "")))) -> 1 à 2 ans
A86: 84 | B86: Pont 84 | C86: ='[1]IEm -Indice d''état méca '!AS86 -> 2.2 | D86: ='[1]IEu - Indice d''état usage'!AK86 -> 2.32 | E86: =C86 -> 2.2 | F86: =ROUND('[1]IS - Indice stratégique'!K85,10) -> 2.7142857 | G86: 2ES | H86: 2020 | I86: =IF(AND(E86>=1, E86<2), "immédiat", IF(AND(E86>=2, E86<3), "court terme", IF(AND(E86>=3, E86<4), "moyen terme", IF(E86>=4, "long terme", "")))) -> court terme | J86: =IF(I86="immédiat", "moins de 1 an", IF(I86="court terme", "1 à 2 ans", IF(I86="moyen terme", "2 à 3 ans", IF(I86="long terme", "> 4 ans", "")))) -> 1 à 2 ans
A87: 85 | B87: Pont 85 | C87: ='[1]IEm -Indice d''état méca '!AS87 -> 1 | D87: ='[1]IEu - Indice d''état usage'!AK87 -> 2.05 | E87: =C87 -> 1 | F87: =ROUND('[1]IS - Indice stratégique'!K86,10) -> 2.2857143 | G87: 3 | H87: 2020 | I87: =IF(AND(E87>=1, E87<2), "immédiat", IF(AND(E87>=2, E87<3), "court terme", IF(AND(E87>=3, E87<4), "moyen terme", IF(E87>=4, "long terme", "")))) -> immédiat | J87: =IF(I87="immédiat", "moins de 1 an", IF(I87="court terme", "1 à 2 ans", IF(I87="moyen terme", "2 à 3 ans", IF(I87="long terme", "> 4 ans", "")))) -> moins de 1 an
A88: 86 | B88: Pont 86 | C88: ='[1]IEm -Indice d''état méca '!AS88 -> 1.6 | D88: ='[1]IEu - Indice d''état usage'!AK88 -> 2.3285714 | E88: =C88 -> 1.6 | F88: =ROUND('[1]IS - Indice stratégique'!K87,10) -> 1.952381 | G88: 2ES | H88: 2020 | I88: =IF(AND(E88>=1, E88<2), "immédiat", IF(AND(E88>=2, E88<3), "court terme", IF(AND(E88>=3, E88<4), "moyen terme", IF(E88>=4, "long terme", "")))) -> immédiat | J88: =IF(I88="immédiat", "moins de 1 an", IF(I88="court terme", "1 à 2 ans", IF(I88="moyen terme", "2 à 3 ans", IF(I88="long terme", "> 4 ans", "")))) -> moins de 1 an
A89: 87 | B89: Pont 87 | C89: ='[1]IEm -Indice d''état méca '!AS89 -> 2.15 | D89: ='[1]IEu - Indice d''état usage'!AK89 -> 1.78 | E89: =C89 -> 2.15 | F89: =ROUND('[1]IS - Indice stratégique'!K88,10) -> 2.7142857 | G89: 2ES | H89: 2020 | I89: =IF(AND(E89>=1, E89<2), "immédiat", IF(AND(E89>=2, E89<3), "court terme", IF(AND(E89>=3, E89<4), "moyen terme", IF(E89>=4, "long terme", "")))) -> court terme | J89: =IF(I89="immédiat", "moins de 1 an", IF(I89="court terme", "1 à 2 ans", IF(I89="moyen terme", "2 à 3 ans", IF(I89="long terme", "> 4 ans", "")))) -> 1 à 2 ans
