Workbook

Sheet réception
A1: FEUILLE RECEPTION | F1: 44696
A5: Quaie | B5: Matricule camion | C5: Produits Fruits | D5: Quantité expédié | E5: Poids expédié | F5: Produits Légumes | G5: Quantité expédié | H5: Poids expédié | I5: total expedié
A6: Régional 2 | B6: DG-143-TG | C6: Clementine inter (Fruit) | E6: =+D6*'entrée-sortie'!C16 -> 0 | F6: Aubergine vrac instant bio (Légume) | H6: =G6*Tableau1[[#This Row],[POIDS UNITAIRE (kg)]] -> 0 | I6: =D6+G6 -> 0
C7: Fraise casino (Fruit) | E7: =+D7*'entrée-sortie'!C17 -> 0 | F7: Brocolis bio village (Légume) | H7: =G7*Tableau1[[#This Row],[POIDS UNITAIRE (kg)]] -> 0 | I7: =D7+G7 -> 0
C8: Framboise instant bio (Fruit) | E8: =+D8*'entrée-sortie'!C18 -> 0 | F8: Brocolis instant bio (Légume) | H8: =G8*Tableau1[[#This Row],[POIDS UNITAIRE (kg)]] -> 0 | I8: =D8+G8 -> 0
C9: Mandarine bio village (Fruit) | E9: =+D9*'entrée-sortie'!C19 -> 0 | F9: Comcombre bio village (Légume) | H9: =G9*Tableau1[[#This Row],[POIDS UNITAIRE (kg)]] -> 0 | I9: =D9+G9 -> 0
C10: Melon instant bio (Fruit) | E10: =+D10*'entrée-sortie'!C20 -> 0 | F10: Concombre instant bio (Légume) | H10: =G10*Tableau1[[#This Row],[POIDS UNITAIRE (kg)]] -> 0 | I10: =D10+G10 -> 0
C11: Nectarine instant bio (Fruit) | E11: =+D11*'entrée-sortie'!C21 -> 0 | F11: Courgette bio village (Légume) | H11: =G11*Tableau1[[#This Row],[POIDS UNITAIRE (kg)]] -> 0 | I11: =D11+G11 -> 0
C12: Orange lane late bio village (Fruit) | E12: =+D12*'entrée-sortie'!C22 -> 0 | F12: Courgette instant bio (Légume) | H12: =G12*Tableau1[[#This Row],[POIDS UNITAIRE (kg)]] -> 0 | I12: =D12+G12 -> 0
C13: Orange salustiana inter (Fruit) | E13: =+D13*'entrée-sortie'!C23 -> 0 | F13: Tomate grappe bio village (Légume) | H13: =G13*Tableau1[[#This Row],[POIDS UNITAIRE (kg)]] -> 0 | I13: =D13+G13 -> 0
C14: Pasteque bio village (Fruit) | E14: =+D14*'entrée-sortie'!C24 -> 0 | F14: Tomate ronde instant bio (Légume) | H14: =G14*Tableau1[[#This Row],[POIDS UNITAIRE (kg)]] -> 0 | I14: =D14+G14 -> 0
C15: Peche instant bio (Fruit) | E15: =+D15*'entrée-sortie'!C25 -> 0 | F15: Aubergine inter (Légume) | H15: =G15*Tableau1[[#This Row],[POIDS UNITAIRE (kg)]] -> 0 | I15: =D15+G15 -> 0
A16: Total géneral | D16: =SUM(D6:D15) -> 0 | E16: =SUM(E6:E15) -> 0 | G16: =SUM(G6:G15) -> 0 | H16: =SUM(H6:H15) -> 0 | I16: =D16+G16 -> 0

Sheet expedition
A1: FEUILLE EXPEDITION | F1: 44696
A5: Quaie | B5: Matricule camion | C5: Produits Fruits | D5: Quantité expédié | E5: Poids expédié | F5: Produits Légumes | G5: Quantité expédié | H5: Poids expédié | I5: total expedié
A6: Régional 2 | B6: PD-487-GB | C6: Clementine inter (Fruit) | E6: ='entrée-sortie'!C16*expedition!D6 -> 0 | F6: Aubergine vrac instant bio (Légume) | H6: =G6*Tableau1[[#This Row],[POIDS UNITAIRE (kg)]] -> 0 | I6: =D6+G6 -> 0
C7: Fraise casino (Fruit) | E7: ='entrée-sortie'!C17*expedition!D7 -> 0 | F7: Brocolis bio village (Légume) | H7: =G7*Tableau1[[#This Row],[POIDS UNITAIRE (kg)]] -> 0 | I7: =D7+G7 -> 0
C8: Framboise instant bio (Fruit) | E8: ='entrée-sortie'!C18*expedition!D8 -> 0 | F8: Brocolis instant bio (Légume) | H8: =G8*Tableau1[[#This Row],[POIDS UNITAIRE (kg)]] -> 0 | I8: =D8+G8 -> 0
C9: Mandarine bio village (Fruit) | E9: ='entrée-sortie'!C19*expedition!D9 -> 0 | F9: Comcombre bio village (Légume) | H9: =G9*Tableau1[[#This Row],[POIDS UNITAIRE (kg)]] -> 0 | I9: =D9+G9 -> 0
C10: Melon instant bio (Fruit) | E10: ='entrée-sortie'!C20*expedition!D10 -> 0 | F10: Concombre instant bio (Légume) | H10: =G10*Tableau1[[#This Row],[POIDS UNITAIRE (kg)]] -> 0 | I10: =D10+G10 -> 0
C11: Nectarine instant bio (Fruit) | E11: ='entrée-sortie'!C21*expedition!D11 -> 0 | F11: Courgette bio village (Légume) | H11: =G11*Tableau1[[#This Row],[POIDS UNITAIRE (kg)]] -> 0 | I11: =D11+G11 -> 0
C12: Orange lane late bio village (Fruit) | E12: ='entrée-sortie'!C22*expedition!D12 -> 0 | F12: Courgette instant bio (Légume) | H12: =G12*Tableau1[[#This Row],[POIDS UNITAIRE (kg)]] -> 0 | I12: =D12+G12 -> 0
C13: Orange salustiana inter (Fruit) | E13: ='entrée-sortie'!C23*expedition!D13 -> 0 | F13: Tomate grappe bio village (Légume) | H13: =G13*Tableau1[[#This Row],[POIDS UNITAIRE (kg)]] -> 0 | I13: =D13+G13 -> 0
C14: Pasteque bio village (Fruit) | E14: ='entrée-sortie'!C24*expedition!D14 -> 0 | F14: Tomate ronde instant bio (Légume) | H14: =G14*Tableau1[[#This Row],[POIDS UNITAIRE (kg)]] -> 0 | I14: =D14+G14 -> 0
C15: Peche instant bio (Fruit) | E15: ='entrée-sortie'!C25*expedition!D15 -> 0 | F15: Aubergine inter (Légume) | H15: =G15*Tableau1[[#This Row],[POIDS UNITAIRE (kg)]] -> 0 | I15: =D15+G15 -> 0
A16: Total géneral | D16: =SUM(D6:D15) -> 0 | E16: =SUM(E6:E15) -> 0 | G16: =SUM(G6:G15) -> 0 | H16: =SUM(H6:H15) -> 0 | I16: =D16+G16 -> 0

Sheet entrée-sortie
A1: Stock entrée/sortie | F1: 44693
A5: PRODUITS (Fruit ou Légume) | B5: STOCK INITIAL | C5: POIDS UNITAIRE (kg) | D5: POIDS TOTAL (kg) INITIAL | E5: ARRIVAGE | F5: EXPEDITION | G5: STOCK FINAL | H5: POIDS TOTAL (kg) FINAL
A6: Aubergine vrac instant bio (Légume) | B6: 89 | C6: 5 | D6: =B6*C6 -> 445 | E6: 1100 | F6: 8 | G6: =B6+E6-F6 -> 1181 | H6: =G6*C6 -> 5905
A7: Brocolis bio village (Légume) | B7: 145 | C7: 5 | D7: =B7*C7 -> 725 | E7: 1127 | F7: 45 | G7: =B7+E7-F7 -> 1227 | H7: =G7*C7 -> 6135
A8: Brocolis instant bio (Légume) | B8: 78 | C8: 3 | D8: =B8*C8 -> 234 | E8: 112 | F8: 112 | G8: =B8+E8-F8 -> 78 | H8: =G8*C8 -> 234
A9: Comcombre bio village (Légume) | B9: 45 | C9: 10 | D9: =B9*C9 -> 450 | E9: 448 | F9: 75 | G9: =B9+E9-F9 -> 418 | H9: =G9*C9 -> 4180
A10: Concombre instant bio (Légume) | B10: 85 | C10: 5 | D10: =B10*C10 -> 425 | E10: 112 | F10: 123 | G10: =B10+E10-F10 -> 74 | H10: =G10*C10 -> 370
A11: Courgette bio village (Légume) | B11: 25 | C11: 10 | D11: =B11*C11 -> 250 | E11: 1112 | F11: 156 | G11: =B11+E11-F11 -> 981 | H11: =G11*C11 -> 9810
A12: Courgette instant bio (Légume) | B12: 47 | C12: 20 | D12: =B12*C12 -> 940 | E12: 2444 | F12: 1844 | G12: =B12+E12-F12 -> 647 | H12: =G12*C12 -> 12940
A13: Tomate grappe bio village (Légume) | B13: 58 | C13: 2 | D13: =B13*C13 -> 116 | E13: 224 | F13: 125 | G13: =B13+E13-F13 -> 157 | H13: =G13*C13 -> 314
A14: Tomate ronde instant bio (Légume) | B14: 25 | C14: 2 | D14: =B14*C14 -> 50 | E14: 224 | F14: 145 | G14: =B14+E14-F14 -> 104 | H14: =G14*C14 -> 208
A15: Aubergine inter (Légume) | B15: 123 | C15: 3 | D15: =B15*C15 -> 369 | E15: 224 | F15: 46 | G15: =B15+E15-F15 -> 301 | H15: =G15*C15 -> 903
A16: Clementine inter (Fruit) | B16: 569 | C16: 10 | D16: =B16*C16 -> 5690 | E16: 448 | F16: 85 | G16: =B16+E16-F16 -> 932 | H16: =G16*C16 -> 9320
A17: Fraise casino (Fruit) | B17: 73 | C17: 2 | D17: =B17*C17 -> 146 | E17: 448 | F17: 135 | G17: =B17+E17-F17 -> 386 | H17: =G17*C17 -> 772
... A25: Peche instant bio (Fruit) | B25: 65 | C25: 3 | D25: =B25*C25 -> 195 | E25: 112 | F25: 165 | G25: =B25+E25-F25 -> 12 | H25: =G25*C25 -> 36
A26: Total général | B26: =SUBTOTAL(109,Tableau1[STOCK INITIAL]) -> 2677 | D26: =SUBTOTAL(109,Tableau1[POIDS TOTAL (kg) INITIAL]) -> 15079 | E26: =SUBTOTAL(109,Tableau1[ARRIVAGE]) -> 8851 | F26: =SUBTOTAL(109,Tableau1[EXPEDITION]) -> 3991 | G26: =SUBTOTAL(109,Tableau1[STOCK FINAL]) -> 7537 | H26: =SUBTOTAL(109,Tableau1[POIDS TOTAL (kg) FINAL]) -> 55185

Sheet base de donnée
A1: 44692 | C1: RE-789-PL | E1: RS-546-YT
A2: 44693 | C2: TE-954-ML | E2: TY-563-UJ
A3: 44694 | C3: FG-741-YT | E3: PM-245-HJ
A4: 44695 | C4: UI-895-OK | E4: CV-135-PO
A5: 44696 | C5: FE-895-GH | E5: GF-765-PO
A6: 44697 | C6: PD-487-GB | E6: HU-760-ML
A7: 44698 | C7: BW-583-VB | E7: DG-143-TG
A8: 44699 | C8: HG-798-LK | E8: RF-542-JK
A9: 44700 | C9: UT-963-OP | E9: GH-603-MP
A10: 44701 | C10: JH-895-TY | E10: EE-543-JH
A11: 44702
A12: 44703
A13: 44704
A14: 44705
A15: 44706
A16: 44707
A17: 44708
A18: 44709
A19: 44710
A20: 44711
A21: 44712
A22: 44713
... A332: 45023
A333: 45024 | C333: France 1
A334: 45025 | C334: France 2
A335: 45026 | C335: France 3
A336: 45027 | C336: France 4
A337: 45028 | C337: France 5
A338: 45029 | C338: Régional 1
A339: 45030 | C339: Régional 2
A340: 45031 | C340: Régional 3
A341: 45032 | C341: Europe 1
A342: 45033 | C342: Europe 2
A343: 45034
A344: 45035
A345: 45036
A346: 45037
A347: 45038
A348: 45039
A349: 45040
...
