Workbook

Sheet liste étudiants
A4: noms | B4: prénoms | C4: date naissance
A5: A | B5: Angie | C5: 20104
A6: B | B6: Ari | C6: 20469
A7: C | B7: Armance | C7: 20835
A8: D | B8: Artus | C8: 21200
A9: E | B9: Astrid | C9: 21565
A10: F | B10: Aurèle | C10: 21930
A11: G | B11: Camélia | C11: 22296
A12: H | B12: Célestin | C12: 22661
A13: I | B13: Célia | C13: 23026
A14: J | B14: Cléo | C14: 23391
A15: K | B15: Delphine | C15: 23757
A16: L | B16: Eden | C16: 24122
... A28: X | B28: Leonor | C28: 28505

Sheet données Admin
D2: BTS Électrotechnique
D4: Grille d'évaluation CCF de l'unité U51
B6: Paramètres "A COMPLÉTER" | E6: L’ évaluation s’appuie sur des activités conduites en centre de formation et/ou en entreprise. La période d’évaluation et ses modalités de mise en oeuvre relèvent de l’équipe pédagogique. Pour évaluer les candidats, la commission d'évaluation observe le travail réalisé par le candidat à partir de la grille nationale d’évaluation. Si le travail observé est réalisé en entreprise, la commission d’évaluation s’entretient avec le candidat qui présente son activité en présence du tuteur (ou maître d’apprentissage). Ce dernier participe à l’évaluation. La présentation du candidat, de 20 minutes maximum, lui permet d’exposer l’ensemble de l’activité. Un entretien de 20 minutes permet alors au candidat de répondre aux questions de la commission d’évaluation. Lorsque le stage participe à l’évaluation de l'une de ces unités, l’évaluation des compétences mobilisées durant le stage compte pour 1/3 de la proposition de note émise par la commission d’évaluation. La commission arrête donc la proposition de note de l’unité à partir de 2 activités (celle réalisée lors du stage et celle réalisée en établissement de formation).
B8: Année scolaire | C8: 2022-2023
B10: session | C10: 2023
B12: Prénom | C12: Pierre
B14: Nom | C14: QUIROULE
B16: Date Naissance | C16: 01/08/2002
B18: N° candidat | C18: A2022 0000 0000
B20: Unité du Rapport d'activité | C20: U62
B29: 1- Remplir les zones colorées dans la zone "Paramètres" ci-dessus
B31: 2- Dans l'onglets U51 : - selon la ou les activités évaluées, la commission d'évaluation complète la cellule ligne 10, colonne K, ou colonne M ou colonne O ; - la commission d'évaluation (équipe enseignante et tuteur éventuel) positionne le niveau de maîtrise de chaque compétence (par un "X" sur 1 des 4 niveaux) à partir de l'observation des travaux réalisés par le candidat en centre de formation et éventuellement en entreprise les critères d'évaluation sont indiqués " pour mémoire " uniquement - la commission d'évaluation saisit manuellement la note sur 20 qu'elle attribue au candidat dans la cellule "…" /20 - la commission d'évaluation complète la zone "commentaires" destinés à éclairer le jury final sur la note obtenue - la commission d'évaluation complète la date et l'identité de ses membres.
B33: Le fichier est enregistré avec Nom et Prénom du candidat puis communiqué au centre de délibération
B34: sur un support conforme aux consignes du chef de centre.
B36: Saisir la note du candidat dans l'application institutionelle, conformément aux instructions académiques
B37: et en accord avec les instructions du chef de centre d'examen.
E47: =MID(CELL("nomfichier",A1),FIND("]",CELL("nomfichier",A1))+1,20) -> données Admin

Sheet niveau dévaluation
D2: ='données Admin'!D2 -> BTS Électrotechnique
B3: ='données Admin'!B2 -> 0
D4: ='données Admin'!D4 -> Grille d'évaluation CCF de l'unité U51
D6: Explication des niveaux d'évaluation des compétences
F7: Poids relatif du niveau de maîtrise d'une compétence
B8: N1 | D8: Compétence non acquise | F8: 0
D9: Niveau d'acquisition très insuffisant : le candidat ne peut pas travailler sans être très souvent accompagné et aidé.
B11: N2 | D11: Compétence "en cours d'acquisition" non stabilisée | F11: 0.4
D12: Niveau d'acquisition fragile qui nécessite un accompagnement régulier pour effectuer le travail confié.
B14: N3 | D14: Compétence "partiellement acquise" | F14: 0.75
D15: Niveau d'acquisition incomplet : le transfert de la compétence n'est pas total dans chaque situation de travail proposée, une aide est parfois requise notamment lors d'une situation de travail nouvelle.
B17: N4 | D17: Compétence totalement acquise et transférable | F17: 1
D18: Niveau d'acquisition complet : le candidat travaille en toute autonomie, il sait s'adapter et transférer la compétence dans toutes les situations sans aide.

Sheet U51
B2: ='données Admin'!D2 -> BTS Électrotechnique | D2: U51 : analyse, diagnostic, maintenance | L2: Poids des compétences évaluées pour candidat ayant mené des activités en analyse diagnostic et maintenance | N2: Poids des compétences évaluées pour candidat ayant mené uniquement des activités en analyse diagnostic | P2: Poids des compétences évaluées pour candidat ayant mené des activités uniquement en maintenance
C3: Evaluation par CCF - session | E3: ='données Admin'!C10 -> 2023
C4: identité du candidat | E4: ='données Admin'!$C$12 -> Pierre | G4: ='données Admin'!C14 -> QUIROULE
C5: n° candidat | E5: ='données Admin'!C18 -> A2022 0000 0000 | G5: Rapport activité | H5: =IF(MID(CELL("nomfichier",A1),FIND("]",CELL("nomfichier",A1))+1,3)='données Admin'!C20,"OUI","NON") -> NON
C6: Coefficient : 3 | E6: N1 | F6: N2 | G6: N3 | H6: N4
E7: Compétence non acquise | F7: Compétence "en cours d'acquisition" non stabilisée | G7: Compétence "partiellement acquise" | H7: Compétence totalement acquise et transférable
E8: 0 | F8: 0.4 | G8: 0.75 | H8: 1
L10: x | R10: =IF((COUNTBLANK(L10)+COUNTBLANK(N10)+COUNTBLANK(P10))=3,"À COMPLETER",IF((COUNTBLANK(L10)+COUNTBLANK(N10)+COUNTBLANK(P10))=2,"","ERREUR")) | T10: =IF(MID(CELL("nomfichier",A1),FIND("]",CELL("nomfichier",A1))+1,20)='données Admin'!C20,"OUI","NON") -> NON
C11: Positionner le niveau de maîtrise de la compétence
B12: 0.25 | C12: C2 : extaire les informations nécessaires à la réalisation des tâches | I12: =IF(COUNTBLANK(E12) + COUNTBLANK(F12) + COUNTBLANK(G12)+ COUNTBLANK(H12 )= 3, IF(E12="X",0,IF(F12="X",F13,IF(G12="X",G13,IF(H12="X",H13,0)))),"erreur") -> erreur | J12: =IF(COUNTBLANK(E12) + COUNTBLANK(F12) + COUNTBLANK(G12)+ COUNTBLANK(H12 )= 3,"","D") -> D | L12: 0.25 | N12: 0.25 | P12: 0.25 | T12: =MID(CELL("nomfichier",A1),FIND("]",CELL("nomfichier",A1))+1,20) -> U51
C13: 05/20 | E13: 0 | F13: =H13*0.4 -> 2 | G13: =H13*0.75 -> 3.75 | H13: 5
C14: La demande client/utilisateur est analysée
C15: Les informations nécessaires à l’analyse et aux mesures sont extraites des documents
C16: Les informations relatives aux prescriptions techniques et aux réglementations sont recueillies
C17: Les conditions de la maintenance sont prises en compte
C18: Les risques professionnels sont identifiés
C19: Les habilitations et les certifications sont vérifiées
C20: Les informations écrites et orales nécessaires sont collectées et hiérarchisées
C21: Les informations écrites et orales collectées sont pertinentes pour l’activité
C23: Positionner le niveau de maîtrise de la compétence
B24: 0.25 | C24: C13 : mesurer les grandeurs caractéristiques d’un ouvrage, d’une installation, d’un équipement électrique | I24: =IF(COUNTBLANK(E24) + COUNTBLANK(F24) + COUNTBLANK(G24)+ COUNTBLANK(H24 )= 3, IF(E24="X",0,IF(F24="X",F25,IF(G24="X",G25,IF(H24="X",H25,0)))),"erreur") -> erreur | J24: =IF(COUNTBLANK(E24) + COUNTBLANK(F24) + COUNTBLANK(G24)+ COUNTBLANK(H24 )= 3,"","D") -> D | L24: 0.25 | N24: 0.25 | P24: 0.25
C25: 05/20 | E25: 0 | F25: =H25*0.4 -> 2 | G25: =H25*0.75 -> 3.75 | H25: 5
C26: La procédure définie est appliquée
C27: L’installation et l’environnement de travail sont pris en compte
C28: Le niveau d’habilitation nécessaire avant l’intervention est déterminé
C29: Les actions de prévention et de sécurité sont mises en œuvre
C30: Les appareils de mesures sont installés
C31: Les mesures sont collectées
C32: Les enregistrements sont réalisés
C33: Les informations venant des objets connectés sont exploitées
C34: Les contrôles (locaux ou à distance) sont effectués
C35: Les essais associés sont effectués
D37: Positionner le niveau de maîtrise de la compétence
B38: =IF((COUNTBLANK(L10) + COUNTBLANK(N10) + COUNTBLANK(P10)) = 2, IF(L10="x",0.25,IF(N10="x",0.5,IF(P10="x",0,"Erreur"))),"Erreur") -> 0.25 | C38: C17 : réaliser un diagnostic de performance y compris énergétique, de sécurité, d’un ouvrage, d’une installation, d'un équipement électrique | I38: =IF(B38>0, IF(COUNTBLANK(E38) + COUNTBLANK(F38) + COUNTBLANK(G38)+ COUNTBLANK(H38 )= 3, IF(E38="X",0,IF(F38="X",F39,IF(G38="X",G39,IF(H38="X",H39,0)))),"erreur"),0) -> erreur | J38: =IF(COUNTBLANK(E38)+COUNTBLANK(F38)+COUNTBLANK(G38)+COUNTBLANK(H38)=3,"",IF(B38=0,"","D")) -> D | L38: 0.25 | N38: 0.5 | P38: 0
C39: =IF(B38=0,"0/20",IF(B38=0.25,"5/20",IF(B38=0.5,"10/20","Erreur"))) -> 5/20 | E39: 0 | F39: =H39*0.4 -> 2 | G39: =H39*0.75 -> 3.75 | H39: =B38*20 -> 5
C40: Le processus de diagnostic est appliqué
C41: Les conditions de la maintenance sont prises en compte
C42: Le niveau d’habilitation nécessaire est déterminé
C43: Les appareils de mesures sont sélectionnés et installés
C44: Les actions de prévention et de sécurité sont mises en œuvre
...

Sheet U51 RA
B2: ='données Admin'!D2 -> BTS Électrotechnique | D2: U51 : analyse, diagnostic, maintenance | L2: Poids des compétences évaluées pour candidat ayant mené des activités en analyse diagnostic et maintenance | N2: Poids des compétences évaluées pour candidat ayant mené uniquement des activités en analyse diagnostic | P2: Poids des compétences évaluées pour candidat ayant mené des activités uniquement en maintenance
C3: Evaluation par CCF - session | E3: ='données Admin'!C10 -> 2023
C4: identité du candidat | E4: ='données Admin'!$C$12 -> Pierre | G4: ='données Admin'!C14 -> QUIROULE
C5: n° candidat | E5: ='données Admin'!C18 -> A2022 0000 0000 | G5: Rapport activité | H5: =IF(MID(CELL("nomfichier",A1),FIND("]",CELL("nomfichier",A1))+1,3)='données Admin'!C20,"OUI","NON") -> NON
C6: Coefficient : 3 | E6: N1 | F6: N2 | G6: N3 | H6: N4
E7: Compétence non acquise | F7: Compétence "en cours d'acquisition" non stabilisée | G7: Compétence "partiellement acquise" | H7: Compétence totalement acquise et transférable
E8: 0 | F8: 0.4 | G8: 0.75 | H8: 1
P10: x | R10: =IF((COUNTBLANK(L10)+COUNTBLANK(N10)+COUNTBLANK(P10))=3,"À COMPLETER",IF((COUNTBLANK(L10)+COUNTBLANK(N10)+COUNTBLANK(P10))=2,"","ERREUR"))
C11: Positionner le niveau de maîtrise de la compétence
B12: 0.25 | C12: C2 : extaire les informations nécessaires à la réalisation des tâches | I12: =IF(COUNTBLANK(E12) + COUNTBLANK(F12) + COUNTBLANK(G12)+ COUNTBLANK(H12 )= 3, IF(E12="X",0,IF(F12="X",F13,IF(G12="X",G13,IF(H12="X",H13,0)))),"erreur") -> erreur | J12: =IF(COUNTBLANK(E12) + COUNTBLANK(F12) + COUNTBLANK(G12)+ COUNTBLANK(H12 )= 3,"","D") -> D | L12: 0.25 | N12: 0.25 | P12: 0.25
C13: 05/20 | E13: 0 | F13: =H13*0.4 -> 2 | G13: =H13*0.75 -> 3.75 | H13: 5
C14: La demande client/utilisateur est analysée
C15: Les informations nécessaires à l’analyse et aux mesures sont extraites des documents
C16: Les informations relatives aux prescriptions techniques et aux réglementations sont recueillies
C17: Les conditions de la maintenance sont prises en compte
C18: Les risques professionnels sont identifiés
C19: Les habilitations et les certifications sont vérifiées
C20: Les informations écrites et orales nécessaires sont collectées et hiérarchisées
C21: Les informations écrites et orales collectées sont pertinentes pour l’activité
C23: Positionner le niveau de maîtrise de la compétence
B24: 0.25 | C24: C13 : mesurer les grandeurs caractéristiques d’un ouvrage, d’une installation, d’un équipement électrique | I24: =IF(COUNTBLANK(E24) + COUNTBLANK(F24) + COUNTBLANK(G24)+ COUNTBLANK(H24 )= 3, IF(E24="X",0,IF(F24="X",F25,IF(G24="X",G25,IF(H24="X",H25,0)))),"erreur") -> erreur | J24: =IF(COUNTBLANK(E24) + COUNTBLANK(F24) + COUNTBLANK(G24)+ COUNTBLANK(H24 )= 3,"","D") -> D | L24: 0.25 | N24: 0.25 | P24: 0.25
C25: 05/20 | E25: 0 | F25: =H25*0.4 -> 2 | G25: =H25*0.75 -> 3.75 | H25: 5
C26: La procédure définie est appliquée
C27: L’installation et l’environnement de travail sont pris en compte
C28: Le niveau d’habilitation nécessaire avant l’intervention est déterminé
C29: Les actions de prévention et de sécurité sont mises en œuvre
C30: Les appareils de mesures sont installés
C31: Les mesures sont collectées
C32: Les enregistrements sont réalisés
C33: Les informations venant des objets connectés sont exploitées
C34: Les contrôles (locaux ou à distance) sont effectués
C35: Les essais associés sont effectués
D37: Positionner le niveau de maîtrise de la compétence
B38: =IF((COUNTBLANK(L10) + COUNTBLANK(N10) + COUNTBLANK(P10)) = 2, IF(L10="x",0.25,IF(N10="x",0.5,IF(P10="x",0,"Erreur"))),"Erreur") -> 0 | C38: C17 : réaliser un diagnostic de performance y compris énergétique, de sécurité, d’un ouvrage, d’une installation, d'un équipement électrique | I38: =IF(B38>0, IF(COUNTBLANK(E38) + COUNTBLANK(F38) + COUNTBLANK(G38)+ COUNTBLANK(H38 )= 3, IF(E38="X",0,IF(F38="X",F39,IF(G38="X",G39,IF(H38="X",H39,0)))),"erreur"),0) -> 0 | J38: =IF(COUNTBLANK(E38)+COUNTBLANK(F38)+COUNTBLANK(G38)+COUNTBLANK(H38)=3,"",IF(B38=0,"","D")) | L38: 0.25 | N38: 0.5 | P38: 0
C39: =IF(B38=0,"0/20",IF(B38=0.25,"5/20",IF(B38=0.5,"10/20","Erreur"))) -> 0/20 | E39: 0 | F39: =H39*0.4 -> 0 | G39: =H39*0.75 -> 0 | H39: =B38*20 -> 0
C40: Le processus de diagnostic est appliqué
C41: Les conditions de la maintenance sont prises en compte
C42: Le niveau d’habilitation nécessaire est déterminé
C43: Les appareils de mesures sont sélectionnés et installés
C44: Les actions de prévention et de sécurité sont mises en œuvre
...

Sheet U52
B2: ='données Admin'!D2 -> BTS Électrotechnique | D2: U52 : conduite de projet/chantier
C3: Evaluation par CCF - session | E3: ='données Admin'!C10 -> 2023
C4: identité du candidat | E4: ='données Admin'!$C$12 -> Pierre | G4: ='données Admin'!$C$14 -> QUIROULE
C5: n° candidat | E5: ='données Admin'!C18 -> A2022 0000 0000 | G5: Rapport activité | H5: =IF(MID(CELL("nomfichier",A1),FIND("]",CELL("nomfichier",A1))+1,3)='données Admin'!C20,"OUI","NON") -> NON
C6: Coefficient : 3 | E6: N1 | F6: N2 | G6: N3 | H6: N4
E7: Compétence non acquise | F7: Compétence "en cours d'acquisition" non stabilisée | G7: Compétence "partiellement acquise" | H7: Compétence totalement acquise et transférable
E8: 0 | F8: 0.4 | G8: 0.75 | H8: 1
D9: Positionner le niveau de maîtrise de la compétence
B10: 0.25 | C10: C1 : recenser et prendre en compte les normes, les réglementations applicables au projet/chantier | J10: =IF(E10="X",0,IF(F10="X",F11,IF(G10="X",G11,IF(H10="X",H11,0)))) -> 0 | K10: =IF(COUNTBLANK(E10) + COUNTBLANK(F10) + COUNTBLANK(G10)+ COUNTBLANK(H10 )= 3,"","D") -> D
C11: 05/20 | E11: 0 | F11: =H11*0.4 -> 2 | G11: =H11*0.75 -> 3.75 | H11: 5
C12: Les contraintes et ressources normatives et règlementaires dont celles liées à la qualité, la sécurité, la santé et l’environnement sont prises en compte tout au long du projet/chantier
C13: Les tâches sont réparties en fonction des habilitations, des certifications des équipiers en tenant compte du planning des autres intervenants (monteur-câbleurs, autres corps d’état, sous-traitants)
C14: Les intervenants sont informés sur les règles liées à la santé, la sécurité et l’environnement applicable dans le cadre du projet/chantier
C15: La bonne utilisation des dispositifs de protection des personnes et des biens est contrôlée
D17: Positionner le niveau de maîtrise de la compétence
B18: 0.25 | C18: C3 : gérer les risques et les aléas liés à la réalisation des tâches | J18: =IF(E18="X",0,IF(F18="X",F19,IF(G18="X",G19,IF(H18="X",H19,0)))) -> 0 | K18: =IF(COUNTBLANK(E18) + COUNTBLANK(F18) + COUNTBLANK(G18)+ COUNTBLANK(H18 )= 3,"","D") -> D
C19: 5/20 | E19: 0 | F19: =H19*0.4 -> 2 | G19: =H19*0.75 -> 3.75 | H19: 5
C20: Les différentes étapes de l’activité sont adaptées pour tenir compte des nouvelles solutions retenues et des circonstances
C21: Des solutions pour pallier les aléas sont proposées à la hiérarchie
C22: La mise en œuvre des mesures de prévention est prévue
C23: La présence des dispositifs de protection des personnes et des biens est contrôlée
C24: Les dispositifs de protection des personnes et des biens sont utilisés
C25: Les intervenants sont informés sur les règles liées à la santé, la sécurité et l’environnement, applicables dans le cadre du projet/chantier
C26: Toutes les règles de santé, de sécurité et d’environnement sont respectées tout au long du projet/chantier
C27: Les risques liés à l’activité sont identifiés et recensés
C28: Des solutions pour prévenir les risques sont proposées et validées
C29: Les aléas sont gérés
D31: Positionner le niveau de maîtrise de la compétence
B32: 0.5 | C32: C12 :gérer et conduire (y compris avec les documents de : organisation, planification, suivi, pilotage, réception etc.) le projet/chantier professionnel | J32: =IF(E32="X",0,IF(F32="X",F33,IF(G32="X",G33,IF(H32="X",H33,0)))) -> 0 | K32: =IF(COUNTBLANK(E32) + COUNTBLANK(F32) + COUNTBLANK(G32)+ COUNTBLANK(H32 )= 3,"","D") -> D
C33: 10/20 | E33: 0 | F33: =H33*0.4 -> 4 | G33: =H33*0.75 -> 7.5 | H33: 10
C34: Les informations écrites et orales relatives au projet/chantier sont collectées
C35: La liste et la disponibilité des matériels, équipements, outillages et outils numériques nécessaires sont vérifiées
C36: L’intervention est planifiée
C37: La durée du projet/chantier est évaluée
C38: Les approvisionnements sont planifiés
C39: Le projet/chantier est organisé pour qu’il soit mené de manière éco-responsable
C40: Les tâches sont réparties en fonction des habilitations, des certifications des équipiers en tenant compte du planning des autres intervenants
C41: Les revues de projet sont effectuées
C42: Les situations imprévues, délicates, conflictuelles sont gérées en lien avec la hiérarchie
C43: Les arbitrages nécessaires en fonction des contraintes rencontrées sont pris
...

Sheet U61
B2: ='données Admin'!D2 -> BTS Électrotechnique | D2: U61 : conception - étude détaillée du projet
C3: Evaluation ponctuelle pratique - session | E3: ='données Admin'!C10 -> 2023
C4: identité du candidat | E4: ='données Admin'!$C$12 -> Pierre | G4: ='données Admin'!$C$14 -> QUIROULE
C5: n° candidat | E5: ='données Admin'!C18 -> A2022 0000 0000 | G5: Rapport activité | H5: =IF(MID(CELL("nomfichier",A1),FIND("]",CELL("nomfichier",A1))+1,3)='données Admin'!C20,"OUI","NON") -> NON
C6: Coefficient : 3 | E6: N1 | F6: N2 | G6: N3 | H6: N4
E7: Compétence non acquise | F7: Compétence "en cours d'acquisition" non stabilisée | G7: Compétence "partiellement acquise" | H7: Compétence totalement acquise et transférable
E8: 0 | F8: 0.4 | G8: 0.75 | H8: 1
D9: Positionner le niveau de maîtrise de la compétence
B10: 0.3 | C10: C7 : simuler le comportement de tout ou partie d’un ouvrage, d’une installation, d’un équipement électrique, | J10: =IF(E10="X",0,IF(F10="X",F11,IF(G10="X",G11,IF(H10="X",H11,0)))) -> 0 | K10: =IF(COUNTBLANK(E10) + COUNTBLANK(F10) + COUNTBLANK(G10)+ COUNTBLANK(H10 )= 3,"","D") -> D
C11: 06/20 | E11: 0 | F11: =H11*0.4 -> 2.4 | G11: =H11*0.75 -> 4.5 | H11: 6
C12: Les informations nécessaires sont caractérisées | K12: items évalués par équipe enseignante
C13: L’outil de simulation est paramétré en cohérence avec les données du projet
C14: Le fonctionnement de l’installation est simulé et validé
C15: La nomenclature des matériels est établie
D17: Positionner le niveau de maîtrise de la compétence
B18: 0.35 | C18: C9 : choisir les constituants d’un ouvrage, d’une installation, d’un équipement électrique, | J18: =IF(E18="X",0,IF(F18="X",F19,IF(G18="X",G19,IF(H18="X",H19,0)))) -> 0 | K18: =IF(COUNTBLANK(E18) + COUNTBLANK(F18) + COUNTBLANK(G18)+ COUNTBLANK(H18 )= 3,"","D") -> D
C19: 7/20 | E19: 0 | F19: =H19*0.4 -> 2.8 | G19: =H19*0.75 -> 5.25 | H19: 7
C20: Les matériels choisis respectent des contraintes normatives et réglementaires et le cahier des charges du client /utilisateur | K20: items évalués par équipe enseignante
C21: La nomenclature des matériels établie est complète et exacte
D23: Positionner le niveau de maîtrise de la compétence
B24: 0.35 | C24: C11 : réaliser les documents techniques (plans, schémas, DOE, maquette virtuelle, etc.) du projet/chantier | J24: =IF(E24="X",0,IF(F24="X",F25,IF(G24="X",G25,IF(H24="X",H25,0)))) -> 0 | K24: =IF(COUNTBLANK(E24) + COUNTBLANK(F24) + COUNTBLANK(G24)+ COUNTBLANK(H24 )= 3,"","D") -> D
C25: 7/20 | E25: 0 | F25: =H25*0.4 -> 2.8 | G25: =H25*0.75 -> 5.25 | H25: 7
C26: Les dossiers 1, 2, 3 sont actualisés | K26: items évalués par commission d'examen
C27: Les documents et les données contractuels (CDC, CCTP, etc.) du projet/chantier sont rédigés, actualisés et archivés
C28: Les documents de conception du projet/chantier (architecture, schémas, DOE, notes de calcul, etc.) sont établis, actualisés et archivés
C29: Les notices d’utilisation de l’ouvrage, de l’installation de l’équipement électrique sont rédigées
C32: Note proposée au jury de délibération | F32: /20 | G32: NOTE calculée | H32: =J10+J18+J24 -> 0
C34: Nombre d'activités observées en entreprise | E34: saisir ici le nombre
C35: Nombre d'activités observées en centre de formation | E35: saisir ici le nombre
C37: Commentaires destinés à éclairer le jury sur la proposition de note :
C38: saisir ici les commentaires
C41: Prénom et nom des membres de la commission : | D41: Date : | E41: saisir ici la date
C42: saisir ici l'identité des membres de la commission

Sheet U61 RA
B2: ='données Admin'!D2 -> BTS Électrotechnique | D2: U61 : conception - étude détaillée du projet
C3: Evaluation ponctuelle pratique - session | E3: ='données Admin'!C10 -> 2023
C4: identité du candidat | E4: ='données Admin'!$C$12 -> Pierre | G4: ='données Admin'!$C$14 -> QUIROULE
C5: n° candidat | E5: ='données Admin'!C18 -> A2022 0000 0000 | G5: Rapport activité | H5: =IF(MID(CELL("nomfichier",A1),FIND("]",CELL("nomfichier",A1))+1,3)='données Admin'!C20,"OUI","NON") -> NON
C6: Coefficient : 3 | E6: N1 | F6: N2 | G6: N3 | H6: N4
E7: Compétence non acquise | F7: Compétence "en cours d'acquisition" non stabilisée | G7: Compétence "partiellement acquise" | H7: Compétence totalement acquise et transférable
E8: 0 | F8: 0.4 | G8: 0.75 | H8: 1
D9: Positionner le niveau de maîtrise de la compétence
B10: 0.3 | C10: C7 : simuler le comportement de tout ou partie d’un ouvrage, d’une installation, d’un équipement électrique, | J10: =IF(E10="X",0,IF(F10="X",F11,IF(G10="X",G11,IF(H10="X",H11,0)))) -> 0 | K10: =IF(COUNTBLANK(E10) + COUNTBLANK(F10) + COUNTBLANK(G10)+ COUNTBLANK(H10 )= 3,"","D") -> D
C11: 06/20 | E11: 0 | F11: =H11*0.4 -> 2.4 | G11: =H11*0.75 -> 4.5 | H11: 6
C12: Les informations nécessaires sont caractérisées | K12: items évalués par équipe enseignante
C13: L’outil de simulation est paramétré en cohérence avec les données du projet
C14: Le fonctionnement de l’installation est simulé et validé
C15: La nomenclature des matériels est établie
D17: Positionner le niveau de maîtrise de la compétence
B18: 0.35 | C18: C9 : choisir les constituants d’un ouvrage, d’une installation, d’un équipement électrique, | J18: =IF(E18="X",0,IF(F18="X",F19,IF(G18="X",G19,IF(H18="X",H19,0)))) -> 0 | K18: =IF(COUNTBLANK(E18) + COUNTBLANK(F18) + COUNTBLANK(G18)+ COUNTBLANK(H18 )= 3,"","D") -> D
C19: 7/20 | E19: 0 | F19: =H19*0.4 -> 2.8 | G19: =H19*0.75 -> 5.25 | H19: 7
C20: Les matériels choisis respectent des contraintes normatives et réglementaires et le cahier des charges du client /utilisateur | K20: items évalués par équipe enseignante
C21: La nomenclature des matériels établie est complète et exacte
D23: Positionner le niveau de maîtrise de la compétence
B24: 0.35 | C24: C11 : réaliser les documents techniques (plans, schémas, DOE, maquette virtuelle, etc.) du projet/chantier | J24: =IF(E24="X",0,IF(F24="X",F25,IF(G24="X",G25,IF(H24="X",H25,0)))) -> 0 | K24: =IF(COUNTBLANK(E24) + COUNTBLANK(F24) + COUNTBLANK(G24)+ COUNTBLANK(H24 )= 3,"","D") -> D
C25: 7/20 | E25: 0 | F25: =H25*0.4 -> 2.8 | G25: =H25*0.75 -> 5.25 | H25: 7
C26: Les dossiers 1, 2, 3 sont actualisés | K26: items évalués par commission d'examen
C27: Les documents et les données contractuels (CDC, CCTP, etc.) du projet/chantier sont rédigés, actualisés et archivés
C28: Les documents de conception du projet/chantier (architecture, schémas, DOE, notes de calcul, etc.) sont établis, actualisés et archivés
C29: Les notices d’utilisation de l’ouvrage, de l’installation de l’équipement électrique sont rédigées
C32: Note proposée au jury de délibération | F32: /20 | G32: NOTE calculée | H32: =J10+J18+J24 -> 0
C34: Nombre d'activités observées en entreprise | E34: saisir ici le nombre
C35: Nombre d'activités observées en centre de formation | E35: saisir ici le nombre
C37: Commentaires destinés à éclairer le jury sur la proposition de note :
C38: saisir ici les commentaires
C41: Prénom et nom des membres de la commission : | D41: Date : | E41: saisir ici la date
C42: saisir ici l'identité des membres de la commission

Sheet U62
B2: ='données Admin'!D2 -> BTS Électrotechnique | D2: U62 : réalisation, mise en service d'un projet
C3: Evaluation par CCF - session | E3: ='données Admin'!C10 -> 2023
C4: identité du candidat | E4: ='données Admin'!$C$12 -> Pierre | G4: ='données Admin'!$C$14 -> QUIROULE
C5: n° candidat | E5: ='données Admin'!C18 -> A2022 0000 0000 | G5: Rapport activité | H5: =IF(MID(CELL("nomfichier",A1),FIND("]",CELL("nomfichier",A1))+1,3)='données Admin'!C20,"OUI","NON") -> OUI
C6: coefficient : 3 | E6: N1 | F6: N2 | G6: N3 | H6: N4
E7: Compétence non acquise | F7: Compétence "en cours d'acquisition" non stabilisée | G7: Compétence "partiellement acquise" | H7: Compétence totalement acquise et transférable
E8: 0 | F8: 0.4 | G8: 0.75 | H8: 1
D9: Positionner le niveau de maîtrise de la compétence
B10: 0.35 | C10: C4 : communiquer de manière adaptée à l'oral, à l'écrit, y compris en langue anglaise | F10: x | J10: =IF(E10="X",0,IF(F10="X",F11,IF(G10="X",G11,IF(H10="X",H11,0)))) -> 2.8 | K10: =IF(COUNTBLANK(E10) + COUNTBLANK(F10) + COUNTBLANK(G10)+ COUNTBLANK(H10 )= 3,"","D")
C11: 7/20 | E11: 0 | F11: =H11*0.4 -> 2.8 | G11: =H11*0.75 -> 5.25 | H11: 7
C12: Les performances de l’installation sont validées avec le client/utilisateur conformément à ses prescriptions | K12: items évalués par commission d'examen
C13: Le fonctionnement, le bon usage, les règles de sécurité et les contraintes techniques d’utilisation de l’installation sont expliqués au client ou à l’utilisateur
C14: Le transfert des compétences, les explications permettent la maîtrise de l’installation par le client ou l’utilisateur
C15: Les documents écrits et de présentation sont précis et concis
C16: Les échanges techniques avec les interlocuteurs sont argumentés et construits
C17: Les solutions techniques ou de services sont clairement argumentées
C18: Les échanges écrits et oraux sont adaptés à l’interlocuteur
C19: Le vocabulaire professionnel est pertinent et précis
C20: La satisfaction du client est recueillie
C21: L’offre commerciale proposée est validée par le client/utilisateur
C22: La réunion est préparée et organisée | K22: items évalués par équipe enseignante
C23: La qualité des échanges au sein de l’équipe facilite son efficacité
C24: Les objectifs de la réunion sont atteints
C25: Un compte rendu de réunion est rédigé et diffusé
C26: La présentation de l’offre tient compte des réactions du client/utilisateur
D28: Positionner le niveau de maîtrise de la compétence
B29: 0.25 | C29: C14 : réaliser un ouvrage, une installation, un équipement électrique | J29: =IF(E29="X",0,IF(F29="X",F30,IF(G29="X",G30,IF(H29="X",H30,0)))) -> 0 | K29: =IF(COUNTBLANK(E29) + COUNTBLANK(F29) + COUNTBLANK(G29)+ COUNTBLANK(H29 )= 3,"","D") -> D
C30: 5/20 | E30: 0 | F30: =H30*0.4 -> 2 | G30: =H30*0.75 -> 3.75 | H30: 5
C31: Les conditions d’intervention sont prises en compte | K31: items évalués par équipe enseignante
C32: Les risques professionnels sont identifiés
C33: Les actions de prévention sont mises en œuvre
C34: L’espace de travail est approvisionné en matériels, équipements et outillages
C35: Les contraintes de réalisation sont repérées
C36: Les adaptations nécessaires sont déterminées
C37: Les matériels électriques, les canalisations et les supports sont posés dans le respect des prescriptions et des règles de l’art
C38: Les matériels électriques sont raccordés
C39: Les contrôles associés sont effectués
C40: Les fiches d’autocontrôles sont complétées
D42: Positionner le niveau de maîtrise de la compétence
B43: 0.25 | C43: C15 : configurer et programmer les matériels dans le cadre du projet/chantier | J43: =IF(E43="X",0,IF(F43="X",F44,IF(G43="X",G44,IF(H43="X",H44,0)))) -> 0 | K43: =IF(COUNTBLANK(E43) + COUNTBLANK(F43) + COUNTBLANK(G43)+ COUNTBLANK(H43 )= 3,"","D") -> D
...

Sheet U62 RA
B2: ='données Admin'!D2 -> BTS Électrotechnique | D2: U62 : réalisation, mise en service d'un projet
C3: Evaluation par CCF - session | E3: ='données Admin'!C10 -> 2023
C4: identité du candidat | E4: ='données Admin'!$C$12 -> Pierre | G4: ='données Admin'!$C$14 -> QUIROULE
C5: n° candidat | E5: ='données Admin'!C18 -> A2022 0000 0000 | G5: Rapport activité | H5: =IF(MID(CELL("nomfichier",A1),FIND("]",CELL("nomfichier",A1))+1,3)='données Admin'!C20,"OUI","NON") -> OUI
C6: coefficient : 3 | E6: N1 | F6: N2 | G6: N3 | H6: N4
E7: Compétence non acquise | F7: Compétence "en cours d'acquisition" non stabilisée | G7: Compétence "partiellement acquise" | H7: Compétence totalement acquise et transférable
E8: 0 | F8: 0.4 | G8: 0.75 | H8: 1
D9: Positionner le niveau de maîtrise de la compétence
B10: 0.35 | C10: C4 : communiquer de manière adaptée à l'oral, à l'écrit, y compris en langue anglaise | J10: =IF(E10="X",0,IF(F10="X",F11,IF(G10="X",G11,IF(H10="X",H11,0)))) -> 0 | K10: =IF(COUNTBLANK(E10) + COUNTBLANK(F10) + COUNTBLANK(G10)+ COUNTBLANK(H10 )= 3,"","D") -> D
C11: 7/20 | E11: 0 | F11: =H11*0.4 -> 2.8 | G11: =H11*0.75 -> 5.25 | H11: 7
C12: Les performances de l’installation sont validées avec le client/utilisateur conformément à ses prescriptions | K12: items évalués par commission d'examen
C13: Le fonctionnement, le bon usage, les règles de sécurité et les contraintes techniques d’utilisation de l’installation sont expliqués au client ou à l’utilisateur
C14: Le transfert des compétences, les explications permettent la maîtrise de l’installation par le client ou l’utilisateur
C15: Les documents écrits et de présentation sont précis et concis
C16: Les échanges techniques avec les interlocuteurs sont argumentés et construits
C17: Les solutions techniques ou de services sont clairement argumentées
C18: Les échanges écrits et oraux sont adaptés à l’interlocuteur
C19: Le vocabulaire professionnel est pertinent et précis
C20: La satisfaction du client est recueillie
C21: L’offre commerciale proposée est validée par le client/utilisateur
C22: La réunion est préparée et organisée | K22: items évalués par équipe enseignante
C23: La qualité des échanges au sein de l’équipe facilite son efficacité
C24: Les objectifs de la réunion sont atteints
C25: Un compte rendu de réunion est rédigé et diffusé
C26: La présentation de l’offre tient compte des réactions du client/utilisateur
D28: Positionner le niveau de maîtrise de la compétence
B29: 0.25 | C29: C14 : réaliser un ouvrage, une installation, un équipement électrique | J29: =IF(E29="X",0,IF(F29="X",F30,IF(G29="X",G30,IF(H29="X",H30,0)))) -> 0 | K29: =IF(COUNTBLANK(E29) + COUNTBLANK(F29) + COUNTBLANK(G29)+ COUNTBLANK(H29 )= 3,"","D") -> D
C30: 5/20 | E30: 0 | F30: =H30*0.4 -> 2 | G30: =H30*0.75 -> 3.75 | H30: 5
C31: Les conditions d’intervention sont prises en compte | K31: items évalués par équipe enseignante
C32: Les risques professionnels sont identifiés
C33: Les actions de prévention sont mises en œuvre
C34: L’espace de travail est approvisionné en matériels, équipements et outillages
C35: Les contraintes de réalisation sont repérées
C36: Les adaptations nécessaires sont déterminées
C37: Les matériels électriques, les canalisations et les supports sont posés dans le respect des prescriptions et des règles de l’art
C38: Les matériels électriques sont raccordés
C39: Les contrôles associés sont effectués
C40: Les fiches d’autocontrôles sont complétées
D42: Positionner le niveau de maîtrise de la compétence
B43: 0.25 | C43: C15 : configurer et programmer les matériels dans le cadre du projet/chantier | J43: =IF(E43="X",0,IF(F43="X",F44,IF(G43="X",G44,IF(H43="X",H44,0)))) -> 0 | K43: =IF(COUNTBLANK(E43) + COUNTBLANK(F43) + COUNTBLANK(G43)+ COUNTBLANK(H43 )= 3,"","D") -> D
...

Sheet recap notes
C2: BTS Électrotechnique
A4: Session | B4: ='données Admin'!$C$10 -> 2023
A6: Nom Etudiant | B6: ='données Admin'!$C$14 -> QUIROULE
A8: Prénom Etudiant | B8: ='données Admin'!$C$12 -> Pierre
A10: Date naissance | B10: ='données Admin'!$C$16 -> 01/08/2002
B13: U51 ADM | C13: ADM Rapport activité | D13: U52 | E13: U61 | F13: U61 apport d'activité | G13: U62 | H13: U62 apport d'activité
A14: Notes | B14: ='U51'!$E$66 -> 0 | C14: ='U51 RA'!$E$66 -> 0 | D14: ='U52'!$E$53 -> 0 | E14: ='U61'!$E$32 -> 0 | F14: ='U61 RA'!$E$32 -> 0 | G14: ='U62'!$E$67 -> 0 | H14: ='U62 RA'!$E$67 -> 0
B16: U51 | D16: U52 | E16: U61 | G16: U62
A17: Notes finales | B17: =IF(COUNTBLANK('U51 RA'!E66),(B14*3)/3,((B14*2)+(C14*1))/3) -> 0 | D17: =D14 -> 0 | E17: =IF(COUNTBLANK('U61 RA'!E32),(E14*3)/3,((E14*2)+(F14*1))/3) -> 0 | G17: =IF(COUNTBLANK('U62 RA'!E67),(G14*3)/3,((G14*2)+(H14*1))/3) -> 0 | K17: =MID(CELL("nomfichier",A1),FIND("]",CELL("nomfichier",A1))+1,20) -> recap notes
