Workbook

Sheet Detailed_Planning
B2: Date actuelle | C2: =NOW() -> 44690.608
C4: 1. Accord partenaire | D4: 2. Contrat | G4: 3. Cahier des charges DMC | H4: 4. Préparation repérage | I4: 5. Repérage | J4: 6. Shooting photo | L4: 7_1. Cotation DMC 1 | N4: 7_2. Cotation réceptif 2 | P4: 8. Pricing | R4: 9. Contenu | T4: 10. Choix visuels | W4: 11. Intégration site | Z4: 12. Carnet de voyage | AB4: 13. Contrat de vente clients | AD4: 14.Ouverture vente
D5: Rédaction | E5: Envoyé | F5: Reçu signé | J5: Préparation shooting | K5: Shooting | L5: Envoyée | M5: Finalisée | N5: Envoyée | O5: Finalisée | P5: Propal | Q5: Validation | R5: Propal | S5: Validation | T5: Propal | U5: Validation | V5: Retouche | W5: Envoi éléments | X5: Version Bêta | Y5: Validation | Z5: FR | AA5: ENG | AB5: FR | AC5: ENG
C6: A faire | D6: A faire | E6: A faire | F6: NO | G6: A faire | H6: A faire | I6: Calage à faire | J6: A faire | K6: NO dates | L6: A faire | M6: NO | N6: A faire | O6: NO | P6: A faire | Q6: NO | R6: A faire | S6: NO | T6: A faire | U6: NO | V6: A faire | W6: A faire | X6: A faire | Y6: NO | Z6: A faire | AA6: A faire | AB6: A faire | AC6: A faire | AD6: A faire
C7: OK | D7: OK | E7: OK | F7: OK | G7: OK | H7: OK | I7: OK | J7: OK | K7: OK fait | L7: OK | M7: OK | N7: OK | O7: OK | P7: OK | Q7: OK | R7: OK | S7: OK | T7: OK | U7: OK | V7: OK | W7: OK | X7: OK | Y7: OK | Z7: OK | AA7: OK | AB7: OK | AC7: OK | AD7: OK
C8: En attente | F8: En attente | J8: En attente | K8: En attente | M8: En attente | O8: En attente | Q8: En attente | S8: En attente | U8: En attente | X8: En attente | AD8: En attente
B10: Chef
A11: 1 | B11: Didier Tartanpion1 | C11: OK | E11: OK | F11: OK | G11: OK | H11: OK | I11: OK | J11: OK | K11: OK fait | L11: OK | M11: En attente | N11: OK | O11: En attente | P11: A faire | R11: A faire | T11: A faire | W11: A faire | Z11: A faire | AB11: A faire | AD11: A faire
B12: Date effective OK / fait
B13: Deadline
A14: =+A11+1 -> 2 | B14: Didier Tartanpion2 | C14: OK | E14: OK | F14: OK | G14: OK | H14: OK | I14: OK | J14: OK | K14: OK fait | L14: OK | M14: En attente | N14: A faire | P14: A faire | R14: A faire | T14: A faire | W14: A faire | Z14: A faire | AB14: A faire | AD14: A faire
B15: Date effective OK / fait
B16: Deadline | C16: =IFERROR(VLOOKUP(C15,Detailed_Planning!#REF!,2,FALSE)," ") | D16: =IFERROR(VLOOKUP(D15,Detailed_Planning!#REF!,2,FALSE)," ") | E16: =IFERROR(VLOOKUP(E15,Detailed_Planning!#REF!,2,FALSE)," ") | F16: =IFERROR(VLOOKUP(F15,Detailed_Planning!#REF!,2,FALSE)," ") | G16: =IFERROR(VLOOKUP(G15,Detailed_Planning!#REF!,2,FALSE)," ") | H16: =IFERROR(VLOOKUP(H15,Detailed_Planning!#REF!,2,FALSE)," ") | I16: =IFERROR(VLOOKUP(I15,Detailed_Planning!#REF!,2,FALSE)," ") | J16: =IFERROR(VLOOKUP(J15,Detailed_Planning!#REF!,2,FALSE)," ") | ... R16: =IFERROR(VLOOKUP(R15,Detailed_Planning!#REF!,2,FALSE)," ") | T16: =IFERROR(VLOOKUP(T15,Detailed_Planning!#REF!,2,FALSE)," ") | U16: =IFERROR(VLOOKUP(U15,Detailed_Planning!#REF!,2,FALSE)," ") | V16: =IFERROR(VLOOKUP(V15,Detailed_Planning!#REF!,2,FALSE)," ") | W16: =IFERROR(VLOOKUP(W15,Detailed_Planning!#REF!,2,FALSE)," ") | X16: =IFERROR(VLOOKUP(X15,Detailed_Planning!#REF!,2,FALSE)," ") | Y16: =IFERROR(VLOOKUP(Y15,Detailed_Planning!#REF!,2,FALSE)," ") | Z16: =IFERROR(VLOOKUP(Z15,Detailed_Planning!#REF!,2,FALSE)," ") | AB16: =IFERROR(VLOOKUP(AB15,Detailed_Planning!#REF!,2,FALSE)," ") | AD16: =IFERROR(VLOOKUP(AD15,Detailed_Planning!#REF!,2,FALSE)," ")
A17: =+A14+1 -> 3 | B17: Didier Tartanpion3 | C17: OK | E17: OK | F17: En attente | G17: OK | H17: OK | I17: OK | J17: A faire | K17: NO dates | L17: OK | M17: En attente | N17: OK | O17: En attente | P17: A faire | R17: A faire | T17: A faire | W17: A faire | Z17: A faire | AB17: A faire | AD17: A faire
B18: Date effective OK / fait
B19: Deadline
A20: =+A17+1 -> 4 | B20: Didier Tartanpion4 | C20: OK | D20: A faire | E20: A faire | F20: NO | G20: A faire | H20: OK | I20: OK | J20: A faire | K20: NO dates | L20: A faire
B21: Date effective OK / fait
B22: Deadline | Z22: =IFERROR(VLOOKUP(Z21,Detailed_Planning!#REF!,2,FALSE)," ") | AB22: =IFERROR(VLOOKUP(AB21,Detailed_Planning!#REF!,2,FALSE)," ") | AD22: =IFERROR(VLOOKUP(AD21,Detailed_Planning!#REF!,2,FALSE)," ")
A23: =+A20+1 -> 5 | B23: Didier Tartanpion5 | C23: OK | D23: A faire | E23: A faire | F23: NO | G23: A faire | H23: OK | I23: OK | J23: A faire | K23: NO dates | L23: A faire
B24: Date effective OK / fait
B25: Deadline
A26: =+A23+1 -> 6 | B26: Didier Tartanpion6 | C26: En attente
B27: Date effective OK / fait
B28: Deadline | C28: =IFERROR(VLOOKUP(C27,Detailed_Planning!#REF!,2,FALSE)," ")
A29: =+A26+1 -> 7 | B29: Didier Tartanpion7 | C29: En attente
B30: Date effective OK / fait
B31: Deadline | C31: =IFERROR(VLOOKUP(C30,Detailed_Planning!#REF!,2,FALSE)," ") | D31: =IFERROR(VLOOKUP(D30,Detailed_Planning!#REF!,2,FALSE)," ") | E31: =IFERROR(VLOOKUP(E30,Detailed_Planning!#REF!,2,FALSE)," ") | F31: =IFERROR(VLOOKUP(F30,Detailed_Planning!#REF!,2,FALSE)," ") | G31: =IFERROR(VLOOKUP(G30,Detailed_Planning!#REF!,2,FALSE)," ")
A32: =+A29+1 -> 8 | B32: Didier Tartanpion8 | C32: En attente
B33: Date effective OK / fait
B34: Deadline
A35: =+A32+1 -> 9 | B35: Didier Tartanpion9 | C35: En attente
B36: Date effective OK / fait
B37: Deadline
A38: =+A35+1 -> 10 | B38: Didier Tartanpion10 | C38: En attente
B39: Date effective OK / fait
B40: Deadline

Sheet Macro_Planning
A1: 1 | B1: 1 | C1: =+B1+1 -> 2 | D1: =+C1+1 -> 3 | E1: =+D1+1 -> 4 | F1: =+E1+1 -> 5 | G1: =+F1+1 -> 6 | H1: =+G1+1 -> 7 | I1: =+H1+1 -> 8 | J1: =+I1+1 -> 9 | ... BD1: =+BC1+1 -> 55
A2: =+A1+1 -> 2 | B2: CONT | C2: Contracting
A3: =+A2+1 -> 3 | B3: REP | C3: Repérage
A4: =+A3+1 -> 4 | B4: SHOOT | C4: Shooting photos
A5: =+A4+1 -> 5 | B5: PROD | C5: Finalisation produit
A6: =+A5+1 -> 6 | B6: WEB | C6: Version bêta
A7: =+A6+1 -> 7 | B7: VENTE | C7: Outils de vente
A8: =+A7+1 -> 8 | B8: GO | C8: Ouverture de la vente sur le site
A9: =+A8+1 -> 9
A10: =+A9+1 -> 10 | E10: 1 | F10: =E10+1 -> 2 | G10: =F10+1 -> 3 | H10: =G10+1 -> 4 | I10: =H10+1 -> 5 | J10: =I10+1 -> 6 | K10: =J10+1 -> 7 | L10: =K10+1 -> 8 | M10: =L10+1 -> 9 | ... BD10: =BC10+1 -> 52
A11: =+A10+1 -> 11 | E11: =(VLOOKUP(E10,Transco!$A$6:$B$57,2,FALSE)) -> 44564 | F11: =(VLOOKUP(F10,Transco!$A$6:$B$57,2,FALSE)) -> 44571 | G11: =(VLOOKUP(G10,Transco!$A$6:$B$57,2,FALSE)) -> 44578 | H11: =(VLOOKUP(H10,Transco!$A$6:$B$57,2,FALSE)) -> 44585 | I11: =(VLOOKUP(I10,Transco!$A$6:$B$57,2,FALSE)) -> 44592 | J11: =(VLOOKUP(J10,Transco!$A$6:$B$57,2,FALSE)) -> 44599 | K11: =(VLOOKUP(K10,Transco!$A$6:$B$57,2,FALSE)) -> 44606 | L11: =(VLOOKUP(L10,Transco!$A$6:$B$57,2,FALSE)) -> 44613 | ... BC11: =(VLOOKUP(BC10,Transco!$A$6:$B$57,2,FALSE)) -> 44914 | BD11: =VLOOKUP(BD10,Transco!$A$6:$B$57,2,FALSE) -> 44921
A12: =+A11+1 -> 12 | C12: 1 | D12: =IFERROR(VLOOKUP(C12,Detailed_Planning!$A:$B,2,0)," ") -> Didier Tartanpion1 | F12: CONT | Z12: PROD | AA12: WEB | AB12: VENTE | AR12: GO
A13: =+A12+1 -> 13 | C13: =+C12+1 -> 2 | D13: =IFERROR(VLOOKUP(C13,Detailed_Planning!$A:$B,2,0)," ") -> Didier Tartanpion2 | F13: CONT | AB13: PROD | AC13: WEB | AD13: VENTE | AR13: GO
A14: =+A13+1 -> 14 | C14: =+C13+1 -> 3 | D14: =IFERROR(VLOOKUP(C14,Detailed_Planning!$A:$B,2,0)," ") -> Didier Tartanpion3 | F14: CONT | AC14: PROD | AF14: SHOOT | AN14: WEB | AO14: VENTE | AR14: GO
A15: =+A14+1 -> 15 | C15: =+C14+1 -> 4 | D15: =IFERROR(VLOOKUP(C15,Detailed_Planning!$A:$B,2,0)," ") -> Didier Tartanpion4 | U15: REP | AE15: PROD | AN15: WEB | AO15: VENTE | AR15: GO
A16: =+A15+1 -> 16 | C16: =+C15+1 -> 5 | D16: =IFERROR(VLOOKUP(C16,Detailed_Planning!$A:$B,2,0)," ") -> Didier Tartanpion5 | U16: REP | AD16: SHOOT | AG16: PROD | AO16: WEB | AP16: VENTE | AR16: GO
A17: =+A16+1 -> 17 | C17: =+C16+1 -> 6 | D17: =IFERROR(VLOOKUP(C17,Detailed_Planning!$A:$B,2,0)," ") -> Didier Tartanpion6 | AD17: SHOOT | AI17: PROD | AP17: WEB | AQ17: VENTE | AR17: GO
A18: =+A17+1 -> 18 | C18: =+C17+1 -> 7 | D18: =IFERROR(VLOOKUP(C18,Detailed_Planning!$A:$B,2,0)," ") -> Didier Tartanpion7
A19: =+A18+1 -> 19 | C19: =+C18+1 -> 8 | D19: =IFERROR(VLOOKUP(C19,Detailed_Planning!$A:$B,2,0)," ") -> Didier Tartanpion8
A20: =+A19+1 -> 20 | C20: =+C19+1 -> 9 | D20: =IFERROR(VLOOKUP(C20,Detailed_Planning!$A:$B,2,0)," ") -> Didier Tartanpion9
A21: =+A20+1 -> 21 | C21: =+C20+1 -> 10 | D21: =IFERROR(VLOOKUP(C21,Detailed_Planning!$A:$B,2,0)," ") -> Didier Tartanpion10
A22: =+A21+1 -> 22 | D22: =IFERROR(VLOOKUP(C22,Detailed_Planning!$A:$B,2,0)," ")
A23: =+A22+1 -> 23 | D23: =IFERROR(VLOOKUP(C23,Detailed_Planning!$A:$B,2,0)," ")
A24: =+A23+1 -> 24 | D24: =IFERROR(VLOOKUP(C24,Detailed_Planning!$A:$B,2,0)," ")
A25: =+A24+1 -> 25 | D25: =IFERROR(VLOOKUP(C25,Detailed_Planning!$A:$B,2,0)," ")
A26: =+A25+1 -> 26 | D26: =IFERROR(VLOOKUP(C26,Detailed_Planning!$A:$B,2,0)," ")
A27: =+A26+1 -> 27 | D27: =IFERROR(VLOOKUP(C27,Detailed_Planning!$A:$B,2,0)," ")
A28: =+A27+1 -> 28 | D28: =IFERROR(VLOOKUP(C28,Detailed_Planning!$A:$B,2,0)," ")

Sheet Transco
A5: Week # | B5: Week starting | C5: Recherche chef
A6: 1 | B6: 44564 | C6: {=+Macro_Planning!D12:D24} -> Didier Tartanpion1 | D6: CONT | E6: Contracting
A7: =A6+1 -> 2 | B7: =B6+7 -> 44571 | C7: Didier Tartanpion2 | D7: REP | E7: Repérage
A8: =A7+1 -> 3 | B8: =B7+7 -> 44578 | C8: Didier Tartanpion3 | D8: SHOOT | E8: Shooting photos
A9: =A8+1 -> 4 | B9: =B8+7 -> 44585 | C9: Didier Tartanpion4 | D9: PROD | E9: Finalisation produit
A10: =A9+1 -> 5 | B10: =B9+7 -> 44592 | C10: Didier Tartanpion5 | D10: WEB | E10: Version bêta
A11: =A10+1 -> 6 | B11: =B10+7 -> 44599 | C11: Didier Tartanpion6 | D11: VENTE | E11: Outils de vente
A12: =A11+1 -> 7 | B12: =B11+7 -> 44606 | C12: Didier Tartanpion7 | D12: GO | E12: Ouverture de la vente sur le site
A13: =A12+1 -> 8 | B13: =B12+7 -> 44613 | C13: Didier Tartanpion8
A14: =A13+1 -> 9 | B14: =B13+7 -> 44620 | C14: Didier Tartanpion9
A15: =A14+1 -> 10 | B15: =B14+7 -> 44627 | C15: Didier Tartanpion10
A16: =A15+1 -> 11 | B16: =B15+7 -> 44634
A17: =A16+1 -> 12 | B17: =B16+7 -> 44641
A18: =A17+1 -> 13 | B18: =B17+7 -> 44648
A19: =A18+1 -> 14 | B19: =B18+7 -> 44655
A20: =A19+1 -> 15 | B20: =B19+7 -> 44662
A21: =A20+1 -> 16 | B21: =B20+7 -> 44669
A22: =A21+1 -> 17 | B22: =B21+7 -> 44676
A23: =A22+1 -> 18 | B23: =B22+7 -> 44683
A24: =A23+1 -> 19 | B24: =B23+7 -> 44690
A25: =A24+1 -> 20 | B25: =B24+7 -> 44697
A26: =A25+1 -> 21 | B26: =B25+7 -> 44704
A27: =A26+1 -> 22 | B27: =B26+7 -> 44711
... A57: =A56+1 -> 52 | B57: =B56+7 -> 44921
