Workbook
Name CODAGE: 'Onglet technique radar'!$A$1:$B$7
Name EST_EVALUE_ANNEE_1: 'Calcul notes'!$A$17
Name EST_EVALUE_ANNEE_2: 'Calcul notes'!$A$34
Name MOYENNE_LIVRET: 'Calcul notes'!$B$63
Name NOTE_1: IF(EST_EVALUE_ANNEE_1,ROUNDUP(SUM('Calcul notes'!$I$6:$I$14),0),"Non évalué")
Name NOTE_1_TEXTE: IF(EST_EVALUE_ANNEE_1,CONCATENATE(TEXT(NOTE_1,"@"),"/20"),"Non évalué(e)")
Name NOTE_2: IF(EST_EVALUE_ANNEE_2,ROUNDUP(SUM('Calcul notes'!$I$23:$I$31),0),"Non évalué")
Name NOTE_2_TEXTE: IF(EST_EVALUE_ANNEE_2,CONCATENATE(TEXT(NOTE_2,"@"),"/20"),"Non évalué(e)")
Name NOTE_FINALE: 'Calcul notes'!$B$69
Name NOTE_ORAL: 'Calcul notes'!$E$57
Name PLAGE_BAREME: Réglages!$B$3:$D$21
Name PLAGE_DESCRIPTEURS: Descripteurs!$C$1:$H$13
Name PLAGE_POSITIONNEMENT_1: '1ère année'!$A$9:$B$20
Name PLAGE_POSITIONNEMENT_2: '2ème année'!$A$9:$B$20
Name POINTS_OBTENUS_ANNEE_1: 'Calcul notes'!$I$5
Name POINTS_OBTENUS_ANNEE_2: 'Calcul notes'!$I$22
Name POINTS_VISES_DOMAINE_1_ANNEE_1: 'Calcul notes'!$H$3
Name POINTS_VISES_DOMAINE_2_ANNEE_1: 'Calcul notes'!$H$4
Name POINTS_VISES_DOMAINE_3_ANNEE_1: 'Calcul notes'!$H$5
Name Une_seconde_chance_pour_la_réussite: CLASSES!$E$1
Name VERSION: Notice!$E$4

Sheet Notice
E2: Évaluation du chef d'œuvre au baccalauréat
E3: Positionnement en continu, évaluation de l'oral et proposition de note finale
E4: Version de mars 2021

Sheet CLASSES
A1: Elèves | D1: NOM DU PROJET | E1: Une seconde chance pour la réussite
A2: Nom | B2: Prénom | C2: CLASSE
A3: Elèves A | B3: 1 | C3: TMAC2 | D3: Année scolaire | E3: 2021/2022
A4: Elèves B | B4: 2 | C4: TMAC2
A5: Elèves C | B5: 3 | C5: TMAC2
A6: Elèves D | B6: 4 | C6: TMAC2
A7: Elèves E | B7: 5 | C7: TMAC2
A8: Elèves F | B8: 6 | C8: TMAC2
A9: Elèves G | B9: 7 | C9: TMAC2
A10: Elèves H | B10: 8 | C10: TMAC2
A11: Elèves I | B11: 9 | C11: TMAC2
A12: Elèves J | B12: 10 | C12: TMAC2
A13: Elèves K | B13: 11 | C13: TMAC2

Sheet IDENTIFICATION
A3: Paramètres "A COMPLETER" | D3: Explication des niveaux d'évaluation des compétences
A5: Année scolaire | D5: 1 | F5: Compétence non maitrisée
F6: Le candidat necessite un accompagnement et une aide systématique pour réaliser ses tâches.
A7: Session | B7: 2022
A8: CLASSE | B8: =VLOOKUP(B9,CLASSES!A1:C763,3,FALSE) -> TMAC2
A9: Nom | B9: Elèves C | D9: 2 | F9: Compétence "en cours d'acquisition" non stabilisée
F10: Le candidat nécessite un accompagnement régulier pour effectuer le travail confié.
A11: Prénom | B11: =VLOOKUP(B9,CLASSES!A3:B13,2,FALSE) -> 3
A13: Etablissement | B13: LYCEE LOUIS PASTEUR | D13: 3 | F13: Compétence "partiellement acquise"
F14: Le transfert de la compétence n'est pas total dans chaque situation de travail proposée, une aide est parfois requise notamment lors d'une situation de travail nouvelle.
D18: 4 | F18: Compétence maitrisée et transférable
F19: Le candidat travaille en toute autonomie, il sait s'adapter et transférer la compétence dans toutes les situations sans aide.

Sheet 1ère année
D1: Évaluation du chef d'œuvre au baccalauréat
D2: =VERSION -> Version de mars 2021
A3: Nom : | B3: Elèves B
A4: Prénom : | B4: =VLOOKUP(B3,CLASSES!A3:B13,2,FALSE) -> 2
A5: Formation : | B5: =VLOOKUP(B3,CLASSES!A2:C13,3,FALSE) -> TMAC2
A6: Projet de chef d'œuvre : | B6: =CLASSES!E1 -> Une seconde chance pour la réussite
A8: PREMIÈRE ANNÉE | B8: Positionnement | C8: Descripteur | D8: Progression vers les attendus
A9: Mobiliser ses compétences, ses connaissances et les ressources disponibles
A10: Mobiliser ses compétences, ses connaissances dans la réalisation du chef d'œuvre | B10: Non évalué | C10: =HLOOKUP(B10,PLAGE_DESCRIPTEURS,ROW()-7,0) -> Non évalué | D10: =OFFSET(POINTS_OBTENUS_ANNEE_1,G10,-2) -> 0 | G10: 1
A11: Mobiliser les ressources internes et externes (partenaires, équipements, moyens...) | B11: Non évalué | C11: =HLOOKUP(B11,PLAGE_DESCRIPTEURS,ROW()-7,0) -> Non évalué | D11: =OFFSET(POINTS_OBTENUS_ANNEE_1,G11,-2) -> 0 | G11: 2
A12: S'engager, organiser son travail et s'intégrer dans son environnement
A13: Organiser et planifier son travail | B13: Non évalué | C13: =HLOOKUP(B13,PLAGE_DESCRIPTEURS,ROW()-7,0) -> Non évalué | D13: =OFFSET(POINTS_OBTENUS_ANNEE_1,G13,-2) -> 0 | G13: 3
A14: Tenir à jour l'état des avancées et des progrès réalisés | B14: Non évalué | C14: =HLOOKUP(B14,PLAGE_DESCRIPTEURS,ROW()-7,0) -> Non évalué | D14: =OFFSET(POINTS_OBTENUS_ANNEE_1,G14,-2) -> 0 | G14: 4
A15: S'intégrer dans son environnement et/ou un collectif de travail | B15: Non évalué | C15: =HLOOKUP(B15,PLAGE_DESCRIPTEURS,ROW()-7,0) -> Non évalué | D15: =OFFSET(POINTS_OBTENUS_ANNEE_1,G15,-2) -> 0 | G15: 5
A16: Prendre des responsabilités et des initiatives dans la démarche de projet | B16: Non évalué | C16: =HLOOKUP(B16,PLAGE_DESCRIPTEURS,ROW()-7,0) -> Non évalué | D16: =OFFSET(POINTS_OBTENUS_ANNEE_1,G16,-2) -> 0 | G16: 6
A17: Analyser son travail, s'adapter aux aléas et rendre compte du travail mené
A18: S'adapter aux situations et proposer des solutions pour remédier aux difficultés rencontrées | B18: Non évalué | C18: =HLOOKUP(B18,PLAGE_DESCRIPTEURS,ROW()-7,0) -> Non évalué | D18: =OFFSET(POINTS_OBTENUS_ANNEE_1,G18,-2) -> 0 | G18: 7
A19: Rendre compte de l'état d'avancement du chef d'œuvre tout au long de sa réalisation | B19: Non évalué | C19: =HLOOKUP(B19,PLAGE_DESCRIPTEURS,ROW()-7,0) -> Non évalué | D19: =OFFSET(POINTS_OBTENUS_ANNEE_1,G19,-2) -> 0 | G19: 8
A20: Analyser, évaluer son travail personnel | B20: Non évalué | C20: =HLOOKUP(B20,PLAGE_DESCRIPTEURS,ROW()-7,0) -> Non évalué | D20: =OFFSET(POINTS_OBTENUS_ANNEE_1,G20,-2) -> 0 | G20: 9

Sheet 2ème année
D1: Évaluation du chef d'œuvre au baccalauréat
D2: =VERSION -> Version de mars 2021
A3: Nom : | B3: =IF(ISBLANK('1ère année'!B3),"",'1ère année'!B3) -> Elèves B
A4: Prénom : | B4: =IF(ISBLANK('1ère année'!B4),"",'1ère année'!B4) -> 2
A5: Formation : | B5: =IF(ISBLANK('1ère année'!B5),"",'1ère année'!B5) -> TMAC2
A6: Projet de chef d'œuvre : | B6: =IF(ISBLANK('1ère année'!B6),"",'1ère année'!B6) -> Une seconde chance pour la réussite
A8: DEUXIÈME ANNÉE | B8: Positionnement | C8: Descripteur | D8: Progression vers les attendus
A9: Mobiliser ses compétences, ses connaissances et les ressources disponibles
A10: Mobiliser ses compétences, ses connaissances dans la réalisation du chef d'œuvre | B10: 3 - Entre dans l'autonomie | C10: =HLOOKUP(B10,PLAGE_DESCRIPTEURS,ROW()-7,0) -> Choisit les savoirs, savoir-faire et savoir-être à mettre en oeuvre pour mener à bien son projet. | D10: {=OFFSET(POINTS_OBTENUS_ANNEE_2,G10,-2)} -> 0.75 | G10: 1
A11: Mobiliser les ressources internes et externes (partenaires, équipements, moyens...) | B11: 4 - Maîtrise | C11: =HLOOKUP(B11,PLAGE_DESCRIPTEURS,ROW()-7,0) -> Conduit l'échange avec les partenaires. Adapte les ressources en fonction des besoins. | D11: {=OFFSET(POINTS_OBTENUS_ANNEE_2,G11,-2)} -> 1 | G11: 2
A12: S'engager, organiser son travail et s'intégrer dans son environnement
A13: Organiser et planifier son travail | B13: 3 - Entre dans l'autonomie | C13: =HLOOKUP(B13,PLAGE_DESCRIPTEURS,ROW()-7,0) -> Prévoit et organise son activité et/ou celle de son équipe. | D13: {=OFFSET(POINTS_OBTENUS_ANNEE_2,G13,-2)} -> 0.75 | G13: 3
A14: Tenir à jour l'état des avancées et des progrès réalisés | B14: 4 - Maîtrise | C14: =HLOOKUP(B14,PLAGE_DESCRIPTEURS,ROW()-7,0) -> Produit des documents élaborés, décrit clairement la démarche. | D14: {=OFFSET(POINTS_OBTENUS_ANNEE_2,G14,-2)} -> 1 | G14: 4
A15: S'intégrer dans son environnement et/ou un collectif de travail | B15: 4 - Maîtrise | C15: =HLOOKUP(B15,PLAGE_DESCRIPTEURS,ROW()-7,0) -> Assure l'adaptation à différents usages, y compris implicites, anime et développe le travail collectif, peut varier sa place et son rôle. | D15: {=OFFSET(POINTS_OBTENUS_ANNEE_2,G15,-2)} -> 1 | G15: 5
A16: Prendre des responsabilités et des initiatives dans la démarche de projet | B16: 4 - Maîtrise | C16: =HLOOKUP(B16,PLAGE_DESCRIPTEURS,ROW()-7,0) -> Planifie la ou les étapes de la mise en oeuvre de son initiative. | D16: {=OFFSET(POINTS_OBTENUS_ANNEE_2,G16,-2)} -> 1 | G16: 6
A17: Analyser son travail, s'adapter aux aléas et rendre compte du travail mené
A18: S'adapter aux situations et proposer des solutions pour remédier aux difficultés rencontrées | B18: 4 - Maîtrise | C18: =HLOOKUP(B18,PLAGE_DESCRIPTEURS,ROW()-7,0) -> Résout des problèmes courants dans son activité et/ou celle de son équipe. Prise de décision en autonomie | D18: {=OFFSET(POINTS_OBTENUS_ANNEE_2,G18,-2)} -> 1 | G18: 7
A19: Rendre compte de l'état d'avancement du chef d'œuvre tout au long de sa réalisation | B19: 4 - Maîtrise | C19: =HLOOKUP(B19,PLAGE_DESCRIPTEURS,ROW()-7,0) -> Adapte sa manière de communiquer aux enjeux des interactions. | D19: {=OFFSET(POINTS_OBTENUS_ANNEE_2,G19,-2)} -> 1 | G19: 8
A20: Analyser, évaluer son travail personnel | B20: 4 - Maîtrise | C20: =HLOOKUP(B20,PLAGE_DESCRIPTEURS,ROW()-7,0) -> Mobilise de nouvelles manières d'apprendre et de travailler. | D20: {=OFFSET(POINTS_OBTENUS_ANNEE_2,G20,-2)} -> 1 | G20: 9

Sheet Oral
H2: Évaluation du chef d'œuvre au baccalauréat
H3: Évaluation de la présentation orale
H4: =VERSION -> Version de mars 2021
E5: Nom : | F5: =IF(ISBLANK('1ère année'!B3),"",'1ère année'!B3) -> Elèves B
E6: Prénom : | F6: =IF(ISBLANK('1ère année'!B4),"",'1ère année'!B4) -> 2
E7: Formation : | F7: =IF(ISBLANK('1ère année'!B5),"",'1ère année'!B5) -> TMAC2
E8: Projet de chef d'œuvre : | F8: =IF(ISBLANK('1ère année'!B6),"",'1ère année'!B6) -> Une seconde chance pour la réussite
C10: Présentation orale
C12: Présentation et entretien
C14: Présentation orale suivie de questions - Durée totale : 15 min - Répartition indicative de 5 minutes puis 10 minutes.
C15: Le candidat peut s'appuyer sur un support de cinq pages recto maximum (plan d'intervention, texte, image, photographie, diapositives, schéma, dessin, graphe, équation, données chiffrées ou cartographiques, etc.). Le candidat l'apporte et l'utilise librement lors de l'oral mais il ne doit pas être lu. Ce support ne doit pas nécessiter la mise à disposition de technologie ou matériel particuliers de lecture, excepté pour des aménagements d'épreuves accordés à des candidats en situation de handicap. De même que l'objet essentiel de l'évaluation n'est pas le chef-d'œuvre en tant que tel mais la capacité de l'élève à présenter la démarche qui le sous-tend, ce support n'est pas non plus l'objet de l'évaluation. La commission d'évaluation ne peut en aucun cas exiger de consulter le support du candidat.
C17: Compétences attendues : | F17: 1 - non maîtrisées 2 - insuffisamment maîtrisées 3 - maîtrisées 4 - bien maîtrisées | G17: 1 | H17: 2 | I17: 3 | J17: 4
B19: CAPACITÉ À RESTITUER le travail mené dans le cadre de la réalisation du chef-d’oeuvre | C19: CAPACITÉ À RELATER LA DEMARCHE utilisée pour conduire à la réalisation du chef-d'œuvre
C20: Hiérarchise correctement les informations délivrées pour introduire le sujet | I20: x | K20: =IF(COUNTA(G20:J20)<>1,"Saisie incorrecte","")
C21: La présentation est claire et les termes utilisés sont pertinents | I21: x | K21: =IF(COUNTA(G21:J21)<>1,"Saisie incorrecte","")
C22: Les consignes sur le contenu exigé sont respectées | I22: x | K22: =IF(COUNTA(G22:J22)<>1,"Saisie incorrecte","")
C23: Est autonome par rapport au support de présentation orale du chef-d'oeuvre | I23: x | K23: =IF(COUNTA(G23:J23)<>1,"Saisie incorrecte","")
C24: CAPACITÉ À MONTRER EN QUOI la réalisation du chef d'œuvre relève de la démarche de projet
C25: Identifie clairement, précisément et objectivement les objectifs du projet, les étapes et les acteurs | J25: x | K25: =IF(COUNTA(G25:J25)<>1,"Saisie incorrecte","")
C26: Identifie clairement, précisément et objectivement la part individuelle investie dans le projet | I26: x | K26: =IF(COUNTA(G26:J26)<>1,"Saisie incorrecte","")
C27: APTITUDE À S'ADAPTER À SES INTERLOCUTEURS ET À LA SITUATION
C28: Entre dans l'échange avec le jury | I28: x | K28: =IF(COUNTA(G28:J28)<>1,"Saisie incorrecte","")
B30: CAPACITÉ À ANALYSER sa démarche et à la situer dans le métier et la filière professionnelle | C30: APTITUDE À APPRÉCIER les points forts et les points faibles du chef-d’oeuvre et de la démarche adoptée
C31: Identifie les difficultés rencontrées et la manière dont elles ont été dépassées ou non | J31: x | K31: =IF(COUNTA(G31:J31)<>1,"Saisie incorrecte","")
C32: Met en avant les aspects positifs ou négatifs rencontrés au long du projet | I32: x | K32: =IF(COUNTA(G32:J32)<>1,"Saisie incorrecte","")
C33: CAPACITÉ À ANALYSER les particularités et les difficultés du travail en autonomie
C34: Emet un avis ou ressenti personnel sur le chef-d’oeuvre entrepris | I34: x | K34: =IF(COUNTA(G34:J34)<>1,"Saisie incorrecte","")
C35: APTITUDE À faire ressortir la valeur ou l'intérêt que présente son chef-d'oeuvre
C36: Met en exergue la pertinence du chef-d’oeuvre par rapport à sa filière métier | J36: x | K36: =IF(COUNTA(G36:J36)<>1,"Saisie incorrecte","")
C37: APTITUDE À TRANSPOSER la démarche de projet adoptée pour le chef d'œuvre, durant ses PFMP et dans sa future pratique professionnelle
C38: Identifie les enjeux de transition écologique et/ou numérique, dans le champ de la spécialité de baccalauréat | I38: x | K38: =IF(COUNTA(G38:J38)<>1,"Saisie incorrecte","")
C39: Met en perspective l'expérience tirée du chef-d'œuvre dans le cadre plus large du contexte économique, culturel, de la filière métier concernée | J39: x | K39: =IF(COUNTA(G39:J39)<>1,"Saisie incorrecte","")
C41: Membres de la commission d'évaluation
C42: Professeur Enseignement professionnel | H42: oui | J42: non
C43: Nom : | F43: A suivi le projet de chef d'œuvre : | H43: x
C44: Prénom :
C45: Professeur Enseignement général - Discipline : | H45: oui | J45: non
C46: Nom : | F46: A suivi le projet de chef d'œuvre : | H46: x
C47: Prénom :
C49: Arrêté du 20-10-2020 - J.O. du 22-10-2020 - Article 4 - En considération de la note finale attribuée au chef-d'œuvre, l'écart de points supérieurs ou inférieurs à 10 sur 20 est affecté du coefficient 2. Ces points affectés de ce coefficient sont intégrés à la somme des points obtenus par le candidat, servant au calcul de la moyenne générale requise pour être admis à l'examen. Ils sont soit soustraits soit ajoutés selon qu'ils sont inférieurs ou supérieurs à 10 sur 20.

Sheet Notation
G2: Évaluation du chef d'œuvre au baccalauréat
G3: Proposition de note finale
G4: =VERSION -> Version de mars 2021
D5: Nom : | E5: =IF(ISBLANK('1ère année'!B3),"",'1ère année'!B3) -> Elèves B
D6: Prénom : | E6: =IF(ISBLANK('1ère année'!B4),"",'1ère année'!B4) -> 2
D7: Formation : | E7: =IF(ISBLANK('1ère année'!B5),"",'1ère année'!B5) -> TMAC2
D8: Projet de chef d'œuvre : | E8: =IF(ISBLANK('1ère année'!B6),"",'1ère année'!B6) -> Une seconde chance pour la réussite
B10: Evaluation | F10: Note obtenue sur 20
B12: Première année | G12: {=NOTE_1} -> Non évalué
B14: Deuxième année | G14: {=NOTE_2} -> 19
B16: Moyenne | G16: =MOYENNE_LIVRET -> 19
B18: Présentation orale | G18: =NOTE_ORAL -> 16
B20: Note finale | G20: =NOTE_FINALE -> 17.5

Sheet Descripteurs
C1: (Entre dans la compétence) | D1: 1 - Découvre | E1: 2 - Expérimente | F1: 3 - Entre dans l'autonomie | G1: 4 - Maîtrise | H1: Non évalué
A2: A | B2: Capacité à mobiliser ses compétences, ses connaissances et les ressources disponibles
A3: 1 | B3: Mobiliser ses compétences, ses connaissances dans la réalisation du chef d'œuvre | C3: Entre partiellement dans la compétence. | D3: Identifie les liens évidents entre le chef d'œuvre et les compétences et connaissances étudiées en classe. | E3: Met en œuvre ses compétences et connaissances. | F3: Choisit les savoirs, savoir-faire et savoir-être à mettre en oeuvre pour mener à bien son projet. | G3: Exprime des besoins nouveaux et tend à approfondir sa formation pour parvenir à ses fins. | H3: Non évalué
A4: 2 | B4: Mobiliser les ressources internes et externes (partenaires, équipements, moyens...) | C4: Entre partiellement dans la compétence. | D4: Identifie des partenaires de son environnement proche. Mobilise des ressources présélectionnées. | E4: Sollicite des partenaires, dans une démarche accompagnée. Utilise des ressources connues. | F4: Recherche et sélectionne des partenaires. Choisit les ressources nécessaires au projet. | G4: Conduit l'échange avec les partenaires. Adapte les ressources en fonction des besoins. | H4: Non évalué
A5: B | B5: Capacité à s'engager, à organiser son travail et à s'intégrer dans son environnement
A6: 3 | B6: Organiser et planifier son travail | C6: Entre partiellement dans la compétence. | D6: Applique l'organisation prévue. | E6: Propose une organisation simple répondant aux exigences d'une étape du projet. | F6: Prévoit et organise son activité et/ou celle de son équipe. | G6: Régule son activité et/ou celle de son équipe pour finaliser le projet. | H6: Non évalué
A7: 4 | B7: Tenir à jour l'état des avancées et des progrès réalisés | C7: Entre partiellement dans la compétence. | D7: Identifie les éléments clés de l'étape ou de l'activité - Rédige quelques mots relatifs à son contexte. | E7: Identifie les informations pertinentes de la démarche de réalisation - Ecrit des documents informatifs courts relatifs à son contexte. | F7: Rédige des documents relatifs à son activité et au contexte de la démarche. | G7: Produit des documents élaborés, décrit clairement la démarche. | H7: Non évalué
A8: 5 | B8: S'intégrer dans son environnement et/ou un collectif de travail | C8: Entre partiellement dans la compétence. | D8: Identifie les modalités de fonctionnement, les usages élémentaires de son environnement et/ou collectif de travail. | E8: Applique les conventions en usage, situe le rôle des participants et sa position dans le groupe. | F8: Met en oeuvre les conventions dans toutes les situations liées à l'activité concernée, fait des propositions et prend en compte les avis des membres du collectif. | G8: Assure l'adaptation à différents usages, y compris implicites, anime et développe le travail collectif, peut varier sa place et son rôle. | H8: Non évalué
A9: 6 | B9: Prendre des responsabilités et des initiatives dans la démarche de projet | C9: Entre partiellement dans la compétence. | D9: Emet une ou plusieurs idées pour le projet. | E9: Confronte ses idées aux réalités du projet visé. | F9: Définit et justifie les initiatives envisagées. | G9: Planifie la ou les étapes de la mise en oeuvre de son initiative. | H9: Non évalué
A10: C | B10: Capacité à analyser son travail, à s'adapter aux aléas et rendre compte du travail mené
A11: 7 | B11: S'adapter aux situations et proposer des solutions pour remédier aux difficultés rencontrées | C11: Entre partiellement dans la compétence. | D11: Identifie et signale la présence d'un problème ou d'un évènement imprévu. | E11: Identifie la procédure pour la résolution des aléas courants sous contôle. | F11: Met en oeuvre la procédure adaptée aux aléas courants liés à son activité. Application en autonomie. | G11: Résout des problèmes courants dans son activité et/ou celle de son équipe. Prise de décision en autonomie | H11: Non évalué
A12: 8 | B12: Rendre compte de l'état d'avancement du chef d'œuvre tout au long de sa réalisation | C12: Entre partiellement dans la compétence. | D12: Communique très partiellement en situation d'échange en face à face. Réponses brèves à la demande de l'interlocuteur. | E12: Communique dans des interactions concernant la démarche de réalisation. | F12: Communique selon ses besoins dans des situations variées. | G12: Adapte sa manière de communiquer aux enjeux des interactions. | H12: Non évalué
A13: 9 | B13: Analyser, évaluer son travail personnel | C13: Entre partiellement dans la compétence. | D13: Identifie ses forces et ses faiblesses. | E13: Envisage des possibles pour améliorer sa pratique. | F13: Investit d'autres stratégies (recherche et applique) pour optimiser son action. | G13: Mobilise de nouvelles manières d'apprendre et de travailler. | H13: Non évalué

Sheet Réglages
B1: CALCUL DES NOTES ANNUELLES
B2: Part des 3 capacités dans la note sur 20 | C2: Pour la première année | D2: Pour l'année de terminale
A3: A | B3: Mobiliser ses compétences, ses connaissances et les ressources disponibles | C3: 0.4 | D3: 0.4
A4: B | B4: S'engager, organiser son travail et s'intégrer dans son environnement | C4: 0.3 | D4: 0.3
A5: C | B5: Analyser son travail, s'adapter aux aléas et rendre compte du travail mené | C5: =1-C4-C3 -> 0.3 | D5: =1-D4-D3 -> 0.3 | E5: Calcul automatique.
B6: Poids de chaque compétence au sein de la capacité correspondante | C6: Pour la première année | D6: Pour l'année de terminale
A7: 1 | B7: Mobiliser ses compétences, ses connaissances dans la réalisation du chef d'œuvre | C7: 0.5 | D7: 0.5
A8: 2 | B8: Mobiliser les ressources internes et externes (partenaires, équipements, moyens...) | C8: =1-C7 -> 0.5 | D8: =1-D7 -> 0.5 | E8: Calcul automatique.
A9: 3 | B9: Organiser et planifier son travail | C9: 0.25 | D9: 0.25
A10: 4 | B10: Tenir à jour l'état des avancées et des progrès réalisés | C10: 0.25 | D10: 0.25
A11: 5 | B11: S'intégrer dans son environnement et/ou un collectif de travail | C11: 0.25 | D11: 0.25
A12: 6 | B12: Prendre des responsabilités et des initiatives dans la démarche de projet | C12: =1-SUM(C9:C11) -> 0.25 | D12: =1-SUM(D9:D11) -> 0.25 | E12: Calcul automatique.
A13: 7 | B13: S'adapter aux situations et proposer des solutions pour remédier aux difficultés rencontrées | C13: 0.33 | D13: 0.33
A14: 8 | B14: Rendre compte de l'état d'avancement du chef d'œuvre tout au long de sa réalisation | C14: 0.33 | D14: 0.33
A15: 9 | B15: Analyser, évaluer son travail personnel | C15: =1-SUM(C13:C14) -> 0.34 | D15: =1-SUM(D13:D14) -> 0.34 | E15: Calcul automatique.
B16: Points obtenus par compétence en fonction du positionnement | C16: Pour la première année | D16: Pour l'année de terminale
B17: (Entre dans la compétence) | C17: 0.25 | D17: 0.1 | G17: 0.5
B18: 1 - Découvre | C18: 0.5 | D18: 0.25 | E18: =CONCATENATE("L'élève qui atteint le palier 2 dans toutes les compétences évaluées aura ",TEXT(C19*20,"@"),"/20 s'il est en première année.") -> L'élève qui atteint le palier 2 dans toutes les compétences évaluées aura 20/20 s'il est en première année. | G18: 1
B19: 2 - Expérimente | C19: 1 | D19: 0.5 | G19: 2
B20: 3 - Entre dans l'autonomie | C20: 1 | D20: 0.75 | E20: =CONCATENATE("Il aura ",TEXT(D19*20,"@"),"/20 s'il est en deuxième année.") -> Il aura 10/20 s'il est en deuxième année. | G20: 3
B21: 4 - Maîtrise | C21: 1 | D21: 1 | G21: 4
B22: CALCUL DE LA NOTE D'EXAMEN pourcentage de la note obtenu à chaque niveau de maîtrise
B23: non maîtrisées | C23: 0 | E23: L'élève qui atteint le niveau "maîtrisé" dans toutes les compétences aura :
B24: insuffisamment maîtrisées | C24: =1/3 -> 0.33333333
B25: maîtrisées | C25: =2/3 -> 0.66666667 | E25: =CONCATENATE(TEXT(C25*20,"@"),"/20") -> 13,33333333/20
B26: bien maîtrisées | C26: =1 -> 1

Sheet Calcul notes
A1: POUR LA PREMIERE NOTE ANNUELLE | B1: Par souci de transparence, voici le mot de passe pour déverrouiller le classeur : ACADLILLE
A2: 2 | B2: Part de la note/du domaine visée | C2: Neutralisé ? | D2: Apport | E2: Part après neutralisations | F2: Positionnement | G2: Traduction | H2: Points visés | I2: Points obtenus | J2: Forme texte | K2: Code
A3: Mobiliser ses compétences, ses connaissances et les ressources disponibles | B3: =VLOOKUP(A3,PLAGE_BAREME,$A$2,0) -> 0.4 | C3: =AND(C6,C7) -> TRUE | D3: =IF(NOT(C3),B3,0) -> 0 | E3: =IF(EST_EVALUE_ANNEE_1,D3/SUM($D$3:$D$5)) -> FALSE | H3: =20*E3 -> 0
A4: S'engager, organiser son travail et s'intégrer dans son environnement | B4: =VLOOKUP(A4,PLAGE_BAREME,$A$2,0) -> 0.3 | C4: =AND(C8,C9,C10,C11) -> TRUE | D4: =IF(NOT(C4),B4,0) -> 0 | E4: =IF(EST_EVALUE_ANNEE_1,D4/SUM($D$3:$D$5)) -> FALSE | H4: =20*E4 -> 0
A5: Analyser son travail, s'adapter aux aléas et rendre compte du travail mené | B5: =VLOOKUP(A5,PLAGE_BAREME,$A$2,0) -> 0.3 | C5: =AND(C12,C13,C14) -> TRUE | D5: =IF(NOT(C5),B5,0) -> 0 | E5: =IF(EST_EVALUE_ANNEE_1,D5/SUM($D$3:$D$5)) -> FALSE | H5: =20*E5 -> 0
A6: Mobiliser ses compétences, ses connaissances dans la réalisation du chef d'œuvre | B6: =VLOOKUP(A6,PLAGE_BAREME,$A$2,0) -> 0.5 | C6: =IF(VLOOKUP(A6,PLAGE_POSITIONNEMENT_1,2,0)="Non évalué",TRUE,FALSE) -> TRUE | D6: =IF(NOT(C6),B6,0) -> 0 | E6: =IF(C3,0,D6/SUM($D$6:$D$7)) -> 0 | F6: =IF(C6,"",VLOOKUP(A6,PLAGE_POSITIONNEMENT_1,2,0)) | G6: =IF(C6,,VLOOKUP(F6,PLAGE_BAREME,2,0)) -> 0 | I6: =G6*E6*$H$3 -> 0 | J6: =IF(C6,"",ROUNDUP(I6,1)) | K6: =IF(C6,0,VLOOKUP(F6,CODAGE,2,0)) -> 0
A7: Mobiliser les ressources internes et externes (partenaires, équipements, moyens...) | B7: =VLOOKUP(A7,PLAGE_BAREME,$A$2,0) -> 0.5 | C7: =IF(VLOOKUP(A7,PLAGE_POSITIONNEMENT_1,2,0)="Non évalué",TRUE,FALSE) -> TRUE | D7: =IF(NOT(C7),B7,0) -> 0 | E7: =IF($C$3,0,D7/SUM($D$6:$D$7)) -> 0 | F7: =IF(C7,"",VLOOKUP(A7,PLAGE_POSITIONNEMENT_1,2,0)) | G7: =IF(C7,,VLOOKUP(F7,PLAGE_BAREME,2,0)) -> 0 | I7: =G7*E7*$H$3 -> 0 | J7: =IF(C7,"",ROUNDUP(I7,1)) | K7: =IF(C7,0,VLOOKUP(F7,CODAGE,2,0)) -> 0
A8: Organiser et planifier son travail | B8: =VLOOKUP(A8,PLAGE_BAREME,$A$2,0) -> 0.25 | C8: =IF(VLOOKUP(A8,PLAGE_POSITIONNEMENT_1,2,0)="Non évalué",TRUE,FALSE) -> TRUE | D8: =IF(NOT(C8),B8,0) -> 0 | E8: =IF($C$4,0,D8/SUM($D$8:$D$11)) -> 0 | F8: =IF(C8,"",VLOOKUP(A8,PLAGE_POSITIONNEMENT_1,2,0)) | G8: =IF(C8,,VLOOKUP(F8,PLAGE_BAREME,2,0)) -> 0 | I8: =G8*E8*$H$4 -> 0 | J8: =IF(C8,"",ROUNDUP(I8,1)) | K8: =IF(C8,0,VLOOKUP(F8,CODAGE,2,0)) -> 0
A9: Tenir à jour l'état des avancées et des progrès réalisés | B9: =VLOOKUP(A9,PLAGE_BAREME,$A$2,0) -> 0.25 | C9: =IF(VLOOKUP(A9,PLAGE_POSITIONNEMENT_1,2,0)="Non évalué",TRUE,FALSE) -> TRUE | D9: =IF(NOT(C9),B9,0) -> 0 | E9: =IF($C$4,0,D9/SUM($D$8:$D$11)) -> 0 | F9: =IF(C9,"",VLOOKUP(A9,PLAGE_POSITIONNEMENT_1,2,0)) | G9: =IF(C9,,VLOOKUP(F9,PLAGE_BAREME,2,0)) -> 0 | I9: =G9*E9*$H$4 -> 0 | J9: =IF(C9,"",ROUNDUP(I9,1)) | K9: =IF(C9,0,VLOOKUP(F9,CODAGE,2,0)) -> 0
A10: S'intégrer dans son environnement et/ou un collectif de travail | B10: =VLOOKUP(A10,PLAGE_BAREME,$A$2,0) -> 0.25 | C10: =IF(VLOOKUP(A10,PLAGE_POSITIONNEMENT_1,2,0)="Non évalué",TRUE,FALSE) -> TRUE | D10: =IF(NOT(C10),B10,0) -> 0 | E10: =IF($C$4,0,D10/SUM($D$8:$D$11)) -> 0 | F10: =IF(C10,"",VLOOKUP(A10,PLAGE_POSITIONNEMENT_1,2,0)) | G10: =IF(C10,,VLOOKUP(F10,PLAGE_BAREME,2,0)) -> 0 | I10: =G10*E10*$H$4 -> 0 | J10: =IF(C10,"",ROUNDUP(I10,1)) | K10: =IF(C10,0,VLOOKUP(F10,CODAGE,2,0)) -> 0
A11: Prendre des responsabilités et des initiatives dans la démarche de projet | B11: =VLOOKUP(A11,PLAGE_BAREME,$A$2,0) -> 0.25 | C11: =IF(VLOOKUP(A11,PLAGE_POSITIONNEMENT_1,2,0)="Non évalué",TRUE,FALSE) -> TRUE | D11: =IF(NOT(C11),B11,0) -> 0 | E11: =IF($C$4,0,D11/SUM($D$8:$D$11)) -> 0 | F11: =IF(C11,"",VLOOKUP(A11,PLAGE_POSITIONNEMENT_1,2,0)) | G11: =IF(C11,,VLOOKUP(F11,PLAGE_BAREME,2,0)) -> 0 | I11: =G11*E11*$H$4 -> 0 | J11: =IF(C11,"",ROUNDUP(I11,1)) | K11: =IF(C11,0,VLOOKUP(F11,CODAGE,2,0)) -> 0
A12: S'adapter aux situations et proposer des solutions pour remédier aux difficultés rencontrées | B12: =VLOOKUP(A12,PLAGE_BAREME,$A$2,0) -> 0.33 | C12: =IF(VLOOKUP(A12,PLAGE_POSITIONNEMENT_1,2,0)="Non évalué",TRUE,FALSE) -> TRUE | D12: =IF(NOT(C12),B12,0) -> 0 | E12: =IF($C$5,0,D12/SUM($D$12:$D$14)) -> 0 | F12: =IF(C12,"",VLOOKUP(A12,PLAGE_POSITIONNEMENT_1,2,0)) | G12: =IF(C12,,VLOOKUP(F12,PLAGE_BAREME,2,0)) -> 0 | I12: =G12*E12*$H$5 -> 0 | J12: =IF(C12,"",ROUNDUP(I12,1)) | K12: =IF(C12,0,VLOOKUP(F12,CODAGE,2,0)) -> 0
A13: Rendre compte de l'état d'avancement du chef d'œuvre tout au long de sa réalisation | B13: =VLOOKUP(A13,PLAGE_BAREME,$A$2,0) -> 0.33 | C13: =IF(VLOOKUP(A13,PLAGE_POSITIONNEMENT_1,2,0)="Non évalué",TRUE,FALSE) -> TRUE | D13: =IF(NOT(C13),B13,0) -> 0 | E13: =IF($C$5,0,D13/SUM($D$12:$D$14)) -> 0 | F13: =IF(C13,"",VLOOKUP(A13,PLAGE_POSITIONNEMENT_1,2,0)) | G13: =IF(C13,,VLOOKUP(F13,PLAGE_BAREME,2,0)) -> 0 | I13: =G13*E13*$H$5 -> 0 | J13: =IF(C13,"",ROUNDUP(I13,1)) | K13: =IF(C13,0,VLOOKUP(F13,CODAGE,2,0)) -> 0
A14: Analyser, évaluer son travail personnel | B14: =VLOOKUP(A14,PLAGE_BAREME,$A$2,0) -> 0.34 | C14: =IF(VLOOKUP(A14,PLAGE_POSITIONNEMENT_1,2,0)="Non évalué",TRUE,FALSE) -> TRUE | D14: =IF(NOT(C14),B14,0) -> 0 | E14: =IF($C$5,0,D14/SUM($D$12:$D$14)) -> 0 | F14: =IF(C14,"",VLOOKUP(A14,PLAGE_POSITIONNEMENT_1,2,0)) | G14: =IF(C14,,VLOOKUP(F14,PLAGE_BAREME,2,0)) -> 0 | I14: =G14*E14*$H$5 -> 0 | J14: =IF(C14,"",ROUNDUP(I14,1)) | K14: =IF(C14,0,VLOOKUP(F14,CODAGE,2,0)) -> 0
A16: Au moins une évaluation ?
A17: =NOT(AND(C6,C7,C8,C9,C10,C11,C12,C13,C14)) -> FALSE
A18: POUR LA DEUXIEME NOTE ANNUELLE
A19: 3 | B19: Part de la note/du domaine visée | C19: Neutralisé ? | D19: Apport | E19: Part après neutralisations | F19: Positionnement | G19: Traduction | H19: Points visés | I19: Points obtenus | J19: Forme texte | K19: Code
A20: Mobiliser ses compétences, ses connaissances et les ressources disponibles | B20: =VLOOKUP(A20,PLAGE_BAREME,$A$19,0) -> 0.4 | C20: =AND(C23,C24) -> FALSE | D20: =IF(NOT(C20),B20,0) -> 0.4 | E20: =IF(EST_EVALUE_ANNEE_2,D20/SUM($D$20:$D$22)) -> 0.4 | H20: =20*E20 -> 8
A21: S'engager, organiser son travail et s'intégrer dans son environnement | B21: =VLOOKUP(A21,PLAGE_BAREME,$A$19,0) -> 0.3 | C21: =AND(C25,C26,C27,C28) -> FALSE | D21: =IF(NOT(C21),B21,0) -> 0.3 | E21: =IF(EST_EVALUE_ANNEE_2,D21/SUM($D$20:$D$22)) -> 0.3 | H21: =20*E21 -> 6
A22: Analyser son travail, s'adapter aux aléas et rendre compte du travail mené | B22: =VLOOKUP(A22,PLAGE_BAREME,$A$19,0) -> 0.3 | C22: =AND(C29,C30,C31) -> FALSE | D22: =IF(NOT(C22),B22,0) -> 0.3 | E22: =IF(EST_EVALUE_ANNEE_2,D22/SUM($D$20:$D$22)) -> 0.3 | H22: =20*E22 -> 6
A23: Mobiliser ses compétences, ses connaissances dans la réalisation du chef d'œuvre | B23: =VLOOKUP(A23,PLAGE_BAREME,$A$19,0) -> 0.5 | C23: =IF(VLOOKUP(A23,PLAGE_POSITIONNEMENT_2,2,0)="Non évalué",TRUE,FALSE) -> FALSE | D23: =IF(NOT(C23),B23,0) -> 0.5 | E23: =IF(C20,0,D23/SUM(D23:D24)) -> 0.5 | F23: =IF(C23,"",VLOOKUP(A23,PLAGE_POSITIONNEMENT_2,2,0)) -> 3 - Entre dans l'autonomie | G23: =IF(C23,,VLOOKUP(F23,PLAGE_BAREME,3,0)) -> 0.75 | I23: =G23*E23*H20 -> 3 | J23: =IF(C23,"",ROUNDUP(I23,1)) -> 3 | K23: =IF(C23,0,VLOOKUP(F23,CODAGE,2,0)) -> 3
A24: Mobiliser les ressources internes et externes (partenaires, équipements, moyens...) | B24: =VLOOKUP(A24,PLAGE_BAREME,$A$19,0) -> 0.5 | C24: =IF(VLOOKUP(A24,PLAGE_POSITIONNEMENT_2,2,0)="Non évalué",TRUE,FALSE) -> FALSE | D24: =IF(NOT(C24),B24,0) -> 0.5 | E24: =IF(C20,0,D24/SUM(D23:D24)) -> 0.5 | F24: =IF(C24,"",VLOOKUP(A24,PLAGE_POSITIONNEMENT_2,2,0)) -> 4 - Maîtrise | G24: =IF(C24,,VLOOKUP(F24,PLAGE_BAREME,3,0)) -> 1 | I24: =G24*E24*H20 -> 4 | J24: =IF(C24,"",ROUNDUP(I24,1)) -> 4 | K24: =IF(C24,0,VLOOKUP(F24,CODAGE,2,0)) -> 4
A25: Organiser et planifier son travail | B25: =VLOOKUP(A25,PLAGE_BAREME,$A$19,0) -> 0.25 | C25: =IF(VLOOKUP(A25,PLAGE_POSITIONNEMENT_2,2,0)="Non évalué",TRUE,FALSE) -> FALSE | D25: =IF(NOT(C25),B25,0) -> 0.25 | E25: =IF(C21,0,D25/SUM(D25:D28)) -> 0.25 | F25: =IF(C25,"",VLOOKUP(A25,PLAGE_POSITIONNEMENT_2,2,0)) -> 3 - Entre dans l'autonomie | G25: =IF(C25,,VLOOKUP(F25,PLAGE_BAREME,3,0)) -> 0.75 | I25: =G25*E25*H21 -> 1.125 | J25: =IF(C25,"",ROUNDUP(I25,1)) -> 1.2 | K25: =IF(C25,0,VLOOKUP(F25,CODAGE,2,0)) -> 3
A26: Tenir à jour l'état des avancées et des progrès réalisés | B26: =VLOOKUP(A26,PLAGE_BAREME,$A$19,0) -> 0.25 | C26: =IF(VLOOKUP(A26,PLAGE_POSITIONNEMENT_2,2,0)="Non évalué",TRUE,FALSE) -> FALSE | D26: =IF(NOT(C26),B26,0) -> 0.25 | E26: =IF(C21,0,D26/SUM(D25:D28)) -> 0.25 | F26: =IF(C26,"",VLOOKUP(A26,PLAGE_POSITIONNEMENT_2,2,0)) -> 4 - Maîtrise | G26: =IF(C26,,VLOOKUP(F26,PLAGE_BAREME,3,0)) -> 1 | I26: =G26*E26*H21 -> 1.5 | J26: =IF(C26,"",ROUNDUP(I26,1)) -> 1.5 | K26: =IF(C26,0,VLOOKUP(F26,CODAGE,2,0)) -> 4
A27: S'intégrer dans son environnement et/ou un collectif de travail | B27: =VLOOKUP(A27,PLAGE_BAREME,$A$19,0) -> 0.25 | C27: =IF(VLOOKUP(A27,PLAGE_POSITIONNEMENT_2,2,0)="Non évalué",TRUE,FALSE) -> FALSE | D27: =IF(NOT(C27),B27,0) -> 0.25 | E27: =IF(C21,0,D27/SUM(D25:D28)) -> 0.25 | F27: =IF(C27,"",VLOOKUP(A27,PLAGE_POSITIONNEMENT_2,2,0)) -> 4 - Maîtrise | G27: =IF(C27,,VLOOKUP(F27,PLAGE_BAREME,3,0)) -> 1 | I27: =G27*E27*H21 -> 1.5 | J27: =IF(C27,"",ROUNDUP(I27,1)) -> 1.5 | K27: =IF(C27,0,VLOOKUP(F27,CODAGE,2,0)) -> 4
A28: Prendre des responsabilités et des initiatives dans la démarche de projet | B28: =VLOOKUP(A28,PLAGE_BAREME,$A$19,0) -> 0.25 | C28: =IF(VLOOKUP(A28,PLAGE_POSITIONNEMENT_2,2,0)="Non évalué",TRUE,FALSE) -> FALSE | D28: =IF(NOT(C28),B28,0) -> 0.25 | E28: =IF(C21,0,D28/SUM(D25:D28)) -> 0.25 | F28: =IF(C28,"",VLOOKUP(A28,PLAGE_POSITIONNEMENT_2,2,0)) -> 4 - Maîtrise | G28: =IF(C28,,VLOOKUP(F28,PLAGE_BAREME,3,0)) -> 1 | I28: =G28*E28*H21 -> 1.5 | J28: =IF(C28,"",ROUNDUP(I28,1)) -> 1.5 | K28: =IF(C28,0,VLOOKUP(F28,CODAGE,2,0)) -> 4
A29: S'adapter aux situations et proposer des solutions pour remédier aux difficultés rencontrées | B29: =VLOOKUP(A29,PLAGE_BAREME,$A$19,0) -> 0.33 | C29: =IF(VLOOKUP(A29,PLAGE_POSITIONNEMENT_2,2,0)="Non évalué",TRUE,FALSE) -> FALSE | D29: =IF(NOT(C29),B29,0) -> 0.33 | E29: =IF(C22,0,D29/SUM(D29:D31)) -> 0.33 | F29: =IF(C29,"",VLOOKUP(A29,PLAGE_POSITIONNEMENT_2,2,0)) -> 4 - Maîtrise | G29: =IF(C29,,VLOOKUP(F29,PLAGE_BAREME,3,0)) -> 1 | I29: =G29*E29*H22 -> 1.98 | J29: =IF(C29,"",ROUNDUP(I29,1)) -> 2 | K29: =IF(C29,0,VLOOKUP(F29,CODAGE,2,0)) -> 4
A30: Rendre compte de l'état d'avancement du chef d'œuvre tout au long de sa réalisation | B30: =VLOOKUP(A30,PLAGE_BAREME,$A$19,0) -> 0.33 | C30: =IF(VLOOKUP(A30,PLAGE_POSITIONNEMENT_2,2,0)="Non évalué",TRUE,FALSE) -> FALSE | D30: =IF(NOT(C30),B30,0) -> 0.33 | E30: =IF(C22,0,D30/SUM(D29:D31)) -> 0.33 | F30: =IF(C30,"",VLOOKUP(A30,PLAGE_POSITIONNEMENT_2,2,0)) -> 4 - Maîtrise | G30: =IF(C30,,VLOOKUP(F30,PLAGE_BAREME,3,0)) -> 1 | I30: =G30*E30*H22 -> 1.98 | J30: =IF(C30,"",ROUNDUP(I30,1)) -> 2 | K30: =IF(C30,0,VLOOKUP(F30,CODAGE,2,0)) -> 4
A31: Analyser, évaluer son travail personnel | B31: =VLOOKUP(A31,PLAGE_BAREME,$A$19,0) -> 0.34 | C31: =IF(VLOOKUP(A31,PLAGE_POSITIONNEMENT_2,2,0)="Non évalué",TRUE,FALSE) -> FALSE | D31: =IF(NOT(C31),B31,0) -> 0.34 | E31: =IF(C22,0,D31/SUM(D29:D31)) -> 0.34 | F31: =IF(C31,"",VLOOKUP(A31,PLAGE_POSITIONNEMENT_2,2,0)) -> 4 - Maîtrise | G31: =IF(C31,,VLOOKUP(F31,PLAGE_BAREME,3,0)) -> 1 | I31: =G31*E31*H22 -> 2.04 | J31: =IF(C31,"",ROUNDUP(I31,1)) -> 2.1 | K31: =IF(C31,0,VLOOKUP(F31,CODAGE,2,0)) -> 4
A33: Au moins une évaluation ?
A34: =NOT(AND(C23,C24,C25,C26,C27,C28,C29,C30,C31)) -> TRUE
A35: POUR L'EPREUVE ORALE
A36: CAPACITÉ À RELATER LA DEMARCHE utilisée pour conduire à la réalisation du chef-d'œuvre | B36: =Réglages!C23 -> 0 | C36: =Réglages!C24 -> 0.33333333 | D36: =Réglages!C25 -> 0.66666667 | E36: =Réglages!C26 -> 1
A37: Hiérarchise correctement les informations délivrées pour introduire le sujet | B37: =IF(ISBLANK(Oral!G20),0,B$36) -> 0 | C37: =IF(ISBLANK(Oral!H20),0,C$36) -> 0 | D37: =IF(ISBLANK(Oral!I20),0,D$36) -> 0.66666667 | E37: =IF(ISBLANK(Oral!J20),0,E$36) -> 0
A38: La présentation est claire et les termes utilisés sont pertinents | B38: =IF(ISBLANK(Oral!G21),0,B$36) -> 0 | C38: =IF(ISBLANK(Oral!H21),0,C$36) -> 0 | D38: =IF(ISBLANK(Oral!I21),0,D$36) -> 0.66666667 | E38: =IF(ISBLANK(Oral!J21),0,E$36) -> 0
A39: Les consignes sur le contenu exigé sont respectées | B39: =IF(ISBLANK(Oral!G22),0,B$36) -> 0 | C39: =IF(ISBLANK(Oral!H22),0,C$36) -> 0 | D39: =IF(ISBLANK(Oral!I22),0,D$36) -> 0.66666667 | E39: =IF(ISBLANK(Oral!J22),0,E$36) -> 0
A40: Est autonome par rapport au support de présentation orale du chef-d'oeuvre | B40: =IF(ISBLANK(Oral!G23),0,B$36) -> 0 | C40: =IF(ISBLANK(Oral!H23),0,C$36) -> 0 | D40: =IF(ISBLANK(Oral!I23),0,D$36) -> 0.66666667 | E40: =IF(ISBLANK(Oral!J23),0,E$36) -> 0
A41: CAPACITÉ À MONTRER EN QUOI la réalisation du chef d'œuvre relève de la démarche de projet
A42: Identifie clairement, précisément et objectivement les objectifs du projet, les étapes et les acteurs | B42: =IF(ISBLANK(Oral!G25),0,B$36) -> 0 | C42: =IF(ISBLANK(Oral!H25),0,C$36) -> 0 | D42: =IF(ISBLANK(Oral!I25),0,D$36) -> 0 | E42: =IF(ISBLANK(Oral!J25),0,E$36) -> 1
...

Sheet Onglet technique radar
A1: Codage | D1: Intitulés courts
A2: Non évalué | D2: Compétences/connaissances
A3: (Entre dans la compétence) | B3: 0.5 | D3: Ressources internes/externes
A4: 1 - Découvre | B4: 1 | D4: Organiser planifier
A5: 2 - Expérimente | B5: 2 | D5: Suivre avancées/progrès
A6: 3 - Entre dans l'autonomie | B6: 3 | D6: Environnement, collectif de travail
A7: 4 - Maîtrise | B7: 4 | D7: Responsabilités, initiatives
D8: S'adapter, remédier aux difficultés
A9: Attendu année 1 | D9: Rendre compte de l'avancement
A10: 1 | B10: =VLOOKUP(1,Réglages!$C$17:$G$21,5,0) -> 2 | D10: Analyser/évaluer son travail personnel
A11: 2 | B11: =VLOOKUP(1,Réglages!$C$17:$G$21,5,0) -> 2
A12: 3 | B12: =VLOOKUP(1,Réglages!$C$17:$G$21,5,0) -> 2
A13: 4 | B13: =VLOOKUP(1,Réglages!$C$17:$G$21,5,0) -> 2
A14: 5 | B14: =VLOOKUP(1,Réglages!$C$17:$G$21,5,0) -> 2
A15: 6 | B15: =VLOOKUP(1,Réglages!$C$17:$G$21,5,0) -> 2
A16: 7 | B16: =VLOOKUP(1,Réglages!$C$17:$G$21,5,0) -> 2
A17: 8 | B17: =VLOOKUP(1,Réglages!$C$17:$G$21,5,0) -> 2
A18: 9 | B18: =VLOOKUP(1,Réglages!$C$17:$G$21,5,0) -> 2
