Workbook
Name NUM_FACTURE: Feuil1!$I$3

Sheet Feuil1
A1: NUMERO FACTURE | B1: NOM | C1: DATE | D1: ACHAT | E1: LIEN
A2: 4 | B2: MOUNIC | C2: 44918 | D2: CHAISE | E2: =HYPERLINK("#"&ADDRESS(MATCH(Feuil1!$B2,Feuil1!$B:$B,0),MATCH(Feuil1!$B2,Feuil1!2:2,0))) -> #$B$2 | K2: NUMERO FACTURE | L2: NOM | M2: DATE | N2: ACHAT | Q2: {=_xlfn._xlws.SORT(_xlfn.UNIQUE(Tableau1[NUMERO FACTURE]),1,-1)} -> 5
A3: 2 | B3: ALPHA | C3: 44938 | D3: TABLE | E3: =HYPERLINK("#"&ADDRESS(MATCH(Feuil1!$B3,Feuil1!$B:$B,0),MATCH(Feuil1!$B3,Feuil1!3:3,0))) -> #$B$3 | G3: NUMERO FACTURE : | I3: 1 | K3: {=_xlfn._xlws.FILTER(Tableau1[],Tableau1[NUMERO FACTURE]=NUM_FACTURE)} -> 1 | L3: DORAM | M3: 44969 | N3: TABLE | O3: #$B$6 | P3: =HYPERLINK(O3) -> #$B$6 | Q3: 4
A4: 2 | B4: BERNET | C4: 44941 | D4: BANC | E4: =HYPERLINK("#"&ADDRESS(MATCH(Feuil1!$B4,Feuil1!$B:$B,0),MATCH(Feuil1!$B4,Feuil1!4:4,0))) -> #$B$4 | K4: 1 | L4: YANIS | M4: 44949 | N4: BANC | O4: #$B$7 | P4: =HYPERLINK(O4) -> #$B$7 | Q4: 3
A5: 3 | B5: CALI | C5: 44933 | D5: CHAISE | E5: =HYPERLINK("#"&ADDRESS(MATCH(Feuil1!$B5,Feuil1!$B:$B,0),MATCH(Feuil1!$B5,Feuil1!5:5,0))) -> #$B$5 | P5: =HYPERLINK(O5) | Q5: 2
A6: 1 | B6: DORAM | C6: 44969 | D6: TABLE | E6: =HYPERLINK("#"&ADDRESS(MATCH(Feuil1!$B6,Feuil1!$B:$B,0),MATCH(Feuil1!$B6,Feuil1!6:6,0))) -> #$B$6 | P6: =HYPERLINK(O6) | Q6: 1
A7: 1 | B7: YANIS | C7: 44949 | D7: BANC | E7: =HYPERLINK("#"&ADDRESS(MATCH(Feuil1!$B7,Feuil1!$B:$B,0),MATCH(Feuil1!$B7,Feuil1!7:7,0))) -> #$B$7 | P7: =HYPERLINK(O7)
A8: 2 | B8: BORIS | C8: 44979 | D8: CHAISE | E8: =HYPERLINK("#"&ADDRESS(MATCH(Feuil1!$B8,Feuil1!$B:$B,0),MATCH(Feuil1!$B8,Feuil1!8:8,0))) -> #$B$8 | P8: =HYPERLINK(O8)
A9: 5 | B9: cali | C9: 44938 | D9: TABLE | E9: =HYPERLINK("#"&ADDRESS(MATCH(Feuil1!$B9,Feuil1!$B:$B,0),MATCH(Feuil1!$B9,Feuil1!9:9,0))) -> #$B$5 | P9: =HYPERLINK(O9)
P10: =HYPERLINK(O10)
P11: =HYPERLINK(O11)
P12: =HYPERLINK(O12)
P13: =HYPERLINK(O13)

Sheet Feuil2
C3: FACTURE n° : | D3: =NUM_FACTURE -> 1
C6: {=_xlfn.LET( _xlpm.t_F,_xlfn._xlws.FILTER(Tableau1[],Tableau1[NUMERO FACTURE]=NUM_FACTURE), _xlpm.m_Nom, _xlfn.CHOOSECOLS(_xlpm.t_F,2), _xlpm.m_Date, _xlfn.CHOOSECOLS(_xlpm.t_F,3), _xlpm.m_Prod,_xlfn.CHOOSECOLS(_xlpm.t_F,4), _xlfn.HSTACK(_xlfn.MAP(_xlpm.m_Nom, _xlpm.m_Date, _xlfn.LAMBDA(_xlpm.doss,_xlpm.dat, "Dossier " & _xlpm.doss & " du " & TEXT(_xlpm.dat,"jj/mm/aaaa"))),_xlpm.m_Prod) )} -> Dossier DORAM du 12/02/2023 | D6: TABLE
C7: Dossier YANIS du 23/01/2023 | D7: BANC
C13: {=_xlfn.LET( _xlpm.t_F,_xlfn._xlws.FILTER(Tableau1[],Tableau1[NUMERO FACTURE]=NUM_FACTURE), _xlpm.m_Nom, _xlfn.CHOOSECOLS(_xlpm.t_F,2), _xlpm.m_Date, _xlfn.CHOOSECOLS(_xlpm.t_F,3), _xlpm.m_Prod,_xlfn.CHOOSECOLS(_xlpm.t_F,4), _xlpm.m_lien,_xlfn.CHOOSECOLS(_xlpm.t_F,5), _xlfn.HSTACK(_xlfn.MAP(_xlpm.m_Nom, _xlpm.m_Date, _xlfn.LAMBDA(_xlpm.doss,_xlpm.dat, "Dossier " & _xlpm.doss & " du " & TEXT(_xlpm.dat,"jj/mm/aaaa"))),_xlpm.m_Prod,_xlpm.m_lien) )} -> Dossier DORAM du 12/02/2023 | D13: TABLE | E13: #$B$6 | F13: =HYPERLINK($E13) -> #$B$6
C14: Dossier YANIS du 23/01/2023 | D14: BANC | E14: #$B$7 | F14: =HYPERLINK($E14) -> #$B$7
G21: m_lien;CHOISIRCOLS(t_F;5);
A24: =_xlfn.FORMULATEXT(C6) -> =LET( t_F;FILTRE(Tableau1;Tableau1[NUMERO FACTURE]=NUM_FACTURE); m_Nom; CHOISIRCOLS(t_F;2); m_Date; CHOISIRCOLS(t_F;3); m_Prod;CHOISIRCOLS(t_F;4); ASSEMB.H(MAP(m_Nom; m_Date; LAMBDA(doss;dat; "Dossier " & doss & " du " & TEXTE(dat;"jj/mm/aaaa")));m_Prod) )
