Workbook
Name bloc_urc_Point_de_prélèvement: listes!$C$2:$C$12
Name bloc_urc_Type_de_surveillance: listes!$B$2:$B$5
Name conformité: listes!$A$2:$A$3
Name eau_Site: listes!#REF!
Name eau_Type_de_surveillance: listes!#REF!
Name points_prélèvement_AIR: listes!#REF!
Name Points_prélèvement_eau: listes!#REF!
Name points_prélèvement_surfaces: listes!#REF!

Sheet BDD
F1: Partie à remplir en cas de non-conformité du prélèvement
A2: Type de surveillance | B2: Point de prélèvement | C2: Date prélèvement | D2: Conformité | E2: Date réception résultats | F2: Germe/Résultats | G2: Actions correctives à entreprendre | H2: Délai des actions | I2: Responsable des actions | J2: Réalisation | K2: Date de réalisation | L2: Prélèvement contrôle prévu le | M2: Résultats du contrôle
A3: Annuel : Qualification salle | B3: Bloc opératoire - Salle 1 | C3: 44713 | D3: Conforme
A4: Trimestriel : Contrôle aérobiocontamination | B4: Bloc opératoire - Salle 1 | C4: 44651 | D4: Non conforme
A5: Trimestriel : Contrôle surface | B5: Bloc opératoire - Salle 1 | C5: 44652 | D5: Conforme
A6: Annuel : Qualification salle | B6: Bloc opératoire - Salle 2 | C6: 44683 | D6: Conforme
A7: Annuel : Qualification salle | B7: Bloc opératoire - Salle 2 | C7: 44682 | D7: Conforme
A8: Annuel : Qualification salle | B8: Bloc opératoire - Salle 2 | C8: 44713 | D8: Conforme
A9: Annuel : Qualification salle | B9: Bloc opératoire - Salle 1 | C9: 44743 | D9: Conforme
A10: Trimestriel : Contrôle aérobiocontamination | B10: URC - Salle blanche | C10: 44744 | D10: Non conforme
A11: Annuel : Qualification salle | B11: Bloc opératoire - Salle 4 | C11: 44673 | D11: Non conforme
A12: Trimestriel : Contrôle aérobiocontamination | B12: Bloc opératoire - Salle 4 | C12: 44673 | D12: Conforme

Sheet Tableau de bord
E1: Tableau de bord
E5: Dernière qualification annuelle | G5: Dernier contrôle aérobiocontamination trimestriel | I5: Dernier contrôle surface trimestriel | K5: Dernier contrôle surface complémentaire
C6: Lieu | E6: Date | F6: Conformité | G6: Date | H6: Conformité | I6: Date | J6: Conformité | K6: Date | L6: Conformité
C7: Bloc opératoire - Salle 1 | E7: {=SUMPRODUCT(LARGE((BDD!$A$3:$A$10000="Annuel : Qualification salle")*(BDD!$B$3:$B$10000=C7)*(BDD!$C$3:$C$10000),1))} -> 44743 | F7: {=IFERROR(INDEX(BDD!$D$3:$D$10000,MATCH((SUMPRODUCT(LARGE((BDD!$A$3:$A$10000="Annuel : Qualification salle")*(BDD!$B$3:$B$10000=C7)*(BDD!$C$3:$C$10000),1))),BDD!$C$3:$C$10000)),"-")} -> Conforme | G7: {=SUMPRODUCT(LARGE((BDD!$A$3:$A$10000="Trimestriel : Contrôle aérobiocontamination")*(BDD!$B$3:$B$10000=C7)*(BDD!$C$3:$C$10000),1))} -> 44651 | H7: {=IFERROR(INDEX(BDD!$D$3:$D310000,MATCH((SUMPRODUCT(LARGE((BDD!$A$3:$A$10000="Trimestriel : Contrôle aérobiocontamination")*(BDD!$B$3:$B$10000=C7)*(BDD!$C$3:$C$10000),1))),BDD!$C$3:$C$10000)),"-")} -> Non conforme | I7: =_xlfn.MAXIFS(BDD!$C:$C,BDD!$B:$B,'Tableau de bord'!C7,BDD!$A:$A,"Trimestriel : Contrôle surface") -> 44652 | J7: =IFERROR(INDEX(BDD!$D:$D,MATCH(_xlfn.MAXIFS(BDD!$C:$C,BDD!$B:$B,'Tableau de bord'!C7,BDD!$A:$A,"Trimestriel : Contrôle surface"),BDD!$C:$C,0)),"-") -> Conforme | K7: =_xlfn.MAXIFS(BDD!$C:$C,BDD!$B:$B,'Tableau de bord'!C7,BDD!$A:$A,"Contrôle surface supplémentaire") -> 0 | L7: =IFERROR(INDEX(BDD!$D:$D,MATCH(_xlfn.MAXIFS(BDD!$C:$C,BDD!$B:$B,'Tableau de bord'!C7,BDD!$A:$A,"Contrôle surface supplémentaire"),BDD!$C:$C,0)),"-") -> -
C8: Bloc opératoire - Salle 2 | E8: {=SUMPRODUCT(LARGE((BDD!$A$3:$A$10000="Annuel : Qualification salle")*(BDD!$B$3:$B$10000=C8)*(BDD!$C$3:$C$10000),1))} -> 44713 | F8: {=IFERROR(INDEX(BDD!$D$3:$D$10000,MATCH((SUMPRODUCT(LARGE((BDD!$A$3:$A$10000="Annuel : Qualification salle")*(BDD!$B$3:$B$10000=C8)*(BDD!$C$3:$C$10000),1))),BDD!$C$3:$C$10000)),"-")} -> Conforme | G8: {=SUMPRODUCT(LARGE((BDD!$A$3:$A$10000="Trimestriel : Contrôle aérobiocontamination")*(BDD!$B$3:$B$10000=C8)*(BDD!$C$3:$C$10000),1))} -> 0 | H8: {=IFERROR(INDEX(BDD!$D$3:$D310001,MATCH((SUMPRODUCT(LARGE((BDD!$A$3:$A$10000="Trimestriel : Contrôle aérobiocontamination")*(BDD!$B$3:$B$10000=C8)*(BDD!$C$3:$C$10000),1))),BDD!$C$3:$C$10000)),"-")} -> - | I8: =_xlfn.MAXIFS(BDD!$C:$C,BDD!$B:$B,'Tableau de bord'!C8,BDD!$A:$A,"Trimestriel : Contrôle surface") -> 0 | J8: =IFERROR(INDEX(BDD!$D:$D,MATCH(_xlfn.MAXIFS(BDD!$C:$C,BDD!$B:$B,'Tableau de bord'!C8,BDD!$A:$A,"Trimestriel : Contrôle surface"),BDD!$C:$C,0)),"-") -> - | K8: =_xlfn.MAXIFS(BDD!$C:$C,BDD!$B:$B,'Tableau de bord'!C8,BDD!$A:$A,"Contrôle surface supplémentaire") -> 0 | L8: =IFERROR(INDEX(BDD!$D:$D,MATCH(_xlfn.MAXIFS(BDD!$C:$C,BDD!$B:$B,'Tableau de bord'!C8,BDD!$A:$A,"Contrôle surface supplémentaire"),BDD!$C:$C,0)),"-") -> -
C9: Bloc opératoire - Salle 3 | E9: {=SUMPRODUCT(LARGE((BDD!$A$3:$A$10000="Annuel : Qualification salle")*(BDD!$B$3:$B$10000=C9)*(BDD!$C$3:$C$10000),1))} -> 0 | F9: {=IFERROR(INDEX(BDD!$D$3:$D$10000,MATCH((SUMPRODUCT(LARGE((BDD!$A$3:$A$10000="Annuel : Qualification salle")*(BDD!$B$3:$B$10000=C9)*(BDD!$C$3:$C$10000),1))),BDD!$C$3:$C$10000)),"-")} -> - | G9: {=SUMPRODUCT(LARGE((BDD!$A$3:$A$10000="Trimestriel : Contrôle aérobiocontamination")*(BDD!$B$3:$B$10000=C9)*(BDD!$C$3:$C$10000),1))} -> 0 | H9: {=IFERROR(INDEX(BDD!$D$3:$D310002,MATCH((SUMPRODUCT(LARGE((BDD!$A$3:$A$10000="Trimestriel : Contrôle aérobiocontamination")*(BDD!$B$3:$B$10000=C9)*(BDD!$C$3:$C$10000),1))),BDD!$C$3:$C$10000)),"-")} -> - | I9: =_xlfn.MAXIFS(BDD!$C:$C,BDD!$B:$B,'Tableau de bord'!C9,BDD!$A:$A,"Trimestriel : Contrôle surface") -> 0 | J9: =IFERROR(INDEX(BDD!$D:$D,MATCH(_xlfn.MAXIFS(BDD!$C:$C,BDD!$B:$B,'Tableau de bord'!C9,BDD!$A:$A,"Trimestriel : Contrôle surface"),BDD!$C:$C,0)),"-") -> - | K9: =_xlfn.MAXIFS(BDD!$C:$C,BDD!$B:$B,'Tableau de bord'!C9,BDD!$A:$A,"Contrôle surface supplémentaire") -> 0 | L9: =IFERROR(INDEX(BDD!$D:$D,MATCH(_xlfn.MAXIFS(BDD!$C:$C,BDD!$B:$B,'Tableau de bord'!C9,BDD!$A:$A,"Contrôle surface supplémentaire"),BDD!$C:$C,0)),"-") -> -
C10: Bloc opératoire - Salle 4 | E10: {=SUMPRODUCT(LARGE((BDD!$A$3:$A$10000="Annuel : Qualification salle")*(BDD!$B$3:$B$10000=C10)*(BDD!$C$3:$C$10000),1))} -> 44673 | F10: {=IFERROR(INDEX(BDD!$D$3:$D$10000,MATCH((SUMPRODUCT(LARGE((BDD!$A$3:$A$10000="Annuel : Qualification salle")*(BDD!$B$3:$B$10000=C10)*(BDD!$C$3:$C$10000),1))),BDD!$C$3:$C$10000)),"-")} -> Conforme | G10: {=SUMPRODUCT(LARGE((BDD!$A$3:$A$10000="Trimestriel : Contrôle aérobiocontamination")*(BDD!$B$3:$B$10000=C10)*(BDD!$C$3:$C$10000),1))} -> 44673 | H10: {=IFERROR(INDEX(BDD!$D$3:$D310003,MATCH((SUMPRODUCT(LARGE((BDD!$A$3:$A$10000="Trimestriel : Contrôle aérobiocontamination")*(BDD!$B$3:$B$10000=C10)*(BDD!$C$3:$C$10000),1))),BDD!$C$3:$C$10000)),"-")} -> Conforme | I10: =_xlfn.MAXIFS(BDD!$C:$C,BDD!$B:$B,'Tableau de bord'!C10,BDD!$A:$A,"Trimestriel : Contrôle surface") -> 0 | J10: =IFERROR(INDEX(BDD!$D:$D,MATCH(_xlfn.MAXIFS(BDD!$C:$C,BDD!$B:$B,'Tableau de bord'!C10,BDD!$A:$A,"Trimestriel : Contrôle surface"),BDD!$C:$C,0)),"-") -> - | K10: =_xlfn.MAXIFS(BDD!$C:$C,BDD!$B:$B,'Tableau de bord'!C10,BDD!$A:$A,"Contrôle surface supplémentaire") -> 0 | L10: =IFERROR(INDEX(BDD!$D:$D,MATCH(_xlfn.MAXIFS(BDD!$C:$C,BDD!$B:$B,'Tableau de bord'!C10,BDD!$A:$A,"Contrôle surface supplémentaire"),BDD!$C:$C,0)),"-") -> -
C11: Bloc opératoire - Salle 5 | E11: {=SUMPRODUCT(LARGE((BDD!$A$3:$A$10000="Annuel : Qualification salle")*(BDD!$B$3:$B$10000=C11)*(BDD!$C$3:$C$10000),1))} -> 0 | F11: {=IFERROR(INDEX(BDD!$D$3:$D$10000,MATCH((SUMPRODUCT(LARGE((BDD!$A$3:$A$10000="Annuel : Qualification salle")*(BDD!$B$3:$B$10000=C11)*(BDD!$C$3:$C$10000),1))),BDD!$C$3:$C$10000)),"-")} -> - | G11: {=SUMPRODUCT(LARGE((BDD!$A$3:$A$10000="Trimestriel : Contrôle aérobiocontamination")*(BDD!$B$3:$B$10000=C11)*(BDD!$C$3:$C$10000),1))} -> 0 | H11: {=IFERROR(INDEX(BDD!$D$3:$D310004,MATCH((SUMPRODUCT(LARGE((BDD!$A$3:$A$10000="Trimestriel : Contrôle aérobiocontamination")*(BDD!$B$3:$B$10000=C11)*(BDD!$C$3:$C$10000),1))),BDD!$C$3:$C$10000)),"-")} -> - | I11: =_xlfn.MAXIFS(BDD!$C:$C,BDD!$B:$B,'Tableau de bord'!C11,BDD!$A:$A,"Trimestriel : Contrôle surface") -> 0 | J11: =IFERROR(INDEX(BDD!$D:$D,MATCH(_xlfn.MAXIFS(BDD!$C:$C,BDD!$B:$B,'Tableau de bord'!C11,BDD!$A:$A,"Trimestriel : Contrôle surface"),BDD!$C:$C,0)),"-") -> - | K11: =_xlfn.MAXIFS(BDD!$C:$C,BDD!$B:$B,'Tableau de bord'!C11,BDD!$A:$A,"Contrôle surface supplémentaire") -> 0 | L11: =IFERROR(INDEX(BDD!$D:$D,MATCH(_xlfn.MAXIFS(BDD!$C:$C,BDD!$B:$B,'Tableau de bord'!C11,BDD!$A:$A,"Contrôle surface supplémentaire"),BDD!$C:$C,0)),"-") -> -
C12: Bloc opératoire - Salle 6 | E12: {=SUMPRODUCT(LARGE((BDD!$A$3:$A$10000="Annuel : Qualification salle")*(BDD!$B$3:$B$10000=C12)*(BDD!$C$3:$C$10000),1))} -> 0 | F12: {=IFERROR(INDEX(BDD!$D$3:$D$10000,MATCH((SUMPRODUCT(LARGE((BDD!$A$3:$A$10000="Annuel : Qualification salle")*(BDD!$B$3:$B$10000=C12)*(BDD!$C$3:$C$10000),1))),BDD!$C$3:$C$10000)),"-")} -> - | G12: {=SUMPRODUCT(LARGE((BDD!$A$3:$A$10000="Trimestriel : Contrôle aérobiocontamination")*(BDD!$B$3:$B$10000=C12)*(BDD!$C$3:$C$10000),1))} -> 0 | H12: {=IFERROR(INDEX(BDD!$D$3:$D310005,MATCH((SUMPRODUCT(LARGE((BDD!$A$3:$A$10000="Trimestriel : Contrôle aérobiocontamination")*(BDD!$B$3:$B$10000=C12)*(BDD!$C$3:$C$10000),1))),BDD!$C$3:$C$10000)),"-")} -> - | I12: =_xlfn.MAXIFS(BDD!$C:$C,BDD!$B:$B,'Tableau de bord'!C12,BDD!$A:$A,"Trimestriel : Contrôle surface") -> 0 | J12: =IFERROR(INDEX(BDD!$D:$D,MATCH(_xlfn.MAXIFS(BDD!$C:$C,BDD!$B:$B,'Tableau de bord'!C12,BDD!$A:$A,"Trimestriel : Contrôle surface"),BDD!$C:$C,0)),"-") -> - | K12: =_xlfn.MAXIFS(BDD!$C:$C,BDD!$B:$B,'Tableau de bord'!C12,BDD!$A:$A,"Contrôle surface supplémentaire") -> 0 | L12: =IFERROR(INDEX(BDD!$D:$D,MATCH(_xlfn.MAXIFS(BDD!$C:$C,BDD!$B:$B,'Tableau de bord'!C12,BDD!$A:$A,"Contrôle surface supplémentaire"),BDD!$C:$C,0)),"-") -> -
C13: URC - Salle blanche | E13: {=SUMPRODUCT(LARGE((BDD!$A$3:$A$10000="Annuel : Qualification salle")*(BDD!$B$3:$B$10000=C13)*(BDD!$C$3:$C$10000),1))} -> 0 | F13: {=IFERROR(INDEX(BDD!$D$3:$D$10000,MATCH((SUMPRODUCT(LARGE((BDD!$A$3:$A$10000="Annuel : Qualification salle")*(BDD!$B$3:$B$10000=C13)*(BDD!$C$3:$C$10000),1))),BDD!$C$3:$C$10000)),"-")} -> - | G13: {=SUMPRODUCT(LARGE((BDD!$A$3:$A$10000="Trimestriel : Contrôle aérobiocontamination")*(BDD!$B$3:$B$10000=C13)*(BDD!$C$3:$C$10000),1))} -> 44744 | H13: {=IFERROR(INDEX(BDD!$D$3:$D310006,MATCH((SUMPRODUCT(LARGE((BDD!$A$3:$A$10000="Trimestriel : Contrôle aérobiocontamination")*(BDD!$B$3:$B$10000=C13)*(BDD!$C$3:$C$10000),1))),BDD!$C$3:$C$10000)),"-")} -> Conforme | I13: =_xlfn.MAXIFS(BDD!$C:$C,BDD!$B:$B,'Tableau de bord'!C13,BDD!$A:$A,"Trimestriel : Contrôle surface") -> 0 | J13: =IFERROR(INDEX(BDD!$D:$D,MATCH(_xlfn.MAXIFS(BDD!$C:$C,BDD!$B:$B,'Tableau de bord'!C13,BDD!$A:$A,"Trimestriel : Contrôle surface"),BDD!$C:$C,0)),"-") -> - | K13: =_xlfn.MAXIFS(BDD!$C:$C,BDD!$B:$B,'Tableau de bord'!C13,BDD!$A:$A,"Contrôle surface supplémentaire") -> 0 | L13: =IFERROR(INDEX(BDD!$D:$D,MATCH(_xlfn.MAXIFS(BDD!$C:$C,BDD!$B:$B,'Tableau de bord'!C13,BDD!$A:$A,"Contrôle surface supplémentaire"),BDD!$C:$C,0)),"-") -> -
C14: URC - Nominat 1 | E14: {=SUMPRODUCT(LARGE((BDD!$A$3:$A$10000="Annuel : Qualification salle")*(BDD!$B$3:$B$10000=C14)*(BDD!$C$3:$C$10000),1))} -> 0 | F14: {=IFERROR(INDEX(BDD!$D$3:$D$10000,MATCH((SUMPRODUCT(LARGE((BDD!$A$3:$A$10000="Annuel : Qualification salle")*(BDD!$B$3:$B$10000=C14)*(BDD!$C$3:$C$10000),1))),BDD!$C$3:$C$10000)),"-")} -> - | G14: {=SUMPRODUCT(LARGE((BDD!$A$3:$A$10000="Trimestriel : Contrôle aérobiocontamination")*(BDD!$B$3:$B$10000=C14)*(BDD!$C$3:$C$10000),1))} -> 0 | H14: {=IFERROR(INDEX(BDD!$D$3:$D310007,MATCH((SUMPRODUCT(LARGE((BDD!$A$3:$A$10000="Trimestriel : Contrôle aérobiocontamination")*(BDD!$B$3:$B$10000=C14)*(BDD!$C$3:$C$10000),1))),BDD!$C$3:$C$10000)),"-")} -> - | I14: =_xlfn.MAXIFS(BDD!$C:$C,BDD!$B:$B,'Tableau de bord'!C14,BDD!$A:$A,"Trimestriel : Contrôle surface") -> 0 | J14: =IFERROR(INDEX(BDD!$D:$D,MATCH(_xlfn.MAXIFS(BDD!$C:$C,BDD!$B:$B,'Tableau de bord'!C14,BDD!$A:$A,"Trimestriel : Contrôle surface"),BDD!$C:$C,0)),"-") -> - | K14: =_xlfn.MAXIFS(BDD!$C:$C,BDD!$B:$B,'Tableau de bord'!C14,BDD!$A:$A,"Contrôle surface supplémentaire") -> 0 | L14: =IFERROR(INDEX(BDD!$D:$D,MATCH(_xlfn.MAXIFS(BDD!$C:$C,BDD!$B:$B,'Tableau de bord'!C14,BDD!$A:$A,"Contrôle surface supplémentaire"),BDD!$C:$C,0)),"-") -> -
C15: URC - Nominat 2 | E15: {=SUMPRODUCT(LARGE((BDD!$A$3:$A$10000="Annuel : Qualification salle")*(BDD!$B$3:$B$10000=C15)*(BDD!$C$3:$C$10000),1))} -> 0 | F15: {=IFERROR(INDEX(BDD!$D$3:$D$10000,MATCH((SUMPRODUCT(LARGE((BDD!$A$3:$A$10000="Annuel : Qualification salle")*(BDD!$B$3:$B$10000=C15)*(BDD!$C$3:$C$10000),1))),BDD!$C$3:$C$10000)),"-")} -> - | G15: {=SUMPRODUCT(LARGE((BDD!$A$3:$A$10000="Trimestriel : Contrôle aérobiocontamination")*(BDD!$B$3:$B$10000=C15)*(BDD!$C$3:$C$10000),1))} -> 0 | H15: {=IFERROR(INDEX(BDD!$D$3:$D310008,MATCH((SUMPRODUCT(LARGE((BDD!$A$3:$A$10000="Trimestriel : Contrôle aérobiocontamination")*(BDD!$B$3:$B$10000=C15)*(BDD!$C$3:$C$10000),1))),BDD!$C$3:$C$10000)),"-")} -> - | I15: =_xlfn.MAXIFS(BDD!$C:$C,BDD!$B:$B,'Tableau de bord'!C15,BDD!$A:$A,"Trimestriel : Contrôle surface") -> 0 | J15: =IFERROR(INDEX(BDD!$D:$D,MATCH(_xlfn.MAXIFS(BDD!$C:$C,BDD!$B:$B,'Tableau de bord'!C15,BDD!$A:$A,"Trimestriel : Contrôle surface"),BDD!$C:$C,0)),"-") -> - | K15: =_xlfn.MAXIFS(BDD!$C:$C,BDD!$B:$B,'Tableau de bord'!C15,BDD!$A:$A,"Contrôle surface supplémentaire") -> 0 | L15: =IFERROR(INDEX(BDD!$D:$D,MATCH(_xlfn.MAXIFS(BDD!$C:$C,BDD!$B:$B,'Tableau de bord'!C15,BDD!$A:$A,"Contrôle surface supplémentaire"),BDD!$C:$C,0)),"-") -> -
C16: Arsenal viscéral | E16: {=SUMPRODUCT(LARGE((BDD!$A$3:$A$10000="Annuel : Qualification salle")*(BDD!$B$3:$B$10000=C16)*(BDD!$C$3:$C$10000),1))} -> 0 | F16: {=IFERROR(INDEX(BDD!$D$3:$D$10000,MATCH((SUMPRODUCT(LARGE((BDD!$A$3:$A$10000="Annuel : Qualification salle")*(BDD!$B$3:$B$10000=C16)*(BDD!$C$3:$C$10000),1))),BDD!$C$3:$C$10000)),"-")} -> - | G16: {=SUMPRODUCT(LARGE((BDD!$A$3:$A$10000="Trimestriel : Contrôle aérobiocontamination")*(BDD!$B$3:$B$10000=C16)*(BDD!$C$3:$C$10000),1))} -> 0 | H16: {=IFERROR(INDEX(BDD!$D$3:$D310009,MATCH((SUMPRODUCT(LARGE((BDD!$A$3:$A$10000="Trimestriel : Contrôle aérobiocontamination")*(BDD!$B$3:$B$10000=C16)*(BDD!$C$3:$C$10000),1))),BDD!$C$3:$C$10000)),"-")} -> - | I16: =_xlfn.MAXIFS(BDD!$C:$C,BDD!$B:$B,'Tableau de bord'!C16,BDD!$A:$A,"Trimestriel : Contrôle surface") -> 0 | J16: =IFERROR(INDEX(BDD!$D:$D,MATCH(_xlfn.MAXIFS(BDD!$C:$C,BDD!$B:$B,'Tableau de bord'!C16,BDD!$A:$A,"Trimestriel : Contrôle surface"),BDD!$C:$C,0)),"-") -> - | K16: =_xlfn.MAXIFS(BDD!$C:$C,BDD!$B:$B,'Tableau de bord'!C16,BDD!$A:$A,"Contrôle surface supplémentaire") -> 0 | L16: =IFERROR(INDEX(BDD!$D:$D,MATCH(_xlfn.MAXIFS(BDD!$C:$C,BDD!$B:$B,'Tableau de bord'!C16,BDD!$A:$A,"Contrôle surface supplémentaire"),BDD!$C:$C,0)),"-") -> -
C17: Arsenal ortho | E17: {=SUMPRODUCT(LARGE((BDD!$A$3:$A$10000="Annuel : Qualification salle")*(BDD!$B$3:$B$10000=C17)*(BDD!$C$3:$C$10000),1))} -> 0 | F17: {=IFERROR(INDEX(BDD!$D$3:$D$10000,MATCH((SUMPRODUCT(LARGE((BDD!$A$3:$A$10000="Annuel : Qualification salle")*(BDD!$B$3:$B$10000=C17)*(BDD!$C$3:$C$10000),1))),BDD!$C$3:$C$10000)),"-")} -> - | G17: {=SUMPRODUCT(LARGE((BDD!$A$3:$A$10000="Trimestriel : Contrôle aérobiocontamination")*(BDD!$B$3:$B$10000=C17)*(BDD!$C$3:$C$10000),1))} -> 0 | H17: {=IFERROR(INDEX(BDD!$D$3:$D310010,MATCH((SUMPRODUCT(LARGE((BDD!$A$3:$A$10000="Trimestriel : Contrôle aérobiocontamination")*(BDD!$B$3:$B$10000=C17)*(BDD!$C$3:$C$10000),1))),BDD!$C$3:$C$10000)),"-")} -> - | I17: =_xlfn.MAXIFS(BDD!$C:$C,BDD!$B:$B,'Tableau de bord'!C17,BDD!$A:$A,"Trimestriel : Contrôle surface") -> 0 | J17: =IFERROR(INDEX(BDD!$D:$D,MATCH(_xlfn.MAXIFS(BDD!$C:$C,BDD!$B:$B,'Tableau de bord'!C17,BDD!$A:$A,"Trimestriel : Contrôle surface"),BDD!$C:$C,0)),"-") -> - | K17: =_xlfn.MAXIFS(BDD!$C:$C,BDD!$B:$B,'Tableau de bord'!C17,BDD!$A:$A,"Contrôle surface supplémentaire") -> 0 | L17: =IFERROR(INDEX(BDD!$D:$D,MATCH(_xlfn.MAXIFS(BDD!$C:$C,BDD!$B:$B,'Tableau de bord'!C17,BDD!$A:$A,"Contrôle surface supplémentaire"),BDD!$C:$C,0)),"-") -> -

Sheet listes
A1: conformité | B1: bloc-urc-Type de surveillance | C1: bloc-urc-Point de prélèvement
A2: Conforme | B2: Annuel : Qualification salle | C2: Bloc opératoire - Salle 1
A3: Non conforme | B3: Trimestriel : Contrôle aérobiocontamination | C3: Bloc opératoire - Salle 2
B4: Trimestriel : Contrôle surface | C4: Bloc opératoire - Salle 3
B5: Contrôle surface supplémentaire | C5: Bloc opératoire - Salle 4
C6: Bloc opératoire - Salle 5
C7: Bloc opératoire - Salle 6
C8: URC - Salle blanche
C9: URC - Nominat 1
C10: URC - Nominat 2
C11: Arsenal viscéral
C12: Arsenal ortho
