Workbook
Name Dates: Tabel1[Date]
Name Exercices: Tabel1[Exercice]
Name Mois: Tabel1[mois]
Name Repetitions: Tabel1[Répétitions totale]
Name Semaines: Tabel1[semaine]
Name Slicer_Exercice: #N/A
Name Slicer_Kolom1: #N/A
Name Slicer_semaine: #N/A

Sheet Séance
A2: Date | B2: Exercice | C2: Catégorie | D2: Série 1 | E2: Série 2 | F2: Série 3 | G2: Série 4 | H2: Répétitions totale | I2: Charge | J2: semaine | K2: mois
A3: 45682 | B3: Squat | C3: {=INDEX(Parametres!$A$1:$I$1,MAX(IF(Tabel1[[#This Row],[Exercice]]=Parametres!$A$2:$I$10,COLUMN(Parametres!$A$2:$I$10),0)))} -> Jambes | D3: 14 | E3: 14 | F3: 14 | G3: 14 | H3: =+SUM(D3:G3) -> 56 | I3: PDC | J3: =MOD(YEAR(Tabel1[[#This Row],[Date]]-WEEKDAY(Tabel1[[#This Row],[Date]],2)+4),100)&TEXT(_xlfn.ISOWEEKNUM(Tabel1[[#This Row],[Date]]),"-00") -> 25-04 | K3: =MOD(YEAR(Tabel1[[#This Row],[Date]]-WEEKDAY(Tabel1[[#This Row],[Date]],2)+4),100)&TEXT(MONTH(Tabel1[[#This Row],[Date]]),"-00") -> 25-01
A4: 45682 | B4: Dips | C4: {=INDEX(Parametres!$A$1:$I$1,MAX(IF(Tabel1[[#This Row],[Exercice]]=Parametres!$A$2:$I$10,COLUMN(Parametres!$A$2:$I$10),0)))} -> Pompes | D4: 14 | E4: 14 | F4: 14 | G4: 14 | H4: =+SUM(D4:G4) -> 56 | I4: PDC | J4: =MOD(YEAR(Tabel1[[#This Row],[Date]]-WEEKDAY(Tabel1[[#This Row],[Date]],2)+4),100)&TEXT(_xlfn.ISOWEEKNUM(Tabel1[[#This Row],[Date]]),"-00") -> 25-04 | K4: =MOD(YEAR(Tabel1[[#This Row],[Date]]-WEEKDAY(Tabel1[[#This Row],[Date]],2)+4),100)&TEXT(MONTH(Tabel1[[#This Row],[Date]]),"-00") -> 25-01
A5: 45682 | B5: Pompe prise sérée | C5: {=INDEX(Parametres!$A$1:$I$1,MAX(IF(Tabel1[[#This Row],[Exercice]]=Parametres!$A$2:$I$10,COLUMN(Parametres!$A$2:$I$10),0)))} -> Pompes | D5: 20 | E5: 20 | F5: 20 | G5: 20 | H5: =+SUM(D5:G5) -> 80 | I5: PDC | J5: =MOD(YEAR(Tabel1[[#This Row],[Date]]-WEEKDAY(Tabel1[[#This Row],[Date]],2)+4),100)&TEXT(_xlfn.ISOWEEKNUM(Tabel1[[#This Row],[Date]]),"-00") -> 25-04 | K5: =MOD(YEAR(Tabel1[[#This Row],[Date]]-WEEKDAY(Tabel1[[#This Row],[Date]],2)+4),100)&TEXT(MONTH(Tabel1[[#This Row],[Date]]),"-00") -> 25-01
A6: 45682 | B6: Burpees | C6: {=INDEX(Parametres!$A$1:$I$1,MAX(IF(Tabel1[[#This Row],[Exercice]]=Parametres!$A$2:$I$10,COLUMN(Parametres!$A$2:$I$10),0)))} -> Pompes | D6: 1 | E6: 1 | F6: 0 | G6: 0 | H6: =+SUM(D6:G6) -> 2 | I6: PDC | J6: =MOD(YEAR(Tabel1[[#This Row],[Date]]-WEEKDAY(Tabel1[[#This Row],[Date]],2)+4),100)&TEXT(_xlfn.ISOWEEKNUM(Tabel1[[#This Row],[Date]]),"-00") -> 25-04 | K6: =MOD(YEAR(Tabel1[[#This Row],[Date]]-WEEKDAY(Tabel1[[#This Row],[Date]],2)+4),100)&TEXT(MONTH(Tabel1[[#This Row],[Date]]),"-00") -> 25-01
A7: 45682 | B7: Traction supi prise sérée | C7: {=INDEX(Parametres!$A$1:$I$1,MAX(IF(Tabel1[[#This Row],[Exercice]]=Parametres!$A$2:$I$10,COLUMN(Parametres!$A$2:$I$10),0)))} -> Tractions | D7: 28 | E7: 20 | F7: 0 | G7: 0 | H7: =+SUM(D7:G7) -> 48 | I7: PDC | J7: =MOD(YEAR(Tabel1[[#This Row],[Date]]-WEEKDAY(Tabel1[[#This Row],[Date]],2)+4),100)&TEXT(_xlfn.ISOWEEKNUM(Tabel1[[#This Row],[Date]]),"-00") -> 25-04 | K7: =MOD(YEAR(Tabel1[[#This Row],[Date]]-WEEKDAY(Tabel1[[#This Row],[Date]],2)+4),100)&TEXT(MONTH(Tabel1[[#This Row],[Date]]),"-00") -> 25-01
A8: 45682 | B8: Sit up | C8: {=INDEX(Parametres!$A$1:$I$1,MAX(IF(Tabel1[[#This Row],[Exercice]]=Parametres!$A$2:$I$10,COLUMN(Parametres!$A$2:$I$10),0)))} -> Abdominaux | D8: 20 | E8: 14 | F8: 14 | G8: 12 | H8: =+SUM(D8:G8) -> 60 | I8: PDC | J8: =MOD(YEAR(Tabel1[[#This Row],[Date]]-WEEKDAY(Tabel1[[#This Row],[Date]],2)+4),100)&TEXT(_xlfn.ISOWEEKNUM(Tabel1[[#This Row],[Date]]),"-00") -> 25-04 | K8: =MOD(YEAR(Tabel1[[#This Row],[Date]]-WEEKDAY(Tabel1[[#This Row],[Date]],2)+4),100)&TEXT(MONTH(Tabel1[[#This Row],[Date]]),"-00") -> 25-01
A9: 45682 | B9: Pompe sautée claquée | C9: {=INDEX(Parametres!$A$1:$I$1,MAX(IF(Tabel1[[#This Row],[Exercice]]=Parametres!$A$2:$I$10,COLUMN(Parametres!$A$2:$I$10),0)))} -> Pompes | D9: 32 | E9: 30 | F9: 30 | G9: 29 | H9: =+SUM(D9:G9) -> 121 | I9: PDC | J9: =MOD(YEAR(Tabel1[[#This Row],[Date]]-WEEKDAY(Tabel1[[#This Row],[Date]],2)+4),100)&TEXT(_xlfn.ISOWEEKNUM(Tabel1[[#This Row],[Date]]),"-00") -> 25-04 | K9: =MOD(YEAR(Tabel1[[#This Row],[Date]]-WEEKDAY(Tabel1[[#This Row],[Date]],2)+4),100)&TEXT(MONTH(Tabel1[[#This Row],[Date]]),"-00") -> 25-01
A10: 45682 | B10: Traction pro prise large | C10: {=INDEX(Parametres!$A$1:$I$1,MAX(IF(Tabel1[[#This Row],[Exercice]]=Parametres!$A$2:$I$10,COLUMN(Parametres!$A$2:$I$10),0)))} -> Tractions | D10: 27 | E10: 19 | F10: 14 | G10: 15 | H10: =+SUM(D10:G10) -> 75 | I10: PDC | J10: =MOD(YEAR(Tabel1[[#This Row],[Date]]-WEEKDAY(Tabel1[[#This Row],[Date]],2)+4),100)&TEXT(_xlfn.ISOWEEKNUM(Tabel1[[#This Row],[Date]]),"-00") -> 25-04 | K10: =MOD(YEAR(Tabel1[[#This Row],[Date]]-WEEKDAY(Tabel1[[#This Row],[Date]],2)+4),100)&TEXT(MONTH(Tabel1[[#This Row],[Date]]),"-00") -> 25-01
A11: 45682 | B11: Abdo oblique | C11: {=INDEX(Parametres!$A$1:$I$1,MAX(IF(Tabel1[[#This Row],[Exercice]]=Parametres!$A$2:$I$10,COLUMN(Parametres!$A$2:$I$10),0)))} -> Abdominaux | D11: 16 | E11: 16 | F11: 15 | G11: 15 | H11: =+SUM(D11:G11) -> 62 | I11: PDC | J11: =MOD(YEAR(Tabel1[[#This Row],[Date]]-WEEKDAY(Tabel1[[#This Row],[Date]],2)+4),100)&TEXT(_xlfn.ISOWEEKNUM(Tabel1[[#This Row],[Date]]),"-00") -> 25-04 | K11: =MOD(YEAR(Tabel1[[#This Row],[Date]]-WEEKDAY(Tabel1[[#This Row],[Date]],2)+4),100)&TEXT(MONTH(Tabel1[[#This Row],[Date]]),"-00") -> 25-01
A12: 45686 | B12: Squat | C12: {=INDEX(Parametres!$A$1:$I$1,MAX(IF(Tabel1[[#This Row],[Exercice]]=Parametres!$A$2:$I$10,COLUMN(Parametres!$A$2:$I$10),0)))} -> Jambes | D12: 42 | E12: 25 | F12: 16 | G12: 13 | H12: =+SUM(D12:G12) -> 96 | I12: PDC | J12: =MOD(YEAR(Tabel1[[#This Row],[Date]]-WEEKDAY(Tabel1[[#This Row],[Date]],2)+4),100)&TEXT(_xlfn.ISOWEEKNUM(Tabel1[[#This Row],[Date]]),"-00") -> 25-05 | K12: =MOD(YEAR(Tabel1[[#This Row],[Date]]-WEEKDAY(Tabel1[[#This Row],[Date]],2)+4),100)&TEXT(MONTH(Tabel1[[#This Row],[Date]]),"-00") -> 25-01
A13: 45686 | B13: Dips | C13: {=INDEX(Parametres!$A$1:$I$1,MAX(IF(Tabel1[[#This Row],[Exercice]]=Parametres!$A$2:$I$10,COLUMN(Parametres!$A$2:$I$10),0)))} -> Pompes | D13: 11 | E13: 11 | F13: 10 | G13: 9 | H13: =+SUM(D13:G13) -> 41 | I13: PDC | J13: =MOD(YEAR(Tabel1[[#This Row],[Date]]-WEEKDAY(Tabel1[[#This Row],[Date]],2)+4),100)&TEXT(_xlfn.ISOWEEKNUM(Tabel1[[#This Row],[Date]]),"-00") -> 25-05 | K13: =MOD(YEAR(Tabel1[[#This Row],[Date]]-WEEKDAY(Tabel1[[#This Row],[Date]],2)+4),100)&TEXT(MONTH(Tabel1[[#This Row],[Date]]),"-00") -> 25-01
A14: 45686 | B14: Pompe prise sérée | C14: {=INDEX(Parametres!$A$1:$I$1,MAX(IF(Tabel1[[#This Row],[Exercice]]=Parametres!$A$2:$I$10,COLUMN(Parametres!$A$2:$I$10),0)))} -> Pompes | D14: 5 | E14: 5 | F14: 5 | G14: 5 | H14: =+SUM(D14:G14) -> 20 | I14: PDC | J14: =MOD(YEAR(Tabel1[[#This Row],[Date]]-WEEKDAY(Tabel1[[#This Row],[Date]],2)+4),100)&TEXT(_xlfn.ISOWEEKNUM(Tabel1[[#This Row],[Date]]),"-00") -> 25-05 | K14: =MOD(YEAR(Tabel1[[#This Row],[Date]]-WEEKDAY(Tabel1[[#This Row],[Date]],2)+4),100)&TEXT(MONTH(Tabel1[[#This Row],[Date]]),"-00") -> 25-01
... A17: 45686 | B17: Sit up | C17: {=INDEX(Parametres!$A$1:$I$1,MAX(IF(Tabel1[[#This Row],[Exercice]]=Parametres!$A$2:$I$10,COLUMN(Parametres!$A$2:$I$10),0)))} -> Abdominaux | D17: 15 | E17: 15 | F17: 11 | G17: 13 | H17: =+SUM(D17:G17) -> 54 | I17: PDC | J17: =MOD(YEAR(Tabel1[[#This Row],[Date]]-WEEKDAY(Tabel1[[#This Row],[Date]],2)+4),100)&TEXT(_xlfn.ISOWEEKNUM(Tabel1[[#This Row],[Date]]),"-00") -> 25-05 | K17: =MOD(YEAR(Tabel1[[#This Row],[Date]]-WEEKDAY(Tabel1[[#This Row],[Date]],2)+4),100)&TEXT(MONTH(Tabel1[[#This Row],[Date]]),"-00") -> 25-01
A18: 45686 | B18: Pompe sautée claquée | C18: {=INDEX(Parametres!$A$1:$I$1,MAX(IF(Tabel1[[#This Row],[Exercice]]=Parametres!$A$2:$I$10,COLUMN(Parametres!$A$2:$I$10),0)))} -> Pompes | D18: 15 | E18: 15 | F18: 13 | G18: 12 | H18: =+SUM(D18:G18) -> 55 | I18: 12 | J18: =MOD(YEAR(Tabel1[[#This Row],[Date]]-WEEKDAY(Tabel1[[#This Row],[Date]],2)+4),100)&TEXT(_xlfn.ISOWEEKNUM(Tabel1[[#This Row],[Date]]),"-00") -> 25-05 | K18: =MOD(YEAR(Tabel1[[#This Row],[Date]]-WEEKDAY(Tabel1[[#This Row],[Date]],2)+4),100)&TEXT(MONTH(Tabel1[[#This Row],[Date]]),"-00") -> 25-01
A19: 45686 | B19: Traction pro prise large | C19: {=INDEX(Parametres!$A$1:$I$1,MAX(IF(Tabel1[[#This Row],[Exercice]]=Parametres!$A$2:$I$10,COLUMN(Parametres!$A$2:$I$10),0)))} -> Tractions | D19: 8 | E19: 15 | F19: 29 | G19: 18 | H19: =+SUM(D19:G19) -> 70 | I19: 8 | J19: =MOD(YEAR(Tabel1[[#This Row],[Date]]-WEEKDAY(Tabel1[[#This Row],[Date]],2)+4),100)&TEXT(_xlfn.ISOWEEKNUM(Tabel1[[#This Row],[Date]]),"-00") -> 25-05 | K19: =MOD(YEAR(Tabel1[[#This Row],[Date]]-WEEKDAY(Tabel1[[#This Row],[Date]],2)+4),100)&TEXT(MONTH(Tabel1[[#This Row],[Date]]),"-00") -> 25-01
A20: 45693 | B20: Squat | C20: {=INDEX(Parametres!$A$1:$I$1,MAX(IF(Tabel1[[#This Row],[Exercice]]=Parametres!$A$2:$I$10,COLUMN(Parametres!$A$2:$I$10),0)))} -> Jambes | D20: 40 | E20: 25 | F20: 18 | G20: 16 | H20: =+SUM(D20:G20) -> 99 | I20: PDC | J20: =MOD(YEAR(Tabel1[[#This Row],[Date]]-WEEKDAY(Tabel1[[#This Row],[Date]],2)+4),100)&TEXT(_xlfn.ISOWEEKNUM(Tabel1[[#This Row],[Date]]),"-00") -> 25-06 | K20: =MOD(YEAR(Tabel1[[#This Row],[Date]]-WEEKDAY(Tabel1[[#This Row],[Date]],2)+4),100)&TEXT(MONTH(Tabel1[[#This Row],[Date]]),"-00") -> 25-02
A21: 45693 | B21: Dips | C21: {=INDEX(Parametres!$A$1:$I$1,MAX(IF(Tabel1[[#This Row],[Exercice]]=Parametres!$A$2:$I$10,COLUMN(Parametres!$A$2:$I$10),0)))} -> Pompes | D21: 9 | E21: 9 | F21: 9 | G21: 9 | H21: =+SUM(D21:G21) -> 36 | I21: PDC | J21: =MOD(YEAR(Tabel1[[#This Row],[Date]]-WEEKDAY(Tabel1[[#This Row],[Date]],2)+4),100)&TEXT(_xlfn.ISOWEEKNUM(Tabel1[[#This Row],[Date]]),"-00") -> 25-06 | K21: =MOD(YEAR(Tabel1[[#This Row],[Date]]-WEEKDAY(Tabel1[[#This Row],[Date]],2)+4),100)&TEXT(MONTH(Tabel1[[#This Row],[Date]]),"-00") -> 25-02
A22: 45693 | B22: Pompe prise sérée | C22: {=INDEX(Parametres!$A$1:$I$1,MAX(IF(Tabel1[[#This Row],[Exercice]]=Parametres!$A$2:$I$10,COLUMN(Parametres!$A$2:$I$10),0)))} -> Pompes | D22: 6 | E22: 6 | F22: 6 | G22: 6 | H22: =+SUM(D22:G22) -> 24 | I22: PDC | J22: =MOD(YEAR(Tabel1[[#This Row],[Date]]-WEEKDAY(Tabel1[[#This Row],[Date]],2)+4),100)&TEXT(_xlfn.ISOWEEKNUM(Tabel1[[#This Row],[Date]]),"-00") -> 25-06 | K22: =MOD(YEAR(Tabel1[[#This Row],[Date]]-WEEKDAY(Tabel1[[#This Row],[Date]],2)+4),100)&TEXT(MONTH(Tabel1[[#This Row],[Date]]),"-00") -> 25-02
A23: 45693 | B23: Burpees | C23: {=INDEX(Parametres!$A$1:$I$1,MAX(IF(Tabel1[[#This Row],[Exercice]]=Parametres!$A$2:$I$10,COLUMN(Parametres!$A$2:$I$10),0)))} -> Pompes | D23: 12 | E23: 12 | F23: 12 | G23: 11 | H23: =+SUM(D23:G23) -> 47 | I23: PDC | J23: =MOD(YEAR(Tabel1[[#This Row],[Date]]-WEEKDAY(Tabel1[[#This Row],[Date]],2)+4),100)&TEXT(_xlfn.ISOWEEKNUM(Tabel1[[#This Row],[Date]]),"-00") -> 25-06 | K23: =MOD(YEAR(Tabel1[[#This Row],[Date]]-WEEKDAY(Tabel1[[#This Row],[Date]],2)+4),100)&TEXT(MONTH(Tabel1[[#This Row],[Date]]),"-00") -> 25-02
A24: 45693 | B24: Traction supi prise sérée | C24: {=INDEX(Parametres!$A$1:$I$1,MAX(IF(Tabel1[[#This Row],[Exercice]]=Parametres!$A$2:$I$10,COLUMN(Parametres!$A$2:$I$10),0)))} -> Tractions | D24: 11 | E24: 11 | F24: 10 | G24: 11 | H24: =+SUM(D24:G24) -> 43 | I24: PDC | J24: =MOD(YEAR(Tabel1[[#This Row],[Date]]-WEEKDAY(Tabel1[[#This Row],[Date]],2)+4),100)&TEXT(_xlfn.ISOWEEKNUM(Tabel1[[#This Row],[Date]]),"-00") -> 25-06 | K24: =MOD(YEAR(Tabel1[[#This Row],[Date]]-WEEKDAY(Tabel1[[#This Row],[Date]],2)+4),100)&TEXT(MONTH(Tabel1[[#This Row],[Date]]),"-00") -> 25-02
A25: 45693 | B25: Sit up | C25: {=INDEX(Parametres!$A$1:$I$1,MAX(IF(Tabel1[[#This Row],[Exercice]]=Parametres!$A$2:$I$10,COLUMN(Parametres!$A$2:$I$10),0)))} -> Abdominaux | D25: 15 | E25: 15 | F25: 12 | G25: 12 | H25: =+SUM(D25:G25) -> 54 | I25: PDC | J25: =MOD(YEAR(Tabel1[[#This Row],[Date]]-WEEKDAY(Tabel1[[#This Row],[Date]],2)+4),100)&TEXT(_xlfn.ISOWEEKNUM(Tabel1[[#This Row],[Date]]),"-00") -> 25-06 | K25: =MOD(YEAR(Tabel1[[#This Row],[Date]]-WEEKDAY(Tabel1[[#This Row],[Date]],2)+4),100)&TEXT(MONTH(Tabel1[[#This Row],[Date]]),"-00") -> 25-02
A26: 45693 | B26: Pompe sautée claquée | C26: {=INDEX(Parametres!$A$1:$I$1,MAX(IF(Tabel1[[#This Row],[Exercice]]=Parametres!$A$2:$I$10,COLUMN(Parametres!$A$2:$I$10),0)))} -> Pompes | D26: 15 | E26: 15 | F26: 13 | G26: 11 | H26: =+SUM(D26:G26) -> 54 | I26: 12 | J26: =MOD(YEAR(Tabel1[[#This Row],[Date]]-WEEKDAY(Tabel1[[#This Row],[Date]],2)+4),100)&TEXT(_xlfn.ISOWEEKNUM(Tabel1[[#This Row],[Date]]),"-00") -> 25-06 | K26: =MOD(YEAR(Tabel1[[#This Row],[Date]]-WEEKDAY(Tabel1[[#This Row],[Date]],2)+4),100)&TEXT(MONTH(Tabel1[[#This Row],[Date]]),"-00") -> 25-02
A27: 45693 | B27: Traction pro prise large | C27: {=INDEX(Parametres!$A$1:$I$1,MAX(IF(Tabel1[[#This Row],[Exercice]]=Parametres!$A$2:$I$10,COLUMN(Parametres!$A$2:$I$10),0)))} -> Tractions | D27: 9 | E27: 15 | F27: 32 | G27: 22 | H27: =+SUM(D27:G27) -> 78 | I27: 8 | J27: =MOD(YEAR(Tabel1[[#This Row],[Date]]-WEEKDAY(Tabel1[[#This Row],[Date]],2)+4),100)&TEXT(_xlfn.ISOWEEKNUM(Tabel1[[#This Row],[Date]]),"-00") -> 25-06 | K27: =MOD(YEAR(Tabel1[[#This Row],[Date]]-WEEKDAY(Tabel1[[#This Row],[Date]],2)+4),100)&TEXT(MONTH(Tabel1[[#This Row],[Date]]),"-00") -> 25-02
A28: 45699 | B28: Squat | C28: {=INDEX(Parametres!$A$1:$I$1,MAX(IF(Tabel1[[#This Row],[Exercice]]=Parametres!$A$2:$I$10,COLUMN(Parametres!$A$2:$I$10),0)))} -> Jambes | D28: 45 | E28: 28 | F28: 22 | G28: 16 | H28: =+SUM(D28:G28) -> 111 | I28: PDC | J28: =MOD(YEAR(Tabel1[[#This Row],[Date]]-WEEKDAY(Tabel1[[#This Row],[Date]],2)+4),100)&TEXT(_xlfn.ISOWEEKNUM(Tabel1[[#This Row],[Date]]),"-00") -> 25-07 | K28: =MOD(YEAR(Tabel1[[#This Row],[Date]]-WEEKDAY(Tabel1[[#This Row],[Date]],2)+4),100)&TEXT(MONTH(Tabel1[[#This Row],[Date]]),"-00") -> 25-02
A29: 45699 | B29: Dips | C29: {=INDEX(Parametres!$A$1:$I$1,MAX(IF(Tabel1[[#This Row],[Exercice]]=Parametres!$A$2:$I$10,COLUMN(Parametres!$A$2:$I$10),0)))} -> Pompes | D29: 10 | E29: 10 | F29: 10 | G29: 10 | H29: =+SUM(D29:G29) -> 40 | I29: PDC | J29: =MOD(YEAR(Tabel1[[#This Row],[Date]]-WEEKDAY(Tabel1[[#This Row],[Date]],2)+4),100)&TEXT(_xlfn.ISOWEEKNUM(Tabel1[[#This Row],[Date]]),"-00") -> 25-07 | K29: =MOD(YEAR(Tabel1[[#This Row],[Date]]-WEEKDAY(Tabel1[[#This Row],[Date]],2)+4),100)&TEXT(MONTH(Tabel1[[#This Row],[Date]]),"-00") -> 25-02
A30: 45699 | B30: Pompe prise sérée | C30: {=INDEX(Parametres!$A$1:$I$1,MAX(IF(Tabel1[[#This Row],[Exercice]]=Parametres!$A$2:$I$10,COLUMN(Parametres!$A$2:$I$10),0)))} -> Pompes | D30: 7 | E30: 7 | F30: 7 | G30: 7 | H30: =+SUM(D30:G30) -> 28 | I30: PDC | J30: =MOD(YEAR(Tabel1[[#This Row],[Date]]-WEEKDAY(Tabel1[[#This Row],[Date]],2)+4),100)&TEXT(_xlfn.ISOWEEKNUM(Tabel1[[#This Row],[Date]]),"-00") -> 25-07 | K30: =MOD(YEAR(Tabel1[[#This Row],[Date]]-WEEKDAY(Tabel1[[#This Row],[Date]],2)+4),100)&TEXT(MONTH(Tabel1[[#This Row],[Date]]),"-00") -> 25-02
A31: 45699 | B31: Burpees | C31: {=INDEX(Parametres!$A$1:$I$1,MAX(IF(Tabel1[[#This Row],[Exercice]]=Parametres!$A$2:$I$10,COLUMN(Parametres!$A$2:$I$10),0)))} -> Pompes | D31: 12 | E31: 12 | F31: 12 | G31: 12 | H31: =+SUM(D31:G31) -> 48 | I31: PDC | J31: =MOD(YEAR(Tabel1[[#This Row],[Date]]-WEEKDAY(Tabel1[[#This Row],[Date]],2)+4),100)&TEXT(_xlfn.ISOWEEKNUM(Tabel1[[#This Row],[Date]]),"-00") -> 25-07 | K31: =MOD(YEAR(Tabel1[[#This Row],[Date]]-WEEKDAY(Tabel1[[#This Row],[Date]],2)+4),100)&TEXT(MONTH(Tabel1[[#This Row],[Date]]),"-00") -> 25-02
A32: 45699 | B32: Traction supi prise sérée | C32: {=INDEX(Parametres!$A$1:$I$1,MAX(IF(Tabel1[[#This Row],[Exercice]]=Parametres!$A$2:$I$10,COLUMN(Parametres!$A$2:$I$10),0)))} -> Tractions | D32: 11 | E32: 10 | F32: 10 | G32: 10 | H32: =+SUM(D32:G32) -> 41 | I32: PDC | J32: =MOD(YEAR(Tabel1[[#This Row],[Date]]-WEEKDAY(Tabel1[[#This Row],[Date]],2)+4),100)&TEXT(_xlfn.ISOWEEKNUM(Tabel1[[#This Row],[Date]]),"-00") -> 25-07 | K32: =MOD(YEAR(Tabel1[[#This Row],[Date]]-WEEKDAY(Tabel1[[#This Row],[Date]],2)+4),100)&TEXT(MONTH(Tabel1[[#This Row],[Date]]),"-00") -> 25-02
A33: 45699 | B33: Sit up | C33: {=INDEX(Parametres!$A$1:$I$1,MAX(IF(Tabel1[[#This Row],[Exercice]]=Parametres!$A$2:$I$10,COLUMN(Parametres!$A$2:$I$10),0)))} -> Abdominaux | D33: 15 | E33: 15 | F33: 13 | G33: 11 | H33: =+SUM(D33:G33) -> 54 | I33: PDC | J33: =MOD(YEAR(Tabel1[[#This Row],[Date]]-WEEKDAY(Tabel1[[#This Row],[Date]],2)+4),100)&TEXT(_xlfn.ISOWEEKNUM(Tabel1[[#This Row],[Date]]),"-00") -> 25-07 | K33: =MOD(YEAR(Tabel1[[#This Row],[Date]]-WEEKDAY(Tabel1[[#This Row],[Date]],2)+4),100)&TEXT(MONTH(Tabel1[[#This Row],[Date]]),"-00") -> 25-02
A34: 45699 | B34: Pompe sautée claquée | C34: {=INDEX(Parametres!$A$1:$I$1,MAX(IF(Tabel1[[#This Row],[Exercice]]=Parametres!$A$2:$I$10,COLUMN(Parametres!$A$2:$I$10),0)))} -> Pompes | D34: 15 | E34: 15 | F34: 12 | G34: 10 | H34: =+SUM(D34:G34) -> 52 | I34: 12 | J34: =MOD(YEAR(Tabel1[[#This Row],[Date]]-WEEKDAY(Tabel1[[#This Row],[Date]],2)+4),100)&TEXT(_xlfn.ISOWEEKNUM(Tabel1[[#This Row],[Date]]),"-00") -> 25-07 | K34: =MOD(YEAR(Tabel1[[#This Row],[Date]]-WEEKDAY(Tabel1[[#This Row],[Date]],2)+4),100)&TEXT(MONTH(Tabel1[[#This Row],[Date]]),"-00") -> 25-02
A35: 45699 | B35: Traction pro prise large | C35: {=INDEX(Parametres!$A$1:$I$1,MAX(IF(Tabel1[[#This Row],[Exercice]]=Parametres!$A$2:$I$10,COLUMN(Parametres!$A$2:$I$10),0)))} -> Tractions | D35: 10 | E35: 15 | F35: 33 | G35: 25 | H35: =+SUM(D35:G35) -> 83 | I35: 8 | J35: =MOD(YEAR(Tabel1[[#This Row],[Date]]-WEEKDAY(Tabel1[[#This Row],[Date]],2)+4),100)&TEXT(_xlfn.ISOWEEKNUM(Tabel1[[#This Row],[Date]]),"-00") -> 25-07 | K35: =MOD(YEAR(Tabel1[[#This Row],[Date]]-WEEKDAY(Tabel1[[#This Row],[Date]],2)+4),100)&TEXT(MONTH(Tabel1[[#This Row],[Date]]),"-00") -> 25-02
A36: 45703 | B36: Squat | C36: {=INDEX(Parametres!$A$1:$I$1,MAX(IF(Tabel1[[#This Row],[Exercice]]=Parametres!$A$2:$I$10,COLUMN(Parametres!$A$2:$I$10),0)))} -> Jambes | D36: 43 | E36: 25 | F36: 17 | G36: 15 | H36: =+SUM(D36:G36) -> 100 | I36: PDC | J36: =MOD(YEAR(Tabel1[[#This Row],[Date]]-WEEKDAY(Tabel1[[#This Row],[Date]],2)+4),100)&TEXT(_xlfn.ISOWEEKNUM(Tabel1[[#This Row],[Date]]),"-00") -> 25-07 | K36: =MOD(YEAR(Tabel1[[#This Row],[Date]]-WEEKDAY(Tabel1[[#This Row],[Date]],2)+4),100)&TEXT(MONTH(Tabel1[[#This Row],[Date]]),"-00") -> 25-02
A37: 45703 | B37: Dips | C37: {=INDEX(Parametres!$A$1:$I$1,MAX(IF(Tabel1[[#This Row],[Exercice]]=Parametres!$A$2:$I$10,COLUMN(Parametres!$A$2:$I$10),0)))} -> Pompes | D37: 11 | E37: 11 | F37: 11 | G37: 11 | H37: =+SUM(D37:G37) -> 44 | I37: PDC | J37: =MOD(YEAR(Tabel1[[#This Row],[Date]]-WEEKDAY(Tabel1[[#This Row],[Date]],2)+4),100)&TEXT(_xlfn.ISOWEEKNUM(Tabel1[[#This Row],[Date]]),"-00") -> 25-07 | K37: =MOD(YEAR(Tabel1[[#This Row],[Date]]-WEEKDAY(Tabel1[[#This Row],[Date]],2)+4),100)&TEXT(MONTH(Tabel1[[#This Row],[Date]]),"-00") -> 25-02
A38: 45703 | B38: Pompe prise sérée | C38: {=INDEX(Parametres!$A$1:$I$1,MAX(IF(Tabel1[[#This Row],[Exercice]]=Parametres!$A$2:$I$10,COLUMN(Parametres!$A$2:$I$10),0)))} -> Pompes | D38: 8 | E38: 8 | F38: 8 | G38: 8 | H38: =+SUM(D38:G38) -> 32 | I38: PDC | J38: =MOD(YEAR(Tabel1[[#This Row],[Date]]-WEEKDAY(Tabel1[[#This Row],[Date]],2)+4),100)&TEXT(_xlfn.ISOWEEKNUM(Tabel1[[#This Row],[Date]]),"-00") -> 25-07 | K38: =MOD(YEAR(Tabel1[[#This Row],[Date]]-WEEKDAY(Tabel1[[#This Row],[Date]],2)+4),100)&TEXT(MONTH(Tabel1[[#This Row],[Date]]),"-00") -> 25-02
A39: 45703 | B39: Burpees | C39: {=INDEX(Parametres!$A$1:$I$1,MAX(IF(Tabel1[[#This Row],[Exercice]]=Parametres!$A$2:$I$10,COLUMN(Parametres!$A$2:$I$10),0)))} -> Pompes | D39: 12 | E39: 12 | F39: 12 | G39: 12 | H39: =+SUM(D39:G39) -> 48 | I39: PDC | J39: =MOD(YEAR(Tabel1[[#This Row],[Date]]-WEEKDAY(Tabel1[[#This Row],[Date]],2)+4),100)&TEXT(_xlfn.ISOWEEKNUM(Tabel1[[#This Row],[Date]]),"-00") -> 25-07 | K39: =MOD(YEAR(Tabel1[[#This Row],[Date]]-WEEKDAY(Tabel1[[#This Row],[Date]],2)+4),100)&TEXT(MONTH(Tabel1[[#This Row],[Date]]),"-00") -> 25-02
A40: 45703 | B40: Traction supi prise sérée | C40: {=INDEX(Parametres!$A$1:$I$1,MAX(IF(Tabel1[[#This Row],[Exercice]]=Parametres!$A$2:$I$10,COLUMN(Parametres!$A$2:$I$10),0)))} -> Tractions | D40: 10 | E40: 10 | F40: 10 | G40: 10 | H40: =+SUM(D40:G40) -> 40 | I40: PDC | J40: =MOD(YEAR(Tabel1[[#This Row],[Date]]-WEEKDAY(Tabel1[[#This Row],[Date]],2)+4),100)&TEXT(_xlfn.ISOWEEKNUM(Tabel1[[#This Row],[Date]]),"-00") -> 25-07 | K40: =MOD(YEAR(Tabel1[[#This Row],[Date]]-WEEKDAY(Tabel1[[#This Row],[Date]],2)+4),100)&TEXT(MONTH(Tabel1[[#This Row],[Date]]),"-00") -> 25-02
A41: 45703 | B41: Sit up | C41: {=INDEX(Parametres!$A$1:$I$1,MAX(IF(Tabel1[[#This Row],[Exercice]]=Parametres!$A$2:$I$10,COLUMN(Parametres!$A$2:$I$10),0)))} -> Abdominaux | D41: 15 | E41: 15 | F41: 14 | G41: 13 | H41: =+SUM(D41:G41) -> 57 | I41: PDC | J41: =MOD(YEAR(Tabel1[[#This Row],[Date]]-WEEKDAY(Tabel1[[#This Row],[Date]],2)+4),100)&TEXT(_xlfn.ISOWEEKNUM(Tabel1[[#This Row],[Date]]),"-00") -> 25-07 | K41: =MOD(YEAR(Tabel1[[#This Row],[Date]]-WEEKDAY(Tabel1[[#This Row],[Date]],2)+4),100)&TEXT(MONTH(Tabel1[[#This Row],[Date]]),"-00") -> 25-02
A42: 45703 | B42: Pompe sautée claquée | C42: {=INDEX(Parametres!$A$1:$I$1,MAX(IF(Tabel1[[#This Row],[Exercice]]=Parametres!$A$2:$I$10,COLUMN(Parametres!$A$2:$I$10),0)))} -> Pompes | D42: 15 | E42: 15 | F42: 11 | G42: 9 | H42: =+SUM(D42:G42) -> 50 | I42: 12 | J42: =MOD(YEAR(Tabel1[[#This Row],[Date]]-WEEKDAY(Tabel1[[#This Row],[Date]],2)+4),100)&TEXT(_xlfn.ISOWEEKNUM(Tabel1[[#This Row],[Date]]),"-00") -> 25-07 | K42: =MOD(YEAR(Tabel1[[#This Row],[Date]]-WEEKDAY(Tabel1[[#This Row],[Date]],2)+4),100)&TEXT(MONTH(Tabel1[[#This Row],[Date]]),"-00") -> 25-02
A43: 45703 | B43: Traction pro prise large | C43: {=INDEX(Parametres!$A$1:$I$1,MAX(IF(Tabel1[[#This Row],[Exercice]]=Parametres!$A$2:$I$10,COLUMN(Parametres!$A$2:$I$10),0)))} -> Tractions | D43: 11 | E43: 15 | F43: 33 | G43: 21 | H43: =+SUM(D43:G43) -> 80 | I43: 8 | J43: =MOD(YEAR(Tabel1[[#This Row],[Date]]-WEEKDAY(Tabel1[[#This Row],[Date]],2)+4),100)&TEXT(_xlfn.ISOWEEKNUM(Tabel1[[#This Row],[Date]]),"-00") -> 25-07 | K43: =MOD(YEAR(Tabel1[[#This Row],[Date]]-WEEKDAY(Tabel1[[#This Row],[Date]],2)+4),100)&TEXT(MONTH(Tabel1[[#This Row],[Date]]),"-00") -> 25-02
...

Sheet Evolution
A2: max date | B2: =MAX(Tabel1[Date]) -> 45731 | D2: glissant mois | Q2: glissant 28 jours
D3: =EDATE(EOMONTH(B2,-12)+1,0) -> 45383 | E3: =EDATE(D3,1) -> 45413 | F3: =EDATE(E3,1) -> 45444 | G3: =EDATE(F3,1) -> 45474 | H3: =EDATE(G3,1) -> 45505 | I3: =EDATE(H3,1) -> 45536 | J3: =EDATE(I3,1) -> 45566 | K3: =EDATE(J3,1) -> 45597 | L3: =EDATE(K3,1) -> 45627 | ... O3: =EDATE(N3,1) -> 45717 | Q3: =B2-27 -> 45704 | R3: =+Q3+1 -> 45705 | S3: =+R3+1 -> 45706 | T3: =+S3+1 -> 45707 | U3: =+T3+1 -> 45708 | V3: =+U3+1 -> 45709 | W3: =+V3+1 -> 45710 | X3: =+W3+1 -> 45711 | Y3: =+X3+1 -> 45712 | ... AR3: =+AQ3+1 -> 45731
B4: Sélection d'un exercice | D4: =MOD(YEAR(D3-WEEKDAY(D3,2)+4),100)&TEXT(MONTH(D3),"-00") -> 24-04 | E4: =MOD(YEAR(E3-WEEKDAY(E3,2)+4),100)&TEXT(MONTH(E3),"-00") -> 24-05 | F4: =MOD(YEAR(F3-WEEKDAY(F3,2)+4),100)&TEXT(MONTH(F3),"-00") -> 24-06 | G4: =MOD(YEAR(G3-WEEKDAY(G3,2)+4),100)&TEXT(MONTH(G3),"-00") -> 24-07 | H4: =MOD(YEAR(H3-WEEKDAY(H3,2)+4),100)&TEXT(MONTH(H3),"-00") -> 24-08 | I4: =MOD(YEAR(I3-WEEKDAY(I3,2)+4),100)&TEXT(MONTH(I3),"-00") -> 24-09 | J4: =MOD(YEAR(J3-WEEKDAY(J3,2)+4),100)&TEXT(MONTH(J3),"-00") -> 24-10 | K4: =MOD(YEAR(K3-WEEKDAY(K3,2)+4),100)&TEXT(MONTH(K3),"-00") -> 24-11 | ... O4: =MOD(YEAR(O3-WEEKDAY(O3,2)+4),100)&TEXT(MONTH(O3),"-00") -> 25-03
A5: pompes | B5: Pompe prise sérée | D5: {=IF(SUMPRODUCT((Exercices=$B5)*(Mois=D$4)*Repetitions)>0,SUMPRODUCT((Exercices=$B5)*(Mois=D$4)*Repetitions),NA())} -> #N/A | E5: {=IF(SUMPRODUCT((Exercices=$B5)*(Mois=E$4)*Repetitions)>0,SUMPRODUCT((Exercices=$B5)*(Mois=E$4)*Repetitions),NA())} -> #N/A | F5: {=IF(SUMPRODUCT((Exercices=$B5)*(Mois=F$4)*Repetitions)>0,SUMPRODUCT((Exercices=$B5)*(Mois=F$4)*Repetitions),NA())} -> #N/A | G5: {=IF(SUMPRODUCT((Exercices=$B5)*(Mois=G$4)*Repetitions)>0,SUMPRODUCT((Exercices=$B5)*(Mois=G$4)*Repetitions),NA())} -> #N/A | H5: {=IF(SUMPRODUCT((Exercices=$B5)*(Mois=H$4)*Repetitions)>0,SUMPRODUCT((Exercices=$B5)*(Mois=H$4)*Repetitions),NA())} -> #N/A | I5: {=IF(SUMPRODUCT((Exercices=$B5)*(Mois=I$4)*Repetitions)>0,SUMPRODUCT((Exercices=$B5)*(Mois=I$4)*Repetitions),NA())} -> #N/A | J5: {=IF(SUMPRODUCT((Exercices=$B5)*(Mois=J$4)*Repetitions)>0,SUMPRODUCT((Exercices=$B5)*(Mois=J$4)*Repetitions),NA())} -> #N/A | K5: {=IF(SUMPRODUCT((Exercices=$B5)*(Mois=K$4)*Repetitions)>0,SUMPRODUCT((Exercices=$B5)*(Mois=K$4)*Repetitions),NA())} -> #N/A | ... O5: {=IF(SUMPRODUCT((Exercices=$B5)*(Mois=O$4)*Repetitions)>0,SUMPRODUCT((Exercices=$B5)*(Mois=O$4)*Repetitions),NA())} -> 104 | Q5: {=IF(SUMPRODUCT((Exercices=$B5)*(Dates=Q$3)*Repetitions)>0,SUMPRODUCT((Exercices=$B5)*(Dates=Q$3)*Repetitions),NA())} -> #N/A | R5: {=IF(SUMPRODUCT((Exercices=$B5)*(Dates=R$3)*Repetitions)>0,SUMPRODUCT((Exercices=$B5)*(Dates=R$3)*Repetitions),NA())} -> #N/A | S5: {=IF(SUMPRODUCT((Exercices=$B5)*(Dates=S$3)*Repetitions)>0,SUMPRODUCT((Exercices=$B5)*(Dates=S$3)*Repetitions),NA())} -> #N/A | T5: {=IF(SUMPRODUCT((Exercices=$B5)*(Dates=T$3)*Repetitions)>0,SUMPRODUCT((Exercices=$B5)*(Dates=T$3)*Repetitions),NA())} -> #N/A | U5: {=IF(SUMPRODUCT((Exercices=$B5)*(Dates=U$3)*Repetitions)>0,SUMPRODUCT((Exercices=$B5)*(Dates=U$3)*Repetitions),NA())} -> 32 | V5: {=IF(SUMPRODUCT((Exercices=$B5)*(Dates=V$3)*Repetitions)>0,SUMPRODUCT((Exercices=$B5)*(Dates=V$3)*Repetitions),NA())} -> #N/A | W5: {=IF(SUMPRODUCT((Exercices=$B5)*(Dates=W$3)*Repetitions)>0,SUMPRODUCT((Exercices=$B5)*(Dates=W$3)*Repetitions),NA())} -> #N/A | X5: {=IF(SUMPRODUCT((Exercices=$B5)*(Dates=X$3)*Repetitions)>0,SUMPRODUCT((Exercices=$B5)*(Dates=X$3)*Repetitions),NA())} -> 36 | ... AR5: {=IF(SUMPRODUCT((Exercices=$B5)*(Dates=AR$3)*Repetitions)>0,SUMPRODUCT((Exercices=$B5)*(Dates=AR$3)*Repetitions),NA())} -> 24
A6: Tractions | B6: Traction supi prise sérée | D6: {=IF(SUMPRODUCT((Exercices=$B6)*(Mois=D$4)*Repetitions)>0,SUMPRODUCT((Exercices=$B6)*(Mois=D$4)*Repetitions),NA())} -> #N/A | E6: {=IF(SUMPRODUCT((Exercices=$B6)*(Mois=E$4)*Repetitions)>0,SUMPRODUCT((Exercices=$B6)*(Mois=E$4)*Repetitions),NA())} -> #N/A | F6: {=IF(SUMPRODUCT((Exercices=$B6)*(Mois=F$4)*Repetitions)>0,SUMPRODUCT((Exercices=$B6)*(Mois=F$4)*Repetitions),NA())} -> #N/A | G6: {=IF(SUMPRODUCT((Exercices=$B6)*(Mois=G$4)*Repetitions)>0,SUMPRODUCT((Exercices=$B6)*(Mois=G$4)*Repetitions),NA())} -> #N/A | H6: {=IF(SUMPRODUCT((Exercices=$B6)*(Mois=H$4)*Repetitions)>0,SUMPRODUCT((Exercices=$B6)*(Mois=H$4)*Repetitions),NA())} -> #N/A | I6: {=IF(SUMPRODUCT((Exercices=$B6)*(Mois=I$4)*Repetitions)>0,SUMPRODUCT((Exercices=$B6)*(Mois=I$4)*Repetitions),NA())} -> #N/A | J6: {=IF(SUMPRODUCT((Exercices=$B6)*(Mois=J$4)*Repetitions)>0,SUMPRODUCT((Exercices=$B6)*(Mois=J$4)*Repetitions),NA())} -> #N/A | K6: {=IF(SUMPRODUCT((Exercices=$B6)*(Mois=K$4)*Repetitions)>0,SUMPRODUCT((Exercices=$B6)*(Mois=K$4)*Repetitions),NA())} -> #N/A | ... O6: {=IF(SUMPRODUCT((Exercices=$B6)*(Mois=O$4)*Repetitions)>0,SUMPRODUCT((Exercices=$B6)*(Mois=O$4)*Repetitions),NA())} -> 91 | Q6: {=IF(SUMPRODUCT((Exercices=$B6)*(Dates=Q$3)*Repetitions)>0,SUMPRODUCT((Exercices=$B6)*(Dates=Q$3)*Repetitions),NA())} -> #N/A | R6: {=IF(SUMPRODUCT((Exercices=$B6)*(Dates=R$3)*Repetitions)>0,SUMPRODUCT((Exercices=$B6)*(Dates=R$3)*Repetitions),NA())} -> #N/A | S6: {=IF(SUMPRODUCT((Exercices=$B6)*(Dates=S$3)*Repetitions)>0,SUMPRODUCT((Exercices=$B6)*(Dates=S$3)*Repetitions),NA())} -> #N/A | T6: {=IF(SUMPRODUCT((Exercices=$B6)*(Dates=T$3)*Repetitions)>0,SUMPRODUCT((Exercices=$B6)*(Dates=T$3)*Repetitions),NA())} -> #N/A | U6: {=IF(SUMPRODUCT((Exercices=$B6)*(Dates=U$3)*Repetitions)>0,SUMPRODUCT((Exercices=$B6)*(Dates=U$3)*Repetitions),NA())} -> 40 | V6: {=IF(SUMPRODUCT((Exercices=$B6)*(Dates=V$3)*Repetitions)>0,SUMPRODUCT((Exercices=$B6)*(Dates=V$3)*Repetitions),NA())} -> #N/A | W6: {=IF(SUMPRODUCT((Exercices=$B6)*(Dates=W$3)*Repetitions)>0,SUMPRODUCT((Exercices=$B6)*(Dates=W$3)*Repetitions),NA())} -> #N/A | X6: {=IF(SUMPRODUCT((Exercices=$B6)*(Dates=X$3)*Repetitions)>0,SUMPRODUCT((Exercices=$B6)*(Dates=X$3)*Repetitions),NA())} -> 44 | ... AR6: {=IF(SUMPRODUCT((Exercices=$B6)*(Dates=AR$3)*Repetitions)>0,SUMPRODUCT((Exercices=$B6)*(Dates=AR$3)*Repetitions),NA())} -> 43
A7: Jambes | B7: Squat | D7: {=IF(SUMPRODUCT((Exercices=$B7)*(Mois=D$4)*Repetitions)>0,SUMPRODUCT((Exercices=$B7)*(Mois=D$4)*Repetitions),NA())} -> #N/A | E7: {=IF(SUMPRODUCT((Exercices=$B7)*(Mois=E$4)*Repetitions)>0,SUMPRODUCT((Exercices=$B7)*(Mois=E$4)*Repetitions),NA())} -> #N/A | F7: {=IF(SUMPRODUCT((Exercices=$B7)*(Mois=F$4)*Repetitions)>0,SUMPRODUCT((Exercices=$B7)*(Mois=F$4)*Repetitions),NA())} -> #N/A | G7: {=IF(SUMPRODUCT((Exercices=$B7)*(Mois=G$4)*Repetitions)>0,SUMPRODUCT((Exercices=$B7)*(Mois=G$4)*Repetitions),NA())} -> #N/A | H7: {=IF(SUMPRODUCT((Exercices=$B7)*(Mois=H$4)*Repetitions)>0,SUMPRODUCT((Exercices=$B7)*(Mois=H$4)*Repetitions),NA())} -> #N/A | I7: {=IF(SUMPRODUCT((Exercices=$B7)*(Mois=I$4)*Repetitions)>0,SUMPRODUCT((Exercices=$B7)*(Mois=I$4)*Repetitions),NA())} -> #N/A | J7: {=IF(SUMPRODUCT((Exercices=$B7)*(Mois=J$4)*Repetitions)>0,SUMPRODUCT((Exercices=$B7)*(Mois=J$4)*Repetitions),NA())} -> #N/A | K7: {=IF(SUMPRODUCT((Exercices=$B7)*(Mois=K$4)*Repetitions)>0,SUMPRODUCT((Exercices=$B7)*(Mois=K$4)*Repetitions),NA())} -> #N/A | ... O7: {=IF(SUMPRODUCT((Exercices=$B7)*(Mois=O$4)*Repetitions)>0,SUMPRODUCT((Exercices=$B7)*(Mois=O$4)*Repetitions),NA())} -> 155 | Q7: {=IF(SUMPRODUCT((Exercices=$B7)*(Dates=Q$3)*Repetitions)>0,SUMPRODUCT((Exercices=$B7)*(Dates=Q$3)*Repetitions),NA())} -> #N/A | R7: {=IF(SUMPRODUCT((Exercices=$B7)*(Dates=R$3)*Repetitions)>0,SUMPRODUCT((Exercices=$B7)*(Dates=R$3)*Repetitions),NA())} -> #N/A | S7: {=IF(SUMPRODUCT((Exercices=$B7)*(Dates=S$3)*Repetitions)>0,SUMPRODUCT((Exercices=$B7)*(Dates=S$3)*Repetitions),NA())} -> #N/A | T7: {=IF(SUMPRODUCT((Exercices=$B7)*(Dates=T$3)*Repetitions)>0,SUMPRODUCT((Exercices=$B7)*(Dates=T$3)*Repetitions),NA())} -> #N/A | U7: {=IF(SUMPRODUCT((Exercices=$B7)*(Dates=U$3)*Repetitions)>0,SUMPRODUCT((Exercices=$B7)*(Dates=U$3)*Repetitions),NA())} -> 100 | V7: {=IF(SUMPRODUCT((Exercices=$B7)*(Dates=V$3)*Repetitions)>0,SUMPRODUCT((Exercices=$B7)*(Dates=V$3)*Repetitions),NA())} -> #N/A | W7: {=IF(SUMPRODUCT((Exercices=$B7)*(Dates=W$3)*Repetitions)>0,SUMPRODUCT((Exercices=$B7)*(Dates=W$3)*Repetitions),NA())} -> #N/A | X7: {=IF(SUMPRODUCT((Exercices=$B7)*(Dates=X$3)*Repetitions)>0,SUMPRODUCT((Exercices=$B7)*(Dates=X$3)*Repetitions),NA())} -> 107 | ... AR7: {=IF(SUMPRODUCT((Exercices=$B7)*(Dates=AR$3)*Repetitions)>0,SUMPRODUCT((Exercices=$B7)*(Dates=AR$3)*Repetitions),NA())} -> 99
A8: Abdominaux | B8: Sit up | D8: {=IF(SUMPRODUCT((Exercices=$B8)*(Mois=D$4)*Repetitions)>0,SUMPRODUCT((Exercices=$B8)*(Mois=D$4)*Repetitions),NA())} -> #N/A | E8: {=IF(SUMPRODUCT((Exercices=$B8)*(Mois=E$4)*Repetitions)>0,SUMPRODUCT((Exercices=$B8)*(Mois=E$4)*Repetitions),NA())} -> #N/A | F8: {=IF(SUMPRODUCT((Exercices=$B8)*(Mois=F$4)*Repetitions)>0,SUMPRODUCT((Exercices=$B8)*(Mois=F$4)*Repetitions),NA())} -> #N/A | G8: {=IF(SUMPRODUCT((Exercices=$B8)*(Mois=G$4)*Repetitions)>0,SUMPRODUCT((Exercices=$B8)*(Mois=G$4)*Repetitions),NA())} -> #N/A | H8: {=IF(SUMPRODUCT((Exercices=$B8)*(Mois=H$4)*Repetitions)>0,SUMPRODUCT((Exercices=$B8)*(Mois=H$4)*Repetitions),NA())} -> #N/A | I8: {=IF(SUMPRODUCT((Exercices=$B8)*(Mois=I$4)*Repetitions)>0,SUMPRODUCT((Exercices=$B8)*(Mois=I$4)*Repetitions),NA())} -> #N/A | J8: {=IF(SUMPRODUCT((Exercices=$B8)*(Mois=J$4)*Repetitions)>0,SUMPRODUCT((Exercices=$B8)*(Mois=J$4)*Repetitions),NA())} -> #N/A | K8: {=IF(SUMPRODUCT((Exercices=$B8)*(Mois=K$4)*Repetitions)>0,SUMPRODUCT((Exercices=$B8)*(Mois=K$4)*Repetitions),NA())} -> #N/A | ... O8: {=IF(SUMPRODUCT((Exercices=$B8)*(Mois=O$4)*Repetitions)>0,SUMPRODUCT((Exercices=$B8)*(Mois=O$4)*Repetitions),NA())} -> 114 | Q8: {=IF(SUMPRODUCT((Exercices=$B8)*(Dates=Q$3)*Repetitions)>0,SUMPRODUCT((Exercices=$B8)*(Dates=Q$3)*Repetitions),NA())} -> #N/A | R8: {=IF(SUMPRODUCT((Exercices=$B8)*(Dates=R$3)*Repetitions)>0,SUMPRODUCT((Exercices=$B8)*(Dates=R$3)*Repetitions),NA())} -> #N/A | S8: {=IF(SUMPRODUCT((Exercices=$B8)*(Dates=S$3)*Repetitions)>0,SUMPRODUCT((Exercices=$B8)*(Dates=S$3)*Repetitions),NA())} -> #N/A | T8: {=IF(SUMPRODUCT((Exercices=$B8)*(Dates=T$3)*Repetitions)>0,SUMPRODUCT((Exercices=$B8)*(Dates=T$3)*Repetitions),NA())} -> #N/A | U8: {=IF(SUMPRODUCT((Exercices=$B8)*(Dates=U$3)*Repetitions)>0,SUMPRODUCT((Exercices=$B8)*(Dates=U$3)*Repetitions),NA())} -> 57 | V8: {=IF(SUMPRODUCT((Exercices=$B8)*(Dates=V$3)*Repetitions)>0,SUMPRODUCT((Exercices=$B8)*(Dates=V$3)*Repetitions),NA())} -> #N/A | W8: {=IF(SUMPRODUCT((Exercices=$B8)*(Dates=W$3)*Repetitions)>0,SUMPRODUCT((Exercices=$B8)*(Dates=W$3)*Repetitions),NA())} -> #N/A | X8: {=IF(SUMPRODUCT((Exercices=$B8)*(Dates=X$3)*Repetitions)>0,SUMPRODUCT((Exercices=$B8)*(Dates=X$3)*Repetitions),NA())} -> 57 | ... AR8: {=IF(SUMPRODUCT((Exercices=$B8)*(Dates=AR$3)*Repetitions)>0,SUMPRODUCT((Exercices=$B8)*(Dates=AR$3)*Repetitions),NA())} -> 54
A9: Bras | B9: Avant bras, bobine Andrieu | D9: {=IF(SUMPRODUCT((Exercices=$B9)*(Mois=D$4)*Repetitions)>0,SUMPRODUCT((Exercices=$B9)*(Mois=D$4)*Repetitions),NA())} -> #N/A | E9: {=IF(SUMPRODUCT((Exercices=$B9)*(Mois=E$4)*Repetitions)>0,SUMPRODUCT((Exercices=$B9)*(Mois=E$4)*Repetitions),NA())} -> #N/A | F9: {=IF(SUMPRODUCT((Exercices=$B9)*(Mois=F$4)*Repetitions)>0,SUMPRODUCT((Exercices=$B9)*(Mois=F$4)*Repetitions),NA())} -> #N/A | G9: {=IF(SUMPRODUCT((Exercices=$B9)*(Mois=G$4)*Repetitions)>0,SUMPRODUCT((Exercices=$B9)*(Mois=G$4)*Repetitions),NA())} -> #N/A | H9: {=IF(SUMPRODUCT((Exercices=$B9)*(Mois=H$4)*Repetitions)>0,SUMPRODUCT((Exercices=$B9)*(Mois=H$4)*Repetitions),NA())} -> #N/A | I9: {=IF(SUMPRODUCT((Exercices=$B9)*(Mois=I$4)*Repetitions)>0,SUMPRODUCT((Exercices=$B9)*(Mois=I$4)*Repetitions),NA())} -> #N/A | J9: {=IF(SUMPRODUCT((Exercices=$B9)*(Mois=J$4)*Repetitions)>0,SUMPRODUCT((Exercices=$B9)*(Mois=J$4)*Repetitions),NA())} -> #N/A | K9: {=IF(SUMPRODUCT((Exercices=$B9)*(Mois=K$4)*Repetitions)>0,SUMPRODUCT((Exercices=$B9)*(Mois=K$4)*Repetitions),NA())} -> #N/A | ... O9: {=IF(SUMPRODUCT((Exercices=$B9)*(Mois=O$4)*Repetitions)>0,SUMPRODUCT((Exercices=$B9)*(Mois=O$4)*Repetitions),NA())} -> #N/A | Q9: {=IF(SUMPRODUCT((Exercices=$B9)*(Dates=Q$3)*Repetitions)>0,SUMPRODUCT((Exercices=$B9)*(Dates=Q$3)*Repetitions),NA())} -> #N/A | R9: {=IF(SUMPRODUCT((Exercices=$B9)*(Dates=R$3)*Repetitions)>0,SUMPRODUCT((Exercices=$B9)*(Dates=R$3)*Repetitions),NA())} -> #N/A | S9: {=IF(SUMPRODUCT((Exercices=$B9)*(Dates=S$3)*Repetitions)>0,SUMPRODUCT((Exercices=$B9)*(Dates=S$3)*Repetitions),NA())} -> #N/A | T9: {=IF(SUMPRODUCT((Exercices=$B9)*(Dates=T$3)*Repetitions)>0,SUMPRODUCT((Exercices=$B9)*(Dates=T$3)*Repetitions),NA())} -> #N/A | U9: {=IF(SUMPRODUCT((Exercices=$B9)*(Dates=U$3)*Repetitions)>0,SUMPRODUCT((Exercices=$B9)*(Dates=U$3)*Repetitions),NA())} -> #N/A | V9: {=IF(SUMPRODUCT((Exercices=$B9)*(Dates=V$3)*Repetitions)>0,SUMPRODUCT((Exercices=$B9)*(Dates=V$3)*Repetitions),NA())} -> #N/A | W9: {=IF(SUMPRODUCT((Exercices=$B9)*(Dates=W$3)*Repetitions)>0,SUMPRODUCT((Exercices=$B9)*(Dates=W$3)*Repetitions),NA())} -> #N/A | X9: {=IF(SUMPRODUCT((Exercices=$B9)*(Dates=X$3)*Repetitions)>0,SUMPRODUCT((Exercices=$B9)*(Dates=X$3)*Repetitions),NA())} -> #N/A | ... AR9: {=IF(SUMPRODUCT((Exercices=$B9)*(Dates=AR$3)*Repetitions)>0,SUMPRODUCT((Exercices=$B9)*(Dates=AR$3)*Repetitions),NA())} -> #N/A

Sheet TCD semaines
A16: Somme Répétitions totale | C16: semaine
A17: Catégorie | B17: Exercice | C17: 25-04 | D17: 25-05 | E17: 25-06 | F17: 25-07 | G17: 25-08 | H17: 25-10 | I17: 25-11
A18: #N/B | B18: Traction pro prise large | I18: 78
A20: Abdominaux | B20: Traction pro prise large | C20: 75 | H20: 75
B21: Traction supi prise sérée | C21: 48 | D21: 43 | E21: 43 | F21: 81 | G21: 84 | H21: 48 | I21: 43
A23: Jambes | B23: Abdo oblique | C23: 62 | H23: 62
B24: Traction pro prise large | D24: 70 | E24: 78 | F24: 163 | G24: 124
A26: pompes | B26: Dips | C26: 56 | D26: 41 | E26: 36 | F26: 84 | G26: 88 | H26: 56 | I26: 36
B27: Pompe prise sérée | C27: 80 | D27: 20 | E27: 24 | F27: 60 | G27: 68 | H27: 80 | I27: 24
B28: Sit up | C28: 60 | D28: 54 | E28: 54 | F28: 111 | G28: 114 | H28: 60 | I28: 54
B29: Squat | C29: 56 | D29: 96 | E29: 99 | F29: 211 | G29: 207 | H29: 56 | I29: 99
A31: Tractions | B31: Burpees | C31: 2 | D31: 44 | E31: 47 | F31: 96 | G31: 96 | H31: 2 | I31: 47
B32: Pompe sautée claquée | C32: 121 | D32: 55 | E32: 54 | F32: 102 | G32: 103 | H32: 121 | I32: 54

Sheet Parametres
A1: Pompes | C1: Tractions | E1: Jambes | G1: Abdominaux | I1: Bras | K1: Mois | L1: Numéro
A2: Pompe prise sérée | C2: Traction supination | E2: Squat | G2: Crunch | I2: Curl barre droite | K2: Janvier | L2: 1
A3: Pompe prise neutre | C3: Traction supi prise sérée | E3: Fente avant | G3: Sit up | I3: Curl marteau | K3: Février | L3: 2
A4: Pompe prise large | C4: Traction supi prise large | E4: Fente ariére | G4: Crunch rameur | I4: curl haltéres avec rotation | K4: Mars | L4: 3
A5: Pompe sautée claquée | C5: Traction pronation | E5: pistol squat | G5: Gainage | I5: Curl avec 2 haltéres | K5: Avril | L5: 4
A6: Pompe arraignée | C6: Traction pro prise sérée | E6: squat jump | G6: Gainage latéral | I6: Curl rotation unilatéral penché | K6: Mai | L6: 5
A7: Dips | C7: Traction pro prise large | E7: box jump | G7: Abdo oblique | I7: Avant bras, flexion en supination | K7: Juin | L7: 6
A8: Burpees | I8: Avant bras, flexion en pronation | K8: Juillet | L8: 7
I9: Avant bras, bobine Andrieu | K9: Août | L9: 8
K10: Septembre | L10: 9
K11: Octobre | L11: 10
K12: Novembre | L12: 11
K13: Décembre | L13: 12
