Workbook

Sheet Présences
M1: Jusqu'au | U1: 45936
F2: U 17 | M2: entrainements total donné | U2: 17
F4: juillet
V6: Total
A7: Noms | B7: Prénom | C7: 45867 | D7: 45869 | V7: présence
A8: Cartiaux | B8: Nolhan | C8: x | D8: x | V8: =COUNTIF(C8:U8,"x") -> 2
A9: Colas | B9: Joey | C9: a | D9: a | V9: =COUNTIF(C9:U9,"x") -> 0
A10: Dapra | B10: Antoine | C10: x | D10: x | V10: =COUNTIF(C10:U10,"x") -> 2
A11: Focroulle | B11: Grégory | C11: a | D11: x | V11: =COUNTIF(C11:U11,"x") -> 1
A12: Gorniak | B12: Jerzy | C12: a | D12: a | V12: =COUNTIF(C12:U12,"x") -> 0
A13: Hanotiau | B13: Melvin | C13: a | D13: a | V13: =COUNTIF(C13:U13,"x") -> 0
A14: Mathieu | B14: Julien | C14: a | D14: a | V14: =COUNTIF(C14:U14,"x") -> 0
A15: Michiels | B15: Apoline | C15: x | D15: x | V15: =COUNTIF(C15:U15,"x") -> 2
A16: Perot | B16: Anthony | C16: x | D16: x | V16: =COUNTIF(C16:U16,"x") -> 2
A17: Sahoure | B17: Thoty | C17: a | D17: a | V17: =COUNTIF(C17:U17,"x") -> 0
A18: Scaf | B18: Maho | C18: a | D18: x | V18: =COUNTIF(C18:U18,"x") -> 1
A19: Wérrion | B19: Macéo | C19: x | D19: x | V19: =COUNTIF(C19:U19,"x") -> 2
... A26: Ethan | B26: Braem | C26: a | D26: a | V26: =COUNTIF(C26:U26,"x") -> 0
F30: Aout
G31: contre somzée | J31: contre baileux | L31: contre gozée
E32: jogging | G32: match | J32: match | L32: match
C33: M | D33: J | E33: M | F33: J | G33: 4-2 | H33: M | I33: J | J33: 0-2 | K33: J | L33: 5-0 | V33: Total
A34: Noms | B34: Prénom | C34: 45874 | D34: 45876 | E34: 45881 | F34: 45883 | G34: 45885 | H34: 45888 | I34: 45890 | J34: 45895 | K34: 45897 | L34: 45899 | V34: présence
A35: Cartiaux | B35: Nolhan | C35: x | D35: x | E35: x | F35: x | G35: oui | H35: x | I35: x | J35: oui | K35: x | V35: =COUNTIF(C35:U35,"x") -> 7
A36: Colas | B36: Joey | C36: a | E36: x | F36: a | G36: a | H36: a | I36: x | J36: oui | K36: x | V36: =COUNTIF(C36:U36,"x") -> 3
A37: Dapra | B37: Antoine | C37: x | D37: x | E37: a | F37: a | G37: oui | H37: x | I37: x | J37: oui | K37: a | L37: forfait | V37: =COUNTIF(C37:U37,"x") -> 4
A38: Focroulle | B38: Grégory | C38: a | E38: x | F38: a | G38: oui | H38: x | I38: a | J38: oui | K38: a | V38: =COUNTIF(C38:U38,"x") -> 2
A39: Hanotiau | B39: Melvin | C39: x | D39: x | E39: x | F39: a | G39: a | H39: x | I39: a | J39: oui | K39: x | V39: =COUNTIF(C39:U39,"x") -> 5
A40: Mathieu | B40: Julien | C40: x | E40: a | F40: a | G40: oui | H40: x | I40: a | J40: oui | K40: a | V40: =COUNTIF(C40:U40,"x") -> 2
A41: Michiels | B41: Apoline | C41: x | D41: x | E41: a | F41: x | G41: oui | H41: x | I41: a | J41: oui | K41: x | V41: =COUNTIF(C41:U41,"x") -> 5
A42: Perot | B42: Anthony | C42: a | D42: x | E42: a | F42: x | G42: oui | H42: x | I42: x | J42: oui | K42: x | V42: =COUNTIF(C42:U42,"x") -> 5
A43: Sahoure | B43: Thoty | C43: a | E43: x | F43: x | G43: oui | H43: a | I43: x | J43: oui | K43: a | V43: =COUNTIF(C43:U43,"x") -> 3
A44: Scaf | B44: Maho | C44: a | E44: a | F44: x | G44: a | H44: a | I44: a | J44: a | K44: a | V44: =COUNTIF(C44:U44,"x") -> 1
A45: Wérrion | B45: Macéo | C45: x | D45: x | E45: x | F45: x | G45: oui | H45: x | I45: x | J45: oui | K45: x | V45: =COUNTIF(C45:U45,"x") -> 7
A46: Lecohier | B46: Mathéo | C46: a | E46: a | F46: a | G46: a | H46: x | I46: a | J46: oui | K46: x | V46: =COUNTIF(C46:U46,"x") -> 2
A47: Cloporut | B47: Ionut | C47: a | E47: a | F47: a | G47: a | H47: a | I47: a | J47: a | K47: a | V47: =COUNTIF(C47:U47,"x") -> 0
A48: Desmet | B48: Enzo | C48: a | E48: x | F48: x | G48: oui | H48: a | I48: a | J48: oui | K48: x | V48: =COUNTIF(C48:U48,"x") -> 3
A49: Hannecart | B49: Renan | C49: x | E49: a | F49: a | G49: a | H49: a | I49: x | J49: oui | K49: a | V49: =COUNTIF(C49:U49,"x") -> 2
A50: Del Pierco | B50: Mathéo | C50: x | D50: x | E50: x | F50: x | G50: oui | H50: x | I50: x | J50: oui | K50: a | V50: =COUNTIF(C50:U50,"x") -> 6
A51: Didier | B51: Rafaël | C51: x | E51: a | F51: x | G51: oui | H51: a | I51: x | J51: oui | K51: x | V51: =COUNTIF(C51:U51,"x") -> 4
...

Sheet Total entrainements
A5: Total
A6: entrainements | B6: Noms | C6: Prénom | D6: classement | G6: Classement général
A7: =Présences!V8+Présences!V35+Présences!V61+Présences!V87+Présences!V116+Présences!V144+Présences!V170+Présences!V196+Présences!V225 -> 32 | B7: Cartiaux | C7: Nolhan | D7: =RANK(A7,A$7:A$26) -> 1 | G7: 1 | H7: =INDEX(Tabel1[Noms],MATCH(G7,Tabel1[classement],0)) -> Cartiaux | I7: =INDEX(Tabel1[Prénom],MATCH(G7,Tabel1[classement],0)) -> Nolhan
A8: =Présences!V9+Présences!V36+Présences!V62+Présences!V88+Présences!V117+Présences!V145+Présences!V171+Présences!V197+Présences!V226 -> 11 | B8: Colas | C8: Joey | D8: =RANK(A8,A$7:A$26) -> 12 | G8: 2 | H8: =INDEX(Tabel1[Noms],MATCH(G8,Tabel1[classement],0)) -> Wérrion | I8: =INDEX(Tabel1[Prénom],MATCH(G8,Tabel1[classement],0)) -> Macéo
A9: =Présences!V10+Présences!V37+Présences!V63+Présences!V89+Présences!V118+Présences!V146+Présences!V172+Présences!V198+Présences!V227 -> 27 | B9: Dapra | C9: Antoine | D9: =RANK(A9,A$7:A$26) -> 4 | G9: =G8+1 -> 3 | H9: =INDEX(Tabel1[Noms],MATCH(G9,Tabel1[classement],0)) -> Perot | I9: =INDEX(Tabel1[Prénom],MATCH(G9,Tabel1[classement],0)) -> Anthony
A10: =Présences!V11+Présences!V38+Présences!V64+Présences!V90+Présences!V119+Présences!V147+Présences!V173+Présences!V199+Présences!V228 -> 10 | B10: Focroulle | C10: Grégory | D10: =RANK(A10,A$7:A$26) -> 14 | G10: =G9+1 -> 4 | H10: =INDEX(Tabel1[Noms],MATCH(G10,Tabel1[classement],0)) -> Dapra | I10: =INDEX(Tabel1[Prénom],MATCH(G10,Tabel1[classement],0)) -> Antoine
A11: =Présences!V12+Présences!V39+Présences!V65+Présences!V91+Présences!V120+Présences!V148+Présences!V174+Présences!V200+Présences!V229 -> 25 | B11: Hanotiau | C11: Melvin | D11: =RANK(A11,A$7:A$26) -> 5 | G11: =G10+1 -> 5 | H11: =INDEX(Tabel1[Noms],MATCH(G11,Tabel1[classement],0)) -> Hanotiau | I11: =INDEX(Tabel1[Prénom],MATCH(G11,Tabel1[classement],0)) -> Melvin
A12: =Présences!V13+Présences!V40+Présences!V66+Présences!V92+Présences!V121+Présences!V149+Présences!V175+Présences!V201+Présences!V230 -> 14 | B12: Mathieu | C12: Julien | D12: =RANK(A12,A$7:A$26) -> 9 | G12: =G11+1 -> 6 | H12: =INDEX(Tabel1[Noms],MATCH(G12,Tabel1[classement],0)) -> Michiels | I12: =INDEX(Tabel1[Prénom],MATCH(G12,Tabel1[classement],0)) -> Apoline
A13: =Présences!V14+Présences!V41+Présences!V67+Présences!V93+Présences!V122+Présences!V150+Présences!V176+Présences!V202+Présences!V231 -> 23 | B13: Michiels | C13: Apoline | D13: =RANK(A13,A$7:A$26) -> 6 | G13: =G12+1 -> 7 | H13: =INDEX(Tabel1[Noms],MATCH(G13,Tabel1[classement],0)) -> Desmet | I13: =INDEX(Tabel1[Prénom],MATCH(G13,Tabel1[classement],0)) -> Enzo
A14: =Présences!V15+Présences!V42+Présences!V68+Présences!V94+Présences!V123+Présences!V151+Présences!V177+Présences!V203+Présences!V232 -> 28 | B14: Perot | C14: Anthony | D14: =RANK(A14,A$7:A$26) -> 3 | G14: =G13+1 -> 8 | H14: =INDEX(Tabel1[Noms],MATCH(G14,Tabel1[classement],0)) -> Scaf | I14: =INDEX(Tabel1[Prénom],MATCH(G14,Tabel1[classement],0)) -> Maho
A15: =Présences!V16+Présences!V43+Présences!V69+Présences!V95+Présences!V124+Présences!V152+Présences!V178+Présences!V204+Présences!V233 -> 9 | B15: Sahoure | C15: Thoty | D15: =RANK(A15,A$7:A$26) -> 15 | G15: =G14+1 -> 9 | H15: =INDEX(Tabel1[Noms],MATCH(G15,Tabel1[classement],0)) -> Mathieu | I15: =INDEX(Tabel1[Prénom],MATCH(G15,Tabel1[classement],0)) -> Julien
A16: =Présences!V17+Présences!V44+Présences!V70+Présences!V96+Présences!V125+Présences!V153+Présences!V179+Présences!V205+Présences!V234 -> 19 | B16: Scaf | C16: Maho | D16: =RANK(A16,A$7:A$26) -> 8 | G16: =G15+1 -> 10 | H16: =INDEX(Tabel1[Noms],MATCH(G16,Tabel1[classement],0)) -> Del Pierco | I16: =INDEX(Tabel1[Prénom],MATCH(G16,Tabel1[classement],0)) -> Mathéo
A17: =Présences!V18+Présences!V45+Présences!V71+Présences!V97+Présences!V126+Présences!V154+Présences!V180+Présences!V206+Présences!V235 -> 29 | B17: Wérrion | C17: Macéo | D17: =RANK(A17,A$7:A$26) -> 2 | G17: =G16+1 -> 11 | H17: =INDEX(Tabel1[Noms],MATCH(G17,Tabel1[classement],0)) -> Ryan | I17: =INDEX(Tabel1[Prénom],MATCH(G17,Tabel1[classement],0)) -> Arrotin
A18: =Présences!V19+Présences!V46+Présences!V72+Présences!V98+Présences!V127+Présences!V155+Présences!V181+Présences!V207+Présences!V236 -> 5 | B18: Lecohier | C18: Mathéo | D18: =RANK(A18,A$7:A$26) -> 18 | G18: =G17+1 -> 12 | H18: =INDEX(Tabel1[Noms],MATCH(G18,Tabel1[classement],0)) -> Colas | I18: =INDEX(Tabel1[Prénom],MATCH(G18,Tabel1[classement],0)) -> Joey
A19: =Présences!V20+Présences!V47+Présences!V73+Présences!V99+Présences!V128+Présences!V156+Présences!V182+Présences!V208+Présences!V237 -> 1 | B19: Cloporut | C19: Ionut | D19: =RANK(A19,A$7:A$26) -> 19 | G19: =G18+1 -> 13 | H19: =INDEX(Tabel1[Noms],MATCH(G19,Tabel1[classement],0)) -> #N/A | I19: =INDEX(Tabel1[Prénom],MATCH(G19,Tabel1[classement],0)) -> #N/A
A20: =Présences!V21+Présences!V48+Présences!V74+Présences!V100+Présences!V129+Présences!V157+Présences!V183+Présences!V209+Présences!V238 -> 20 | B20: Desmet | C20: Enzo | D20: =RANK(A20,A$7:A$26) -> 7 | G20: =G19+1 -> 14 | H20: =INDEX(Tabel1[Noms],MATCH(G20,Tabel1[classement],0)) -> Focroulle | I20: =INDEX(Tabel1[Prénom],MATCH(G20,Tabel1[classement],0)) -> Grégory
... A25: =Présences!V26+Présences!V53+Présences!V79+Présences!V105+Présences!V134+Présences!V162+Présences!V188+Présences!V214+Présences!V243 -> 0 | B25: Evan | C25: Feret | D25: =RANK(A25,A$7:A$26) -> 20 | G25: =G24+1 -> 19 | H25: =INDEX(Tabel1[Noms],MATCH(G25,Tabel1[classement],0)) -> Cloporut | I25: =INDEX(Tabel1[Prénom],MATCH(G25,Tabel1[classement],0)) -> Ionut
A26: =Présences!V27+Présences!V54+Présences!V80+Présences!V106+Présences!V135+Présences!V163+Présences!V189+Présences!V215+Présences!V244 -> 12 | B26: Ryan | C26: Arrotin | D26: =RANK(A26,A$7:A$26) -> 11
