Workbook

Sheet Présences
M1: Jusqu'au | U1: 45936
F2: U 17 | M2: entrainements total donné | U2: 17
F4: juillet
V6: Total
A7: Noms | B7: Prénom | C7: 45867 | D7: 45869 | V7: présence
A8: Cartiaux | B8: Nolhan | C8: x | D8: x | V8: =COUNTIF(C8:U8,"x") -> 2
A9: Colas | B9: Joey | C9: a | D9: a | V9: =COUNTIF(C9:U9,"x") -> 0
A10: Dapra | B10: Antoine | C10: x | D10: x | V10: =COUNTIF(C10:U10,"x") -> 2
A11: Focroulle | B11: Grégory | C11: a | D11: x | V11: =COUNTIF(C11:U11,"x") -> 1
A12: Gorniak | B12: Jerzy | C12: a | D12: a | V12: =COUNTIF(C12:U12,"x") -> 0
A13: Hanotiau | B13: Melvin | C13: a | D13: a | V13: =COUNTIF(C13:U13,"x") -> 0
A14: Mathieu | B14: Julien | C14: a | D14: a | V14: =COUNTIF(C14:U14,"x") -> 0
A15: Michiels | B15: Apoline | C15: x | D15: x | V15: =COUNTIF(C15:U15,"x") -> 2
A16: Perot | B16: Anthony | C16: x | D16: x | V16: =COUNTIF(C16:U16,"x") -> 2
A17: Sahoure | B17: Thoty | C17: a | D17: a | V17: =COUNTIF(C17:U17,"x") -> 0
A18: Scaf | B18: Maho | C18: a | D18: x | V18: =COUNTIF(C18:U18,"x") -> 1
A19: Wérrion | B19: Macéo | C19: x | D19: x | V19: =COUNTIF(C19:U19,"x") -> 2
... A26: Ethan | B26: Braem | C26: a | D26: a | V26: =COUNTIF(C26:U26,"x") -> 0
F30: Aout
G31: contre somzée | J31: contre baileux | L31: contre gozée
E32: jogging | G32: match | J32: match | L32: match
C33: M | D33: J | E33: M | F33: J | G33: 4-2 | H33: M | I33: J | J33: 0-2 | K33: J | L33: 5-0 | V33: Total
A34: Noms | B34: Prénom | C34: 45874 | D34: 45876 | E34: 45881 | F34: 45883 | G34: 45885 | H34: 45888 | I34: 45890 | J34: 45895 | K34: 45897 | L34: 45899 | V34: présence
A35: Cartiaux | B35: Nolhan | C35: x | D35: x | E35: x | F35: x | G35: oui | H35: x | I35: x | J35: oui | K35: x | V35: =COUNTIF(C35:U35,"x") -> 7
A36: Colas | B36: Joey | C36: a | E36: x | F36: a | G36: a | H36: a | I36: x | J36: oui | K36: x | V36: =COUNTIF(C36:U36,"x") -> 3
A37: Dapra | B37: Antoine | C37: x | D37: x | E37: a | F37: a | G37: oui | H37: x | I37: x | J37: oui | K37: a | L37: forfait | V37: =COUNTIF(C37:U37,"x") -> 4
A38: Focroulle | B38: Grégory | C38: a | E38: x | F38: a | G38: oui | H38: x | I38: a | J38: oui | K38: a | V38: =COUNTIF(C38:U38,"x") -> 2
A39: Hanotiau | B39: Melvin | C39: x | D39: x | E39: x | F39: a | G39: a | H39: x | I39: a | J39: oui | K39: x | V39: =COUNTIF(C39:U39,"x") -> 5
A40: Mathieu | B40: Julien | C40: x | E40: a | F40: a | G40: oui | H40: x | I40: a | J40: oui | K40: a | V40: =COUNTIF(C40:U40,"x") -> 2
A41: Michiels | B41: Apoline | C41: x | D41: x | E41: a | F41: x | G41: oui | H41: x | I41: a | J41: oui | K41: x | V41: =COUNTIF(C41:U41,"x") -> 5
A42: Perot | B42: Anthony | C42: a | D42: x | E42: a | F42: x | G42: oui | H42: x | I42: x | J42: oui | K42: x | V42: =COUNTIF(C42:U42,"x") -> 5
A43: Sahoure | B43: Thoty | C43: a | E43: x | F43: x | G43: oui | H43: a | I43: x | J43: oui | K43: a | V43: =COUNTIF(C43:U43,"x") -> 3
A44: Scaf | B44: Maho | C44: a | E44: a | F44: x | G44: a | H44: a | I44: a | J44: a | K44: a | V44: =COUNTIF(C44:U44,"x") -> 1
A45: Wérrion | B45: Macéo | C45: x | D45: x | E45: x | F45: x | G45: oui | H45: x | I45: x | J45: oui | K45: x | V45: =COUNTIF(C45:U45,"x") -> 7
A46: Lecohier | B46: Mathéo | C46: a | E46: a | F46: a | G46: a | H46: x | I46: a | J46: oui | K46: x | V46: =COUNTIF(C46:U46,"x") -> 2
A47: Cloporut | B47: Ionut | C47: a | E47: a | F47: a | G47: a | H47: a | I47: a | J47: a | K47: a | V47: =COUNTIF(C47:U47,"x") -> 0
A48: Desmet | B48: Enzo | C48: a | E48: x | F48: x | G48: oui | H48: a | I48: a | J48: oui | K48: x | V48: =COUNTIF(C48:U48,"x") -> 3
A49: Hannecart | B49: Renan | C49: x | E49: a | F49: a | G49: a | H49: a | I49: x | J49: oui | K49: a | V49: =COUNTIF(C49:U49,"x") -> 2
A50: Del Pierco | B50: Mathéo | C50: x | D50: x | E50: x | F50: x | G50: oui | H50: x | I50: x | J50: oui | K50: a | V50: =COUNTIF(C50:U50,"x") -> 6
A51: Didier | B51: Rafaël | C51: x | E51: a | F51: x | G51: oui | H51: a | I51: x | J51: oui | K51: x | V51: =COUNTIF(C51:U51,"x") -> 4
A52: Braem | B52: Ethan | C52: a | D52: x | E52: x | F52: a | G52: oui | H52: a | I52: a | J52: oui | K52: a | V52: =COUNTIF(C52:U52,"x") -> 2
F56: Septembre
E57: à Forges | H57: contre gerpinnes | K57: à Erpion | N57: contre beaumont
E58: match | H58: match | K58: match | N58: match
C59: M | D59: J | E59: 3-0 | F59: M | G59: J | H59: 3-4 | I59: M | J59: J | K59: 1-3 | L59: M | M59: J | N59: 2-3 | O59: M | V59: Total
A60: Noms | B60: Prénom | C60: 45902 | D60: 45904 | E60: 45906 | F60: 45908 | G60: 45911 | H60: 45913 | I60: 45916 | J60: 45918 | K60: 45920 | L60: 45923 | M60: 45925 | N60: 45927 | O60: 45930 | V60: présence
A61: Cartiaux | B61: Nolhan | C61: x | D61: a | E61: oui | F61: x | G61: x | H61: oui | I61: a | J61: x | K61: oui | L61: x | M61: x | N61: ok | O61: x | V61: =COUNTIF(C61:U61,"x") -> 7
A62: Colas | B62: Joey | C62: a | D62: a | E62: oui | F62: x | G62: a | H62: oui | I62: a | J62: a | K62: oui | L62: a | M62: a | N62: ok | O62: x | V62: =COUNTIF(C62:U62,"x") -> 2
A63: Dapra | B63: Antoine | C63: x | D63: x | E63: oui | F63: x | G63: x | H63: oui | I63: x | J63: x | K63: oui | L63: x | M63: x | N63: ok | O63: a | V63: =COUNTIF(C63:U63,"x") -> 8
A64: Focroulle | B64: Grégory | C64: a | D64: x | E64: oui | F64: x | G64: x | H64: oui | I64: a | J64: a | K64: oui | L64: a | M64: x | N64: ok | O64: a | V64: =COUNTIF(C64:U64,"x") -> 4
A65: Hanotiau | B65: Melvin | C65: x | D65: x | E65: oui | F65: a | G65: x | H65: oui | I65: a | J65: a | K65: oui | L65: x | M65: x | N65: ok | O65: x | V65: =COUNTIF(C65:U65,"x") -> 6
A66: Mathieu | B66: Julien | C66: x | D66: x | E66: oui | F66: a | G66: a | H66: oui | I66: a | J66: x | K66: oui | L66: a | M66: a | N66: ok | O66: a | V66: =COUNTIF(C66:U66,"x") -> 3
A67: Michiels | B67: Apoline | C67: x | D67: x | E67: oui | F67: a | G67: x | H67: oui | I67: x | J67: x | K67: oui | L67: x | M67: x | N67: ok | O67: x | V67: =COUNTIF(C67:U67,"x") -> 8
A68: Perot | B68: Anthony | C68: x | D68: x | E68: oui | F68: x | G68: x | H68: oui | I68: x | J68: x | K68: oui | L68: a | M68: a | N68: ok | O68: x | V68: =COUNTIF(C68:U68,"x") -> 7
A69: Sahoure | B69: Thoty | C69: a | D69: a | E69: a | F69: x | G69: a | H69: a | I69: a | J69: a | K69: oui | L69: a | M69: a | N69: a | O69: a | V69: =COUNTIF(C69:U69,"x") -> 1
A70: Scaf | B70: Maho | C70: x | D70: x | E70: oui | F70: x | G70: x | H70: oui | I70: x | J70: a | K70: oui | L70: x | M70: x | N70: ok | O70: x | V70: =COUNTIF(C70:U70,"x") -> 8
A71: Wérrion | B71: Macéo | C71: x | D71: x | E71: oui | F71: x | G71: x | H71: oui | I71: x | J71: x | K71: oui | L71: x | M71: x | N71: ok | O71: x | V71: =COUNTIF(C71:U71,"x") -> 9
A72: Lecohier | B72: Mathéo | C72: a | D72: x | E72: a | F72: a | G72: a | H72: a | I72: a | J72: a | K72: a | L72: a | M72: a | N72: a | O72: a | V72: =COUNTIF(C72:U72,"x") -> 1
... A78: Ethan | B78: Braem | C78: a | D78: x | E78: oui | F78: a | G78: a | H78: oui | I78: a | J78: a | K78: oui | L78: a | M78: a | N78: ok | O78: a | V78: =COUNTIF(C78:U78,"x") -> 1
A79: Evan | B79: Feret | N79: ok | O79: a | V79: =COUNTIF(C79:U79,"x") -> 0
E82: Octobre
D83: à S-S-Sambre | F83: contre Baileux
D84: match | F84: match | I84: match
C85: J | D85: 5-0 | E85: L | F85: 1-11 | G85: L | H85: J | I85: 0-0 | V85: Total
A86: Noms | B86: Prénom | C86: 45932 | D86: 45934 | E86: 45936 | F86: 45939 | G86: 45943 | H86: 45960 | V86: présence
A87: Cartiaux | B87: Nolhan | C87: x | D87: ok | E87: x | F87: ok | G87: x | H87: x | V87: =COUNTIF(C87:U87,"x") -> 4
A88: Colas | B88: Joey | C88: x | D88: ok | E88: x | F88: ok | G88: a | H88: a | V88: =COUNTIF(C88:U88,"x") -> 2
A89: Dapra | B89: Antoine | C89: a | D89: a | E89: a | F89: a | G89: a | H89: x | V89: =COUNTIF(C89:U89,"x") -> 1
A90: Focroulle | B90: Grégory | C90: a | D90: ok | E90: a | F90: a | G90: a | H90: a | V90: =COUNTIF(C90:U90,"x") -> 0
A91: Hanotiau | B91: Melvin | C91: a | D91: ok | E91: x | F91: ok | G91: x | H91: a | V91: =COUNTIF(C91:U91,"x") -> 2
A92: Mathieu | B92: Julien | C92: x | D92: ok | E92: x | F92: ok | G92: a | H92: a | V92: =COUNTIF(C92:U92,"x") -> 2
A93: Michiels | B93: Apoline | C93: a | D93: ok | E93: x | F93: ok | G93: x | H93: x | V93: =COUNTIF(C93:U93,"x") -> 3
A94: Perot | B94: Anthony | C94: x | D94: ok | E94: x | F94: ok | G94: x | H94: x | V94: =COUNTIF(C94:U94,"x") -> 4
A95: Sahoure | B95: Thoty | C95: a | D95: a | E95: a | F95: ok | G95: a | H95: x | V95: =COUNTIF(C95:U95,"x") -> 1
A96: Scaf | B96: Maho | C96: x | D96: ok | E96: x | F96: ok | G96: x | H96: a | V96: =COUNTIF(C96:U96,"x") -> 3
A97: Wérrion | B97: Macéo | C97: x | D97: ok | E97: a | F97: ok | G97: x | H97: x | V97: =COUNTIF(C97:U97,"x") -> 3
A98: Lecohier | B98: Mathéo | C98: a | D98: a | E98: a | F98: a | G98: a | H98: a | V98: =COUNTIF(C98:U98,"x") -> 0
... A105: Evan | B105: Feret | C105: a | D105: a | E105: a | F105: a | G105: a | H105: a | V105: =COUNTIF(C105:U105,"x") -> 0
A106: Ryan | B106: Arrotin | E106: x | F106: ok | G106: x | H106: x | V106: =COUNTIF(C106:U106,"x") -> 3
D111: novembre
G112: à Ransart | I112: à Anor (ami) | K112: contre s/sambre | N112: à gerpinnes
G113: match | I113: match | K113: match | N113: match
G114: 13-1 | I114: annulé | K114: remis | N114: 0-3 | V114: Total
A115: Noms | B115: Prénom | C115: 45964 | D115: 45967 | E115: 45971 | F115: 45974 | G115: 45976 | H115: 45979 | I115: 45980 | J115: 45981 | K115: 45983 | L115: 45986 | M115: 45988 | N115: 45990 | V115: présence
A116: Cartiaux | B116: Nolhan | C116: x | D116: x | E116: x | F116: x | G116: ok | H116: x | J116: annulé | K116: remis | L116: x | M116: annulé | N116: a | V116: =COUNTIF(C116:U116,"x") -> 6
A117: Colas | B117: Joey | C117: a | D117: a | E117: a | F117: a | G117: ok | H117: a | L117: a | N117: a | V117: =COUNTIF(C117:U117,"x") -> 0
A118: Dapra | B118: Antoine | C118: x | D118: x | E118: x | F118: x | G118: ok | H118: x | L118: x | N118: ok | V118: =COUNTIF(C118:U118,"x") -> 6
A119: Focroulle | B119: Grégory | C119: a | D119: x | E119: a | F119: a | G119: ok | H119: a | L119: x | N119: ok | V119: =COUNTIF(C119:U119,"x") -> 2
A120: Hanotiau | B120: Melvin | C120: x | D120: x | E120: x | F120: x | G120: ok | H120: x | L120: x | N120: ok | V120: =COUNTIF(C120:U120,"x") -> 6
A121: Mathieu | B121: Julien | C121: x | D121: x | E121: x | F121: x | G121: ok | H121: a | L121: x | N121: ok | V121: =COUNTIF(C121:U121,"x") -> 5
A122: Michiels | B122: Apoline | C122: a | D122: a | E122: a | F122: x | G122: ok | H122: x | L122: x | N122: ok | V122: =COUNTIF(C122:U122,"x") -> 3
A123: Perot | B123: Anthony | C123: x | D123: x | E123: x | F123: x | G123: a | H123: a | L123: a | N123: ok | V123: =COUNTIF(C123:U123,"x") -> 4
A124: Sahoure | B124: Thoty | C124: a | D124: a | E124: x | F124: a | G124: ok | H124: a | L124: x | N124: a | V124: =COUNTIF(C124:U124,"x") -> 2
A125: Scaf | B125: Maho | C125: x | D125: x | E125: a | F125: x | G125: a | H125: a | L125: a | N125: a | V125: =COUNTIF(C125:U125,"x") -> 3
A126: Wérrion | B126: Macéo | C126: x | D126: x | E126: x | F126: x | G126: ok | H126: a | L126: x | N126: ok | V126: =COUNTIF(C126:U126,"x") -> 5
A127: Lecohier | B127: Mathéo | C127: a | D127: a | E127: a | F127: a | G127: a | H127: a | L127: a | N127: a | V127: =COUNTIF(C127:U127,"x") -> 0
A128: Cloporut | B128: Ionut | C128: a | D128: a | E128: a | F128: a | G128: ok | H128: a | L128: a | N128: a | V128: =COUNTIF(C128:U128,"x") -> 0
... A135: Ryan | B135: Arrotin | C135: x | D135: x | E135: x | F135: x | G135: ok | H135: x | L135: x | N135: ok | V135: =COUNTIF(C135:U135,"x") -> 6
A140: Décembre | G140: à Monceau
G141: match
...

Sheet Total entrainements
A5: Total
A6: entrainements | B6: Noms | C6: Prénom | D6: classement | G6: Classement général
A7: =Présences!V8+Présences!V35+Présences!V61+Présences!V87+Présences!V116+Présences!V144+Présences!V170+Présences!V196+Présences!V225 -> 32 | B7: Cartiaux | C7: Nolhan | D7: =RANK(A7,A$7:A$26) -> 1 | G7: 1 | H7: =INDEX(Tabel1[Noms],MATCH(G7,Tabel1[classement],0)) -> Cartiaux | I7: =INDEX(Tabel1[Prénom],MATCH(G7,Tabel1[classement],0)) -> Nolhan
A8: =Présences!V9+Présences!V36+Présences!V62+Présences!V88+Présences!V117+Présences!V145+Présences!V171+Présences!V197+Présences!V226 -> 11 | B8: Colas | C8: Joey | D8: =RANK(A8,A$7:A$26) -> 12 | G8: 2 | H8: =INDEX(Tabel1[Noms],MATCH(G8,Tabel1[classement],0)) -> Wérrion | I8: =INDEX(Tabel1[Prénom],MATCH(G8,Tabel1[classement],0)) -> Macéo
A9: =Présences!V10+Présences!V37+Présences!V63+Présences!V89+Présences!V118+Présences!V146+Présences!V172+Présences!V198+Présences!V227 -> 27 | B9: Dapra | C9: Antoine | D9: =RANK(A9,A$7:A$26) -> 4 | G9: =G8+1 -> 3 | H9: =INDEX(Tabel1[Noms],MATCH(G9,Tabel1[classement],0)) -> Perot | I9: =INDEX(Tabel1[Prénom],MATCH(G9,Tabel1[classement],0)) -> Anthony
A10: =Présences!V11+Présences!V38+Présences!V64+Présences!V90+Présences!V119+Présences!V147+Présences!V173+Présences!V199+Présences!V228 -> 10 | B10: Focroulle | C10: Grégory | D10: =RANK(A10,A$7:A$26) -> 14 | G10: =G9+1 -> 4 | H10: =INDEX(Tabel1[Noms],MATCH(G10,Tabel1[classement],0)) -> Dapra | I10: =INDEX(Tabel1[Prénom],MATCH(G10,Tabel1[classement],0)) -> Antoine
A11: =Présences!V12+Présences!V39+Présences!V65+Présences!V91+Présences!V120+Présences!V148+Présences!V174+Présences!V200+Présences!V229 -> 25 | B11: Hanotiau | C11: Melvin | D11: =RANK(A11,A$7:A$26) -> 5 | G11: =G10+1 -> 5 | H11: =INDEX(Tabel1[Noms],MATCH(G11,Tabel1[classement],0)) -> Hanotiau | I11: =INDEX(Tabel1[Prénom],MATCH(G11,Tabel1[classement],0)) -> Melvin
A12: =Présences!V13+Présences!V40+Présences!V66+Présences!V92+Présences!V121+Présences!V149+Présences!V175+Présences!V201+Présences!V230 -> 14 | B12: Mathieu | C12: Julien | D12: =RANK(A12,A$7:A$26) -> 9 | G12: =G11+1 -> 6 | H12: =INDEX(Tabel1[Noms],MATCH(G12,Tabel1[classement],0)) -> Michiels | I12: =INDEX(Tabel1[Prénom],MATCH(G12,Tabel1[classement],0)) -> Apoline
A13: =Présences!V14+Présences!V41+Présences!V67+Présences!V93+Présences!V122+Présences!V150+Présences!V176+Présences!V202+Présences!V231 -> 23 | B13: Michiels | C13: Apoline | D13: =RANK(A13,A$7:A$26) -> 6 | G13: =G12+1 -> 7 | H13: =INDEX(Tabel1[Noms],MATCH(G13,Tabel1[classement],0)) -> Desmet | I13: =INDEX(Tabel1[Prénom],MATCH(G13,Tabel1[classement],0)) -> Enzo
A14: =Présences!V15+Présences!V42+Présences!V68+Présences!V94+Présences!V123+Présences!V151+Présences!V177+Présences!V203+Présences!V232 -> 28 | B14: Perot | C14: Anthony | D14: =RANK(A14,A$7:A$26) -> 3 | G14: =G13+1 -> 8 | H14: =INDEX(Tabel1[Noms],MATCH(G14,Tabel1[classement],0)) -> Scaf | I14: =INDEX(Tabel1[Prénom],MATCH(G14,Tabel1[classement],0)) -> Maho
A15: =Présences!V16+Présences!V43+Présences!V69+Présences!V95+Présences!V124+Présences!V152+Présences!V178+Présences!V204+Présences!V233 -> 9 | B15: Sahoure | C15: Thoty | D15: =RANK(A15,A$7:A$26) -> 15 | G15: =G14+1 -> 9 | H15: =INDEX(Tabel1[Noms],MATCH(G15,Tabel1[classement],0)) -> Mathieu | I15: =INDEX(Tabel1[Prénom],MATCH(G15,Tabel1[classement],0)) -> Julien
A16: =Présences!V17+Présences!V44+Présences!V70+Présences!V96+Présences!V125+Présences!V153+Présences!V179+Présences!V205+Présences!V234 -> 19 | B16: Scaf | C16: Maho | D16: =RANK(A16,A$7:A$26) -> 8 | G16: =G15+1 -> 10 | H16: =INDEX(Tabel1[Noms],MATCH(G16,Tabel1[classement],0)) -> Del Pierco | I16: =INDEX(Tabel1[Prénom],MATCH(G16,Tabel1[classement],0)) -> Mathéo
A17: =Présences!V18+Présences!V45+Présences!V71+Présences!V97+Présences!V126+Présences!V154+Présences!V180+Présences!V206+Présences!V235 -> 29 | B17: Wérrion | C17: Macéo | D17: =RANK(A17,A$7:A$26) -> 2 | G17: =G16+1 -> 11 | H17: =INDEX(Tabel1[Noms],MATCH(G17,Tabel1[classement],0)) -> Ryan | I17: =INDEX(Tabel1[Prénom],MATCH(G17,Tabel1[classement],0)) -> Arrotin
A18: =Présences!V19+Présences!V46+Présences!V72+Présences!V98+Présences!V127+Présences!V155+Présences!V181+Présences!V207+Présences!V236 -> 5 | B18: Lecohier | C18: Mathéo | D18: =RANK(A18,A$7:A$26) -> 18 | G18: =G17+1 -> 12 | H18: =INDEX(Tabel1[Noms],MATCH(G18,Tabel1[classement],0)) -> Colas | I18: =INDEX(Tabel1[Prénom],MATCH(G18,Tabel1[classement],0)) -> Joey
A19: =Présences!V20+Présences!V47+Présences!V73+Présences!V99+Présences!V128+Présences!V156+Présences!V182+Présences!V208+Présences!V237 -> 1 | B19: Cloporut | C19: Ionut | D19: =RANK(A19,A$7:A$26) -> 19 | G19: =G18+1 -> 13 | H19: =INDEX(Tabel1[Noms],MATCH(G19,Tabel1[classement],0)) -> #N/A | I19: =INDEX(Tabel1[Prénom],MATCH(G19,Tabel1[classement],0)) -> #N/A
A20: =Présences!V21+Présences!V48+Présences!V74+Présences!V100+Présences!V129+Présences!V157+Présences!V183+Présences!V209+Présences!V238 -> 20 | B20: Desmet | C20: Enzo | D20: =RANK(A20,A$7:A$26) -> 7 | G20: =G19+1 -> 14 | H20: =INDEX(Tabel1[Noms],MATCH(G20,Tabel1[classement],0)) -> Focroulle | I20: =INDEX(Tabel1[Prénom],MATCH(G20,Tabel1[classement],0)) -> Grégory
... A25: =Présences!V26+Présences!V53+Présences!V79+Présences!V105+Présences!V134+Présences!V162+Présences!V188+Présences!V214+Présences!V243 -> 0 | B25: Evan | C25: Feret | D25: =RANK(A25,A$7:A$26) -> 20 | G25: =G24+1 -> 19 | H25: =INDEX(Tabel1[Noms],MATCH(G25,Tabel1[classement],0)) -> Cloporut | I25: =INDEX(Tabel1[Prénom],MATCH(G25,Tabel1[classement],0)) -> Ionut
A26: =Présences!V27+Présences!V54+Présences!V80+Présences!V106+Présences!V135+Présences!V163+Présences!V189+Présences!V215+Présences!V244 -> 12 | B26: Ryan | C26: Arrotin | D26: =RANK(A26,A$7:A$26) -> 11
