Workbook

Sheet Feuil1
A1: Date | B1: Vendeur (prénom) | C1: Produits | D1: Qtt de commande | E1: Qtt de départ | F1: Qtt cuit | G1: Qtt vendu | H1: CA | I1: Perte | J1: Bénéfice | M1: Moyenne des ventes | N1: =AVERAGE(G2:G38) -> 10
A2: 45919 | B2: TEST + TEST | C2: TEST | D2: 100 | E2: =D2 -> 100 | F2: 10 | G2: 10 | H2: =G2*Configuration!A2 -> 10 | I2: =G2-F2 -> 0 | J2: =(Configuration!A2*Feuil1!G2)-(Configuration!C2*Feuil1!F2) -> 7.2 | M2: Stock actuel | N2: 90
A3: 45926 | E3: =D3+(E2-F2) -> 90 | H3: =G3*Configuration!A2 -> 0 | I3: =G3-F3 -> 0 | J3: =(Configuration!A2*Feuil1!G3)-(Configuration!C2*Feuil1!F3) -> 0 | M3: Stock minimal | N3: 12
A4: 45933 | E4: =D4+(E3-F3) -> 90 | H4: =G4*Configuration!A4 -> 0 | I4: =G4-F4 -> 0 | J4: =(Configuration!A2*Feuil1!G4)-(Configuration!C2*Feuil1!F4) -> 0 | M4: Délai Livraison en jours | N4: 2
A5: 45940 | E5: =D5+(E4-F4) -> 90 | H5: =G5*Configuration!A4 -> 0 | I5: =G5-F5 -> 0 | J5: =(Configuration!A2*Feuil1!G5)-(Configuration!C2*Feuil1!F5) -> 0
A6: 45947 | E6: =D6+(E5-F5) -> 90 | H6: =G6*Configuration!A6 -> 0 | I6: =G6-F6 -> 0 | J6: =(Configuration!A2*Feuil1!G6)-(Configuration!C2*Feuil1!F6) -> 0 | M6: Nb de vente | N6: =MAX(0,TRUNC((N2-N3)/N1)) -> 7
A7: 45954 | E7: =D7+(E6-F6) -> 90 | H7: =G7*Configuration!A6 -> 0 | I7: =G7-F7 -> 0 | J7: =(Configuration!A2*Feuil1!G7)-(Configuration!C2*Feuil1!F7) -> 0
A8: 45961 | E8: =D8+(E7-F7) -> 90 | H8: =G8*Configuration!A8 -> 0 | I8: =G8-F8 -> 0 | J8: =(Configuration!A2*Feuil1!G8)-(Configuration!C2*Feuil1!F8) -> 0 | M8: Date prochaine Commande | N8: =WORKDAY.INTL(TODAY()+ N6*7 - N4,IF(WEEKDAY(TODAY(),2)=7,0,-1),"1111011") -> 45961
A9: 45968 | E9: =D9+(E8-F8) -> 90 | H9: =G9*Configuration!A8 -> 0 | I9: =G9-F9 -> 0 | J9: =(Configuration!A2*Feuil1!G9)-(Configuration!C2*Feuil1!F9) -> 0 | M9: Excel>=2019 | N9: =_xlfn.LET(_xlpm.jourMin,TODAY()+MAX(0,(N2-N3)/N1)*7-N4,_xlpm.bDimanche,WEEKDAY(_xlpm.jourMin,2)=7, WORKDAY.INTL(_xlpm.jourMin,IF(_xlpm.bDimanche,0,-1),"1111011")) -> 45961
A10: 45975 | E10: =D10+(E9-F9) -> 90 | H10: =G10*Configuration!A10 -> 0 | I10: =G10-F10 -> 0 | J10: =(Configuration!A2*Feuil1!G10)-(Configuration!C2*Feuil1!F10) -> 0 | O10: =+O9 -> 0
A11: 45982 | E11: =D11+(E10-F10) -> 90 | H11: =G11*Configuration!A10 -> 0 | I11: =G11-F11 -> 0 | J11: =(Configuration!A2*Feuil1!G11)-(Configuration!C2*Feuil1!F11) -> 0
A12: 45989 | E12: =D12+(E11-F11) -> 90 | H12: =G12*Configuration!A12 -> 0 | I12: =G12-F12 -> 0 | J12: =(Configuration!A2*Feuil1!G12)-(Configuration!C2*Feuil1!F12) -> 0
A13: 45996 | E13: =D13+(E12-F12) -> 90 | H13: =G13*Configuration!A12 -> 0 | I13: =G13-F13 -> 0 | J13: =(Configuration!A2*Feuil1!G13)-(Configuration!C2*Feuil1!F13) -> 0
A14: 46003 | E14: =D14+(E13-F13) -> 90 | H14: =G14*Configuration!A14 -> 0 | I14: =G14-F14 -> 0 | J14: =(Configuration!A2*Feuil1!G14)-(Configuration!C2*Feuil1!F14) -> 0
A15: 46010 | E15: =D15+(E14-F14) -> 90 | H15: =G15*Configuration!A14 -> 0 | I15: =G15-F15 -> 0 | J15: =(Configuration!A2*Feuil1!G15)-(Configuration!C2*Feuil1!F15) -> 0
A16: 46017 | E16: =D16+(E15-F15) -> 90 | H16: =G16*Configuration!A16 -> 0 | I16: =G16-F16 -> 0 | J16: =(Configuration!A2*Feuil1!G16)-(Configuration!C2*Feuil1!F16) -> 0
A17: 46024 | E17: =D17+(E16-F16) -> 90 | H17: =G17*Configuration!A16 -> 0 | I17: =G17-F17 -> 0 | J17: =(Configuration!A2*Feuil1!G17)-(Configuration!C2*Feuil1!F17) -> 0
A18: 46031 | E18: =D18+(E17-F17) -> 90 | H18: =G18*Configuration!A18 -> 0 | I18: =G18-F18 -> 0 | J18: =(Configuration!A2*Feuil1!G18)-(Configuration!C2*Feuil1!F18) -> 0
A19: 46038 | E19: =D19+(E18-F18) -> 90 | H19: =G19*Configuration!A18 -> 0 | I19: =G19-F19 -> 0 | J19: =(Configuration!A2*Feuil1!G19)-(Configuration!C2*Feuil1!F19) -> 0
A20: 46045 | E20: =D20+(E19-F19) -> 90 | H20: =G20*Configuration!A20 -> 0 | I20: =G20-F20 -> 0 | J20: =(Configuration!A2*Feuil1!G20)-(Configuration!C2*Feuil1!F20) -> 0
A21: 46052 | E21: =D21+(E20-F20) -> 90 | H21: =G21*Configuration!A20 -> 0 | I21: =G21-F21 -> 0 | J21: =(Configuration!A2*Feuil1!G21)-(Configuration!C2*Feuil1!F21) -> 0
A22: 46059 | E22: =D22+(E21-F21) -> 90 | H22: =G22*Configuration!A22 -> 0 | I22: =G22-F22 -> 0 | J22: =(Configuration!A2*Feuil1!G22)-(Configuration!C2*Feuil1!F22) -> 0
A23: 46066 | E23: =D23+(E22-F22) -> 90 | H23: =G23*Configuration!A22 -> 0 | I23: =G23-F23 -> 0 | J23: =(Configuration!A2*Feuil1!G23)-(Configuration!C2*Feuil1!F23) -> 0
A24: 46073 | E24: =D24+(E23-F23) -> 90 | H24: =G24*Configuration!A24 -> 0 | I24: =G24-F24 -> 0 | J24: =(Configuration!A2*Feuil1!G24)-(Configuration!C2*Feuil1!F24) -> 0
A25: 46080 | E25: =D25+(E24-F24) -> 90 | H25: =G25*Configuration!A24 -> 0 | I25: =G25-F25 -> 0 | J25: =(Configuration!A2*Feuil1!G25)-(Configuration!C2*Feuil1!F25) -> 0
A26: 46087 | E26: =D26+(E25-F25) -> 90 | H26: =G26*Configuration!A26 -> 0 | I26: =G26-F26 -> 0 | J26: =(Configuration!A2*Feuil1!G26)-(Configuration!C2*Feuil1!F26) -> 0
A27: 46094 | E27: =D27+(E26-F26) -> 90 | H27: =G27*Configuration!A26 -> 0 | I27: =G27-F27 -> 0 | J27: =(Configuration!A2*Feuil1!G27)-(Configuration!C2*Feuil1!F27) -> 0
A28: 46101 | E28: =D28+(E27-F27) -> 90 | H28: =G28*Configuration!A28 -> 0 | I28: =G28-F28 -> 0 | J28: =(Configuration!A2*Feuil1!G28)-(Configuration!C2*Feuil1!F28) -> 0
A29: 46108 | E29: =D29+(E28-F28) -> 90 | H29: =G29*Configuration!A28 -> 0 | I29: =G29-F29 -> 0 | J29: =(Configuration!A2*Feuil1!G29)-(Configuration!C2*Feuil1!F29) -> 0
A30: 46115 | E30: =D30+(E29-F29) -> 90 | H30: =G30*Configuration!A30 -> 0 | I30: =G30-F30 -> 0 | J30: =(Configuration!A2*Feuil1!G30)-(Configuration!C2*Feuil1!F30) -> 0
A31: 46122 | E31: =D31+(E30-F30) -> 90 | H31: =G31*Configuration!A30 -> 0 | I31: =G31-F31 -> 0 | J31: =(Configuration!A2*Feuil1!G31)-(Configuration!C2*Feuil1!F31) -> 0
A32: 46129 | E32: =D32+(E31-F31) -> 90 | H32: =G32*Configuration!A32 -> 0 | I32: =G32-F32 -> 0 | J32: =(Configuration!A2*Feuil1!G32)-(Configuration!C2*Feuil1!F32) -> 0
A33: 46136 | E33: =D33+(E32-F32) -> 90 | H33: =G33*Configuration!A32 -> 0 | I33: =G33-F33 -> 0 | J33: =(Configuration!A2*Feuil1!G33)-(Configuration!C2*Feuil1!F33) -> 0
A34: 46143 | E34: =D34+(E33-F33) -> 90 | H34: =G34*Configuration!A34 -> 0 | I34: =G34-F34 -> 0 | J34: =(Configuration!A2*Feuil1!G34)-(Configuration!C2*Feuil1!F34) -> 0
A35: 46150 | E35: =D35+(E34-F34) -> 90 | H35: =G35*Configuration!A34 -> 0 | I35: =G35-F35 -> 0 | J35: =(Configuration!A2*Feuil1!G35)-(Configuration!C2*Feuil1!F35) -> 0
A36: 46157 | E36: =D36+(E35-F35) -> 90 | H36: =G36*Configuration!A36 -> 0 | I36: =G36-F36 -> 0 | J36: =(Configuration!A2*Feuil1!G36)-(Configuration!C2*Feuil1!F36) -> 0
A37: 46164 | E37: =D37+(E36-F36) -> 90 | H37: =G37*Configuration!A36 -> 0 | I37: =G37-F37 -> 0 | J37: =(Configuration!A2*Feuil1!G37)-(Configuration!C2*Feuil1!F37) -> 0
A38: 46171 | E38: =D38+(E37-F37) -> 90 | H38: =G38*Configuration!A38 -> 0 | I38: =G38-F38 -> 0 | J38: =(Configuration!A2*Feuil1!G38)-(Configuration!C2*Feuil1!F38) -> 0
G39: Total : | H39: =SUM(H2:H38) -> 10 | I39: =SUM(I2:I38) -> 0 | J39: =SUM(J2:J38) -> 7.2

Sheet Détail caisse
A1: Date | C1: 1 cent | D1: 2 cent | E1: 5 cent | F1: 10 cent | G1: 20 cent | H1: 50 cent | I1: 1 | J1: 2 | K1: 5 | L1: 10 | M1: TOTAL | N1: Prélèvement (enveloppe datée + somme)
A2: 45919 | B2: Début de caisse | M2: =C2*0.01+D2*0.02+E2*0.05+F2*0.1+G2*0.2+H2*0.5+I2*1+J2*2+K2*5+L2*10 -> 0
B3: fin de caisse | G3: 11 | M3: =C3*0.01+D3*0.02+E3*0.05+F3*0.1+G3*0.2+H3*0.5+I3*1+J3*2+K3*5+L3*10 -> 2.2
A4: 45926 | B4: Début de caisse | M4: =C4*0.01+D4*0.02+E4*0.05+F4*0.1+G4*0.2+H4*0.5+I4*1+J4*2+K4*5+L4*10 -> 0
B5: fin de caisse | M5: =C5*0.01+D5*0.02+E5*0.05+F5*0.1+G5*0.2+H5*0.5+I5*1+J5*2+K5*5+L5*10 -> 0
A6: 45933 | B6: Début de caisse | M6: =C6*0.01+D6*0.02+E6*0.05+F6*0.1+G6*0.2+H6*0.5+I6*1+J6*2+K6*5+L6*10 -> 0
B7: fin de caisse | M7: =C7*0.01+D7*0.02+E7*0.05+F7*0.1+G7*0.2+H7*0.5+I7*1+J7*2+K7*5+L7*10 -> 0
A8: 45940 | B8: Début de caisse | M8: =C8*0.01+D8*0.02+E8*0.05+F8*0.1+G8*0.2+H8*0.5+I8*1+J8*2+K8*5+L8*10 -> 0
B9: fin de caisse | M9: =C9*0.01+D9*0.02+E9*0.05+F9*0.1+G9*0.2+H9*0.5+I9*1+J9*2+K9*5+L9*10 -> 0
A10: 45947 | B10: Début de caisse | M10: =C10*0.01+D10*0.02+E10*0.05+F10*0.1+G10*0.2+H10*0.5+I10*1+J10*2+K10*5+L10*10 -> 0
B11: fin de caisse | M11: =C11*0.01+D11*0.02+E11*0.05+F11*0.1+G11*0.2+H11*0.5+I11*1+J11*2+K11*5+L11*10 -> 0
A12: 45954 | B12: Début de caisse | M12: =C12*0.01+D12*0.02+E12*0.05+F12*0.1+G12*0.2+H12*0.5+I12*1+J12*2+K12*5+L12*10 -> 0
B13: fin de caisse | M13: =C13*0.01+D13*0.02+E13*0.05+F13*0.1+G13*0.2+H13*0.5+I13*1+J13*2+K13*5+L13*10 -> 0
A14: 45961 | B14: Début de caisse | M14: =C14*0.01+D14*0.02+E14*0.05+F14*0.1+G14*0.2+H14*0.5+I14*1+J14*2+K14*5+L14*10 -> 0
B15: fin de caisse | M15: =C15*0.01+D15*0.02+E15*0.05+F15*0.1+G15*0.2+H15*0.5+I15*1+J15*2+K15*5+L15*10 -> 0
A16: 45968 | B16: Début de caisse | M16: =C16*0.01+D16*0.02+E16*0.05+F16*0.1+G16*0.2+H16*0.5+I16*1+J16*2+K16*5+L16*10 -> 0
B17: fin de caisse | M17: =C17*0.01+D17*0.02+E17*0.05+F17*0.1+G17*0.2+H17*0.5+I17*1+J17*2+K17*5+L17*10 -> 0
A18: 45975 | B18: Début de caisse | M18: =C18*0.01+D18*0.02+E18*0.05+F18*0.1+G18*0.2+H18*0.5+I18*1+J18*2+K18*5+L18*10 -> 0
B19: fin de caisse | M19: =C19*0.01+D19*0.02+E19*0.05+F19*0.1+G19*0.2+H19*0.5+I19*1+J19*2+K19*5+L19*10 -> 0
A20: 45982 | B20: Début de caisse | M20: =C20*0.01+D20*0.02+E20*0.05+F20*0.1+G20*0.2+H20*0.5+I20*1+J20*2+K20*5+L20*10 -> 0
B21: fin de caisse | M21: =C21*0.01+D21*0.02+E21*0.05+F21*0.1+G21*0.2+H21*0.5+I21*1+J21*2+K21*5+L21*10 -> 0
A22: 45989 | B22: Début de caisse | M22: =C22*0.01+D22*0.02+E22*0.05+F22*0.1+G22*0.2+H22*0.5+I22*1+J22*2+K22*5+L22*10 -> 0
B23: fin de caisse | M23: =C23*0.01+D23*0.02+E23*0.05+F23*0.1+G23*0.2+H23*0.5+I23*1+J23*2+K23*5+L23*10 -> 0
A24: 45996 | B24: Début de caisse | M24: =C24*0.01+D24*0.02+E24*0.05+F24*0.1+G24*0.2+H24*0.5+I24*1+J24*2+K24*5+L24*10 -> 0
B25: fin de caisse | M25: =C25*0.01+D25*0.02+E25*0.05+F25*0.1+G25*0.2+H25*0.5+I25*1+J25*2+K25*5+L25*10 -> 0
A26: 46003 | B26: Début de caisse | M26: =C26*0.01+D26*0.02+E26*0.05+F26*0.1+G26*0.2+H26*0.5+I26*1+J26*2+K26*5+L26*10 -> 0
B27: fin de caisse | M27: =C27*0.01+D27*0.02+E27*0.05+F27*0.1+G27*0.2+H27*0.5+I27*1+J27*2+K27*5+L27*10 -> 0
A28: 46010 | B28: Début de caisse | M28: =C28*0.01+D28*0.02+E28*0.05+F28*0.1+G28*0.2+H28*0.5+I28*1+J28*2+K28*5+L28*10 -> 0
B29: fin de caisse | M29: =C29*0.01+D29*0.02+E29*0.05+F29*0.1+G29*0.2+H29*0.5+I29*1+J29*2+K29*5+L29*10 -> 0
A30: 46017 | B30: Début de caisse | M30: =C30*0.01+D30*0.02+E30*0.05+F30*0.1+G30*0.2+H30*0.5+I30*1+J30*2+K30*5+L30*10 -> 0
B31: fin de caisse | M31: =C31*0.01+D31*0.02+E31*0.05+F31*0.1+G31*0.2+H31*0.5+I31*1+J31*2+K31*5+L31*10 -> 0
A32: 46024 | B32: Début de caisse | M32: =C32*0.01+D32*0.02+E32*0.05+F32*0.1+G32*0.2+H32*0.5+I32*1+J32*2+K32*5+L32*10 -> 0
B33: fin de caisse | M33: =C33*0.01+D33*0.02+E33*0.05+F33*0.1+G33*0.2+H33*0.5+I33*1+J33*2+K33*5+L33*10 -> 0
A34: 46031 | B34: Début de caisse | M34: =C34*0.01+D34*0.02+E34*0.05+F34*0.1+G34*0.2+H34*0.5+I34*1+J34*2+K34*5+L34*10 -> 0
B35: fin de caisse | M35: =C35*0.01+D35*0.02+E35*0.05+F35*0.1+G35*0.2+H35*0.5+I35*1+J35*2+K35*5+L35*10 -> 0
A36: 46038 | B36: Début de caisse | M36: =C36*0.01+D36*0.02+E36*0.05+F36*0.1+G36*0.2+H36*0.5+I36*1+J36*2+K36*5+L36*10 -> 0
B37: fin de caisse | M37: =C37*0.01+D37*0.02+E37*0.05+F37*0.1+G37*0.2+H37*0.5+I37*1+J37*2+K37*5+L37*10 -> 0
A38: 46045 | B38: Début de caisse | M38: =C38*0.01+D38*0.02+E38*0.05+F38*0.1+G38*0.2+H38*0.5+I38*1+J38*2+K38*5+L38*10 -> 0
B39: fin de caisse | M39: =C39*0.01+D39*0.02+E39*0.05+F39*0.1+G39*0.2+H39*0.5+I39*1+J39*2+K39*5+L39*10 -> 0
A40: 46052 | B40: Début de caisse | M40: =C40*0.01+D40*0.02+E40*0.05+F40*0.1+G40*0.2+H40*0.5+I40*1+J40*2+K40*5+L40*10 -> 0
B41: fin de caisse | M41: =C41*0.01+D41*0.02+E41*0.05+F41*0.1+G41*0.2+H41*0.5+I41*1+J41*2+K41*5+L41*10 -> 0
A42: 46059 | B42: Début de caisse | M42: =C42*0.01+D42*0.02+E42*0.05+F42*0.1+G42*0.2+H42*0.5+I42*1+J42*2+K42*5+L42*10 -> 0
B43: fin de caisse | M43: =C43*0.01+D43*0.02+E43*0.05+F43*0.1+G43*0.2+H43*0.5+I43*1+J43*2+K43*5+L43*10 -> 0
A44: 46066 | B44: Début de caisse | M44: =C44*0.01+D44*0.02+E44*0.05+F44*0.1+G44*0.2+H44*0.5+I44*1+J44*2+K44*5+L44*10 -> 0
B45: fin de caisse | M45: =C45*0.01+D45*0.02+E45*0.05+F45*0.1+G45*0.2+H45*0.5+I45*1+J45*2+K45*5+L45*10 -> 0
A46: 46073 | B46: Début de caisse | M46: =C46*0.01+D46*0.02+E46*0.05+F46*0.1+G46*0.2+H46*0.5+I46*1+J46*2+K46*5+L46*10 -> 0
B47: fin de caisse | M47: =C47*0.01+D47*0.02+E47*0.05+F47*0.1+G47*0.2+H47*0.5+I47*1+J47*2+K47*5+L47*10 -> 0
A48: 46080 | B48: Début de caisse | M48: =C48*0.01+D48*0.02+E48*0.05+F48*0.1+G48*0.2+H48*0.5+I48*1+J48*2+K48*5+L48*10 -> 0
B49: fin de caisse | M49: =C49*0.01+D49*0.02+E49*0.05+F49*0.1+G49*0.2+H49*0.5+I49*1+J49*2+K49*5+L49*10 -> 0
A50: 46087 | B50: Début de caisse | M50: =C50*0.01+D50*0.02+E50*0.05+F50*0.1+G50*0.2+H50*0.5+I50*1+J50*2+K50*5+L50*10 -> 0
B51: fin de caisse | M51: =C51*0.01+D51*0.02+E51*0.05+F51*0.1+G51*0.2+H51*0.5+I51*1+J51*2+K51*5+L51*10 -> 0
A52: 46094 | B52: Début de caisse | M52: =C52*0.01+D52*0.02+E52*0.05+F52*0.1+G52*0.2+H52*0.5+I52*1+J52*2+K52*5+L52*10 -> 0
B53: fin de caisse | M53: =C53*0.01+D53*0.02+E53*0.05+F53*0.1+G53*0.2+H53*0.5+I53*1+J53*2+K53*5+L53*10 -> 0
A54: 46101 | B54: Début de caisse | M54: =C54*0.01+D54*0.02+E54*0.05+F54*0.1+G54*0.2+H54*0.5+I54*1+J54*2+K54*5+L54*10 -> 0
B55: fin de caisse | M55: =C55*0.01+D55*0.02+E55*0.05+F55*0.1+G55*0.2+H55*0.5+I55*1+J55*2+K55*5+L55*10 -> 0
A56: 46108 | B56: Début de caisse | M56: =C56*0.01+D56*0.02+E56*0.05+F56*0.1+G56*0.2+H56*0.5+I56*1+J56*2+K56*5+L56*10 -> 0
B57: fin de caisse | M57: =C57*0.01+D57*0.02+E57*0.05+F57*0.1+G57*0.2+H57*0.5+I57*1+J57*2+K57*5+L57*10 -> 0
A58: 46115 | B58: Début de caisse | M58: =C58*0.01+D58*0.02+E58*0.05+F58*0.1+G58*0.2+H58*0.5+I58*1+J58*2+K58*5+L58*10 -> 0
B59: fin de caisse | M59: =C59*0.01+D59*0.02+E59*0.05+F59*0.1+G59*0.2+H59*0.5+I59*1+J59*2+K59*5+L59*10 -> 0
A60: 46122 | B60: Début de caisse | M60: =C60*0.01+D60*0.02+E60*0.05+F60*0.1+G60*0.2+H60*0.5+I60*1+J60*2+K60*5+L60*10 -> 0
B61: fin de caisse | M61: =C61*0.01+D61*0.02+E61*0.05+F61*0.1+G61*0.2+H61*0.5+I61*1+J61*2+K61*5+L61*10 -> 0
A62: 46129 | B62: Début de caisse | M62: =C62*0.01+D62*0.02+E62*0.05+F62*0.1+G62*0.2+H62*0.5+I62*1+J62*2+K62*5+L62*10 -> 0
B63: fin de caisse | M63: =C63*0.01+D63*0.02+E63*0.05+F63*0.1+G63*0.2+H63*0.5+I63*1+J63*2+K63*5+L63*10 -> 0
A64: 46136 | B64: Début de caisse | M64: =C64*0.01+D64*0.02+E64*0.05+F64*0.1+G64*0.2+H64*0.5+I64*1+J64*2+K64*5+L64*10 -> 0
B65: fin de caisse | M65: =C65*0.01+D65*0.02+E65*0.05+F65*0.1+G65*0.2+H65*0.5+I65*1+J65*2+K65*5+L65*10 -> 0
A66: 46143 | B66: Début de caisse | M66: =C66*0.01+D66*0.02+E66*0.05+F66*0.1+G66*0.2+H66*0.5+I66*1+J66*2+K66*5+L66*10 -> 0
B67: fin de caisse | M67: =C67*0.01+D67*0.02+E67*0.05+F67*0.1+G67*0.2+H67*0.5+I67*1+J67*2+K67*5+L67*10 -> 0
A68: 46150 | B68: Début de caisse | M68: =C68*0.01+D68*0.02+E68*0.05+F68*0.1+G68*0.2+H68*0.5+I68*1+J68*2+K68*5+L68*10 -> 0
B69: fin de caisse | M69: =C69*0.01+D69*0.02+E69*0.05+F69*0.1+G69*0.2+H69*0.5+I69*1+J69*2+K69*5+L69*10 -> 0
A70: 46157 | B70: Début de caisse | M70: =C70*0.01+D70*0.02+E70*0.05+F70*0.1+G70*0.2+H70*0.5+I70*1+J70*2+K70*5+L70*10 -> 0
B71: fin de caisse | M71: =C71*0.01+D71*0.02+E71*0.05+F71*0.1+G71*0.2+H71*0.5+I71*1+J71*2+K71*5+L71*10 -> 0
A72: 46164 | B72: Début de caisse | M72: =C72*0.01+D72*0.02+E72*0.05+F72*0.1+G72*0.2+H72*0.5+I72*1+J72*2+K72*5+L72*10 -> 0
B73: fin de caisse | M73: =C73*0.01+D73*0.02+E73*0.05+F73*0.1+G73*0.2+H73*0.5+I73*1+J73*2+K73*5+L73*10 -> 0
A74: 46171 | B74: Début de caisse | M74: =C74*0.01+D74*0.02+E74*0.05+F74*0.1+G74*0.2+H74*0.5+I74*1+J74*2+K74*5+L74*10 -> 0
B75: fin de caisse | M75: =C75*0.01+D75*0.02+E75*0.05+F75*0.1+G75*0.2+H75*0.5+I75*1+J75*2+K75*5+L75*10 -> 0

Sheet Configuration
A1: Prix de vente | C1: Prix d'achat à l'unité
A2: 1 | C2: 0.28
