Workbook
Name Commercials: Tabel2[Commercial]
Name Noms: Tabel1[Commercial]

Sheet Feuil1
A1: Commercial | B1: société | C1: Montant | D1: Tacite reconduction | E1: Date d'échéance | F1: Résiliation | H1: Commercial
A2: Henri Pouget | B2: Rouge | C2: 1000 | D2: TRUE | E2: 45910 | F2: FALSE | H2: Henri Pouget | J2: Je voudrais grâce à une formule, pouvoir faire un onglet par commercial et que si je rajoute des lignes, cela mette les tableaux automatiquement à jour
A3: Bernard Simon | B3: Bleu | C3: 2000 | D3: FALSE | E3: 45911 | F3: TRUE | H3: Bernard Simon | J3: Je sais qu'il y a les tableaux croisés dymaiques, mais j'avoue ne pas trop apprécier leur visuel. Est-ce que vous auriez une formule via un recherchev conditionnel
A4: André Meunier | B4: Vert | C4: 3000 | D4: FALSE | E4: 45912 | F4: TRUE | H4: André Meunier | J4: Je veux exactement les mêmes colonnes que dans l'export source, juste ventilé par commercial dans un onglet à part
A5: Nicolas Delmont | B5: Jaune | C5: 4000 | D5: FALSE | E5: 45913 | F5: TRUE | H5: Nicolas Delmont
A6: Bernard Simon | B6: Orange | C6: 5000 | D6: FALSE | E6: 45914 | F6: TRUE
A7: Nicolas Delmont | B7: Marron | C7: 6000 | D7: TRUE | E7: 45915 | F7: TRUE
A8: Henri Pouget | B8: Gris | C8: 7000 | D8: TRUE | E8: 45916 | F8: FALSE
A9: Nicolas Delmont | B9: Anthracite | C9: 8000 | D9: FALSE | E9: 45917 | F9: FALSE
A10: Bernard Simon | B10: Turquoise | C10: 9000 | D10: TRUE | E10: 45918 | F10: FALSE
A11: Henri Pouget | B11: Violet | C11: 10000 | D11: FALSE | E11: 45919 | F11: FALSE
A12: Nicolas Delmont | B12: Pastel | C12: 11000 | D12: TRUE | E12: 45920 | F12: FALSE
A13: Bernard Simon | B13: Indigo | C13: 12000 | D13: FALSE | E13: 45921 | F13: FALSE

Sheet Pouget
A1: sequence | B1: ligne | C1: Henri Pouget | D1: <<< liste déroulante
A2: =ROW()-2 -> 0 | B2: {=IF(A2<=0,1,IFERROR(_xlfn.AGGREGATE(15,6,ROW(Commercials)/(Commercials=$C$1),A2),"-"))} -> 1 | C2: {=IF(ISNUMBER($B2),INDEX(Feuil1!A:A,$B2),"-")} -> Commercial | D2: {=IF(ISNUMBER($B2),INDEX(Feuil1!B:B,$B2),"-")} -> société | E2: {=IF(ISNUMBER($B2),INDEX(Feuil1!C:C,$B2),"-")} -> Montant | F2: {=IF(ISNUMBER($B2),INDEX(Feuil1!D:D,$B2),"-")} -> Tacite reconduction | G2: {=IF(ISNUMBER($B2),INDEX(Feuil1!E:E,$B2),"-")} -> Date d'échéance | H2: {=IF(ISNUMBER($B2),INDEX(Feuil1!F:F,$B2),"-")} -> Résiliation
A3: =ROW()-2 -> 1 | B3: {=IF(A3<=0,1,IFERROR(_xlfn.AGGREGATE(15,6,ROW(Commercials)/(Commercials=$C$1),A3),"-"))} -> 2 | C3: {=IF(ISNUMBER($B3),INDEX(Feuil1!A:A,$B3),"-")} -> Henri Pouget | D3: {=IF(ISNUMBER($B3),INDEX(Feuil1!B:B,$B3),"-")} -> Rouge | E3: {=IF(ISNUMBER($B3),INDEX(Feuil1!C:C,$B3),"-")} -> 1000 | F3: {=IF(ISNUMBER($B3),INDEX(Feuil1!D:D,$B3),"-")} -> TRUE | G3: {=IF(ISNUMBER($B3),INDEX(Feuil1!E:E,$B3),"-")} -> 45910 | H3: {=IF(ISNUMBER($B3),INDEX(Feuil1!F:F,$B3),"-")} -> FALSE
A4: =ROW()-2 -> 2 | B4: {=IF(A4<=0,1,IFERROR(_xlfn.AGGREGATE(15,6,ROW(Commercials)/(Commercials=$C$1),A4),"-"))} -> 8 | C4: {=IF(ISNUMBER($B4),INDEX(Feuil1!A:A,$B4),"-")} -> Henri Pouget | D4: {=IF(ISNUMBER($B4),INDEX(Feuil1!B:B,$B4),"-")} -> Gris | E4: {=IF(ISNUMBER($B4),INDEX(Feuil1!C:C,$B4),"-")} -> 7000 | F4: {=IF(ISNUMBER($B4),INDEX(Feuil1!D:D,$B4),"-")} -> TRUE | G4: {=IF(ISNUMBER($B4),INDEX(Feuil1!E:E,$B4),"-")} -> 45916 | H4: {=IF(ISNUMBER($B4),INDEX(Feuil1!F:F,$B4),"-")} -> FALSE
A5: =ROW()-2 -> 3 | B5: {=IF(A5<=0,1,IFERROR(_xlfn.AGGREGATE(15,6,ROW(Commercials)/(Commercials=$C$1),A5),"-"))} -> 11 | C5: {=IF(ISNUMBER($B5),INDEX(Feuil1!A:A,$B5),"-")} -> Henri Pouget | D5: {=IF(ISNUMBER($B5),INDEX(Feuil1!B:B,$B5),"-")} -> Violet | E5: {=IF(ISNUMBER($B5),INDEX(Feuil1!C:C,$B5),"-")} -> 10000 | F5: {=IF(ISNUMBER($B5),INDEX(Feuil1!D:D,$B5),"-")} -> FALSE | G5: {=IF(ISNUMBER($B5),INDEX(Feuil1!E:E,$B5),"-")} -> 45919 | H5: {=IF(ISNUMBER($B5),INDEX(Feuil1!F:F,$B5),"-")} -> FALSE
A6: =ROW()-2 -> 4 | B6: {=IF(A6<=0,1,IFERROR(_xlfn.AGGREGATE(15,6,ROW(Commercials)/(Commercials=$C$1),A6),"-"))} -> - | C6: {=IF(ISNUMBER($B6),INDEX(Feuil1!A:A,$B6),"-")} -> - | D6: {=IF(ISNUMBER($B6),INDEX(Feuil1!B:B,$B6),"-")} -> - | E6: {=IF(ISNUMBER($B6),INDEX(Feuil1!C:C,$B6),"-")} -> - | F6: {=IF(ISNUMBER($B6),INDEX(Feuil1!D:D,$B6),"-")} -> - | G6: {=IF(ISNUMBER($B6),INDEX(Feuil1!E:E,$B6),"-")} -> - | H6: {=IF(ISNUMBER($B6),INDEX(Feuil1!F:F,$B6),"-")} -> -
A7: =ROW()-2 -> 5 | B7: {=IF(A7<=0,1,IFERROR(_xlfn.AGGREGATE(15,6,ROW(Commercials)/(Commercials=$C$1),A7),"-"))} -> - | C7: {=IF(ISNUMBER($B7),INDEX(Feuil1!A:A,$B7),"-")} -> - | D7: {=IF(ISNUMBER($B7),INDEX(Feuil1!B:B,$B7),"-")} -> - | E7: {=IF(ISNUMBER($B7),INDEX(Feuil1!C:C,$B7),"-")} -> - | F7: {=IF(ISNUMBER($B7),INDEX(Feuil1!D:D,$B7),"-")} -> - | G7: {=IF(ISNUMBER($B7),INDEX(Feuil1!E:E,$B7),"-")} -> - | H7: {=IF(ISNUMBER($B7),INDEX(Feuil1!F:F,$B7),"-")} -> -
A8: =ROW()-2 -> 6 | B8: {=IF(A8<=0,1,IFERROR(_xlfn.AGGREGATE(15,6,ROW(Commercials)/(Commercials=$C$1),A8),"-"))} -> - | C8: {=IF(ISNUMBER($B8),INDEX(Feuil1!A:A,$B8),"-")} -> - | D8: {=IF(ISNUMBER($B8),INDEX(Feuil1!B:B,$B8),"-")} -> - | E8: {=IF(ISNUMBER($B8),INDEX(Feuil1!C:C,$B8),"-")} -> - | F8: {=IF(ISNUMBER($B8),INDEX(Feuil1!D:D,$B8),"-")} -> - | G8: {=IF(ISNUMBER($B8),INDEX(Feuil1!E:E,$B8),"-")} -> - | H8: {=IF(ISNUMBER($B8),INDEX(Feuil1!F:F,$B8),"-")} -> -
A9: =ROW()-2 -> 7 | B9: {=IF(A9<=0,1,IFERROR(_xlfn.AGGREGATE(15,6,ROW(Commercials)/(Commercials=$C$1),A9),"-"))} -> - | C9: {=IF(ISNUMBER($B9),INDEX(Feuil1!A:A,$B9),"-")} -> - | D9: {=IF(ISNUMBER($B9),INDEX(Feuil1!B:B,$B9),"-")} -> - | E9: {=IF(ISNUMBER($B9),INDEX(Feuil1!C:C,$B9),"-")} -> - | F9: {=IF(ISNUMBER($B9),INDEX(Feuil1!D:D,$B9),"-")} -> - | G9: {=IF(ISNUMBER($B9),INDEX(Feuil1!E:E,$B9),"-")} -> - | H9: {=IF(ISNUMBER($B9),INDEX(Feuil1!F:F,$B9),"-")} -> -
A10: =ROW()-2 -> 8 | B10: {=IF(A10<=0,1,IFERROR(_xlfn.AGGREGATE(15,6,ROW(Commercials)/(Commercials=$C$1),A10),"-"))} -> - | C10: {=IF(ISNUMBER($B10),INDEX(Feuil1!A:A,$B10),"-")} -> - | D10: {=IF(ISNUMBER($B10),INDEX(Feuil1!B:B,$B10),"-")} -> - | E10: {=IF(ISNUMBER($B10),INDEX(Feuil1!C:C,$B10),"-")} -> - | F10: {=IF(ISNUMBER($B10),INDEX(Feuil1!D:D,$B10),"-")} -> - | G10: {=IF(ISNUMBER($B10),INDEX(Feuil1!E:E,$B10),"-")} -> - | H10: {=IF(ISNUMBER($B10),INDEX(Feuil1!F:F,$B10),"-")} -> -
A11: =ROW()-2 -> 9 | B11: {=IF(A11<=0,1,IFERROR(_xlfn.AGGREGATE(15,6,ROW(Commercials)/(Commercials=$C$1),A11),"-"))} -> - | C11: {=IF(ISNUMBER($B11),INDEX(Feuil1!A:A,$B11),"-")} -> - | D11: {=IF(ISNUMBER($B11),INDEX(Feuil1!B:B,$B11),"-")} -> - | E11: {=IF(ISNUMBER($B11),INDEX(Feuil1!C:C,$B11),"-")} -> - | F11: {=IF(ISNUMBER($B11),INDEX(Feuil1!D:D,$B11),"-")} -> - | G11: {=IF(ISNUMBER($B11),INDEX(Feuil1!E:E,$B11),"-")} -> - | H11: {=IF(ISNUMBER($B11),INDEX(Feuil1!F:F,$B11),"-")} -> -
A12: =ROW()-2 -> 10 | B12: {=IF(A12<=0,1,IFERROR(_xlfn.AGGREGATE(15,6,ROW(Commercials)/(Commercials=$C$1),A12),"-"))} -> - | C12: {=IF(ISNUMBER($B12),INDEX(Feuil1!A:A,$B12),"-")} -> - | D12: {=IF(ISNUMBER($B12),INDEX(Feuil1!B:B,$B12),"-")} -> - | E12: {=IF(ISNUMBER($B12),INDEX(Feuil1!C:C,$B12),"-")} -> - | F12: {=IF(ISNUMBER($B12),INDEX(Feuil1!D:D,$B12),"-")} -> - | G12: {=IF(ISNUMBER($B12),INDEX(Feuil1!E:E,$B12),"-")} -> - | H12: {=IF(ISNUMBER($B12),INDEX(Feuil1!F:F,$B12),"-")} -> -
A13: =ROW()-2 -> 11 | B13: {=IF(A13<=0,1,IFERROR(_xlfn.AGGREGATE(15,6,ROW(Commercials)/(Commercials=$C$1),A13),"-"))} -> - | C13: {=IF(ISNUMBER($B13),INDEX(Feuil1!A:A,$B13),"-")} -> - | D13: {=IF(ISNUMBER($B13),INDEX(Feuil1!B:B,$B13),"-")} -> - | E13: {=IF(ISNUMBER($B13),INDEX(Feuil1!C:C,$B13),"-")} -> - | F13: {=IF(ISNUMBER($B13),INDEX(Feuil1!D:D,$B13),"-")} -> - | G13: {=IF(ISNUMBER($B13),INDEX(Feuil1!E:E,$B13),"-")} -> - | H13: {=IF(ISNUMBER($B13),INDEX(Feuil1!F:F,$B13),"-")} -> -
... A22: =ROW()-2 -> 20 | B22: {=IF(A22<=0,1,IFERROR(_xlfn.AGGREGATE(15,6,ROW(Commercials)/(Commercials=$C$1),A22),"-"))} -> - | C22: {=IF(ISNUMBER($B22),INDEX(Feuil1!A:A,$B22),"-")} -> - | D22: {=IF(ISNUMBER($B22),INDEX(Feuil1!B:B,$B22),"-")} -> - | E22: {=IF(ISNUMBER($B22),INDEX(Feuil1!C:C,$B22),"-")} -> - | F22: {=IF(ISNUMBER($B22),INDEX(Feuil1!D:D,$B22),"-")} -> - | G22: {=IF(ISNUMBER($B22),INDEX(Feuil1!E:E,$B22),"-")} -> - | H22: {=IF(ISNUMBER($B22),INDEX(Feuil1!F:F,$B22),"-")} -> -

Sheet Simon
