Workbook
Name Entetes: Tabel1[#Headers]
Name Liste_CP: 'X-table'!$B$3:$B$202
Name Tableau: Tabel1[]
Name tous_CPs: 'X-table'!$B$3:$C$202

Sheet BASE DE DONNEE
A1: Numéro de dossier | B1: Nom | C1: Prénom | D1: Date naissance | E1: Mail | F1: Tél 1 | G1: Tél 2 | H1: Adresse | I1: Complément adresse | J1: Code postal | K1: Ville | L1: Zone | M1: Etat dossier | N1: Date état dossier | O1: Technicien | P1: Dernière intervention | Q1: Motif dernière intervention | R1: Prochain RDV | S1: Numéro compta | T1: Forfait(s) | U1: Matériel | V1: Médecin principal
A2: 10 | B2: A | C2: JF | D2: 18264 | J2: 14240 | K2: SEPT VENT | O2: =IFERROR(VLOOKUP(Tabel11[[#This Row],[Code postal]],tous_CPs,2,0),"-") -> ;GHI;
A3: 20 | B3: B | C3: MN | D3: 18265 | J3: 27210 | K3: BOULLEVILLE | O3: =IFERROR(VLOOKUP(Tabel11[[#This Row],[Code postal]],tous_CPs,2,0),"-") -> -
A4: 30 | B4: D | C4: A | D4: 18266 | J4: 14460 | K4: COLOMBELLES | O4: =IFERROR(VLOOKUP(Tabel11[[#This Row],[Code postal]],tous_CPs,2,0),"-") -> -
A5: 40 | B5: E | C5: F | D5: 18267 | J5: 14000 | K5: CAEN | O5: =IFERROR(VLOOKUP(Tabel11[[#This Row],[Code postal]],tous_CPs,2,0),"-") -> ;ABC;
A6: 50 | B6: F | C6: D | D6: 18268 | J6: 14420 | K6: POTIGNY | O6: =IFERROR(VLOOKUP(Tabel11[[#This Row],[Code postal]],tous_CPs,2,0),"-") -> ;JKL;
A7: 60 | B7: G | C7: LOIC | D7: 18269 | J7: 14620 | K7: MORTEAUX COULIBOEUF | O7: =IFERROR(VLOOKUP(Tabel11[[#This Row],[Code postal]],tous_CPs,2,0),"-") -> -
A8: 70 | B8: H | C8: LOIC | D8: 18270 | J8: 14980 | K8: ROTS | O8: =IFERROR(VLOOKUP(Tabel11[[#This Row],[Code postal]],tous_CPs,2,0),"-") -> -
A9: 80 | B9: I | C9: CO | D9: 18271 | J9: 50190 | K9: Periers | O9: =IFERROR(VLOOKUP(Tabel11[[#This Row],[Code postal]],tous_CPs,2,0),"-") -> ;PQR;
A10: 90 | B10: J | C10: E | D10: 18272 | J10: 50810 | K10: SAINT PIERRE DE SEMILLY | O10: =IFERROR(VLOOKUP(Tabel11[[#This Row],[Code postal]],tous_CPs,2,0),"-") -> -
A11: 100 | B11: K | C11: S | D11: 18273 | J11: 14630 | K11: CAGNY | O11: =IFERROR(VLOOKUP(Tabel11[[#This Row],[Code postal]],tous_CPs,2,0),"-") -> -
A12: 110 | B12: L | C12: CO | D12: 18274 | J12: 14320 | K12: CLINCHAMPS SUR ORNE | O12: =IFERROR(VLOOKUP(Tabel11[[#This Row],[Code postal]],tous_CPs,2,0),"-") -> ;GHI;
A13: 120 | D13: 18275 | J13: 50200 | O13: =IFERROR(VLOOKUP(Tabel11[[#This Row],[Code postal]],tous_CPs,2,0),"-") -> ;STU;
A14: 130 | D14: 18276 | J14: 50560 | O14: =IFERROR(VLOOKUP(Tabel11[[#This Row],[Code postal]],tous_CPs,2,0),"-") -> ;STU;
A15: 140 | D15: 18277 | J15: 53140 | O15: =IFERROR(VLOOKUP(Tabel11[[#This Row],[Code postal]],tous_CPs,2,0),"-") -> ;JKL;
A16: 150 | D16: 18278 | J16: 50290 | O16: =IFERROR(VLOOKUP(Tabel11[[#This Row],[Code postal]],tous_CPs,2,0),"-") -> ;STU;
A17: 160 | D17: 18279 | J17: 14200 | O17: =IFERROR(VLOOKUP(Tabel11[[#This Row],[Code postal]],tous_CPs,2,0),"-") -> ;DEF;
A18: 170 | D18: 18280 | J18: 50370 | O18: =IFERROR(VLOOKUP(Tabel11[[#This Row],[Code postal]],tous_CPs,2,0),"-") -> ;YZ1;
A19: 180 | D19: 18281 | J19: 14200 | O19: =IFERROR(VLOOKUP(Tabel11[[#This Row],[Code postal]],tous_CPs,2,0),"-") -> ;DEF;
A20: 190 | D20: 18282 | J20: 50240 | O20: =IFERROR(VLOOKUP(Tabel11[[#This Row],[Code postal]],tous_CPs,2,0),"-") -> ;YZ1;
A21: 200 | D21: 18283 | J21: 14440 | O21: =IFERROR(VLOOKUP(Tabel11[[#This Row],[Code postal]],tous_CPs,2,0),"-") -> ;ABC;
A22: 210 | D22: 18284 | J22: 14360 | O22: =IFERROR(VLOOKUP(Tabel11[[#This Row],[Code postal]],tous_CPs,2,0),"-") -> ;MNO;
A23: 220 | D23: 18285 | J23: 50400 | O23: =IFERROR(VLOOKUP(Tabel11[[#This Row],[Code postal]],tous_CPs,2,0),"-") -> ;YZ1;
A24: 230 | D24: 18286 | J24: 14260 | O24: =IFERROR(VLOOKUP(Tabel11[[#This Row],[Code postal]],tous_CPs,2,0),"-") -> ;DEF;GHI;
... A60: 590 | D60: 18322 | J60: 14230 | O60: =IFERROR(VLOOKUP(Tabel11[[#This Row],[Code postal]],tous_CPs,2,0),"-") -> ;PQR;

Sheet Technicien
A1: GHI | C1: =COUNT(Tabel12[ligne]) -> 7
A2: ligne | B2: Numéro de dossier | C2: Nom | D2: Prénom | E2: Date naissance | F2: Mail | G2: Tél 1 | H2: Tél 2 | I2: Adresse | J2: Complément adresse | K2: Code postal | L2: Ville | M2: Zone | N2: Etat dossier | O2: Date état dossier | P2: Technicien | Q2: Dernière intervention | R2: Motif dernière intervention | S2: Prochain RDV | T2: Numéro compta | U2: Forfait(s) | V2: Matériel | W2: Médecin principal
A3: {=IFERROR(_xlfn.AGGREGATE(15,6,ROW(Tabel11[Technicien])/(ISNUMBER(SEARCH($A$1,Tabel11[Technicien]))),ROW()-ROW(Tabel12[[#Headers],[ligne]])),"-")} -> 2 | B3: {=IF(ISNUMBER($A3),INDEX('BASE DE DONNEE'!A:A,$A3),"-")} -> 10 | C3: {=IF(ISNUMBER($A3),INDEX('BASE DE DONNEE'!B:B,$A3),"-")} -> A | D3: {=IF(ISNUMBER($A3),INDEX('BASE DE DONNEE'!C:C,$A3),"-")} -> JF | E3: {=IF(ISNUMBER($A3),INDEX('BASE DE DONNEE'!D:D,$A3),"-")} -> 18264 | F3: {=IF(ISNUMBER($A3),INDEX('BASE DE DONNEE'!E:E,$A3),"-")} -> 0 | G3: {=IF(ISNUMBER($A3),INDEX('BASE DE DONNEE'!F:F,$A3),"-")} -> 0 | H3: {=IF(ISNUMBER($A3),INDEX('BASE DE DONNEE'!G:G,$A3),"-")} -> 0 | I3: {=IF(ISNUMBER($A3),INDEX('BASE DE DONNEE'!H:H,$A3),"-")} -> 0 | J3: {=IF(ISNUMBER($A3),INDEX('BASE DE DONNEE'!I:I,$A3),"-")} -> 0 | K3: {=IF(ISNUMBER($A3),INDEX('BASE DE DONNEE'!J:J,$A3),"-")} -> 14240 | L3: {=IF(ISNUMBER($A3),INDEX('BASE DE DONNEE'!K:K,$A3),"-")} -> SEPT VENT | M3: {=IF(ISNUMBER($A3),INDEX('BASE DE DONNEE'!L:L,$A3),"-")} -> 0 | N3: {=IF(ISNUMBER($A3),INDEX('BASE DE DONNEE'!M:M,$A3),"-")} -> 0 | O3: {=IF(ISNUMBER($A3),INDEX('BASE DE DONNEE'!N:N,$A3),"-")} -> 0 | P3: {=IF(ISNUMBER($A3),INDEX('BASE DE DONNEE'!O:O,$A3),"-")} -> ;GHI; | Q3: {=IF(ISNUMBER($A3),INDEX('BASE DE DONNEE'!P:P,$A3),"-")} -> 0 | R3: {=IF(ISNUMBER($A3),INDEX('BASE DE DONNEE'!Q:Q,$A3),"-")} -> 0 | S3: {=IF(ISNUMBER($A3),INDEX('BASE DE DONNEE'!R:R,$A3),"-")} -> 0 | T3: {=IF(ISNUMBER($A3),INDEX('BASE DE DONNEE'!S:S,$A3),"-")} -> 0 | U3: {=IF(ISNUMBER($A3),INDEX('BASE DE DONNEE'!T:T,$A3),"-")} -> 0 | V3: {=IF(ISNUMBER($A3),INDEX('BASE DE DONNEE'!U:U,$A3),"-")} -> 0 | W3: {=IF(ISNUMBER($A3),INDEX('BASE DE DONNEE'!V:V,$A3),"-")} -> 0
A4: {=IFERROR(_xlfn.AGGREGATE(15,6,ROW(Tabel11[Technicien])/(ISNUMBER(SEARCH($A$1,Tabel11[Technicien]))),ROW()-ROW(Tabel12[[#Headers],[ligne]])),"-")} -> 12 | B4: {=IF(ISNUMBER($A4),INDEX('BASE DE DONNEE'!A:A,$A4),"-")} -> 110 | C4: {=IF(ISNUMBER($A4),INDEX('BASE DE DONNEE'!B:B,$A4),"-")} -> L | D4: {=IF(ISNUMBER($A4),INDEX('BASE DE DONNEE'!C:C,$A4),"-")} -> CO | E4: {=IF(ISNUMBER($A4),INDEX('BASE DE DONNEE'!D:D,$A4),"-")} -> 18274 | F4: {=IF(ISNUMBER($A4),INDEX('BASE DE DONNEE'!E:E,$A4),"-")} -> 0 | G4: {=IF(ISNUMBER($A4),INDEX('BASE DE DONNEE'!F:F,$A4),"-")} -> 0 | H4: {=IF(ISNUMBER($A4),INDEX('BASE DE DONNEE'!G:G,$A4),"-")} -> 0 | I4: {=IF(ISNUMBER($A4),INDEX('BASE DE DONNEE'!H:H,$A4),"-")} -> 0 | J4: {=IF(ISNUMBER($A4),INDEX('BASE DE DONNEE'!I:I,$A4),"-")} -> 0 | K4: {=IF(ISNUMBER($A4),INDEX('BASE DE DONNEE'!J:J,$A4),"-")} -> 14320 | L4: {=IF(ISNUMBER($A4),INDEX('BASE DE DONNEE'!K:K,$A4),"-")} -> CLINCHAMPS SUR ORNE | M4: {=IF(ISNUMBER($A4),INDEX('BASE DE DONNEE'!L:L,$A4),"-")} -> 0 | N4: {=IF(ISNUMBER($A4),INDEX('BASE DE DONNEE'!M:M,$A4),"-")} -> 0 | O4: {=IF(ISNUMBER($A4),INDEX('BASE DE DONNEE'!N:N,$A4),"-")} -> 0 | P4: {=IF(ISNUMBER($A4),INDEX('BASE DE DONNEE'!O:O,$A4),"-")} -> ;GHI; | Q4: {=IF(ISNUMBER($A4),INDEX('BASE DE DONNEE'!P:P,$A4),"-")} -> 0 | R4: {=IF(ISNUMBER($A4),INDEX('BASE DE DONNEE'!Q:Q,$A4),"-")} -> 0 | S4: {=IF(ISNUMBER($A4),INDEX('BASE DE DONNEE'!R:R,$A4),"-")} -> 0 | T4: {=IF(ISNUMBER($A4),INDEX('BASE DE DONNEE'!S:S,$A4),"-")} -> 0 | U4: {=IF(ISNUMBER($A4),INDEX('BASE DE DONNEE'!T:T,$A4),"-")} -> 0 | V4: {=IF(ISNUMBER($A4),INDEX('BASE DE DONNEE'!U:U,$A4),"-")} -> 0 | W4: {=IF(ISNUMBER($A4),INDEX('BASE DE DONNEE'!V:V,$A4),"-")} -> 0
A5: {=IFERROR(_xlfn.AGGREGATE(15,6,ROW(Tabel11[Technicien])/(ISNUMBER(SEARCH($A$1,Tabel11[Technicien]))),ROW()-ROW(Tabel12[[#Headers],[ligne]])),"-")} -> 24 | B5: {=IF(ISNUMBER($A5),INDEX('BASE DE DONNEE'!A:A,$A5),"-")} -> 230 | C5: {=IF(ISNUMBER($A5),INDEX('BASE DE DONNEE'!B:B,$A5),"-")} -> 0 | D5: {=IF(ISNUMBER($A5),INDEX('BASE DE DONNEE'!C:C,$A5),"-")} -> 0 | E5: {=IF(ISNUMBER($A5),INDEX('BASE DE DONNEE'!D:D,$A5),"-")} -> 18286 | F5: {=IF(ISNUMBER($A5),INDEX('BASE DE DONNEE'!E:E,$A5),"-")} -> 0 | G5: {=IF(ISNUMBER($A5),INDEX('BASE DE DONNEE'!F:F,$A5),"-")} -> 0 | H5: {=IF(ISNUMBER($A5),INDEX('BASE DE DONNEE'!G:G,$A5),"-")} -> 0 | I5: {=IF(ISNUMBER($A5),INDEX('BASE DE DONNEE'!H:H,$A5),"-")} -> 0 | J5: {=IF(ISNUMBER($A5),INDEX('BASE DE DONNEE'!I:I,$A5),"-")} -> 0 | K5: {=IF(ISNUMBER($A5),INDEX('BASE DE DONNEE'!J:J,$A5),"-")} -> 14260 | L5: {=IF(ISNUMBER($A5),INDEX('BASE DE DONNEE'!K:K,$A5),"-")} -> 0 | M5: {=IF(ISNUMBER($A5),INDEX('BASE DE DONNEE'!L:L,$A5),"-")} -> 0 | N5: {=IF(ISNUMBER($A5),INDEX('BASE DE DONNEE'!M:M,$A5),"-")} -> 0 | O5: {=IF(ISNUMBER($A5),INDEX('BASE DE DONNEE'!N:N,$A5),"-")} -> 0 | P5: {=IF(ISNUMBER($A5),INDEX('BASE DE DONNEE'!O:O,$A5),"-")} -> ;DEF;GHI; | Q5: {=IF(ISNUMBER($A5),INDEX('BASE DE DONNEE'!P:P,$A5),"-")} -> 0 | R5: {=IF(ISNUMBER($A5),INDEX('BASE DE DONNEE'!Q:Q,$A5),"-")} -> 0 | S5: {=IF(ISNUMBER($A5),INDEX('BASE DE DONNEE'!R:R,$A5),"-")} -> 0 | T5: {=IF(ISNUMBER($A5),INDEX('BASE DE DONNEE'!S:S,$A5),"-")} -> 0 | U5: {=IF(ISNUMBER($A5),INDEX('BASE DE DONNEE'!T:T,$A5),"-")} -> 0 | V5: {=IF(ISNUMBER($A5),INDEX('BASE DE DONNEE'!U:U,$A5),"-")} -> 0 | W5: {=IF(ISNUMBER($A5),INDEX('BASE DE DONNEE'!V:V,$A5),"-")} -> 0
A6: {=IFERROR(_xlfn.AGGREGATE(15,6,ROW(Tabel11[Technicien])/(ISNUMBER(SEARCH($A$1,Tabel11[Technicien]))),ROW()-ROW(Tabel12[[#Headers],[ligne]])),"-")} -> 29 | B6: {=IF(ISNUMBER($A6),INDEX('BASE DE DONNEE'!A:A,$A6),"-")} -> 280 | C6: {=IF(ISNUMBER($A6),INDEX('BASE DE DONNEE'!B:B,$A6),"-")} -> 0 | D6: {=IF(ISNUMBER($A6),INDEX('BASE DE DONNEE'!C:C,$A6),"-")} -> 0 | E6: {=IF(ISNUMBER($A6),INDEX('BASE DE DONNEE'!D:D,$A6),"-")} -> 18291 | F6: {=IF(ISNUMBER($A6),INDEX('BASE DE DONNEE'!E:E,$A6),"-")} -> 0 | G6: {=IF(ISNUMBER($A6),INDEX('BASE DE DONNEE'!F:F,$A6),"-")} -> 0 | H6: {=IF(ISNUMBER($A6),INDEX('BASE DE DONNEE'!G:G,$A6),"-")} -> 0 | I6: {=IF(ISNUMBER($A6),INDEX('BASE DE DONNEE'!H:H,$A6),"-")} -> 0 | J6: {=IF(ISNUMBER($A6),INDEX('BASE DE DONNEE'!I:I,$A6),"-")} -> 0 | K6: {=IF(ISNUMBER($A6),INDEX('BASE DE DONNEE'!J:J,$A6),"-")} -> 14117 | L6: {=IF(ISNUMBER($A6),INDEX('BASE DE DONNEE'!K:K,$A6),"-")} -> 0 | M6: {=IF(ISNUMBER($A6),INDEX('BASE DE DONNEE'!L:L,$A6),"-")} -> 0 | N6: {=IF(ISNUMBER($A6),INDEX('BASE DE DONNEE'!M:M,$A6),"-")} -> 0 | O6: {=IF(ISNUMBER($A6),INDEX('BASE DE DONNEE'!N:N,$A6),"-")} -> 0 | P6: {=IF(ISNUMBER($A6),INDEX('BASE DE DONNEE'!O:O,$A6),"-")} -> ;GHI; | Q6: {=IF(ISNUMBER($A6),INDEX('BASE DE DONNEE'!P:P,$A6),"-")} -> 0 | R6: {=IF(ISNUMBER($A6),INDEX('BASE DE DONNEE'!Q:Q,$A6),"-")} -> 0 | S6: {=IF(ISNUMBER($A6),INDEX('BASE DE DONNEE'!R:R,$A6),"-")} -> 0 | T6: {=IF(ISNUMBER($A6),INDEX('BASE DE DONNEE'!S:S,$A6),"-")} -> 0 | U6: {=IF(ISNUMBER($A6),INDEX('BASE DE DONNEE'!T:T,$A6),"-")} -> 0 | V6: {=IF(ISNUMBER($A6),INDEX('BASE DE DONNEE'!U:U,$A6),"-")} -> 0 | W6: {=IF(ISNUMBER($A6),INDEX('BASE DE DONNEE'!V:V,$A6),"-")} -> 0
A7: {=IFERROR(_xlfn.AGGREGATE(15,6,ROW(Tabel11[Technicien])/(ISNUMBER(SEARCH($A$1,Tabel11[Technicien]))),ROW()-ROW(Tabel12[[#Headers],[ligne]])),"-")} -> 51 | B7: {=IF(ISNUMBER($A7),INDEX('BASE DE DONNEE'!A:A,$A7),"-")} -> 500 | C7: {=IF(ISNUMBER($A7),INDEX('BASE DE DONNEE'!B:B,$A7),"-")} -> 0 | D7: {=IF(ISNUMBER($A7),INDEX('BASE DE DONNEE'!C:C,$A7),"-")} -> 0 | E7: {=IF(ISNUMBER($A7),INDEX('BASE DE DONNEE'!D:D,$A7),"-")} -> 18313 | F7: {=IF(ISNUMBER($A7),INDEX('BASE DE DONNEE'!E:E,$A7),"-")} -> 0 | G7: {=IF(ISNUMBER($A7),INDEX('BASE DE DONNEE'!F:F,$A7),"-")} -> 0 | H7: {=IF(ISNUMBER($A7),INDEX('BASE DE DONNEE'!G:G,$A7),"-")} -> 0 | I7: {=IF(ISNUMBER($A7),INDEX('BASE DE DONNEE'!H:H,$A7),"-")} -> 0 | J7: {=IF(ISNUMBER($A7),INDEX('BASE DE DONNEE'!I:I,$A7),"-")} -> 0 | K7: {=IF(ISNUMBER($A7),INDEX('BASE DE DONNEE'!J:J,$A7),"-")} -> 14210 | L7: {=IF(ISNUMBER($A7),INDEX('BASE DE DONNEE'!K:K,$A7),"-")} -> 0 | M7: {=IF(ISNUMBER($A7),INDEX('BASE DE DONNEE'!L:L,$A7),"-")} -> 0 | N7: {=IF(ISNUMBER($A7),INDEX('BASE DE DONNEE'!M:M,$A7),"-")} -> 0 | O7: {=IF(ISNUMBER($A7),INDEX('BASE DE DONNEE'!N:N,$A7),"-")} -> 0 | P7: {=IF(ISNUMBER($A7),INDEX('BASE DE DONNEE'!O:O,$A7),"-")} -> ;DEF;GHI; | Q7: {=IF(ISNUMBER($A7),INDEX('BASE DE DONNEE'!P:P,$A7),"-")} -> 0 | R7: {=IF(ISNUMBER($A7),INDEX('BASE DE DONNEE'!Q:Q,$A7),"-")} -> 0 | S7: {=IF(ISNUMBER($A7),INDEX('BASE DE DONNEE'!R:R,$A7),"-")} -> 0 | T7: {=IF(ISNUMBER($A7),INDEX('BASE DE DONNEE'!S:S,$A7),"-")} -> 0 | U7: {=IF(ISNUMBER($A7),INDEX('BASE DE DONNEE'!T:T,$A7),"-")} -> 0 | V7: {=IF(ISNUMBER($A7),INDEX('BASE DE DONNEE'!U:U,$A7),"-")} -> 0 | W7: {=IF(ISNUMBER($A7),INDEX('BASE DE DONNEE'!V:V,$A7),"-")} -> 0
A8: {=IFERROR(_xlfn.AGGREGATE(15,6,ROW(Tabel11[Technicien])/(ISNUMBER(SEARCH($A$1,Tabel11[Technicien]))),ROW()-ROW(Tabel12[[#Headers],[ligne]])),"-")} -> 52 | B8: {=IF(ISNUMBER($A8),INDEX('BASE DE DONNEE'!A:A,$A8),"-")} -> 510 | C8: {=IF(ISNUMBER($A8),INDEX('BASE DE DONNEE'!B:B,$A8),"-")} -> 0 | D8: {=IF(ISNUMBER($A8),INDEX('BASE DE DONNEE'!C:C,$A8),"-")} -> 0 | E8: {=IF(ISNUMBER($A8),INDEX('BASE DE DONNEE'!D:D,$A8),"-")} -> 18314 | F8: {=IF(ISNUMBER($A8),INDEX('BASE DE DONNEE'!E:E,$A8),"-")} -> 0 | G8: {=IF(ISNUMBER($A8),INDEX('BASE DE DONNEE'!F:F,$A8),"-")} -> 0 | H8: {=IF(ISNUMBER($A8),INDEX('BASE DE DONNEE'!G:G,$A8),"-")} -> 0 | I8: {=IF(ISNUMBER($A8),INDEX('BASE DE DONNEE'!H:H,$A8),"-")} -> 0 | J8: {=IF(ISNUMBER($A8),INDEX('BASE DE DONNEE'!I:I,$A8),"-")} -> 0 | K8: {=IF(ISNUMBER($A8),INDEX('BASE DE DONNEE'!J:J,$A8),"-")} -> 14320 | L8: {=IF(ISNUMBER($A8),INDEX('BASE DE DONNEE'!K:K,$A8),"-")} -> 0 | M8: {=IF(ISNUMBER($A8),INDEX('BASE DE DONNEE'!L:L,$A8),"-")} -> 0 | N8: {=IF(ISNUMBER($A8),INDEX('BASE DE DONNEE'!M:M,$A8),"-")} -> 0 | O8: {=IF(ISNUMBER($A8),INDEX('BASE DE DONNEE'!N:N,$A8),"-")} -> 0 | P8: {=IF(ISNUMBER($A8),INDEX('BASE DE DONNEE'!O:O,$A8),"-")} -> ;GHI; | Q8: {=IF(ISNUMBER($A8),INDEX('BASE DE DONNEE'!P:P,$A8),"-")} -> 0 | R8: {=IF(ISNUMBER($A8),INDEX('BASE DE DONNEE'!Q:Q,$A8),"-")} -> 0 | S8: {=IF(ISNUMBER($A8),INDEX('BASE DE DONNEE'!R:R,$A8),"-")} -> 0 | T8: {=IF(ISNUMBER($A8),INDEX('BASE DE DONNEE'!S:S,$A8),"-")} -> 0 | U8: {=IF(ISNUMBER($A8),INDEX('BASE DE DONNEE'!T:T,$A8),"-")} -> 0 | V8: {=IF(ISNUMBER($A8),INDEX('BASE DE DONNEE'!U:U,$A8),"-")} -> 0 | W8: {=IF(ISNUMBER($A8),INDEX('BASE DE DONNEE'!V:V,$A8),"-")} -> 0
A9: {=IFERROR(_xlfn.AGGREGATE(15,6,ROW(Tabel11[Technicien])/(ISNUMBER(SEARCH($A$1,Tabel11[Technicien]))),ROW()-ROW(Tabel12[[#Headers],[ligne]])),"-")} -> 57 | B9: {=IF(ISNUMBER($A9),INDEX('BASE DE DONNEE'!A:A,$A9),"-")} -> 560 | C9: {=IF(ISNUMBER($A9),INDEX('BASE DE DONNEE'!B:B,$A9),"-")} -> 0 | D9: {=IF(ISNUMBER($A9),INDEX('BASE DE DONNEE'!C:C,$A9),"-")} -> 0 | E9: {=IF(ISNUMBER($A9),INDEX('BASE DE DONNEE'!D:D,$A9),"-")} -> 18319 | F9: {=IF(ISNUMBER($A9),INDEX('BASE DE DONNEE'!E:E,$A9),"-")} -> 0 | G9: {=IF(ISNUMBER($A9),INDEX('BASE DE DONNEE'!F:F,$A9),"-")} -> 0 | H9: {=IF(ISNUMBER($A9),INDEX('BASE DE DONNEE'!G:G,$A9),"-")} -> 0 | I9: {=IF(ISNUMBER($A9),INDEX('BASE DE DONNEE'!H:H,$A9),"-")} -> 0 | J9: {=IF(ISNUMBER($A9),INDEX('BASE DE DONNEE'!I:I,$A9),"-")} -> 0 | K9: {=IF(ISNUMBER($A9),INDEX('BASE DE DONNEE'!J:J,$A9),"-")} -> 14320 | L9: {=IF(ISNUMBER($A9),INDEX('BASE DE DONNEE'!K:K,$A9),"-")} -> 0 | M9: {=IF(ISNUMBER($A9),INDEX('BASE DE DONNEE'!L:L,$A9),"-")} -> 0 | N9: {=IF(ISNUMBER($A9),INDEX('BASE DE DONNEE'!M:M,$A9),"-")} -> 0 | O9: {=IF(ISNUMBER($A9),INDEX('BASE DE DONNEE'!N:N,$A9),"-")} -> 0 | P9: {=IF(ISNUMBER($A9),INDEX('BASE DE DONNEE'!O:O,$A9),"-")} -> ;GHI; | Q9: {=IF(ISNUMBER($A9),INDEX('BASE DE DONNEE'!P:P,$A9),"-")} -> 0 | R9: {=IF(ISNUMBER($A9),INDEX('BASE DE DONNEE'!Q:Q,$A9),"-")} -> 0 | S9: {=IF(ISNUMBER($A9),INDEX('BASE DE DONNEE'!R:R,$A9),"-")} -> 0 | T9: {=IF(ISNUMBER($A9),INDEX('BASE DE DONNEE'!S:S,$A9),"-")} -> 0 | U9: {=IF(ISNUMBER($A9),INDEX('BASE DE DONNEE'!T:T,$A9),"-")} -> 0 | V9: {=IF(ISNUMBER($A9),INDEX('BASE DE DONNEE'!U:U,$A9),"-")} -> 0 | W9: {=IF(ISNUMBER($A9),INDEX('BASE DE DONNEE'!V:V,$A9),"-")} -> 0
A10: {=IFERROR(_xlfn.AGGREGATE(15,6,ROW(Tabel11[Technicien])/(ISNUMBER(SEARCH($A$1,Tabel11[Technicien]))),ROW()-ROW(Tabel12[[#Headers],[ligne]])),"-")} -> - | B10: {=IF(ISNUMBER($A10),INDEX('BASE DE DONNEE'!A:A,$A10),"-")} -> - | C10: {=IF(ISNUMBER($A10),INDEX('BASE DE DONNEE'!B:B,$A10),"-")} -> - | D10: {=IF(ISNUMBER($A10),INDEX('BASE DE DONNEE'!C:C,$A10),"-")} -> - | E10: {=IF(ISNUMBER($A10),INDEX('BASE DE DONNEE'!D:D,$A10),"-")} -> - | F10: {=IF(ISNUMBER($A10),INDEX('BASE DE DONNEE'!E:E,$A10),"-")} -> - | G10: {=IF(ISNUMBER($A10),INDEX('BASE DE DONNEE'!F:F,$A10),"-")} -> - | H10: {=IF(ISNUMBER($A10),INDEX('BASE DE DONNEE'!G:G,$A10),"-")} -> - | I10: {=IF(ISNUMBER($A10),INDEX('BASE DE DONNEE'!H:H,$A10),"-")} -> - | J10: {=IF(ISNUMBER($A10),INDEX('BASE DE DONNEE'!I:I,$A10),"-")} -> - | K10: {=IF(ISNUMBER($A10),INDEX('BASE DE DONNEE'!J:J,$A10),"-")} -> - | L10: {=IF(ISNUMBER($A10),INDEX('BASE DE DONNEE'!K:K,$A10),"-")} -> - | M10: {=IF(ISNUMBER($A10),INDEX('BASE DE DONNEE'!L:L,$A10),"-")} -> - | N10: {=IF(ISNUMBER($A10),INDEX('BASE DE DONNEE'!M:M,$A10),"-")} -> - | O10: {=IF(ISNUMBER($A10),INDEX('BASE DE DONNEE'!N:N,$A10),"-")} -> - | P10: {=IF(ISNUMBER($A10),INDEX('BASE DE DONNEE'!O:O,$A10),"-")} -> - | Q10: {=IF(ISNUMBER($A10),INDEX('BASE DE DONNEE'!P:P,$A10),"-")} -> - | R10: {=IF(ISNUMBER($A10),INDEX('BASE DE DONNEE'!Q:Q,$A10),"-")} -> - | S10: {=IF(ISNUMBER($A10),INDEX('BASE DE DONNEE'!R:R,$A10),"-")} -> - | T10: {=IF(ISNUMBER($A10),INDEX('BASE DE DONNEE'!S:S,$A10),"-")} -> - | U10: {=IF(ISNUMBER($A10),INDEX('BASE DE DONNEE'!T:T,$A10),"-")} -> - | V10: {=IF(ISNUMBER($A10),INDEX('BASE DE DONNEE'!U:U,$A10),"-")} -> - | W10: {=IF(ISNUMBER($A10),INDEX('BASE DE DONNEE'!V:V,$A10),"-")} -> -
A11: {=IFERROR(_xlfn.AGGREGATE(15,6,ROW(Tabel11[Technicien])/(ISNUMBER(SEARCH($A$1,Tabel11[Technicien]))),ROW()-ROW(Tabel12[[#Headers],[ligne]])),"-")} -> - | B11: {=IF(ISNUMBER($A11),INDEX('BASE DE DONNEE'!A:A,$A11),"-")} -> - | C11: {=IF(ISNUMBER($A11),INDEX('BASE DE DONNEE'!B:B,$A11),"-")} -> - | D11: {=IF(ISNUMBER($A11),INDEX('BASE DE DONNEE'!C:C,$A11),"-")} -> - | E11: {=IF(ISNUMBER($A11),INDEX('BASE DE DONNEE'!D:D,$A11),"-")} -> - | F11: {=IF(ISNUMBER($A11),INDEX('BASE DE DONNEE'!E:E,$A11),"-")} -> - | G11: {=IF(ISNUMBER($A11),INDEX('BASE DE DONNEE'!F:F,$A11),"-")} -> - | H11: {=IF(ISNUMBER($A11),INDEX('BASE DE DONNEE'!G:G,$A11),"-")} -> - | I11: {=IF(ISNUMBER($A11),INDEX('BASE DE DONNEE'!H:H,$A11),"-")} -> - | J11: {=IF(ISNUMBER($A11),INDEX('BASE DE DONNEE'!I:I,$A11),"-")} -> - | K11: {=IF(ISNUMBER($A11),INDEX('BASE DE DONNEE'!J:J,$A11),"-")} -> - | L11: {=IF(ISNUMBER($A11),INDEX('BASE DE DONNEE'!K:K,$A11),"-")} -> - | M11: {=IF(ISNUMBER($A11),INDEX('BASE DE DONNEE'!L:L,$A11),"-")} -> - | N11: {=IF(ISNUMBER($A11),INDEX('BASE DE DONNEE'!M:M,$A11),"-")} -> - | O11: {=IF(ISNUMBER($A11),INDEX('BASE DE DONNEE'!N:N,$A11),"-")} -> - | P11: {=IF(ISNUMBER($A11),INDEX('BASE DE DONNEE'!O:O,$A11),"-")} -> - | Q11: {=IF(ISNUMBER($A11),INDEX('BASE DE DONNEE'!P:P,$A11),"-")} -> - | R11: {=IF(ISNUMBER($A11),INDEX('BASE DE DONNEE'!Q:Q,$A11),"-")} -> - | S11: {=IF(ISNUMBER($A11),INDEX('BASE DE DONNEE'!R:R,$A11),"-")} -> - | T11: {=IF(ISNUMBER($A11),INDEX('BASE DE DONNEE'!S:S,$A11),"-")} -> - | U11: {=IF(ISNUMBER($A11),INDEX('BASE DE DONNEE'!T:T,$A11),"-")} -> - | V11: {=IF(ISNUMBER($A11),INDEX('BASE DE DONNEE'!U:U,$A11),"-")} -> - | W11: {=IF(ISNUMBER($A11),INDEX('BASE DE DONNEE'!V:V,$A11),"-")} -> -
A12: {=IFERROR(_xlfn.AGGREGATE(15,6,ROW(Tabel11[Technicien])/(ISNUMBER(SEARCH($A$1,Tabel11[Technicien]))),ROW()-ROW(Tabel12[[#Headers],[ligne]])),"-")} -> - | B12: {=IF(ISNUMBER($A12),INDEX('BASE DE DONNEE'!A:A,$A12),"-")} -> - | C12: {=IF(ISNUMBER($A12),INDEX('BASE DE DONNEE'!B:B,$A12),"-")} -> - | D12: {=IF(ISNUMBER($A12),INDEX('BASE DE DONNEE'!C:C,$A12),"-")} -> - | E12: {=IF(ISNUMBER($A12),INDEX('BASE DE DONNEE'!D:D,$A12),"-")} -> - | F12: {=IF(ISNUMBER($A12),INDEX('BASE DE DONNEE'!E:E,$A12),"-")} -> - | G12: {=IF(ISNUMBER($A12),INDEX('BASE DE DONNEE'!F:F,$A12),"-")} -> - | H12: {=IF(ISNUMBER($A12),INDEX('BASE DE DONNEE'!G:G,$A12),"-")} -> - | I12: {=IF(ISNUMBER($A12),INDEX('BASE DE DONNEE'!H:H,$A12),"-")} -> - | J12: {=IF(ISNUMBER($A12),INDEX('BASE DE DONNEE'!I:I,$A12),"-")} -> - | K12: {=IF(ISNUMBER($A12),INDEX('BASE DE DONNEE'!J:J,$A12),"-")} -> - | L12: {=IF(ISNUMBER($A12),INDEX('BASE DE DONNEE'!K:K,$A12),"-")} -> - | M12: {=IF(ISNUMBER($A12),INDEX('BASE DE DONNEE'!L:L,$A12),"-")} -> - | N12: {=IF(ISNUMBER($A12),INDEX('BASE DE DONNEE'!M:M,$A12),"-")} -> - | O12: {=IF(ISNUMBER($A12),INDEX('BASE DE DONNEE'!N:N,$A12),"-")} -> - | P12: {=IF(ISNUMBER($A12),INDEX('BASE DE DONNEE'!O:O,$A12),"-")} -> - | Q12: {=IF(ISNUMBER($A12),INDEX('BASE DE DONNEE'!P:P,$A12),"-")} -> - | R12: {=IF(ISNUMBER($A12),INDEX('BASE DE DONNEE'!Q:Q,$A12),"-")} -> - | S12: {=IF(ISNUMBER($A12),INDEX('BASE DE DONNEE'!R:R,$A12),"-")} -> - | T12: {=IF(ISNUMBER($A12),INDEX('BASE DE DONNEE'!S:S,$A12),"-")} -> - | U12: {=IF(ISNUMBER($A12),INDEX('BASE DE DONNEE'!T:T,$A12),"-")} -> - | V12: {=IF(ISNUMBER($A12),INDEX('BASE DE DONNEE'!U:U,$A12),"-")} -> - | W12: {=IF(ISNUMBER($A12),INDEX('BASE DE DONNEE'!V:V,$A12),"-")} -> -
A13: {=IFERROR(_xlfn.AGGREGATE(15,6,ROW(Tabel11[Technicien])/(ISNUMBER(SEARCH($A$1,Tabel11[Technicien]))),ROW()-ROW(Tabel12[[#Headers],[ligne]])),"-")} -> - | B13: {=IF(ISNUMBER($A13),INDEX('BASE DE DONNEE'!A:A,$A13),"-")} -> - | C13: {=IF(ISNUMBER($A13),INDEX('BASE DE DONNEE'!B:B,$A13),"-")} -> - | D13: {=IF(ISNUMBER($A13),INDEX('BASE DE DONNEE'!C:C,$A13),"-")} -> - | E13: {=IF(ISNUMBER($A13),INDEX('BASE DE DONNEE'!D:D,$A13),"-")} -> - | F13: {=IF(ISNUMBER($A13),INDEX('BASE DE DONNEE'!E:E,$A13),"-")} -> - | G13: {=IF(ISNUMBER($A13),INDEX('BASE DE DONNEE'!F:F,$A13),"-")} -> - | H13: {=IF(ISNUMBER($A13),INDEX('BASE DE DONNEE'!G:G,$A13),"-")} -> - | I13: {=IF(ISNUMBER($A13),INDEX('BASE DE DONNEE'!H:H,$A13),"-")} -> - | J13: {=IF(ISNUMBER($A13),INDEX('BASE DE DONNEE'!I:I,$A13),"-")} -> - | K13: {=IF(ISNUMBER($A13),INDEX('BASE DE DONNEE'!J:J,$A13),"-")} -> - | L13: {=IF(ISNUMBER($A13),INDEX('BASE DE DONNEE'!K:K,$A13),"-")} -> - | M13: {=IF(ISNUMBER($A13),INDEX('BASE DE DONNEE'!L:L,$A13),"-")} -> - | N13: {=IF(ISNUMBER($A13),INDEX('BASE DE DONNEE'!M:M,$A13),"-")} -> - | O13: {=IF(ISNUMBER($A13),INDEX('BASE DE DONNEE'!N:N,$A13),"-")} -> - | P13: {=IF(ISNUMBER($A13),INDEX('BASE DE DONNEE'!O:O,$A13),"-")} -> - | Q13: {=IF(ISNUMBER($A13),INDEX('BASE DE DONNEE'!P:P,$A13),"-")} -> - | R13: {=IF(ISNUMBER($A13),INDEX('BASE DE DONNEE'!Q:Q,$A13),"-")} -> - | S13: {=IF(ISNUMBER($A13),INDEX('BASE DE DONNEE'!R:R,$A13),"-")} -> - | T13: {=IF(ISNUMBER($A13),INDEX('BASE DE DONNEE'!S:S,$A13),"-")} -> - | U13: {=IF(ISNUMBER($A13),INDEX('BASE DE DONNEE'!T:T,$A13),"-")} -> - | V13: {=IF(ISNUMBER($A13),INDEX('BASE DE DONNEE'!U:U,$A13),"-")} -> - | W13: {=IF(ISNUMBER($A13),INDEX('BASE DE DONNEE'!V:V,$A13),"-")} -> -
A14: {=IFERROR(_xlfn.AGGREGATE(15,6,ROW(Tabel11[Technicien])/(ISNUMBER(SEARCH($A$1,Tabel11[Technicien]))),ROW()-ROW(Tabel12[[#Headers],[ligne]])),"-")} -> - | B14: {=IF(ISNUMBER($A14),INDEX('BASE DE DONNEE'!A:A,$A14),"-")} -> - | C14: {=IF(ISNUMBER($A14),INDEX('BASE DE DONNEE'!B:B,$A14),"-")} -> - | D14: {=IF(ISNUMBER($A14),INDEX('BASE DE DONNEE'!C:C,$A14),"-")} -> - | E14: {=IF(ISNUMBER($A14),INDEX('BASE DE DONNEE'!D:D,$A14),"-")} -> - | F14: {=IF(ISNUMBER($A14),INDEX('BASE DE DONNEE'!E:E,$A14),"-")} -> - | G14: {=IF(ISNUMBER($A14),INDEX('BASE DE DONNEE'!F:F,$A14),"-")} -> - | H14: {=IF(ISNUMBER($A14),INDEX('BASE DE DONNEE'!G:G,$A14),"-")} -> - | I14: {=IF(ISNUMBER($A14),INDEX('BASE DE DONNEE'!H:H,$A14),"-")} -> - | J14: {=IF(ISNUMBER($A14),INDEX('BASE DE DONNEE'!I:I,$A14),"-")} -> - | K14: {=IF(ISNUMBER($A14),INDEX('BASE DE DONNEE'!J:J,$A14),"-")} -> - | L14: {=IF(ISNUMBER($A14),INDEX('BASE DE DONNEE'!K:K,$A14),"-")} -> - | M14: {=IF(ISNUMBER($A14),INDEX('BASE DE DONNEE'!L:L,$A14),"-")} -> - | N14: {=IF(ISNUMBER($A14),INDEX('BASE DE DONNEE'!M:M,$A14),"-")} -> - | O14: {=IF(ISNUMBER($A14),INDEX('BASE DE DONNEE'!N:N,$A14),"-")} -> - | P14: {=IF(ISNUMBER($A14),INDEX('BASE DE DONNEE'!O:O,$A14),"-")} -> - | Q14: {=IF(ISNUMBER($A14),INDEX('BASE DE DONNEE'!P:P,$A14),"-")} -> - | R14: {=IF(ISNUMBER($A14),INDEX('BASE DE DONNEE'!Q:Q,$A14),"-")} -> - | S14: {=IF(ISNUMBER($A14),INDEX('BASE DE DONNEE'!R:R,$A14),"-")} -> - | T14: {=IF(ISNUMBER($A14),INDEX('BASE DE DONNEE'!S:S,$A14),"-")} -> - | U14: {=IF(ISNUMBER($A14),INDEX('BASE DE DONNEE'!T:T,$A14),"-")} -> - | V14: {=IF(ISNUMBER($A14),INDEX('BASE DE DONNEE'!U:U,$A14),"-")} -> - | W14: {=IF(ISNUMBER($A14),INDEX('BASE DE DONNEE'!V:V,$A14),"-")} -> -
... A50: {=IFERROR(_xlfn.AGGREGATE(15,6,ROW(Tabel11[Technicien])/(ISNUMBER(SEARCH($A$1,Tabel11[Technicien]))),ROW()-ROW(Tabel12[[#Headers],[ligne]])),"-")} -> - | B50: {=IF(ISNUMBER($A50),INDEX('BASE DE DONNEE'!A:A,$A50),"-")} -> - | C50: {=IF(ISNUMBER($A50),INDEX('BASE DE DONNEE'!B:B,$A50),"-")} -> - | D50: {=IF(ISNUMBER($A50),INDEX('BASE DE DONNEE'!C:C,$A50),"-")} -> - | E50: {=IF(ISNUMBER($A50),INDEX('BASE DE DONNEE'!D:D,$A50),"-")} -> - | F50: {=IF(ISNUMBER($A50),INDEX('BASE DE DONNEE'!E:E,$A50),"-")} -> - | G50: {=IF(ISNUMBER($A50),INDEX('BASE DE DONNEE'!F:F,$A50),"-")} -> - | H50: {=IF(ISNUMBER($A50),INDEX('BASE DE DONNEE'!G:G,$A50),"-")} -> - | I50: {=IF(ISNUMBER($A50),INDEX('BASE DE DONNEE'!H:H,$A50),"-")} -> - | J50: {=IF(ISNUMBER($A50),INDEX('BASE DE DONNEE'!I:I,$A50),"-")} -> - | K50: {=IF(ISNUMBER($A50),INDEX('BASE DE DONNEE'!J:J,$A50),"-")} -> - | L50: {=IF(ISNUMBER($A50),INDEX('BASE DE DONNEE'!K:K,$A50),"-")} -> - | M50: {=IF(ISNUMBER($A50),INDEX('BASE DE DONNEE'!L:L,$A50),"-")} -> - | N50: {=IF(ISNUMBER($A50),INDEX('BASE DE DONNEE'!M:M,$A50),"-")} -> - | O50: {=IF(ISNUMBER($A50),INDEX('BASE DE DONNEE'!N:N,$A50),"-")} -> - | P50: {=IF(ISNUMBER($A50),INDEX('BASE DE DONNEE'!O:O,$A50),"-")} -> - | Q50: {=IF(ISNUMBER($A50),INDEX('BASE DE DONNEE'!P:P,$A50),"-")} -> - | R50: {=IF(ISNUMBER($A50),INDEX('BASE DE DONNEE'!Q:Q,$A50),"-")} -> - | S50: {=IF(ISNUMBER($A50),INDEX('BASE DE DONNEE'!R:R,$A50),"-")} -> - | T50: {=IF(ISNUMBER($A50),INDEX('BASE DE DONNEE'!S:S,$A50),"-")} -> - | U50: {=IF(ISNUMBER($A50),INDEX('BASE DE DONNEE'!T:T,$A50),"-")} -> - | V50: {=IF(ISNUMBER($A50),INDEX('BASE DE DONNEE'!U:U,$A50),"-")} -> - | W50: {=IF(ISNUMBER($A50),INDEX('BASE DE DONNEE'!V:V,$A50),"-")} -> -

Sheet RECAP
B1: total | C1: CODES POSTAUX
A2: non assigné | B2: =COUNTIF(Tabel11[Technicien],"-") -> 6
A3: BDD | B3: =ROWS(Tabel11[Nom]) -> 59 | C3: chef1 | D3: Chef1 | E3: Chef2 | F3: Chef3 | G3: Chef3 | H3: Chef3 | I3: Chef3 | J3: Chef3 | K3: Chef3 | L3: Chef4 | M3: Chef5 | N3: Chef6
A4: somme | B4: =SUM(OFFSET(Entetes,-1,)) -> 55 | C4: =COUNTIF(Tabel11[[Technicien]:[Technicien]],"*;"&Tabel1[[#Headers],[ABC]]&";*") -> 11 | D4: =COUNTIF(Tabel11[[Technicien]:[Technicien]],"*;"&Tabel1[[#Headers],[DEF]]&";*") -> 6 | E4: =COUNTIF(Tabel11[[Technicien]:[Technicien]],"*;"&Tabel1[[#Headers],[GHI]]&";*") -> 7 | F4: =COUNTIF(Tabel11[[Technicien]:[Technicien]],"*;"&Tabel1[[#Headers],[JKL]]&";*") -> 5 | G4: =COUNTIF(Tabel11[[Technicien]:[Technicien]],"*;"&Tabel1[[#Headers],[MNO]]&";*") -> 5 | H4: =COUNTIF(Tabel11[[Technicien]:[Technicien]],"*;"&Tabel1[[#Headers],[PQR]]&";*") -> 6 | I4: =COUNTIF(Tabel11[[Technicien]:[Technicien]],"*;"&Tabel1[[#Headers],[STU]]&";*") -> 10 | J4: =COUNTIF(Tabel11[[Technicien]:[Technicien]],"*;"&Tabel1[[#Headers],[VWX]]&";*") -> 2 | K4: =COUNTIF(Tabel11[[Technicien]:[Technicien]],"*;"&Tabel1[[#Headers],[YZ1]]&";*") -> 3 | L4: =COUNTIF(Tabel11[[Technicien]:[Technicien]],"*;"&Tabel1[[#Headers],[Tech10]]&";*") -> 0 | M4: =COUNTIF(Tabel11[[Technicien]:[Technicien]],"*;"&Tabel1[[#Headers],[Tech11]]&";*") -> 0 | N4: =COUNTIF(Tabel11[[Technicien]:[Technicien]],"*;"&Tabel1[[#Headers],[Tech12]]&";*") -> 0
C5: ABC | D5: DEF | E5: GHI | F5: JKL | G5: MNO | H5: PQR | I5: STU | J5: VWX | K5: YZ1 | L5: Tech10 | M5: Tech11 | N5: Tech12
C6: 14000 | D6: 14111 | E6: 14110 | F6: 14190 | G6: 14100 | H6: 14230 | I6: 50180 | J6: 50210 | K6: 50140
C7: 14114 | D7: 14112 | E7: 14117 | F7: 14220 | G7: 14113 | H7: 14330 | I7: 50200 | J7: 50410 | K7: 50150
C8: 14280 | D8: 14120 | E8: 14210 | F8: 14420 | G8: 14130 | H8: 14450 | I8: 50230 | J8: 50450 | K8: 50170
C9: 14440 | D9: 14121 | E9: 14240 | F9: 14570 | G9: 14140 | H9: 14710 | I9: 50290 | J9: 50510 | K9: 50220
C10: 14470 | D10: 14123 | E10: 14250 | F10: 14680 | G10: 14160 | H10: 50100 | I10: 50350 | J10: 50750 | K10: 50240
C11: 14480 | D11: 14150 | E11: 14260 | F11: 14690 | G11: 14170 | H11: 50110 | I11: 50490 | J11: 50800 | K11: 50300
C12: 14530 | D12: 14200 | E12: 14310 | F12: 14700 | G12: 14270 | H12: 50120 | I12: 50560 | J12: 50860 | K12: 50320
C13: 14610 | D13: 14210 | E13: 14320 | F13: 53110 | G13: 14290 | H13: 50130 | I13: 50570 | K13: 50370
C14: 14740 | D14: 14250 | E14: 14350 | F14: 53140 | G14: 14340 | H14: 50190 | I14: 50590 | K14: 50380
C15: 14750 | D15: 14260 | E15: 14380 | F15: 53250 | G15: 14360 | H15: 50250 | I15: 50660 | K15: 50400
D22: =SUM(Tabel2[nombre]) -> 55
C23: Chef | D23: nombre
C24: chef1 | D24: {=SUMPRODUCT(OFFSET(Entetes,-1,)*(OFFSET(Entetes,-2,)=Tabel2[[#This Row],[Chef]]))} -> 17
C25: chef2 | D25: {=SUMPRODUCT(OFFSET(Entetes,-1,)*(OFFSET(Entetes,-2,)=Tabel2[[#This Row],[Chef]]))} -> 7
C26: chef3 | D26: {=SUMPRODUCT(OFFSET(Entetes,-1,)*(OFFSET(Entetes,-2,)=Tabel2[[#This Row],[Chef]]))} -> 31
C27: chef4 | D27: {=SUMPRODUCT(OFFSET(Entetes,-1,)*(OFFSET(Entetes,-2,)=Tabel2[[#This Row],[Chef]]))} -> 0
C28: chef5 | D28: {=SUMPRODUCT(OFFSET(Entetes,-1,)*(OFFSET(Entetes,-2,)=Tabel2[[#This Row],[Chef]]))} -> 0
C29: chef6 | D29: {=SUMPRODUCT(OFFSET(Entetes,-1,)*(OFFSET(Entetes,-2,)=Tabel2[[#This Row],[Chef]]))} -> 0

Sheet X-table
D1: 1 | E1: 2 | F1: 3 | G1: 4 | H1: 5 | I1: 6 | J1: 7 | K1: 8 | L1: 9 | M1: 10 | N1: 11 | O1: 12 | P1: 13 | Q1: 14 | R1: 15 | S1: 16 | T1: 17 | U1: 18 | V1: 19 | W1: 20
B2: tous CPs | C2: Tech | D2: {=IFERROR(INDEX(Entetes,D1),"-")} -> ABC | E2: {=IFERROR(INDEX(Entetes,E1),"-")} -> DEF | F2: {=IFERROR(INDEX(Entetes,F1),"-")} -> GHI | G2: {=IFERROR(INDEX(Entetes,G1),"-")} -> JKL | H2: {=IFERROR(INDEX(Entetes,H1),"-")} -> MNO | I2: {=IFERROR(INDEX(Entetes,I1),"-")} -> PQR | J2: {=IFERROR(INDEX(Entetes,J1),"-")} -> STU | K2: {=IFERROR(INDEX(Entetes,K1),"-")} -> VWX | ... W2: {=IFERROR(INDEX(Entetes,W1),"-")} -> -
A3: =ROW()-2 -> 1 | B3: =IFERROR(SMALL(Tableau,ROW()-ROW(Liste_CP)+1),"-") -> 14000 | C3: {=";"&_xlfn.CONCAT(IF(D3:W3>0,$D$2:$W$2&";",""))} -> ;ABC; | D3: {=IF(ISNUMBER($B3),COUNTIF(OFFSET(Tableau,,D$1-1,,1),$B3),0)} -> 1 | E3: {=IF(ISNUMBER($B3),COUNTIF(OFFSET(Tableau,,E$1-1,,1),$B3),0)} -> 0 | F3: {=IF(ISNUMBER($B3),COUNTIF(OFFSET(Tableau,,F$1-1,,1),$B3),0)} -> 0 | G3: {=IF(ISNUMBER($B3),COUNTIF(OFFSET(Tableau,,G$1-1,,1),$B3),0)} -> 0 | H3: {=IF(ISNUMBER($B3),COUNTIF(OFFSET(Tableau,,H$1-1,,1),$B3),0)} -> 0 | I3: {=IF(ISNUMBER($B3),COUNTIF(OFFSET(Tableau,,I$1-1,,1),$B3),0)} -> 0 | J3: {=IF(ISNUMBER($B3),COUNTIF(OFFSET(Tableau,,J$1-1,,1),$B3),0)} -> 0 | K3: {=IF(ISNUMBER($B3),COUNTIF(OFFSET(Tableau,,K$1-1,,1),$B3),0)} -> 0 | ... W3: {=IF(ISNUMBER($B3),COUNTIF(OFFSET(Tableau,,W$1-1,,1),$B3),0)} -> 0
A4: =ROW()-2 -> 2 | B4: =IFERROR(SMALL(Tableau,ROW()-ROW(Liste_CP)+1),"-") -> 14100 | C4: {=";"&_xlfn.CONCAT(IF(D4:W4>0,$D$2:$W$2&";",""))} -> ;MNO; | D4: {=IF(ISNUMBER($B4),COUNTIF(OFFSET(Tableau,,D$1-1,,1),$B4),0)} -> 0 | E4: {=IF(ISNUMBER($B4),COUNTIF(OFFSET(Tableau,,E$1-1,,1),$B4),0)} -> 0 | F4: {=IF(ISNUMBER($B4),COUNTIF(OFFSET(Tableau,,F$1-1,,1),$B4),0)} -> 0 | G4: {=IF(ISNUMBER($B4),COUNTIF(OFFSET(Tableau,,G$1-1,,1),$B4),0)} -> 0 | H4: {=IF(ISNUMBER($B4),COUNTIF(OFFSET(Tableau,,H$1-1,,1),$B4),0)} -> 1 | I4: {=IF(ISNUMBER($B4),COUNTIF(OFFSET(Tableau,,I$1-1,,1),$B4),0)} -> 0 | J4: {=IF(ISNUMBER($B4),COUNTIF(OFFSET(Tableau,,J$1-1,,1),$B4),0)} -> 0 | K4: {=IF(ISNUMBER($B4),COUNTIF(OFFSET(Tableau,,K$1-1,,1),$B4),0)} -> 0 | ... W4: {=IF(ISNUMBER($B4),COUNTIF(OFFSET(Tableau,,W$1-1,,1),$B4),0)} -> 0
A5: =ROW()-2 -> 3 | B5: =IFERROR(SMALL(Tableau,ROW()-ROW(Liste_CP)+1),"-") -> 14110 | C5: {=";"&_xlfn.CONCAT(IF(D5:W5>0,$D$2:$W$2&";",""))} -> ;GHI; | D5: {=IF(ISNUMBER($B5),COUNTIF(OFFSET(Tableau,,D$1-1,,1),$B5),0)} -> 0 | E5: {=IF(ISNUMBER($B5),COUNTIF(OFFSET(Tableau,,E$1-1,,1),$B5),0)} -> 0 | F5: {=IF(ISNUMBER($B5),COUNTIF(OFFSET(Tableau,,F$1-1,,1),$B5),0)} -> 1 | G5: {=IF(ISNUMBER($B5),COUNTIF(OFFSET(Tableau,,G$1-1,,1),$B5),0)} -> 0 | H5: {=IF(ISNUMBER($B5),COUNTIF(OFFSET(Tableau,,H$1-1,,1),$B5),0)} -> 0 | I5: {=IF(ISNUMBER($B5),COUNTIF(OFFSET(Tableau,,I$1-1,,1),$B5),0)} -> 0 | J5: {=IF(ISNUMBER($B5),COUNTIF(OFFSET(Tableau,,J$1-1,,1),$B5),0)} -> 0 | K5: {=IF(ISNUMBER($B5),COUNTIF(OFFSET(Tableau,,K$1-1,,1),$B5),0)} -> 0 | ... W5: {=IF(ISNUMBER($B5),COUNTIF(OFFSET(Tableau,,W$1-1,,1),$B5),0)} -> 0
A6: =ROW()-2 -> 4 | B6: =IFERROR(SMALL(Tableau,ROW()-ROW(Liste_CP)+1),"-") -> 14111 | C6: {=";"&_xlfn.CONCAT(IF(D6:W6>0,$D$2:$W$2&";",""))} -> ;DEF; | D6: {=IF(ISNUMBER($B6),COUNTIF(OFFSET(Tableau,,D$1-1,,1),$B6),0)} -> 0 | E6: {=IF(ISNUMBER($B6),COUNTIF(OFFSET(Tableau,,E$1-1,,1),$B6),0)} -> 1 | F6: {=IF(ISNUMBER($B6),COUNTIF(OFFSET(Tableau,,F$1-1,,1),$B6),0)} -> 0 | G6: {=IF(ISNUMBER($B6),COUNTIF(OFFSET(Tableau,,G$1-1,,1),$B6),0)} -> 0 | H6: {=IF(ISNUMBER($B6),COUNTIF(OFFSET(Tableau,,H$1-1,,1),$B6),0)} -> 0 | I6: {=IF(ISNUMBER($B6),COUNTIF(OFFSET(Tableau,,I$1-1,,1),$B6),0)} -> 0 | J6: {=IF(ISNUMBER($B6),COUNTIF(OFFSET(Tableau,,J$1-1,,1),$B6),0)} -> 0 | K6: {=IF(ISNUMBER($B6),COUNTIF(OFFSET(Tableau,,K$1-1,,1),$B6),0)} -> 0 | ... W6: {=IF(ISNUMBER($B6),COUNTIF(OFFSET(Tableau,,W$1-1,,1),$B6),0)} -> 0
A7: =ROW()-2 -> 5 | B7: =IFERROR(SMALL(Tableau,ROW()-ROW(Liste_CP)+1),"-") -> 14112 | C7: {=";"&_xlfn.CONCAT(IF(D7:W7>0,$D$2:$W$2&";",""))} -> ;DEF; | D7: {=IF(ISNUMBER($B7),COUNTIF(OFFSET(Tableau,,D$1-1,,1),$B7),0)} -> 0 | E7: {=IF(ISNUMBER($B7),COUNTIF(OFFSET(Tableau,,E$1-1,,1),$B7),0)} -> 1 | F7: {=IF(ISNUMBER($B7),COUNTIF(OFFSET(Tableau,,F$1-1,,1),$B7),0)} -> 0 | G7: {=IF(ISNUMBER($B7),COUNTIF(OFFSET(Tableau,,G$1-1,,1),$B7),0)} -> 0 | H7: {=IF(ISNUMBER($B7),COUNTIF(OFFSET(Tableau,,H$1-1,,1),$B7),0)} -> 0 | I7: {=IF(ISNUMBER($B7),COUNTIF(OFFSET(Tableau,,I$1-1,,1),$B7),0)} -> 0 | J7: {=IF(ISNUMBER($B7),COUNTIF(OFFSET(Tableau,,J$1-1,,1),$B7),0)} -> 0 | K7: {=IF(ISNUMBER($B7),COUNTIF(OFFSET(Tableau,,K$1-1,,1),$B7),0)} -> 0 | ... W7: {=IF(ISNUMBER($B7),COUNTIF(OFFSET(Tableau,,W$1-1,,1),$B7),0)} -> 0
A8: =ROW()-2 -> 6 | B8: =IFERROR(SMALL(Tableau,ROW()-ROW(Liste_CP)+1),"-") -> 14113 | C8: {=";"&_xlfn.CONCAT(IF(D8:W8>0,$D$2:$W$2&";",""))} -> ;MNO; | D8: {=IF(ISNUMBER($B8),COUNTIF(OFFSET(Tableau,,D$1-1,,1),$B8),0)} -> 0 | E8: {=IF(ISNUMBER($B8),COUNTIF(OFFSET(Tableau,,E$1-1,,1),$B8),0)} -> 0 | F8: {=IF(ISNUMBER($B8),COUNTIF(OFFSET(Tableau,,F$1-1,,1),$B8),0)} -> 0 | G8: {=IF(ISNUMBER($B8),COUNTIF(OFFSET(Tableau,,G$1-1,,1),$B8),0)} -> 0 | H8: {=IF(ISNUMBER($B8),COUNTIF(OFFSET(Tableau,,H$1-1,,1),$B8),0)} -> 1 | I8: {=IF(ISNUMBER($B8),COUNTIF(OFFSET(Tableau,,I$1-1,,1),$B8),0)} -> 0 | J8: {=IF(ISNUMBER($B8),COUNTIF(OFFSET(Tableau,,J$1-1,,1),$B8),0)} -> 0 | K8: {=IF(ISNUMBER($B8),COUNTIF(OFFSET(Tableau,,K$1-1,,1),$B8),0)} -> 0 | ... W8: {=IF(ISNUMBER($B8),COUNTIF(OFFSET(Tableau,,W$1-1,,1),$B8),0)} -> 0
A9: =ROW()-2 -> 7 | B9: =IFERROR(SMALL(Tableau,ROW()-ROW(Liste_CP)+1),"-") -> 14114 | C9: {=";"&_xlfn.CONCAT(IF(D9:W9>0,$D$2:$W$2&";",""))} -> ;ABC; | D9: {=IF(ISNUMBER($B9),COUNTIF(OFFSET(Tableau,,D$1-1,,1),$B9),0)} -> 1 | E9: {=IF(ISNUMBER($B9),COUNTIF(OFFSET(Tableau,,E$1-1,,1),$B9),0)} -> 0 | F9: {=IF(ISNUMBER($B9),COUNTIF(OFFSET(Tableau,,F$1-1,,1),$B9),0)} -> 0 | G9: {=IF(ISNUMBER($B9),COUNTIF(OFFSET(Tableau,,G$1-1,,1),$B9),0)} -> 0 | H9: {=IF(ISNUMBER($B9),COUNTIF(OFFSET(Tableau,,H$1-1,,1),$B9),0)} -> 0 | I9: {=IF(ISNUMBER($B9),COUNTIF(OFFSET(Tableau,,I$1-1,,1),$B9),0)} -> 0 | J9: {=IF(ISNUMBER($B9),COUNTIF(OFFSET(Tableau,,J$1-1,,1),$B9),0)} -> 0 | K9: {=IF(ISNUMBER($B9),COUNTIF(OFFSET(Tableau,,K$1-1,,1),$B9),0)} -> 0 | ... W9: {=IF(ISNUMBER($B9),COUNTIF(OFFSET(Tableau,,W$1-1,,1),$B9),0)} -> 0
A10: =ROW()-2 -> 8 | B10: =IFERROR(SMALL(Tableau,ROW()-ROW(Liste_CP)+1),"-") -> 14117 | C10: {=";"&_xlfn.CONCAT(IF(D10:W10>0,$D$2:$W$2&";",""))} -> ;GHI; | D10: {=IF(ISNUMBER($B10),COUNTIF(OFFSET(Tableau,,D$1-1,,1),$B10),0)} -> 0 | E10: {=IF(ISNUMBER($B10),COUNTIF(OFFSET(Tableau,,E$1-1,,1),$B10),0)} -> 0 | F10: {=IF(ISNUMBER($B10),COUNTIF(OFFSET(Tableau,,F$1-1,,1),$B10),0)} -> 1 | G10: {=IF(ISNUMBER($B10),COUNTIF(OFFSET(Tableau,,G$1-1,,1),$B10),0)} -> 0 | H10: {=IF(ISNUMBER($B10),COUNTIF(OFFSET(Tableau,,H$1-1,,1),$B10),0)} -> 0 | I10: {=IF(ISNUMBER($B10),COUNTIF(OFFSET(Tableau,,I$1-1,,1),$B10),0)} -> 0 | J10: {=IF(ISNUMBER($B10),COUNTIF(OFFSET(Tableau,,J$1-1,,1),$B10),0)} -> 0 | K10: {=IF(ISNUMBER($B10),COUNTIF(OFFSET(Tableau,,K$1-1,,1),$B10),0)} -> 0 | ... W10: {=IF(ISNUMBER($B10),COUNTIF(OFFSET(Tableau,,W$1-1,,1),$B10),0)} -> 0
A11: =ROW()-2 -> 9 | B11: =IFERROR(SMALL(Tableau,ROW()-ROW(Liste_CP)+1),"-") -> 14120 | C11: {=";"&_xlfn.CONCAT(IF(D11:W11>0,$D$2:$W$2&";",""))} -> ;DEF; | D11: {=IF(ISNUMBER($B11),COUNTIF(OFFSET(Tableau,,D$1-1,,1),$B11),0)} -> 0 | E11: {=IF(ISNUMBER($B11),COUNTIF(OFFSET(Tableau,,E$1-1,,1),$B11),0)} -> 1 | F11: {=IF(ISNUMBER($B11),COUNTIF(OFFSET(Tableau,,F$1-1,,1),$B11),0)} -> 0 | G11: {=IF(ISNUMBER($B11),COUNTIF(OFFSET(Tableau,,G$1-1,,1),$B11),0)} -> 0 | H11: {=IF(ISNUMBER($B11),COUNTIF(OFFSET(Tableau,,H$1-1,,1),$B11),0)} -> 0 | I11: {=IF(ISNUMBER($B11),COUNTIF(OFFSET(Tableau,,I$1-1,,1),$B11),0)} -> 0 | J11: {=IF(ISNUMBER($B11),COUNTIF(OFFSET(Tableau,,J$1-1,,1),$B11),0)} -> 0 | K11: {=IF(ISNUMBER($B11),COUNTIF(OFFSET(Tableau,,K$1-1,,1),$B11),0)} -> 0 | ... W11: {=IF(ISNUMBER($B11),COUNTIF(OFFSET(Tableau,,W$1-1,,1),$B11),0)} -> 0
A12: =ROW()-2 -> 10 | B12: =IFERROR(SMALL(Tableau,ROW()-ROW(Liste_CP)+1),"-") -> 14121 | C12: {=";"&_xlfn.CONCAT(IF(D12:W12>0,$D$2:$W$2&";",""))} -> ;DEF; | D12: {=IF(ISNUMBER($B12),COUNTIF(OFFSET(Tableau,,D$1-1,,1),$B12),0)} -> 0 | E12: {=IF(ISNUMBER($B12),COUNTIF(OFFSET(Tableau,,E$1-1,,1),$B12),0)} -> 1 | F12: {=IF(ISNUMBER($B12),COUNTIF(OFFSET(Tableau,,F$1-1,,1),$B12),0)} -> 0 | G12: {=IF(ISNUMBER($B12),COUNTIF(OFFSET(Tableau,,G$1-1,,1),$B12),0)} -> 0 | H12: {=IF(ISNUMBER($B12),COUNTIF(OFFSET(Tableau,,H$1-1,,1),$B12),0)} -> 0 | I12: {=IF(ISNUMBER($B12),COUNTIF(OFFSET(Tableau,,I$1-1,,1),$B12),0)} -> 0 | J12: {=IF(ISNUMBER($B12),COUNTIF(OFFSET(Tableau,,J$1-1,,1),$B12),0)} -> 0 | K12: {=IF(ISNUMBER($B12),COUNTIF(OFFSET(Tableau,,K$1-1,,1),$B12),0)} -> 0 | ... W12: {=IF(ISNUMBER($B12),COUNTIF(OFFSET(Tableau,,W$1-1,,1),$B12),0)} -> 0
A13: =ROW()-2 -> 11 | B13: =IFERROR(SMALL(Tableau,ROW()-ROW(Liste_CP)+1),"-") -> 14123 | C13: {=";"&_xlfn.CONCAT(IF(D13:W13>0,$D$2:$W$2&";",""))} -> ;DEF; | D13: {=IF(ISNUMBER($B13),COUNTIF(OFFSET(Tableau,,D$1-1,,1),$B13),0)} -> 0 | E13: {=IF(ISNUMBER($B13),COUNTIF(OFFSET(Tableau,,E$1-1,,1),$B13),0)} -> 1 | F13: {=IF(ISNUMBER($B13),COUNTIF(OFFSET(Tableau,,F$1-1,,1),$B13),0)} -> 0 | G13: {=IF(ISNUMBER($B13),COUNTIF(OFFSET(Tableau,,G$1-1,,1),$B13),0)} -> 0 | H13: {=IF(ISNUMBER($B13),COUNTIF(OFFSET(Tableau,,H$1-1,,1),$B13),0)} -> 0 | I13: {=IF(ISNUMBER($B13),COUNTIF(OFFSET(Tableau,,I$1-1,,1),$B13),0)} -> 0 | J13: {=IF(ISNUMBER($B13),COUNTIF(OFFSET(Tableau,,J$1-1,,1),$B13),0)} -> 0 | K13: {=IF(ISNUMBER($B13),COUNTIF(OFFSET(Tableau,,K$1-1,,1),$B13),0)} -> 0 | ... W13: {=IF(ISNUMBER($B13),COUNTIF(OFFSET(Tableau,,W$1-1,,1),$B13),0)} -> 0
A14: =ROW()-2 -> 12 | B14: =IFERROR(SMALL(Tableau,ROW()-ROW(Liste_CP)+1),"-") -> 14130 | C14: {=";"&_xlfn.CONCAT(IF(D14:W14>0,$D$2:$W$2&";",""))} -> ;MNO; | D14: {=IF(ISNUMBER($B14),COUNTIF(OFFSET(Tableau,,D$1-1,,1),$B14),0)} -> 0 | E14: {=IF(ISNUMBER($B14),COUNTIF(OFFSET(Tableau,,E$1-1,,1),$B14),0)} -> 0 | F14: {=IF(ISNUMBER($B14),COUNTIF(OFFSET(Tableau,,F$1-1,,1),$B14),0)} -> 0 | G14: {=IF(ISNUMBER($B14),COUNTIF(OFFSET(Tableau,,G$1-1,,1),$B14),0)} -> 0 | H14: {=IF(ISNUMBER($B14),COUNTIF(OFFSET(Tableau,,H$1-1,,1),$B14),0)} -> 1 | I14: {=IF(ISNUMBER($B14),COUNTIF(OFFSET(Tableau,,I$1-1,,1),$B14),0)} -> 0 | J14: {=IF(ISNUMBER($B14),COUNTIF(OFFSET(Tableau,,J$1-1,,1),$B14),0)} -> 0 | K14: {=IF(ISNUMBER($B14),COUNTIF(OFFSET(Tableau,,K$1-1,,1),$B14),0)} -> 0 | ... W14: {=IF(ISNUMBER($B14),COUNTIF(OFFSET(Tableau,,W$1-1,,1),$B14),0)} -> 0
... A202: =ROW()-2 -> 200 | B202: =IFERROR(SMALL(Tableau,ROW()-ROW(Liste_CP)+1),"-") -> - | C202: {=";"&_xlfn.CONCAT(IF(D202:W202>0,$D$2:$W$2&";",""))} -> ; | D202: {=IF(ISNUMBER($B202),COUNTIF(OFFSET(Tableau,,D$1-1,,1),$B202),0)} -> 0 | E202: {=IF(ISNUMBER($B202),COUNTIF(OFFSET(Tableau,,E$1-1,,1),$B202),0)} -> 0 | F202: {=IF(ISNUMBER($B202),COUNTIF(OFFSET(Tableau,,F$1-1,,1),$B202),0)} -> 0 | G202: {=IF(ISNUMBER($B202),COUNTIF(OFFSET(Tableau,,G$1-1,,1),$B202),0)} -> 0 | H202: {=IF(ISNUMBER($B202),COUNTIF(OFFSET(Tableau,,H$1-1,,1),$B202),0)} -> 0 | I202: {=IF(ISNUMBER($B202),COUNTIF(OFFSET(Tableau,,I$1-1,,1),$B202),0)} -> 0 | J202: {=IF(ISNUMBER($B202),COUNTIF(OFFSET(Tableau,,J$1-1,,1),$B202),0)} -> 0 | K202: {=IF(ISNUMBER($B202),COUNTIF(OFFSET(Tableau,,K$1-1,,1),$B202),0)} -> 0 | ... W202: {=IF(ISNUMBER($B202),COUNTIF(OFFSET(Tableau,,W$1-1,,1),$B202),0)} -> 0
