Workbook
Name voeux: Feuil1!$D$1:$D$72

Sheet Feuil1 (2)
A1: N° | B1: Civ | C1: Nom | D1: Prénom | E1: Barème | F1: MOYENNE M1 | G1: STATUT 2024-2025 BOURSIER 1/3 TEMPS SHNU | H1: Points boursier | I1: NOMBRE D'ENFANTS À CHARGE | J1: alea | K1: rank
A2: 1 | B2: Madame | C2: NOM 1 | D2: PRENOM 1 | E2: =F2+H2+I2 -> 17.855 | F2: 15.855 | G2: BOURSIÈRE | H2: 2 | J2: =RAND() -> 0.67098501 | K2: =RANK(Tabel2[[#This Row],[alea]],Tabel2[alea]) -> 25
A3: 2 | B3: Madame | C3: NOM 2 | D3: PRENOM 2 | E3: =F3+H3+I3 -> 17.743 | F3: 15.743 | G3: BOURSIÈRE | H3: 2 | I3: 0 | J3: =RAND() -> 0.51191515 | K3: =RANK(Tabel2[[#This Row],[alea]],Tabel2[alea]) -> 38
A4: 3 | B4: Monsieur | C4: NOM 3 | D4: PRENOM 3 | E4: =F4+H4+I4 -> 17.51 | F4: 15.51 | G4: BOURSIER | H4: 2 | I4: 0 | J4: =RAND() -> 0.13740637 | K4: =RANK(Tabel2[[#This Row],[alea]],Tabel2[alea]) -> 62
A5: 4 | B5: Madame | C5: NOM 4 | D5: PRENOM 4 | E5: =F5+H5+I5 -> 17.489 | F5: 13.489 | G5: BOURSIÈRE | H5: 2 | I5: 2 | J5: =RAND() -> 0.51275739 | K5: =RANK(Tabel2[[#This Row],[alea]],Tabel2[alea]) -> 37
A6: 5 | B6: Madame | C6: NOM 5 | D6: PRENOM 5 | E6: =F6+H6+I6 -> 17.383 | F6: 15.383 | G6: BOURSIÈRE | H6: 2 | I6: 0 | J6: =RAND() -> 0.05978232 | K6: =RANK(Tabel2[[#This Row],[alea]],Tabel2[alea]) -> 69
A7: 6 | B7: Madame | C7: NOM 6 | D7: PRENOM 6 | E7: =F7+H7+I7 -> 17.296 | F7: 15.296 | G7: BOURSIÈRE | H7: 2 | I7: 0 | J7: =RAND() -> 0.51410242 | K7: =RANK(Tabel2[[#This Row],[alea]],Tabel2[alea]) -> 36
A8: 7 | B8: Monsieur | C8: NOM 7 | D8: PRENOM 7 | E8: =F8+H8+I8 -> 16.909 | F8: 14.909 | G8: BOURSIER | H8: 2 | I8: 0 | J8: =RAND() -> 0.094059665 | K8: =RANK(Tabel2[[#This Row],[alea]],Tabel2[alea]) -> 67
A9: 8 | B9: Madame | C9: NOM 8 | D9: PRENOM 8 | E9: 16.871 | F9: 14.871 | G9: BOURSIÈRE | H9: 2 | J9: =RAND() -> 0.93616915 | K9: =RANK(Tabel2[[#This Row],[alea]],Tabel2[alea]) -> 9
A10: 9 | B10: Monsieur | C10: NOM 9 | D10: PRENOM 9 | E10: =F10+H10+I10 -> 16.839 | F10: 14.839 | G10: BOURSIER - SHNU | H10: 2 | I10: 0 | J10: =RAND() -> 0.24623156 | K10: =RANK(Tabel2[[#This Row],[alea]],Tabel2[alea]) -> 51
A11: 10 | B11: Madame | C11: NOM 10 | D11: PRENOM 10 | E11: =F11+H11+I11 -> 16.745 | F11: 14.745 | G11: BOURSIÈRE | H11: 2 | I11: 0 | J11: =RAND() -> 0.72439896 | K11: =RANK(Tabel2[[#This Row],[alea]],Tabel2[alea]) -> 23
A12: 11 | B12: Madame | C12: NOM 11 | D12: PRENOM 11 | E12: =F12+H12+I12 -> 16.65 | F12: 14.65 | G12: BOURSIÈRE | H12: 2 | I12: 0 | J12: =RAND() -> 0.79436743 | K12: =RANK(Tabel2[[#This Row],[alea]],Tabel2[alea]) -> 16
A13: 12 | B13: Madame | C13: NOM 12 | D13: PRENOM 12 | E13: =F13+H13+I13 -> 16.621 | F13: 14.621 | G13: BOURSIÈRE | H13: 2 | I13: 0 | J13: =RAND() -> 0.65082758 | K13: =RANK(Tabel2[[#This Row],[alea]],Tabel2[alea]) -> 28
A14: 13 | B14: Madame | C14: NOM 13 | D14: PRENOM 13 | E14: =F14+H14+I14 -> 16.619 | F14: 14.619 | G14: BOURSIÈRE | H14: 2 | I14: 0 | J14: =RAND() -> 0.13689198 | K14: =RANK(Tabel2[[#This Row],[alea]],Tabel2[alea]) -> 63
A15: 14 | B15: Madame | C15: NOM 14 | D15: PRENOM 14 | E15: =F15+H15+I15 -> 16.366 | F15: 14.366 | G15: BOURSIÈRE | H15: 2 | I15: 0 | J15: =RAND() -> 0.017955676 | K15: =RANK(Tabel2[[#This Row],[alea]],Tabel2[alea]) -> 71
A16: 15 | B16: Monsieur | C16: NOM 15 | D16: PRENOM 15 | E16: =F16+H16+I16 -> 16.341 | F16: 14.341 | G16: BOURSIER | H16: 2 | I16: 0 | J16: =RAND() -> 0.17879711 | K16: =RANK(Tabel2[[#This Row],[alea]],Tabel2[alea]) -> 60
A17: 16 | B17: Monsieur | C17: NOM 16 | D17: PRENOM 16 | E17: =F17+H17+I17 -> 16.24 | F17: 16.24 | I17: 0 | J17: =RAND() -> 0.46718419 | K17: =RANK(Tabel2[[#This Row],[alea]],Tabel2[alea]) -> 42
A18: 17 | B18: Madame | C18: NOM 17 | D18: PRENOM 17 | E18: =F18+H18+I18 -> 16.202 | F18: 14.202 | G18: BOURSIÈRE | H18: 2 | I18: 0 | J18: =RAND() -> 0.75193742 | K18: =RANK(Tabel2[[#This Row],[alea]],Tabel2[alea]) -> 21
A19: 18 | B19: Madame | C19: NOM 18 | D19: PRENOM 18 | E19: =F19+H19+I19 -> 16.086 | F19: 16.086 | I19: 0 | J19: =RAND() -> 0.22671183 | K19: =RANK(Tabel2[[#This Row],[alea]],Tabel2[alea]) -> 54
A20: 19 | B20: Madame | C20: NOM 19 | D20: PRENOM 19 | E20: =F20+H20+I20 -> 15.995 | F20: 13.995 | G20: BOURSIÈRE - 1/3 TEMPS | H20: 2 | I20: 0 | J20: =RAND() -> 0.21704372 | K20: =RANK(Tabel2[[#This Row],[alea]],Tabel2[alea]) -> 55
A21: 20 | B21: Madame | C21: NOM 20 | D21: PRENOM 20 | E21: =F21+H21+I21 -> 15.969 | F21: 13.969 | G21: BOURSIÈRE | H21: 2 | I21: 0 | J21: =RAND() -> 0.80155556 | K21: =RANK(Tabel2[[#This Row],[alea]],Tabel2[alea]) -> 15
A22: 21 | B22: Madame | C22: NOM 21 | D22: PRENOM 21 | E22: =F22+H22+I22 -> 15.949 | F22: 13.949 | G22: BOURSIÈRE | H22: 2 | I22: 0 | J22: =RAND() -> 0.4752341 | K22: =RANK(Tabel2[[#This Row],[alea]],Tabel2[alea]) -> 41
A23: 22 | B23: Madame | C23: NOM 22 | D23: PRENOM 22 | E23: =F23+H23+I23 -> 15.921 | F23: 13.921 | G23: BOURSIÈRE | H23: 2 | I23: 0 | J23: =RAND() -> 0.33971543 | K23: =RANK(Tabel2[[#This Row],[alea]],Tabel2[alea]) -> 46
A24: 23 | B24: Monsieur | C24: NOM 23 | D24: PRENOM 23 | E24: =F24+H24+I24 -> 15.834 | F24: 15.834 | I24: 0 | J24: =RAND() -> 0.54534403 | K24: =RANK(Tabel2[[#This Row],[alea]],Tabel2[alea]) -> 34
A25: 24 | B25: Madame | C25: NOM 24 | D25: PRENOM 24 | E25: =F25+H25+I25 -> 15.819 | F25: 13.819 | G25: BOURSIÈRE | H25: 2 | I25: 0 | J25: =RAND() -> 0.22686631 | K25: =RANK(Tabel2[[#This Row],[alea]],Tabel2[alea]) -> 53
A26: 25 | B26: Madame | C26: NOM 25 | D26: PRENOM 25 | E26: =F26+H26+I26 -> 15.816 | F26: 14.816 | I26: 1 | J26: =RAND() -> 0.61800535 | K26: =RANK(Tabel2[[#This Row],[alea]],Tabel2[alea]) -> 30
A27: 26 | B27: Monsieur | C27: NOM 26 | D27: PRENOM 26 | E27: =F27+H27+I27 -> 15.801 | F27: 13.801 | G27: BOURSIER | H27: 2 | I27: 0 | J27: =RAND() -> 0.29232612 | K27: =RANK(Tabel2[[#This Row],[alea]],Tabel2[alea]) -> 50
A28: 27 | B28: Madame | C28: NOM 27 | D28: PRENOM 27 | E28: =F28+H28+I28 -> 15.637 | F28: 15.637 | I28: 0 | J28: =RAND() -> 0.67013204 | K28: =RANK(Tabel2[[#This Row],[alea]],Tabel2[alea]) -> 26
A29: 28 | B29: Monsieur | C29: NOM 28 | D29: PRENOM 28 | E29: 15.579 | F29: 13.579 | G29: BOURSIER | J29: =RAND() -> 0.84360796 | K29: =RANK(Tabel2[[#This Row],[alea]],Tabel2[alea]) -> 11
A30: 29 | B30: Madame | C30: NOM 29 | D30: PRENOM 29 | E30: =F30+H30+I30 -> 15.565 | F30: 13.565 | G30: BOURSIÈRE | H30: 2 | I30: 0 | J30: =RAND() -> 0.78393464 | K30: =RANK(Tabel2[[#This Row],[alea]],Tabel2[alea]) -> 18
A31: 30 | B31: Madame | C31: NOM 30 | D31: PRENOM 30 | E31: =F31+H31+I31 -> 15.525 | F31: 13.525 | G31: BOURSIÈRE | H31: 2 | I31: 0 | J31: =RAND() -> 0.42238245 | K31: =RANK(Tabel2[[#This Row],[alea]],Tabel2[alea]) -> 44
A32: 31 | B32: Madame | C32: NOM 31 | D32: PRENOM 31 | E32: =F32+H32+I32 -> 15.478 | F32: 13.478 | G32: BOURSIÈRE | H32: 2 | I32: 0 | J32: =RAND() -> 0.75966524 | K32: =RANK(Tabel2[[#This Row],[alea]],Tabel2[alea]) -> 19
A33: 32 | B33: Madame | C33: NOM 32 | D33: PRENOM 32 | E33: =F33+H33+I33 -> 15.421 | F33: 13.421 | G33: BOURSIÈRE | H33: 2 | I33: 0 | J33: =RAND() -> 0.98133219 | K33: =RANK(Tabel2[[#This Row],[alea]],Tabel2[alea]) -> 2
A34: 33 | B34: Madame | C34: NOM 33 | D34: PRENOM 33 | E34: =F34+H34+I34 -> 15.38 | F34: 15.38 | I34: 0 | J34: =RAND() -> 0.83210132 | K34: =RANK(Tabel2[[#This Row],[alea]],Tabel2[alea]) -> 13
A35: 34 | B35: Madame | C35: NOM 34 | D35: PRENOM 34 | E35: =F35+H35+I35 -> 15.349 | F35: 15.349 | I35: 0 | J35: =RAND() -> 0.0025994857 | K35: =RANK(Tabel2[[#This Row],[alea]],Tabel2[alea]) -> 72
A36: 35 | B36: Madame | C36: NOM 35 | D36: PRENOM 35 | E36: =F36+H36+I36 -> 15.316 | F36: 15.316 | I36: 0 | J36: =RAND() -> 0.98700213 | K36: =RANK(Tabel2[[#This Row],[alea]],Tabel2[alea]) -> 1
A37: 36 | B37: Madame | C37: NOM 36 | D37: PRENOM 36 | E37: =F37+H37+I37 -> 15.168 | F37: 15.168 | I37: 0 | J37: =RAND() -> 0.93920545 | K37: =RANK(Tabel2[[#This Row],[alea]],Tabel2[alea]) -> 8
A38: 37 | B38: Madame | C38: NOM 37 | D38: PRENOM 37 | E38: =F38+H38+I38 -> 14.972 | F38: 14.972 | I38: 0 | J38: =RAND() -> 0.48746246 | K38: =RANK(Tabel2[[#This Row],[alea]],Tabel2[alea]) -> 40
A39: 38 | B39: Monsieur | C39: NOM 38 | D39: PRENOM 38 | E39: =F39+H39+I39 -> 14.875 | F39: 14.875 | I39: 0 | J39: =RAND() -> 0.20768679 | K39: =RANK(Tabel2[[#This Row],[alea]],Tabel2[alea]) -> 56
A40: 39 | B40: Madame | C40: NOM 39 | D40: PRENOM 39 | E40: =F40+H40+I40 -> 14.865 | F40: 12.865 | G40: BOURSIÈRE - AMÉNAG. | H40: 2 | I40: 0 | J40: =RAND() -> 0.98102154 | K40: =RANK(Tabel2[[#This Row],[alea]],Tabel2[alea]) -> 3
A41: 40 | B41: Madame | C41: NOM 40 | D41: PRENOM 40 | E41: =F41+H41+I41 -> 14.835 | F41: 14.835 | G41: 1/3 TEMPS | I41: 0 | J41: =RAND() -> 0.78846376 | K41: =RANK(Tabel2[[#This Row],[alea]],Tabel2[alea]) -> 17
A42: 41 | B42: Madame | C42: NOM 41 | D42: PRENOM 41 | E42: =F42+H42+I42 -> 14.753 | F42: 14.753 | I42: 0 | J42: =RAND() -> 0.970182 | K42: =RANK(Tabel2[[#This Row],[alea]],Tabel2[alea]) -> 6
A43: 42 | B43: Madame | C43: NOM 42 | D43: PRENOM 42 | E43: =F43+H43+I43 -> 14.739 | F43: 14.739 | I43: 0 | J43: =RAND() -> 0.18765237 | K43: =RANK(Tabel2[[#This Row],[alea]],Tabel2[alea]) -> 57
A44: 43 | B44: Madame | C44: NOM 43 | D44: PRENOM 43 | E44: =F44+H44+I44 -> 14.671 | F44: 14.671 | J44: =RAND() -> 0.75216007 | K44: =RANK(Tabel2[[#This Row],[alea]],Tabel2[alea]) -> 20
A45: 44 | B45: Monsieur | C45: NOM 44 | D45: PRENOM 44 | E45: =F45+H45+I45 -> 14.663 | F45: 14.663 | I45: 0 | J45: =RAND() -> 0.94565334 | K45: =RANK(Tabel2[[#This Row],[alea]],Tabel2[alea]) -> 7
A46: 45 | B46: Madame | C46: NOM 45 | D46: PRENOM 45 | E46: =F46+H46+I46 -> 14.619 | F46: 14.619 | I46: 0 | J46: =RAND() -> 0.075077213 | K46: =RANK(Tabel2[[#This Row],[alea]],Tabel2[alea]) -> 68
A47: 46 | B47: Madame | C47: NOM 46 | D47: PRENOM 46 | E47: =F47+H47+I47 -> 14.599 | F47: 14.599 | I47: 0 | J47: =RAND() -> 0.36450716 | K47: =RANK(Tabel2[[#This Row],[alea]],Tabel2[alea]) -> 45
A48: 47 | B48: Madame | C48: NOM 47 | D48: PRENOM 47 | E48: =F48+H48+I48 -> 14.505 | F48: 12.505 | G48: BOURSIÈRE | H48: 2 | I48: 0 | J48: =RAND() -> 0.57244077 | K48: =RANK(Tabel2[[#This Row],[alea]],Tabel2[alea]) -> 31
A49: 48 | B49: Madame | C49: NOM 48 | D49: PRENOM 48 | E49: =F49+H49+I49 -> 14.413 | F49: 12.413 | G49: BOURSIÈRE | H49: 2 | I49: 0 | J49: =RAND() -> 0.56353558 | K49: =RANK(Tabel2[[#This Row],[alea]],Tabel2[alea]) -> 32
A50: 49 | B50: Madame | C50: NOM 49 | D50: PRENOM 49 | E50: 14.411 | F50: 14.411 | J50: =RAND() -> 0.32556182 | K50: =RANK(Tabel2[[#This Row],[alea]],Tabel2[alea]) -> 48
A51: 50 | B51: Madame | C51: NOM 50 | D51: PRENOM 50 | E51: =F51+H51+I51 -> 14.365 | F51: 12.365 | G51: BOURSIÈRE | H51: 2 | I51: 0 | J51: =RAND() -> 0.97044655 | K51: =RANK(Tabel2[[#This Row],[alea]],Tabel2[alea]) -> 5
A52: 51 | B52: Madame | C52: NOM 51 | D52: PRENOM 51 | E52: =F52+H52+I52 -> 14.364 | F52: 12.364 | G52: BOURSIÈRE | H52: 2 | I52: 0 | J52: =RAND() -> 0.16772593 | K52: =RANK(Tabel2[[#This Row],[alea]],Tabel2[alea]) -> 61
A53: 52 | B53: Madame | C53: NOM 52 | D53: PRENOM 52 | E53: =F53+H53+I53 -> 14.264 | F53: 14.264 | I53: 0 | J53: =RAND() -> 0.18486308 | K53: =RANK(Tabel2[[#This Row],[alea]],Tabel2[alea]) -> 59
A54: 53 | B54: Monsieur | C54: NOM 53 | D54: PRENOM 53 | E54: =F54+H54+I54 -> 14.251 | F54: 14.251 | I54: 0 | J54: =RAND() -> 0.33457842 | K54: =RANK(Tabel2[[#This Row],[alea]],Tabel2[alea]) -> 47
A55: 54 | B55: Madame | C55: NOM 54 | D55: PRENOM 54 | E55: =F55+H55+I55 -> 14.238 | F55: 14.238 | I55: 0 | J55: =RAND() -> 0.65750752 | K55: =RANK(Tabel2[[#This Row],[alea]],Tabel2[alea]) -> 27
A56: 55 | B56: Madame | C56: NOM 55 | D56: PRENOM 55 | E56: =F56+H56+I56 -> 14.186 | F56: 14.186 | I56: 0 | J56: =RAND() -> 0.48860831 | K56: =RANK(Tabel2[[#This Row],[alea]],Tabel2[alea]) -> 39
A57: 56 | B57: Madame | C57: NOM 56 | D57: PRENOM 56 | E57: =F57+H57+I57 -> 14.18 | F57: 13.18 | I57: 1 | J57: =RAND() -> 0.43537788 | K57: =RANK(Tabel2[[#This Row],[alea]],Tabel2[alea]) -> 43
A58: 57 | B58: Madame | C58: NOM 57 | D58: PRENOM 57 | E58: =F58+H58+I58 -> 14.14 | F58: 12.14 | G58: BOURSIÈRE - 1/3 TEMPS - ORDINATEUR | H58: 2 | I58: 0 | J58: =RAND() -> 0.54048532 | K58: =RANK(Tabel2[[#This Row],[alea]],Tabel2[alea]) -> 35
A59: 58 | B59: Madame | C59: NOM 58 | D59: PRENOM 58 | E59: =F59+H59+I59 -> 14.115 | F59: 14.115 | I59: 0 | J59: =RAND() -> 0.74570872 | K59: =RANK(Tabel2[[#This Row],[alea]],Tabel2[alea]) -> 22
A60: 59 | B60: Madame | C60: NOM 59 | D60: PRENOM 59 | E60: =F60+H60+I60 -> 14.094 | F60: 14.094 | I60: 0 | J60: =RAND() -> 0.72320956 | K60: =RANK(Tabel2[[#This Row],[alea]],Tabel2[alea]) -> 24
A61: 60 | B61: Madame | C61: NOM 60 | D61: PRENOM 60 | E61: =F61+H61+I61 -> 14.052 | F61: 14.052 | I61: 0 | J61: =RAND() -> 0.025683699 | K61: =RANK(Tabel2[[#This Row],[alea]],Tabel2[alea]) -> 70
A62: 61 | B62: Madame | C62: NOM 61 | D62: PRENOM 61 | E62: =F62+H62+I62 -> 13.919 | F62: 13.919 | I62: 0 | J62: =RAND() -> 0.62103743 | K62: =RANK(Tabel2[[#This Row],[alea]],Tabel2[alea]) -> 29
A63: 62 | B63: Madame | C63: NOM 62 | D63: PRENOM 62 | E63: =F63+H63+I63 -> 13.692 | F63: 13.692 | I63: 0 | J63: =RAND() -> 0.1275004 | K63: =RANK(Tabel2[[#This Row],[alea]],Tabel2[alea]) -> 66
A64: 63 | B64: Madame | C64: NOM 63 | D64: PRENOM 63 | E64: =F64+H64+I64 -> 13.667 | F64: 13.667 | I64: 0 | J64: =RAND() -> 0.18589784 | K64: =RANK(Tabel2[[#This Row],[alea]],Tabel2[alea]) -> 58
A65: 64 | B65: Madame | C65: NOM 64 | D65: PRENOM 64 | E65: =F65+H65+I65 -> 13.641 | F65: 13.641 | I65: 0 | J65: =RAND() -> 0.54992184 | K65: =RANK(Tabel2[[#This Row],[alea]],Tabel2[alea]) -> 33
A66: 65 | B66: Madame | C66: NOM 65 | D66: PRENOM 65 | E66: =F66+H66+I66 -> 13.634 | F66: 13.634 | I66: 0 | J66: =RAND() -> 0.12999793 | K66: =RANK(Tabel2[[#This Row],[alea]],Tabel2[alea]) -> 65
A67: 66 | B67: Madame | C67: NOM 66 | D67: PRENOM 66 | E67: =F67+H67+I67 -> 13.596 | F67: 13.596 | I67: 0 | J67: =RAND() -> 0.13112194 | K67: =RANK(Tabel2[[#This Row],[alea]],Tabel2[alea]) -> 64
A68: 67 | B68: Madame | C68: NOM 67 | D68: PRENOM 67 | E68: =F68+H68+I68 -> 13.465 | F68: 13.465 | I68: 0 | J68: =RAND() -> 0.82086812 | K68: =RANK(Tabel2[[#This Row],[alea]],Tabel2[alea]) -> 14
A69: 68 | B69: Madame | C69: NOM 68 | D69: PRENOM 68 | E69: =F69+H69+I69 -> 13.401 | F69: 13.401 | I69: 0 | J69: =RAND() -> 0.97083022 | K69: =RANK(Tabel2[[#This Row],[alea]],Tabel2[alea]) -> 4
A70: 69 | B70: Madame | C70: NOM 69 | D70: PRENOM 69 | E70: =F70+H70+I70 -> 13.347 | F70: 13.347 | I70: 0 | J70: =RAND() -> 0.2381954 | K70: =RANK(Tabel2[[#This Row],[alea]],Tabel2[alea]) -> 52
... A73: 72 | B73: Madame | C73: NOM 72 | D73: PRENOM 72 | E73: =F73+H73+I73 -> 12.425 | F73: 12.425 | I73: 0 | J73: =RAND() -> 0.83239098 | K73: =RANK(Tabel2[[#This Row],[alea]],Tabel2[alea]) -> 12

Sheet postes
A4: Fiche de vœux d'affectation des professeurs des écoles
A7: Nom d'usage: | D7: Prénom:
A8: Nom patronymique: | D8: Date de naissance:
A9: Adresse électronique: | D9: Téléphone:
A10: Adresse postale: | D10: Commune:
A12: N° RNE | B12: Ecole | C12: Commune | D12: Circonscription | E12: Niveau de classe | F12: Ordre de préférence | G12: nom | H12: prenom | I12: bareme | J12: moyenne
A13: 00x0652B | B13: Ecole 1 | C13: VILLE 1 | D13: CIRCO 1 | E13: PS/MS/GS | F13: =MATCH(ROW()-12,Tabel2[rank],0) -> 35 | G13: {=INDEX(Tabel2[Nom],postes!$F13)} -> NOM 35 | H13: {=INDEX(Tabel2[Prénom],postes!$F13)} -> PRENOM 35 | I13: {=INDEX(Tabel2[Barème],postes!$F13)} -> 15.316 | J13: {=INDEX(Tabel2[MOYENNE M1],postes!$F13)} -> 15.316
A14: 00x1222W | B14: Ecole 2 | C14: VILLE 1 | D14: CIRCO 1 | E14: PS/GS | F14: =MATCH(ROW()-12,Tabel2[rank],0) -> 32 | G14: {=INDEX(Tabel2[Nom],postes!$F14)} -> NOM 32 | H14: {=INDEX(Tabel2[Prénom],postes!$F14)} -> PRENOM 32 | I14: {=INDEX(Tabel2[Barème],postes!$F14)} -> 15.421 | J14: {=INDEX(Tabel2[MOYENNE M1],postes!$F14)} -> 13.421
A15: 00x1378R | B15: Ecole 3 | C15: VILLE 1 | D15: CIRCO 1 | E15: PS | F15: =MATCH(ROW()-12,Tabel2[rank],0) -> 39 | G15: {=INDEX(Tabel2[Nom],postes!$F15)} -> NOM 39 | H15: {=INDEX(Tabel2[Prénom],postes!$F15)} -> PRENOM 39 | I15: {=INDEX(Tabel2[Barème],postes!$F15)} -> 14.865 | J15: {=INDEX(Tabel2[MOYENNE M1],postes!$F15)} -> 12.865
A16: 00x1624H | B16: Ecole 4 | C16: VILLE 1 | D16: CIRCO 1 | E16: MS/GS | F16: =MATCH(ROW()-12,Tabel2[rank],0) -> 68 | G16: {=INDEX(Tabel2[Nom],postes!$F16)} -> NOM 68 | H16: {=INDEX(Tabel2[Prénom],postes!$F16)} -> PRENOM 68 | I16: {=INDEX(Tabel2[Barème],postes!$F16)} -> 13.401 | J16: {=INDEX(Tabel2[MOYENNE M1],postes!$F16)} -> 13.401
A17: 00x1783F | B17: Ecole 5 | C17: VILLE 2 | D17: CIRCO 1 | E17: CM2 | F17: =MATCH(ROW()-12,Tabel2[rank],0) -> 50 | G17: {=INDEX(Tabel2[Nom],postes!$F17)} -> NOM 50 | H17: {=INDEX(Tabel2[Prénom],postes!$F17)} -> PRENOM 50 | I17: {=INDEX(Tabel2[Barème],postes!$F17)} -> 14.365 | J17: {=INDEX(Tabel2[MOYENNE M1],postes!$F17)} -> 12.365
A18: 00x0761V | B18: Ecole 6 | C18: VILLE 3 | D18: CIRCO 2 | E18: MS | F18: =MATCH(ROW()-12,Tabel2[rank],0) -> 41 | G18: {=INDEX(Tabel2[Nom],postes!$F18)} -> NOM 41 | H18: {=INDEX(Tabel2[Prénom],postes!$F18)} -> PRENOM 41 | I18: {=INDEX(Tabel2[Barème],postes!$F18)} -> 14.753 | J18: {=INDEX(Tabel2[MOYENNE M1],postes!$F18)} -> 14.753
A19: 00x1281K | B19: Ecole 7 | C19: VILLE 3 | D19: CIRCO 2 | E19: PS | F19: =MATCH(ROW()-12,Tabel2[rank],0) -> 44 | G19: {=INDEX(Tabel2[Nom],postes!$F19)} -> NOM 44 | H19: {=INDEX(Tabel2[Prénom],postes!$F19)} -> PRENOM 44 | I19: {=INDEX(Tabel2[Barème],postes!$F19)} -> 14.663 | J19: {=INDEX(Tabel2[MOYENNE M1],postes!$F19)} -> 14.663
A20: 00x1435C | B20: Ecole 8 | C20: VILLE 3 | D20: CIRCO 2 | E20: PS | F20: =MATCH(ROW()-12,Tabel2[rank],0) -> 36 | G20: {=INDEX(Tabel2[Nom],postes!$F20)} -> NOM 36 | H20: {=INDEX(Tabel2[Prénom],postes!$F20)} -> PRENOM 36 | I20: {=INDEX(Tabel2[Barème],postes!$F20)} -> 15.168 | J20: {=INDEX(Tabel2[MOYENNE M1],postes!$F20)} -> 15.168
A21: 00x1724S | B21: Ecole 9 | C21: VILLE 3 | D21: CIRCO 2 | E21: MS | F21: =MATCH(ROW()-12,Tabel2[rank],0) -> 8 | G21: {=INDEX(Tabel2[Nom],postes!$F21)} -> NOM 8 | H21: {=INDEX(Tabel2[Prénom],postes!$F21)} -> PRENOM 8 | I21: {=INDEX(Tabel2[Barème],postes!$F21)} -> 16.871 | J21: {=INDEX(Tabel2[MOYENNE M1],postes!$F21)} -> 14.871
A22: 00x0543H | B22: Ecole 10 | C22: VILLE 4 | D22: CIRCO 2 | E22: CP | F22: =MATCH(ROW()-12,Tabel2[rank],0) -> 70 | G22: {=INDEX(Tabel2[Nom],postes!$F22)} -> NOM 70 | H22: {=INDEX(Tabel2[Prénom],postes!$F22)} -> PRENOM 70 | I22: {=INDEX(Tabel2[Barème],postes!$F22)} -> 13.272 | J22: {=INDEX(Tabel2[MOYENNE M1],postes!$F22)} -> 13.272
A23: 00x0545K | B23: Ecole 11 | C23: VILLE 4 | D23: CIRCO 2 | E23: CM2 | F23: =MATCH(ROW()-12,Tabel2[rank],0) -> 28 | G23: {=INDEX(Tabel2[Nom],postes!$F23)} -> NOM 28 | H23: {=INDEX(Tabel2[Prénom],postes!$F23)} -> PRENOM 28 | I23: {=INDEX(Tabel2[Barème],postes!$F23)} -> 15.579 | J23: {=INDEX(Tabel2[MOYENNE M1],postes!$F23)} -> 13.579
A24: 00x0547M | B24: Ecole 12 | C24: VILLE 4 | D24: CIRCO 2 | E24: GS | F24: =MATCH(ROW()-12,Tabel2[rank],0) -> 72 | G24: {=INDEX(Tabel2[Nom],postes!$F24)} -> NOM 72 | H24: {=INDEX(Tabel2[Prénom],postes!$F24)} -> PRENOM 72 | I24: {=INDEX(Tabel2[Barème],postes!$F24)} -> 12.425 | J24: {=INDEX(Tabel2[MOYENNE M1],postes!$F24)} -> 12.425
... A84: 00x2050W | B84: Ecole 72 | C84: VILLE 30 | D84: CIRCO 17 | E84: PS/MS | F84: =MATCH(ROW()-12,Tabel2[rank],0) -> 34 | G84: {=INDEX(Tabel2[Nom],postes!$F84)} -> NOM 34 | H84: {=INDEX(Tabel2[Prénom],postes!$F84)} -> PRENOM 34 | I84: {=INDEX(Tabel2[Barème],postes!$F84)} -> 15.349 | J84: {=INDEX(Tabel2[MOYENNE M1],postes!$F84)} -> 15.349
B99: =A7 -> Nom d'usage: | D99: =D7 -> Prénom:

Sheet Feuil1
A1: 1 | B1: =IFERROR(VLOOKUP(A1,postes!$F$13:$F$84,1,FALSE),"Non choisi") -> 1 | C1: =IF(B1="Non choisi",A1,"") | D1: =IFERROR(SMALL($C$1:$C$72,ROW(A1)),"")
A2: 2 | B2: =IFERROR(VLOOKUP(A2,postes!$F$13:$F$84,1,FALSE),"Non choisi") -> 2 | C2: =IF(B2="Non choisi",A2,"") | D2: =IFERROR(SMALL($C$1:$C$72,ROW(A2)),"")
A3: 3 | B3: =IFERROR(VLOOKUP(A3,postes!$F$13:$F$84,1,FALSE),"Non choisi") -> 3 | C3: =IF(B3="Non choisi",A3,"") | D3: =IFERROR(SMALL($C$1:$C$72,ROW(A3)),"")
A4: 4 | B4: =IFERROR(VLOOKUP(A4,postes!$F$13:$F$84,1,FALSE),"Non choisi") -> 4 | C4: =IF(B4="Non choisi",A4,"") | D4: =IFERROR(SMALL($C$1:$C$72,ROW(A4)),"")
A5: 5 | B5: =IFERROR(VLOOKUP(A5,postes!$F$13:$F$84,1,FALSE),"Non choisi") -> 5 | C5: =IF(B5="Non choisi",A5,"") | D5: =IFERROR(SMALL($C$1:$C$72,ROW(A5)),"")
A6: 6 | B6: =IFERROR(VLOOKUP(A6,postes!$F$13:$F$84,1,FALSE),"Non choisi") -> 6 | C6: =IF(B6="Non choisi",A6,"") | D6: =IFERROR(SMALL($C$1:$C$72,ROW(A6)),"")
A7: 7 | B7: =IFERROR(VLOOKUP(A7,postes!$F$13:$F$84,1,FALSE),"Non choisi") -> 7 | C7: =IF(B7="Non choisi",A7,"") | D7: =IFERROR(SMALL($C$1:$C$72,ROW(A7)),"")
A8: 8 | B8: =IFERROR(VLOOKUP(A8,postes!$F$13:$F$84,1,FALSE),"Non choisi") -> 8 | C8: =IF(B8="Non choisi",A8,"") | D8: =IFERROR(SMALL($C$1:$C$72,ROW(A8)),"")
A9: 9 | B9: =IFERROR(VLOOKUP(A9,postes!$F$13:$F$84,1,FALSE),"Non choisi") -> 9 | C9: =IF(B9="Non choisi",A9,"") | D9: =IFERROR(SMALL($C$1:$C$72,ROW(A9)),"")
A10: 10 | B10: =IFERROR(VLOOKUP(A10,postes!$F$13:$F$84,1,FALSE),"Non choisi") -> 10 | C10: =IF(B10="Non choisi",A10,"") | D10: =IFERROR(SMALL($C$1:$C$72,ROW(A10)),"")
A11: 11 | B11: =IFERROR(VLOOKUP(A11,postes!$F$13:$F$84,1,FALSE),"Non choisi") -> 11 | C11: =IF(B11="Non choisi",A11,"") | D11: =IFERROR(SMALL($C$1:$C$72,ROW(A11)),"")
A12: 12 | B12: =IFERROR(VLOOKUP(A12,postes!$F$13:$F$84,1,FALSE),"Non choisi") -> 12 | C12: =IF(B12="Non choisi",A12,"") | D12: =IFERROR(SMALL($C$1:$C$72,ROW(A12)),"")
... A72: 72 | B72: =IFERROR(VLOOKUP(A72,postes!$F$13:$F$84,1,FALSE),"Non choisi") -> 72 | C72: =IF(B72="Non choisi",A72,"") | D72: =IFERROR(SMALL($C$1:$C$72,ROW(A72)),"")
