Workbook
Name Col1_: OFFSET(Données,,,,1)
Name Données: DATA!$A$4:$AK$110

Sheet Feuil1
I12: ><<

Sheet PROCÉDURE
B2: MISE A JOUR DES DONNÉES PAR POSTE
C4: VARIABLE PAR POSTE MODIFIABLE SOUS L'ONGLET "POSTE" :
C6: * | D6: Date de départ des Forecast
C7: * | D7: Moyenne Kg/heure
C8: * | D8: Nombre d'employés / poste
C9: * | D9: Nombre d'heures / jour ouvrable
C12: AJOUT D'UN NOUVEAU POSTE DE TRAVAIL
C14: * | D14: Faire la demande a la comptabilité
B17: MISE A JOUR DES DONNÉES DES PROJETS
C19: AJOUT D'UN PROJET
C21: Inscrire les données du projet sous l'onglet "DATA" (Colonne C a Z)
C23: * | D23: Si il y a une quantité NULLE, inscrire un ZÉRO
C25: * | D25: S'assurer d'inscrire le projet sur une ligne dont les cellules sont en couleur.
D26: Ceci indique qu'il y a des formules dans les zones grises et que les formules
D27: vont tenir compte de l'ajout
C30: RETIRER UN PROJET EXISTANT DE LA PLANIFICATION TEMPORAIREMENT
C32: * | D32: Inscrire NON sous la colonne "H" de l'onglet "DATA"
D34: Ceci permet de conserver les données dans le fichier ET de les
D35: exclures de la palnification en terme de Qté et de date
C38: DEPLACER UN PROJET DANS L'ORDRE DES PRIORITÉS
C40: * | D40: Sélectionner la ligne du projet désiré (Au complet)
C41: * | D41: Couper
C42: * | D42: Insérer la ligne a l'endroit désiré (Coller)
D44: Important : Après avoir fait des changements sous l'onglet DATA, il faut mettre
D45: a jour le TCD pour que la modification se reflete dans le tableau.
C47: AJOUTER DES CONGÉS FÉRIÉES
C49: * | D49: Incrire la date sous l'onglet CONGÉ dans la zone BLEU
B51: TABLEAU SOMMAIRE
C53: ONGLET SOMMAIRE
C55: * | D55: Tableau sommaire qui permet d'avoir une vue d'ensemble de la planification
D56: avec la date de fin de tous les projets par poste
C58: ONGLET DETAIL TOUT
C60: * | D60: Présente la date de fin des travaux pour chaque job planifié pour
D61: chaque étape de production planifiée.
D63: Si la date de fin de livrison est plus grandes que la date de réquisition du client
D64: la cellule de la date de livraison sera rouge
D66: S'il n'y a pas de date de requisition pour la job, la date de requisition sera rouge
D68: Il est possible d'utiliser les filtres pour cibler un poste ou une job en particulier
B71: DIAGRAMME DE GANT
C73: GANTT PAR JOB
...

Sheet POSTE
B1: # POSTE | C1: DESCRIPTION | D1: DEBUT | E1: KG/HEURE | F1: # HOMMES | G1: HRE/JOUR | H1: CAP/JOUR | I1: CAP/SEM
B2: RADIAL (WF + C) | C2: RADIAL (WF + C) | D2: =+TODAY() -> 45754 | E2: 500 | F2: 2 | G2: =F2*8 -> 16 | H2: =+E2*G2 -> 8000 | I2: =H2*5 -> 40000 | J2: =I2 -> 40000 | L2: 1
B3: LS | C3: PERC. C/N (LS OU LC) 9/16" ≥ et plus | D3: =+TODAY() -> 45754 | E3: 600 | F3: 1.5 | G3: =F3*8 -> 12 | H3: =+E3*G3 -> 7200 | I3: =H3*5 -> 36000 | J3: =I3 -> 36000 | L3: 1.5
B4: LC | C4: PROFEL LC 1/2" ≤ d´épais et moins | D4: =+TODAY() -> 45754 | E4: 400 | F4: 2 | G4: =F4*8 -> 16 | H4: =+E4*G4 -> 6400 | I4: =H4*5 -> 32000 | J4: =I4 -> 32000 | L4: 3
B5: LB | C5: FORMAT BARRE LB | D5: =+TODAY() -> 45754 | E5: 300 | F5: 2 | G5: =F5*8 -> 16 | H5: =+E5*G5 -> 4800 | I5: =H5*5 -> 24000 | J5: =I5 -> 24000 | L5: 3
B6: LC + LB | D6: =+TODAY() -> 45754 | J6: 0
B7: PL+ | C7: RADIAL (PL ET FLAT) 9/16" ≥ et plus | D7: =+TODAY() -> 45754 | E7: 200 | F7: 1 | G7: =F7*8 -> 8 | H7: =+E7*G7 -> 1600 | I7: =H7*5 -> 8000 | J7: =I7 -> 8000 | L7: 1
B8: PL- | C8: POINÇ. (PL ET FLAT) 1/2" ≤ d´épais et moins | D8: =+TODAY() -> 45754 | E8: 121 | F8: 2 | G8: =F8*8 -> 16 | H8: =+E8*G8 -> 1936 | I8: =H8*5 -> 9680 | J8: =I8 -> 9680 | L8: 1
B9: 6a15 | C9: WF (6@15)et (6@8.5) (8@13) | D9: =+TODAY() -> 45754 | E9: 750 | F9: 1 | G9: =F9*8 -> 8 | H9: =+E9*G9 -> 6000 | I9: =H9*5 -> 30000 | J9: =I9 -> 30000 | L9: 1
B10: DIVERS | C10: DIVERS | D10: =+TODAY() -> 45754 | E10: 250 | F10: 1 | G10: =F10*8 -> 8 | H10: =+E10*G10 -> 2000 | I10: =H10*5 -> 10000 | J10: =I10 -> 10000 | L10: 1
B11: SOUDURE | C11: Soudure Mks / Pièces | D11: =+TODAY() -> 45754 | E11: 1 | F11: 6 | G11: =F11*8 -> 48 | H11: =+E11*G11 -> 48 | I11: =H11*5 -> 240 | J11: 0 | L11: 6
B12: MONTAGE | C12: Nombre d'heure | D12: =+TODAY() -> 45754 | E12: 1 | F12: 1 | G12: 8 | H12: =+E12*G12 -> 8 | I12: =H12*5 -> 40 | L12: 1
J13: =SUM(J2:J9) -> 179680 | K13: =J13*4.2 -> 754656 | L13: =J13*48 -> 8624640
J14: weekly | K14: monthly | L14: Annualy
F15: 2 | J15: CNP | K15: CNP
A16: Soudeur 1 | B16: Pierre Hamel | C16: Jour | F16: 4 | J16: CNP | K16: CNP
A17: Soudeur 2 | B17: Yanick Dufresne | C17: Jour | F17: 4
A18: Soudeur 3 | B18: Marco Ayotte | C18: Jour | F18: 4
A19: Soudeur 4 | B19: Francis Desharnais | C19: Jour
A20: Soudeur 5 | B20: Serge Villemure | C20: Soir | F20: 2
A21: Soudeur 6 | B21: John Fredy | C21: Soir | F21: 2
A22: Soudeur 7 | B22: Rabia | C22: Soir | F22: 2
F23: 1
F24: 6
F25: 1

Sheet CONGÉ
B2: 2024
B4: Jour de l'an | C4: =+DATE($B2,1,1) -> 45292
B5: Dimanche Pâques | C5: 45383
B6: Lundi de paques | C6: =+C5+1 -> 45384
B7: Fetes des patriotes | C7: 45432
B8: Fete nationale | C8: =+ DATE($B2,6,24) -> 45467
B9: Fete du canada | C9: =+ DATE($B2,7,1) -> 45474
B10: Vacances | C10: 45495
B11: Vacances | C11: =1+C10 -> 45496
B12: Vacances | C12: =1+C11 -> 45497
B13: Vacances | C13: =1+C12 -> 45498
B14: Vacances | C14: =1+C13 -> 45499
B15: Vacances | C15: =C14+3 -> 45502
B16: Vacances | C16: =1+C15 -> 45503
B17: Vacances | C17: =1+C16 -> 45504
B18: Vacances | C18: =1+C17 -> 45505
B19: Vacances | C19: =1+C18 -> 45506
B20: Vacances | C20: =C19+3 -> 45509
B21: Vacances | C21: =1+C20 -> 45510
B22: Vacances | C22: =1+C21 -> 45511
B23: Vacances | C23: =1+C22 -> 45512
B24: Vacances | C24: =1+C23 -> 45513
B25: fete du travail | C25: 45537
B26: Action graces | C26: 45579
B27: Noel | C27: =+DATE($B$2,12,23) -> 45649
B28: Noel | C28: =+DATE($B$2,12,24) -> 45650
B29: Noel | C29: =+DATE($B$2,12,25) -> 45651
B30: Noel | C30: =+DATE($B$2,12,26) -> 45652
B31: Noel | C31: =+DATE($B$2,12,27) -> 45653
B32: Noel | C32: =+DATE($B$2,12,28) -> 45654
B33: Noel | C33: =+DATE($B$2,12,29) -> 45655
B34: Noel | C34: =+DATE($B$2,12,30) -> 45656
B35: Noel | C35: =+DATE($B$2,12,31) -> 45657
B36: Noel | C36: =+DATE($B$2+1,1,1) -> 45658
B37: Noel | C37: =+DATE($B$2+1,1,2) -> 45659
B38: Noel | C38: =+DATE($B$2+1,1,3) -> 45660
B42: 2025
B44: Jour de l'an | C44: =+DATE($B42,1,1) -> 45658
B45: Dimanche Pâques | C45: 45382
B46: Lundi de paques | C46: =+C45+1 -> 45383
...

Sheet CUM
A1: PRIORITÉ | C1: JOB | D1: CLIENT | E1: REQUISITION | F1: PLANIFIÉ | G1: =+CONCATENATE(POSTE!$B2,"-","MARQ") -> RADIAL (WF + C)-MARQ | H1: =+CONCATENATE(POSTE!$B3,"-","MARQ") -> LS-MARQ | I1: =+CONCATENATE(POSTE!$B4,"-","MARQ") -> LC-MARQ | J1: =+CONCATENATE(POSTE!$B5,"-","MARQ") -> LB-MARQ | K1: =+CONCATENATE(POSTE!$B7,"-","MARQ") -> PL+-MARQ | L1: =+CONCATENATE(POSTE!$B8,"-","MARQ") -> PL--MARQ | M1: =+CONCATENATE(POSTE!$B9,"-","MARQ") -> 6a15-MARQ | N1: =+CONCATENATE(POSTE!$B10,"-","MARQ") -> DIVERS-MARQ | O1: =+CONCATENATE(POSTE!$B11,"-","MARQ") -> SOUDURE-MARQ | P1: TTL MARKS | Q1: =+CONCATENATE(POSTE!$B2,"-","POIDS") -> RADIAL (WF + C)-POIDS | R1: =+CONCATENATE(POSTE!$B3,"-","POIDS") -> LS-POIDS | S1: =+CONCATENATE(POSTE!$B4,"-","POIDS") -> LC-POIDS | T1: =+CONCATENATE(POSTE!$B5,"-","POIDS") -> LB-POIDS | U1: =+CONCATENATE(POSTE!$B7,"-","POIDS") -> PL+-POIDS | V1: =+CONCATENATE(POSTE!$B8,"-","POIDS") -> PL--POIDS | W1: =+CONCATENATE(POSTE!$B9,"-","POIDS") -> 6a15-POIDS | X1: =+CONCATENATE(POSTE!$B10,"-","POIDS") -> DIVERS-POIDS | Y1: =+CONCATENATE(POSTE!$B11,"-","POIDS") -> SOUDURE-POIDS | Z1: TTL KG | AA1: =+CONCATENATE(POSTE!$B2,"-","CUM") -> RADIAL (WF + C)-CUM | AB1: =+CONCATENATE(POSTE!$B3,"-","CUM") -> LS-CUM | AC1: =+CONCATENATE(POSTE!$B4,"-","CUM") -> LC-CUM | AD1: =+CONCATENATE(POSTE!$B5,"-","CUM") -> LB-CUM | AE1: =+CONCATENATE(POSTE!$B7,"-","CUM") -> PL+-CUM | AF1: =+CONCATENATE(POSTE!$B8,"-","CUM") -> PL--CUM | AG1: =+CONCATENATE(POSTE!$B9,"-","CUM") -> 6a15-CUM | AH1: =+CONCATENATE(POSTE!$B10,"-","CUM") -> DIVERS-CUM | AI1: =+CONCATENATE(POSTE!$B11,"-","CUM") -> SOUDURE-CUM | AJ1: RADIAL (WF + C) | AK1: LS | AL1: LC | AM1: LB | AN1: PL+ | AO1: PL- | AP1: 6a15 | AQ1: DIVERS | AR1: SOUDURE | AS1: RADIAL (WF + C) | AT1: LS | AU1: LC + LB | AV1: PL+ | AW1: PL- | AX1: 6a15 | AY1: DIVERS | AZ1: SOUDURE | BA1: LC | BB1: LB | BC1: DATE MIN | BD1: DATE MAX | BE1: MONTAGE-HRE | BF1: =+CONCATENATE(POSTE!$B12,"-","CUM") -> MONTAGE-CUM | BG1: MONTAGE | BH1: MONTAGE | BI1: FIN EMBALLAGE | BJ1: LC + LB | BK1: CONTRÔLE | BL1: CONTRÔLE | BM1: CONTRÔLE | BN1: CONTRÔLE
C2: 0 | AJ2: DATE DEB | AK2: DATE DEB | AL2: DATE DEB | AM2: DATE DEB | AN2: DATE DEB | AO2: DATE DEB | AP2: DATE DEB | AQ2: DATE DEB | AR2: DATE DEB | AS2: DATE FIN | AT2: DATE FIN | AU2: DATE FIN | AV2: DATE FIN | AW2: DATE FIN | AX2: DATE FIN | AY2: DATE FIN | AZ2: DATE FIN | BA2: DATE FIN | BB2: DATE FIN | BG2: DATE DEB | BH2: DATE FIN | BJ2: CUM | BK2: DEBUT | BL2: DUREE | BM2: FIN | BN2: ECART
A3: Date | C3: 5 | D3: 4 | E3: 7 | F3: 15 | G3: =+COLUMN()-2 -> 5 | H3: =+COLUMN()-2 -> 6 | I3: =+COLUMN()-2 -> 7 | J3: =+COLUMN()-2 -> 8 | K3: =+COLUMN()-2 -> 9 | L3: =+COLUMN()-2 -> 10 | M3: =+COLUMN()-2 -> 11 | N3: =+COLUMN()-2 -> 12 | ... BN3: =+COLUMN()-2 -> 64
A4: Mise en prod | B4: ligne | C4: 0 | AA4: 0 | AB4: 0 | AC4: 0 | AD4: 0 | AE4: 0 | AF4: 0 | AG4: 0 | AH4: 0 | AI4: 0 | BF4: 0
A5: =+ROW()-ROW($A$4) -> 1 | B5: {=_xlfn.LET(_xlpm.CORR,IF(DATA!$B$4:$B$104="",IF(DATA!$A$4:$A$104="","--",DATA!$A$4:$A$104),DATA!$B$4:$B$104),_xlpm.Rx,SMALL(_xlpm.CORR,A5),IFERROR(MATCH(_xlpm.Rx,_xlpm.CORR,0),0))} -> 7 | C5: {=IF($B5=0,"",INDEX(Données,$B5,C$3))} -> Traail 7 | D5: {=IF($B5=0,"",INDEX(Données,$B5,D$3))} -> Client 7 | E5: {=IF($B5=0,"",INDEX(Données,$B5,E$3))} -> 45782 | F5: {=IF($B5=0,"",INDEX(Données,$B5,F$3))} -> OUI | G5: =+IF($F5="oui",+VLOOKUP($A5,DATA!$A:$AG,DATA!$P$3,FALSE),0) -> 7 | H5: =+IF($F5="oui",+VLOOKUP($A5,DATA!$A:$AG,DATA!$R$3,FALSE),0) -> 2 | I5: =+IF($F5="oui",+VLOOKUP($A5,DATA!$A:$AG,DATA!$T$3,FALSE),0) -> 0 | J5: =+IF($F5="oui",+VLOOKUP($A5,DATA!$A:$AG,DATA!$V$3,FALSE),0) -> 0 | K5: =+IF($F5="oui",+VLOOKUP($A5,DATA!$A:$AG,DATA!$X$3,FALSE),0) -> 0 | L5: =+IF($F5="oui",+VLOOKUP($A5,DATA!$A:$AG,DATA!$Z$3,FALSE),0) -> 0 | M5: =+IF($F5="oui",+VLOOKUP($A5,DATA!$A:$AG,DATA!$AB$3,FALSE),0) -> 0 | N5: =+IF($F5="oui",+VLOOKUP($A5,DATA!$A:$AG,DATA!$AD$3,FALSE),0) -> 0 | O5: =+IF($F5="oui",+VLOOKUP($A5,DATA!$A:$AG,DATA!$AF$3,FALSE),0) -> 5 | P5: =SUM(G5:O5) -> 14 | Q5: =+IF($F5="oui",+VLOOKUP($A5,DATA!$A:$AG,DATA!$Q$3,FALSE),0) -> 46958 | R5: =+IF($F5="oui",+VLOOKUP($A5,DATA!$A:$AG,DATA!$S$3,FALSE),0) -> 3672 | S5: =+IF($F5="oui",+VLOOKUP($A5,DATA!$A:$AG,DATA!$U$3,FALSE),0) -> 0 | T5: =+IF($F5="oui",+VLOOKUP($A5,DATA!$A:$AG,DATA!$W$3,FALSE),0) -> 0 | U5: =+IF($F5="oui",+VLOOKUP($A5,DATA!$A:$AG,DATA!$Y$3,FALSE),0) -> 0 | V5: =+IF($F5="oui",+VLOOKUP($A5,DATA!$A:$AG,DATA!$AA$3,FALSE),0) -> 0 | W5: =+IF($F5="oui",+VLOOKUP($A5,DATA!$A:$AG,DATA!$AC$3,FALSE),0) -> 0 | X5: =+IF($F5="oui",+VLOOKUP($A5,DATA!$A:$AG,DATA!$AE$3,FALSE),0) -> 0 | Y5: =+IF($F5="oui",+VLOOKUP($A5,DATA!$A:$AG,DATA!$AG$3,FALSE),0) -> 384 | Z5: =SUM(Q5:Y5) -> 51014 | AA5: =+AA4+Q5 -> 46958 | AB5: =+AB4+R5 -> 3672 | AC5: =+AC4+S5 -> 0 | AD5: =+AD4+T5 -> 0 | AE5: =+AE4+U5 -> 0 | AF5: =+AF4+V5 -> 0 | AG5: =+AG4+W5 -> 0 | AH5: =+AH4+X5 -> 0 | AI5: =+AI4+Y5 -> 384 | AJ5: =+IF(Q5=0," ",+WORKDAY.INTL(+VLOOKUP(AJ$1,POSTE!$B:$G,3,FALSE),+CUM!AA4/+VLOOKUP(AJ$1,POSTE!$B:$H,7,FALSE),,CONGÉ!$C$2:$C$80)) -> 45754 | AK5: =+IF(R5=0," ",+WORKDAY.INTL(+VLOOKUP(AK$1,POSTE!$B:$G,3,FALSE),+CUM!AB4/+VLOOKUP(AK$1,POSTE!$B:$H,7,FALSE),,CONGÉ!$C$2:$C$80)) -> 45754 | AL5: =+IF(S5=0," ",+WORKDAY.INTL(+VLOOKUP(AL$1,POSTE!$B:$G,3,FALSE),+CUM!AC4/+VLOOKUP(AL$1,POSTE!$B:$H,7,FALSE),,CONGÉ!$C$2:$C$80)) | AM5: =+IF(T5=0," ",+WORKDAY.INTL(+VLOOKUP(AM$1,POSTE!$B:$G,3,FALSE),+CUM!AD4/+VLOOKUP(AM$1,POSTE!$B:$H,7,FALSE),,CONGÉ!$C$2:$C$80)) | AN5: =+IF(U5=0," ",+WORKDAY.INTL(+VLOOKUP(AN$1,POSTE!$B:$G,3,FALSE),+CUM!AE4/+VLOOKUP(AN$1,POSTE!$B:$H,7,FALSE),,CONGÉ!$C$2:$C$80)) | AO5: =+IF(V5=0," ",+WORKDAY.INTL(+VLOOKUP(AO$1,POSTE!$B:$G,3,FALSE),+CUM!AF4/+VLOOKUP(AO$1,POSTE!$B:$H,7,FALSE),,CONGÉ!$C$2:$C$80)) | AP5: =+IF(W5=0," ",+WORKDAY.INTL(+VLOOKUP(AP$1,POSTE!$B:$G,3,FALSE),+CUM!AG4/+VLOOKUP(AP$1,POSTE!$B:$H,7,FALSE),,CONGÉ!$C$2:$C$80)) | AQ5: =+IF(X5=0," ",+WORKDAY.INTL(+VLOOKUP(AQ$1,POSTE!$B:$G,3,FALSE),+CUM!AH4/+VLOOKUP(AQ$1,POSTE!$B:$H,7,FALSE),,CONGÉ!$C$2:$C$80)) | AR5: =+IF(Y5=0," ",+WORKDAY.INTL(+VLOOKUP(AR$1,POSTE!$B:$G,3,FALSE),+CUM!AI4/+VLOOKUP(AR$1,POSTE!$B:$H,7,FALSE),,CONGÉ!$C$2:$C$80)) -> 45754 | AS5: =+IF(Q5=0," ",+WORKDAY.INTL(+VLOOKUP(AS$1,POSTE!$B:$G,3,FALSE),+CUM!AA5/+VLOOKUP(AS$1,POSTE!$B:$H,7,FALSE),,CONGÉ!$C$2:$C$80)) -> 45761 | AT5: =+IF(R5=0," ",+WORKDAY.INTL(+VLOOKUP(AT$1,POSTE!$B:$G,3,FALSE),+CUM!AB5/+VLOOKUP(AT$1,POSTE!$B:$H,7,FALSE),,CONGÉ!$C$2:$C$80)) -> 45754 | AU5: =+IF(AND(S5=0,T5=0)," ",+WORKDAY.INTL(+VLOOKUP($AS$1,POSTE!B:J,3,FALSE),+(((AC5*POSTE!$H$5)+(CUM!AD5*POSTE!$H$4))/(POSTE!$H$4*POSTE!$H$5*2)),,CONGÉ!$C$2:$C$80)) | AV5: =+IF(U5=0," ",+WORKDAY.INTL(+VLOOKUP(AV$1,POSTE!$B:$G,3,FALSE),+CUM!AE5/+VLOOKUP(AV$1,POSTE!$B:$H,7,FALSE),,CONGÉ!$C$2:$C$80)) | AW5: =+IF(V5=0," ",+WORKDAY.INTL(+VLOOKUP(AW$1,POSTE!$B:$G,3,FALSE),+CUM!AF5/+VLOOKUP(AW$1,POSTE!$B:$H,7,FALSE),,CONGÉ!$C$2:$C$80)) | AX5: =+IF(W5=0," ",+WORKDAY.INTL(+VLOOKUP(AX$1,POSTE!$B:$G,3,FALSE),+CUM!AG5/+VLOOKUP(AX$1,POSTE!$B:$H,7,FALSE),,CONGÉ!$C$2:$C$80)) | AY5: =+IF(X5=0," ",+WORKDAY.INTL(+VLOOKUP(AY$1,POSTE!$B:$G,3,FALSE),+CUM!AH5/+VLOOKUP(AY$1,POSTE!$B:$H,7,FALSE),,CONGÉ!$C$2:$C$80)) | AZ5: =+IF(Y5=0," ",+WORKDAY.INTL(+VLOOKUP(AZ$1,POSTE!$B:$G,3,FALSE),+CUM!AI5/+VLOOKUP(AZ$1,POSTE!$B:$H,7,FALSE),,CONGÉ!$C$2:$C$80)) -> 45764 | BA5: =+IF(S5=0," ",+WORKDAY.INTL(+VLOOKUP(BA$1,POSTE!$B:$G,3,FALSE),+CUM!AC5/+VLOOKUP(BA$1,POSTE!$B:$H,7,FALSE),,CONGÉ!$C$2:$C$80)) | BB5: =+IF(T5=0," ",+WORKDAY.INTL(+VLOOKUP(BB$1,POSTE!$B:$G,3,FALSE),+CUM!AD5/+VLOOKUP(BB$1,POSTE!$B:$H,7,FALSE),,CONGÉ!$C$2:$C$80)) | BC5: =+IF(+MIN(AJ5:AZ5)>0,+MIN(AJ5:AZ5)," ") -> 45754 | BD5: =+IF(+MAX(AS5:AZ5)>0,+MAX(AS5:AZ5)," ") -> 45764 | BE5: =+IF($F5="oui",+VLOOKUP($A5,DATA!$A:$AH,DATA!$AH$3,FALSE),0) -> 0 | BF5: =+BF4+BE5 -> 0 | BG5: =+IF(BE5>0,+MAX((BH$4:BH4),BD5),"") | BH5: =+IF(BE5>0,+MAX((BH$4:BH4),+WORKDAY.INTL(BG5,+BE5/8,,CONGÉ!$C$2:$C$73)),"") | BI5: =+IF(BE5=0,+IFERROR(+EDATE(BD5,1)," "),+EDATE(BH5,1)) -> 45794 | BJ5: =+AC5+AD5 -> 0 | BK5: =+TODAY() -> 45754 | BL5: =+(((AC5*POSTE!$H$5)+(CUM!AD5*POSTE!$H$4))/(POSTE!$H$4*POSTE!$H$5*2)) -> 0 | BM5: =+WORKDAY.INTL(BK5,BL5,,CONGÉ!C$4:C$72) -> 45754 | BN5: =+AU5-BM5 -> #VALUE!
A6: =+ROW()-ROW($A$4) -> 2 | B6: {=_xlfn.LET(_xlpm.CORR,IF(DATA!$B$4:$B$104="",IF(DATA!$A$4:$A$104="","--",DATA!$A$4:$A$104),DATA!$B$4:$B$104),_xlpm.Rx,SMALL(_xlpm.CORR,A6),IFERROR(MATCH(_xlpm.Rx,_xlpm.CORR,0),0))} -> 10 | C6: {=IF($B6=0,"",INDEX(Données,$B6,C$3))} -> Traail 10 | D6: {=IF($B6=0,"",INDEX(Données,$B6,D$3))} -> Client 10 | E6: {=IF($B6=0,"",INDEX(Données,$B6,E$3))} -> 45777 | F6: {=IF($B6=0,"",INDEX(Données,$B6,F$3))} -> OUI | G6: =+IF($F6="oui",+VLOOKUP($A6,DATA!$A:$AG,DATA!$P$3,FALSE),0) -> 6 | H6: =+IF($F6="oui",+VLOOKUP($A6,DATA!$A:$AG,DATA!$R$3,FALSE),0) -> 27 | I6: =+IF($F6="oui",+VLOOKUP($A6,DATA!$A:$AG,DATA!$T$3,FALSE),0) -> 102 | J6: =+IF($F6="oui",+VLOOKUP($A6,DATA!$A:$AG,DATA!$V$3,FALSE),0) -> 76 | K6: =+IF($F6="oui",+VLOOKUP($A6,DATA!$A:$AG,DATA!$X$3,FALSE),0) -> 14 | L6: =+IF($F6="oui",+VLOOKUP($A6,DATA!$A:$AG,DATA!$Z$3,FALSE),0) -> 75 | M6: =+IF($F6="oui",+VLOOKUP($A6,DATA!$A:$AG,DATA!$AB$3,FALSE),0) -> 0 | N6: =+IF($F6="oui",+VLOOKUP($A6,DATA!$A:$AG,DATA!$AD$3,FALSE),0) -> 0 | O6: =+IF($F6="oui",+VLOOKUP($A6,DATA!$A:$AG,DATA!$AF$3,FALSE),0) -> 15 | P6: =SUM(G6:O6) -> 315 | Q6: =+IF($F6="oui",+VLOOKUP($A6,DATA!$A:$AG,DATA!$Q$3,FALSE),0) -> 77 | R6: =+IF($F6="oui",+VLOOKUP($A6,DATA!$A:$AG,DATA!$S$3,FALSE),0) -> 25939 | S6: =+IF($F6="oui",+VLOOKUP($A6,DATA!$A:$AG,DATA!$U$3,FALSE),0) -> 40115 | T6: =+IF($F6="oui",+VLOOKUP($A6,DATA!$A:$AG,DATA!$W$3,FALSE),0) -> 3466 | U6: =+IF($F6="oui",+VLOOKUP($A6,DATA!$A:$AG,DATA!$Y$3,FALSE),0) -> 2223 | V6: =+IF($F6="oui",+VLOOKUP($A6,DATA!$A:$AG,DATA!$AA$3,FALSE),0) -> 4177 | W6: =+IF($F6="oui",+VLOOKUP($A6,DATA!$A:$AG,DATA!$AC$3,FALSE),0) -> 0 | X6: =+IF($F6="oui",+VLOOKUP($A6,DATA!$A:$AG,DATA!$AE$3,FALSE),0) -> 0 | Y6: =+IF($F6="oui",+VLOOKUP($A6,DATA!$A:$AG,DATA!$AG$3,FALSE),0) -> 23 | Z6: =SUM(Q6:Y6) -> 76020 | AA6: =+AA5+Q6 -> 47035 | AB6: =+AB5+R6 -> 29611 | AC6: =+AC5+S6 -> 40115 | AD6: =+AD5+T6 -> 3466 | AE6: =+AE5+U6 -> 2223 | AF6: =+AF5+V6 -> 4177 | AG6: =+AG5+W6 -> 0 | AH6: =+AH5+X6 -> 0 | AI6: =+AI5+Y6 -> 407 | AJ6: =+IF(Q6=0," ",+WORKDAY.INTL(+VLOOKUP(AJ$1,POSTE!$B:$G,3,FALSE),+CUM!AA5/+VLOOKUP(AJ$1,POSTE!$B:$H,7,FALSE),,CONGÉ!$C$2:$C$80)) -> 45761 | AK6: =+IF(R6=0," ",+WORKDAY.INTL(+VLOOKUP(AK$1,POSTE!$B:$G,3,FALSE),+CUM!AB5/+VLOOKUP(AK$1,POSTE!$B:$H,7,FALSE),,CONGÉ!$C$2:$C$80)) -> 45754 | AL6: =+IF(S6=0," ",+WORKDAY.INTL(+VLOOKUP(AL$1,POSTE!$B:$G,3,FALSE),+CUM!AC5/+VLOOKUP(AL$1,POSTE!$B:$H,7,FALSE),,CONGÉ!$C$2:$C$80)) -> 45754 | AM6: =+IF(T6=0," ",+WORKDAY.INTL(+VLOOKUP(AM$1,POSTE!$B:$G,3,FALSE),+CUM!AD5/+VLOOKUP(AM$1,POSTE!$B:$H,7,FALSE),,CONGÉ!$C$2:$C$80)) -> 45754 | AN6: =+IF(U6=0," ",+WORKDAY.INTL(+VLOOKUP(AN$1,POSTE!$B:$G,3,FALSE),+CUM!AE5/+VLOOKUP(AN$1,POSTE!$B:$H,7,FALSE),,CONGÉ!$C$2:$C$80)) -> 45754 | AO6: =+IF(V6=0," ",+WORKDAY.INTL(+VLOOKUP(AO$1,POSTE!$B:$G,3,FALSE),+CUM!AF5/+VLOOKUP(AO$1,POSTE!$B:$H,7,FALSE),,CONGÉ!$C$2:$C$80)) -> 45754 | AP6: =+IF(W6=0," ",+WORKDAY.INTL(+VLOOKUP(AP$1,POSTE!$B:$G,3,FALSE),+CUM!AG5/+VLOOKUP(AP$1,POSTE!$B:$H,7,FALSE),,CONGÉ!$C$2:$C$80)) | AQ6: =+IF(X6=0," ",+WORKDAY.INTL(+VLOOKUP(AQ$1,POSTE!$B:$G,3,FALSE),+CUM!AH5/+VLOOKUP(AQ$1,POSTE!$B:$H,7,FALSE),,CONGÉ!$C$2:$C$80)) | AR6: =+IF(Y6=0," ",+WORKDAY.INTL(+VLOOKUP(AR$1,POSTE!$B:$G,3,FALSE),+CUM!AI5/+VLOOKUP(AR$1,POSTE!$B:$H,7,FALSE),,CONGÉ!$C$2:$C$80)) -> 45764 | AS6: =+IF(Q6=0," ",+WORKDAY.INTL(+VLOOKUP(AS$1,POSTE!$B:$G,3,FALSE),+CUM!AA6/+VLOOKUP(AS$1,POSTE!$B:$H,7,FALSE),,CONGÉ!$C$2:$C$80)) -> 45761 | AT6: =+IF(R6=0," ",+WORKDAY.INTL(+VLOOKUP(AT$1,POSTE!$B:$G,3,FALSE),+CUM!AB6/+VLOOKUP(AT$1,POSTE!$B:$H,7,FALSE),,CONGÉ!$C$2:$C$80)) -> 45758 | AU6: =+IF(AND(S6=0,T6=0)," ",+WORKDAY.INTL(+VLOOKUP($AS$1,POSTE!B:J,3,FALSE),+(((AC6*POSTE!$H$5)+(CUM!AD6*POSTE!$H$4))/(POSTE!$H$4*POSTE!$H$5*2)),,CONGÉ!$C$2:$C$80)) -> 45757 | AV6: =+IF(U6=0," ",+WORKDAY.INTL(+VLOOKUP(AV$1,POSTE!$B:$G,3,FALSE),+CUM!AE6/+VLOOKUP(AV$1,POSTE!$B:$H,7,FALSE),,CONGÉ!$C$2:$C$80)) -> 45755 | AW6: =+IF(V6=0," ",+WORKDAY.INTL(+VLOOKUP(AW$1,POSTE!$B:$G,3,FALSE),+CUM!AF6/+VLOOKUP(AW$1,POSTE!$B:$H,7,FALSE),,CONGÉ!$C$2:$C$80)) -> 45756 | AX6: =+IF(W6=0," ",+WORKDAY.INTL(+VLOOKUP(AX$1,POSTE!$B:$G,3,FALSE),+CUM!AG6/+VLOOKUP(AX$1,POSTE!$B:$H,7,FALSE),,CONGÉ!$C$2:$C$80)) | AY6: =+IF(X6=0," ",+WORKDAY.INTL(+VLOOKUP(AY$1,POSTE!$B:$G,3,FALSE),+CUM!AH6/+VLOOKUP(AY$1,POSTE!$B:$H,7,FALSE),,CONGÉ!$C$2:$C$80)) | AZ6: =+IF(Y6=0," ",+WORKDAY.INTL(+VLOOKUP(AZ$1,POSTE!$B:$G,3,FALSE),+CUM!AI6/+VLOOKUP(AZ$1,POSTE!$B:$H,7,FALSE),,CONGÉ!$C$2:$C$80)) -> 45764 | BA6: =+IF(S6=0," ",+WORKDAY.INTL(+VLOOKUP(BA$1,POSTE!$B:$G,3,FALSE),+CUM!AC6/+VLOOKUP(BA$1,POSTE!$B:$H,7,FALSE),,CONGÉ!$C$2:$C$80)) -> 45762 | BB6: =+IF(T6=0," ",+WORKDAY.INTL(+VLOOKUP(BB$1,POSTE!$B:$G,3,FALSE),+CUM!AD6/+VLOOKUP(BB$1,POSTE!$B:$H,7,FALSE),,CONGÉ!$C$2:$C$80)) -> 45754 | BC6: =+IF(+MIN(AJ6:AZ6)>0,+MIN(AJ6:AZ6)," ") -> 45754 | BD6: =+IF(+MAX(AS6:AZ6)>0,+MAX(AS6:AZ6)," ") -> 45764 | BE6: =+IF($F6="oui",+VLOOKUP($A6,DATA!$A:$AH,DATA!$AH$3,FALSE),0) -> 80 | BF6: =+BF5+BE6 -> 80 | BG6: =+IF(BE6>0,+MAX((BH$4:BH5),BD6),"") -> 45764 | BH6: =+IF(BE6>0,+MAX((BH$4:BH5),+WORKDAY.INTL(BG6,+BE6/8,,CONGÉ!$C$2:$C$73)),"") -> 45778 | BI6: =+IF(BE6=0,+IFERROR(+EDATE(BD6,1)," "),+EDATE(BH6,1)) -> 45809 | BJ6: =+AC6+AD6 -> 43581 | BK6: =+TODAY() -> 45754 | BL6: =+(((AC6*POSTE!$H$5)+(CUM!AD6*POSTE!$H$4))/(POSTE!$H$4*POSTE!$H$5*2)) -> 3.495026 | BM6: =+WORKDAY.INTL(BK6,BL6,,CONGÉ!C$4:C$72) -> 45757 | BN6: =+AU6-BM6 -> 0
A7: =+ROW()-ROW($A$4) -> 3 | B7: {=_xlfn.LET(_xlpm.CORR,IF(DATA!$B$4:$B$104="",IF(DATA!$A$4:$A$104="","--",DATA!$A$4:$A$104),DATA!$B$4:$B$104),_xlpm.Rx,SMALL(_xlpm.CORR,A7),IFERROR(MATCH(_xlpm.Rx,_xlpm.CORR,0),0))} -> 3 | C7: {=IF($B7=0,"",INDEX(Données,$B7,C$3))} -> Traail 3 | D7: {=IF($B7=0,"",INDEX(Données,$B7,D$3))} -> Client 3 | E7: {=IF($B7=0,"",INDEX(Données,$B7,E$3))} -> 45898 | F7: {=IF($B7=0,"",INDEX(Données,$B7,F$3))} -> OUI | G7: =+IF($F7="oui",+VLOOKUP($A7,DATA!$A:$AG,DATA!$P$3,FALSE),0) -> 0 | H7: =+IF($F7="oui",+VLOOKUP($A7,DATA!$A:$AG,DATA!$R$3,FALSE),0) -> 11 | I7: =+IF($F7="oui",+VLOOKUP($A7,DATA!$A:$AG,DATA!$T$3,FALSE),0) -> 19 | J7: =+IF($F7="oui",+VLOOKUP($A7,DATA!$A:$AG,DATA!$V$3,FALSE),0) -> 0 | K7: =+IF($F7="oui",+VLOOKUP($A7,DATA!$A:$AG,DATA!$X$3,FALSE),0) -> 3 | L7: =+IF($F7="oui",+VLOOKUP($A7,DATA!$A:$AG,DATA!$Z$3,FALSE),0) -> 3 | M7: =+IF($F7="oui",+VLOOKUP($A7,DATA!$A:$AG,DATA!$AB$3,FALSE),0) -> 0 | N7: =+IF($F7="oui",+VLOOKUP($A7,DATA!$A:$AG,DATA!$AD$3,FALSE),0) -> 0 | O7: =+IF($F7="oui",+VLOOKUP($A7,DATA!$A:$AG,DATA!$AF$3,FALSE),0) -> 24 | P7: =SUM(G7:O7) -> 60 | Q7: =+IF($F7="oui",+VLOOKUP($A7,DATA!$A:$AG,DATA!$Q$3,FALSE),0) -> 0 | R7: =+IF($F7="oui",+VLOOKUP($A7,DATA!$A:$AG,DATA!$S$3,FALSE),0) -> 18233 | S7: =+IF($F7="oui",+VLOOKUP($A7,DATA!$A:$AG,DATA!$U$3,FALSE),0) -> 2999 | T7: =+IF($F7="oui",+VLOOKUP($A7,DATA!$A:$AG,DATA!$W$3,FALSE),0) -> 0 | U7: =+IF($F7="oui",+VLOOKUP($A7,DATA!$A:$AG,DATA!$Y$3,FALSE),0) -> 43 | V7: =+IF($F7="oui",+VLOOKUP($A7,DATA!$A:$AG,DATA!$AA$3,FALSE),0) -> 16 | W7: =+IF($F7="oui",+VLOOKUP($A7,DATA!$A:$AG,DATA!$AC$3,FALSE),0) -> 0 | X7: =+IF($F7="oui",+VLOOKUP($A7,DATA!$A:$AG,DATA!$AE$3,FALSE),0) -> 0 | Y7: =+IF($F7="oui",+VLOOKUP($A7,DATA!$A:$AG,DATA!$AG$3,FALSE),0) -> 50 | Z7: =SUM(Q7:Y7) -> 21341 | AA7: =+AA6+Q7 -> 47035 | AB7: =+AB6+R7 -> 47844 | AC7: =+AC6+S7 -> 43114 | AD7: =+AD6+T7 -> 3466 | AE7: =+AE6+U7 -> 2266 | AF7: =+AF6+V7 -> 4193 | AG7: =+AG6+W7 -> 0 | AH7: =+AH6+X7 -> 0 | AI7: =+AI6+Y7 -> 457 | AJ7: =+IF(Q7=0," ",+WORKDAY.INTL(+VLOOKUP(AJ$1,POSTE!$B:$G,3,FALSE),+CUM!AA6/+VLOOKUP(AJ$1,POSTE!$B:$H,7,FALSE),,CONGÉ!$C$2:$C$80)) | AK7: =+IF(R7=0," ",+WORKDAY.INTL(+VLOOKUP(AK$1,POSTE!$B:$G,3,FALSE),+CUM!AB6/+VLOOKUP(AK$1,POSTE!$B:$H,7,FALSE),,CONGÉ!$C$2:$C$80)) -> 45758 | AL7: =+IF(S7=0," ",+WORKDAY.INTL(+VLOOKUP(AL$1,POSTE!$B:$G,3,FALSE),+CUM!AC6/+VLOOKUP(AL$1,POSTE!$B:$H,7,FALSE),,CONGÉ!$C$2:$C$80)) -> 45762 | AM7: =+IF(T7=0," ",+WORKDAY.INTL(+VLOOKUP(AM$1,POSTE!$B:$G,3,FALSE),+CUM!AD6/+VLOOKUP(AM$1,POSTE!$B:$H,7,FALSE),,CONGÉ!$C$2:$C$80)) | AN7: =+IF(U7=0," ",+WORKDAY.INTL(+VLOOKUP(AN$1,POSTE!$B:$G,3,FALSE),+CUM!AE6/+VLOOKUP(AN$1,POSTE!$B:$H,7,FALSE),,CONGÉ!$C$2:$C$80)) -> 45755 | AO7: =+IF(V7=0," ",+WORKDAY.INTL(+VLOOKUP(AO$1,POSTE!$B:$G,3,FALSE),+CUM!AF6/+VLOOKUP(AO$1,POSTE!$B:$H,7,FALSE),,CONGÉ!$C$2:$C$80)) -> 45756 | AP7: =+IF(W7=0," ",+WORKDAY.INTL(+VLOOKUP(AP$1,POSTE!$B:$G,3,FALSE),+CUM!AG6/+VLOOKUP(AP$1,POSTE!$B:$H,7,FALSE),,CONGÉ!$C$2:$C$80)) | AQ7: =+IF(X7=0," ",+WORKDAY.INTL(+VLOOKUP(AQ$1,POSTE!$B:$G,3,FALSE),+CUM!AH6/+VLOOKUP(AQ$1,POSTE!$B:$H,7,FALSE),,CONGÉ!$C$2:$C$80)) | AR7: =+IF(Y7=0," ",+WORKDAY.INTL(+VLOOKUP(AR$1,POSTE!$B:$G,3,FALSE),+CUM!AI6/+VLOOKUP(AR$1,POSTE!$B:$H,7,FALSE),,CONGÉ!$C$2:$C$80)) -> 45764 | AS7: =+IF(Q7=0," ",+WORKDAY.INTL(+VLOOKUP(AS$1,POSTE!$B:$G,3,FALSE),+CUM!AA7/+VLOOKUP(AS$1,POSTE!$B:$H,7,FALSE),,CONGÉ!$C$2:$C$80)) | AT7: =+IF(R7=0," ",+WORKDAY.INTL(+VLOOKUP(AT$1,POSTE!$B:$G,3,FALSE),+CUM!AB7/+VLOOKUP(AT$1,POSTE!$B:$H,7,FALSE),,CONGÉ!$C$2:$C$80)) -> 45762 | AU7: =+IF(AND(S7=0,T7=0)," ",+WORKDAY.INTL(+VLOOKUP($AS$1,POSTE!B:J,3,FALSE),+(((AC7*POSTE!$H$5)+(CUM!AD7*POSTE!$H$4))/(POSTE!$H$4*POSTE!$H$5*2)),,CONGÉ!$C$2:$C$80)) -> 45757 | AV7: =+IF(U7=0," ",+WORKDAY.INTL(+VLOOKUP(AV$1,POSTE!$B:$G,3,FALSE),+CUM!AE7/+VLOOKUP(AV$1,POSTE!$B:$H,7,FALSE),,CONGÉ!$C$2:$C$80)) -> 45755 | AW7: =+IF(V7=0," ",+WORKDAY.INTL(+VLOOKUP(AW$1,POSTE!$B:$G,3,FALSE),+CUM!AF7/+VLOOKUP(AW$1,POSTE!$B:$H,7,FALSE),,CONGÉ!$C$2:$C$80)) -> 45756 | AX7: =+IF(W7=0," ",+WORKDAY.INTL(+VLOOKUP(AX$1,POSTE!$B:$G,3,FALSE),+CUM!AG7/+VLOOKUP(AX$1,POSTE!$B:$H,7,FALSE),,CONGÉ!$C$2:$C$80)) | AY7: =+IF(X7=0," ",+WORKDAY.INTL(+VLOOKUP(AY$1,POSTE!$B:$G,3,FALSE),+CUM!AH7/+VLOOKUP(AY$1,POSTE!$B:$H,7,FALSE),,CONGÉ!$C$2:$C$80)) | AZ7: =+IF(Y7=0," ",+WORKDAY.INTL(+VLOOKUP(AZ$1,POSTE!$B:$G,3,FALSE),+CUM!AI7/+VLOOKUP(AZ$1,POSTE!$B:$H,7,FALSE),,CONGÉ!$C$2:$C$80)) -> 45765 | BA7: =+IF(S7=0," ",+WORKDAY.INTL(+VLOOKUP(BA$1,POSTE!$B:$G,3,FALSE),+CUM!AC7/+VLOOKUP(BA$1,POSTE!$B:$H,7,FALSE),,CONGÉ!$C$2:$C$80)) -> 45762 | BB7: =+IF(T7=0," ",+WORKDAY.INTL(+VLOOKUP(BB$1,POSTE!$B:$G,3,FALSE),+CUM!AD7/+VLOOKUP(BB$1,POSTE!$B:$H,7,FALSE),,CONGÉ!$C$2:$C$80)) | BC7: =+IF(+MIN(AJ7:AZ7)>0,+MIN(AJ7:AZ7)," ") -> 45755 | BD7: =+IF(+MAX(AS7:AZ7)>0,+MAX(AS7:AZ7)," ") -> 45765 | BE7: =+IF($F7="oui",+VLOOKUP($A7,DATA!$A:$AH,DATA!$AH$3,FALSE),0) -> 0 | BF7: =+BF6+BE7 -> 80 | BG7: =+IF(BE7>0,+MAX((BH$4:BH6),BD7),"") | BH7: =+IF(BE7>0,+MAX((BH$4:BH6),+WORKDAY.INTL(BG7,+BE7/8,,CONGÉ!$C$2:$C$73)),"") | BI7: =+IF(BE7=0,+IFERROR(+EDATE(BD7,1)," "),+EDATE(BH7,1)) -> 45795 | BJ7: =+AC7+AD7 -> 46580 | BK7: =+TODAY() -> 45754 | BL7: =+(((AC7*POSTE!$H$5)+(CUM!AD7*POSTE!$H$4))/(POSTE!$H$4*POSTE!$H$5*2)) -> 3.7293229 | BM7: =+WORKDAY.INTL(BK7,BL7,,CONGÉ!C$4:C$72) -> 45757 | BN7: =+AU7-BM7 -> 0
A8: =+ROW()-ROW($A$4) -> 4 | B8: {=_xlfn.LET(_xlpm.CORR,IF(DATA!$B$4:$B$104="",IF(DATA!$A$4:$A$104="","--",DATA!$A$4:$A$104),DATA!$B$4:$B$104),_xlpm.Rx,SMALL(_xlpm.CORR,A8),IFERROR(MATCH(_xlpm.Rx,_xlpm.CORR,0),0))} -> 8 | C8: {=IF($B8=0,"",INDEX(Données,$B8,C$3))} -> Traail 8 | D8: {=IF($B8=0,"",INDEX(Données,$B8,D$3))} -> Client 8 | E8: {=IF($B8=0,"",INDEX(Données,$B8,E$3))} -> 45777 | F8: {=IF($B8=0,"",INDEX(Données,$B8,F$3))} -> OUI | G8: =+IF($F8="oui",+VLOOKUP($A8,DATA!$A:$AG,DATA!$P$3,FALSE),0) -> 0 | H8: =+IF($F8="oui",+VLOOKUP($A8,DATA!$A:$AG,DATA!$R$3,FALSE),0) -> 0 | I8: =+IF($F8="oui",+VLOOKUP($A8,DATA!$A:$AG,DATA!$T$3,FALSE),0) -> 0 | J8: =+IF($F8="oui",+VLOOKUP($A8,DATA!$A:$AG,DATA!$V$3,FALSE),0) -> 0 | K8: =+IF($F8="oui",+VLOOKUP($A8,DATA!$A:$AG,DATA!$X$3,FALSE),0) -> 0 | L8: =+IF($F8="oui",+VLOOKUP($A8,DATA!$A:$AG,DATA!$Z$3,FALSE),0) -> 5 | M8: =+IF($F8="oui",+VLOOKUP($A8,DATA!$A:$AG,DATA!$AB$3,FALSE),0) -> 0 | N8: =+IF($F8="oui",+VLOOKUP($A8,DATA!$A:$AG,DATA!$AD$3,FALSE),0) -> 0 | O8: =+IF($F8="oui",+VLOOKUP($A8,DATA!$A:$AG,DATA!$AF$3,FALSE),0) -> 0 | P8: =SUM(G8:O8) -> 5 | Q8: =+IF($F8="oui",+VLOOKUP($A8,DATA!$A:$AG,DATA!$Q$3,FALSE),0) -> 0 | R8: =+IF($F8="oui",+VLOOKUP($A8,DATA!$A:$AG,DATA!$S$3,FALSE),0) -> 0 | S8: =+IF($F8="oui",+VLOOKUP($A8,DATA!$A:$AG,DATA!$U$3,FALSE),0) -> 0 | T8: =+IF($F8="oui",+VLOOKUP($A8,DATA!$A:$AG,DATA!$W$3,FALSE),0) -> 0 | U8: =+IF($F8="oui",+VLOOKUP($A8,DATA!$A:$AG,DATA!$Y$3,FALSE),0) -> 0 | V8: =+IF($F8="oui",+VLOOKUP($A8,DATA!$A:$AG,DATA!$AA$3,FALSE),0) -> 527 | W8: =+IF($F8="oui",+VLOOKUP($A8,DATA!$A:$AG,DATA!$AC$3,FALSE),0) -> 0 | X8: =+IF($F8="oui",+VLOOKUP($A8,DATA!$A:$AG,DATA!$AE$3,FALSE),0) -> 0 | Y8: =+IF($F8="oui",+VLOOKUP($A8,DATA!$A:$AG,DATA!$AG$3,FALSE),0) -> 0 | Z8: =SUM(Q8:Y8) -> 527 | AA8: =+AA7+Q8 -> 47035 | AB8: =+AB7+R8 -> 47844 | AC8: =+AC7+S8 -> 43114 | AD8: =+AD7+T8 -> 3466 | AE8: =+AE7+U8 -> 2266 | AF8: =+AF7+V8 -> 4720 | AG8: =+AG7+W8 -> 0 | AH8: =+AH7+X8 -> 0 | AI8: =+AI7+Y8 -> 457 | AJ8: =+IF(Q8=0," ",+WORKDAY.INTL(+VLOOKUP(AJ$1,POSTE!$B:$G,3,FALSE),+CUM!AA7/+VLOOKUP(AJ$1,POSTE!$B:$H,7,FALSE),,CONGÉ!$C$2:$C$80)) | AK8: =+IF(R8=0," ",+WORKDAY.INTL(+VLOOKUP(AK$1,POSTE!$B:$G,3,FALSE),+CUM!AB7/+VLOOKUP(AK$1,POSTE!$B:$H,7,FALSE),,CONGÉ!$C$2:$C$80)) | AL8: =+IF(S8=0," ",+WORKDAY.INTL(+VLOOKUP(AL$1,POSTE!$B:$G,3,FALSE),+CUM!AC7/+VLOOKUP(AL$1,POSTE!$B:$H,7,FALSE),,CONGÉ!$C$2:$C$80)) | AM8: =+IF(T8=0," ",+WORKDAY.INTL(+VLOOKUP(AM$1,POSTE!$B:$G,3,FALSE),+CUM!AD7/+VLOOKUP(AM$1,POSTE!$B:$H,7,FALSE),,CONGÉ!$C$2:$C$80)) | AN8: =+IF(U8=0," ",+WORKDAY.INTL(+VLOOKUP(AN$1,POSTE!$B:$G,3,FALSE),+CUM!AE7/+VLOOKUP(AN$1,POSTE!$B:$H,7,FALSE),,CONGÉ!$C$2:$C$80)) | AO8: =+IF(V8=0," ",+WORKDAY.INTL(+VLOOKUP(AO$1,POSTE!$B:$G,3,FALSE),+CUM!AF7/+VLOOKUP(AO$1,POSTE!$B:$H,7,FALSE),,CONGÉ!$C$2:$C$80)) -> 45756 | AP8: =+IF(W8=0," ",+WORKDAY.INTL(+VLOOKUP(AP$1,POSTE!$B:$G,3,FALSE),+CUM!AG7/+VLOOKUP(AP$1,POSTE!$B:$H,7,FALSE),,CONGÉ!$C$2:$C$80)) | AQ8: =+IF(X8=0," ",+WORKDAY.INTL(+VLOOKUP(AQ$1,POSTE!$B:$G,3,FALSE),+CUM!AH7/+VLOOKUP(AQ$1,POSTE!$B:$H,7,FALSE),,CONGÉ!$C$2:$C$80)) | AR8: =+IF(Y8=0," ",+WORKDAY.INTL(+VLOOKUP(AR$1,POSTE!$B:$G,3,FALSE),+CUM!AI7/+VLOOKUP(AR$1,POSTE!$B:$H,7,FALSE),,CONGÉ!$C$2:$C$80)) | AS8: =+IF(Q8=0," ",+WORKDAY.INTL(+VLOOKUP(AS$1,POSTE!$B:$G,3,FALSE),+CUM!AA8/+VLOOKUP(AS$1,POSTE!$B:$H,7,FALSE),,CONGÉ!$C$2:$C$80)) | AT8: =+IF(R8=0," ",+WORKDAY.INTL(+VLOOKUP(AT$1,POSTE!$B:$G,3,FALSE),+CUM!AB8/+VLOOKUP(AT$1,POSTE!$B:$H,7,FALSE),,CONGÉ!$C$2:$C$80)) | AU8: =+IF(AND(S8=0,T8=0)," ",+WORKDAY.INTL(+VLOOKUP($AS$1,POSTE!B:J,3,FALSE),+(((AC8*POSTE!$H$5)+(CUM!AD8*POSTE!$H$4))/(POSTE!$H$4*POSTE!$H$5*2)),,CONGÉ!$C$2:$C$80)) | AV8: =+IF(U8=0," ",+WORKDAY.INTL(+VLOOKUP(AV$1,POSTE!$B:$G,3,FALSE),+CUM!AE8/+VLOOKUP(AV$1,POSTE!$B:$H,7,FALSE),,CONGÉ!$C$2:$C$80)) | AW8: =+IF(V8=0," ",+WORKDAY.INTL(+VLOOKUP(AW$1,POSTE!$B:$G,3,FALSE),+CUM!AF8/+VLOOKUP(AW$1,POSTE!$B:$H,7,FALSE),,CONGÉ!$C$2:$C$80)) -> 45756 | AX8: =+IF(W8=0," ",+WORKDAY.INTL(+VLOOKUP(AX$1,POSTE!$B:$G,3,FALSE),+CUM!AG8/+VLOOKUP(AX$1,POSTE!$B:$H,7,FALSE),,CONGÉ!$C$2:$C$80)) | AY8: =+IF(X8=0," ",+WORKDAY.INTL(+VLOOKUP(AY$1,POSTE!$B:$G,3,FALSE),+CUM!AH8/+VLOOKUP(AY$1,POSTE!$B:$H,7,FALSE),,CONGÉ!$C$2:$C$80)) | AZ8: =+IF(Y8=0," ",+WORKDAY.INTL(+VLOOKUP(AZ$1,POSTE!$B:$G,3,FALSE),+CUM!AI8/+VLOOKUP(AZ$1,POSTE!$B:$H,7,FALSE),,CONGÉ!$C$2:$C$80)) | BA8: =+IF(S8=0," ",+WORKDAY.INTL(+VLOOKUP(BA$1,POSTE!$B:$G,3,FALSE),+CUM!AC8/+VLOOKUP(BA$1,POSTE!$B:$H,7,FALSE),,CONGÉ!$C$2:$C$80)) | BB8: =+IF(T8=0," ",+WORKDAY.INTL(+VLOOKUP(BB$1,POSTE!$B:$G,3,FALSE),+CUM!AD8/+VLOOKUP(BB$1,POSTE!$B:$H,7,FALSE),,CONGÉ!$C$2:$C$80)) | BC8: =+IF(+MIN(AJ8:AZ8)>0,+MIN(AJ8:AZ8)," ") -> 45756 | BD8: =+IF(+MAX(AS8:AZ8)>0,+MAX(AS8:AZ8)," ") -> 45756 | BE8: =+IF($F8="oui",+VLOOKUP($A8,DATA!$A:$AH,DATA!$AH$3,FALSE),0) -> 40 | BF8: =+BF7+BE8 -> 120 | BG8: =+IF(BE8>0,+MAX((BH$4:BH7),BD8),"") -> 45778 | BH8: =+IF(BE8>0,+MAX((BH$4:BH7),+WORKDAY.INTL(BG8,+BE8/8,,CONGÉ!$C$2:$C$73)),"") -> 45785 | BI8: =+IF(BE8=0,+IFERROR(+EDATE(BD8,1)," "),+EDATE(BH8,1)) -> 45816 | BJ8: =+AC8+AD8 -> 46580 | BK8: =+TODAY() -> 45754 | BL8: =+(((AC8*POSTE!$H$5)+(CUM!AD8*POSTE!$H$4))/(POSTE!$H$4*POSTE!$H$5*2)) -> 3.7293229 | BM8: =+WORKDAY.INTL(BK8,BL8,,CONGÉ!C$4:C$72) -> 45757 | BN8: =+AU8-BM8 -> #VALUE!
A9: =+ROW()-ROW($A$4) -> 5 | B9: {=_xlfn.LET(_xlpm.CORR,IF(DATA!$B$4:$B$104="",IF(DATA!$A$4:$A$104="","--",DATA!$A$4:$A$104),DATA!$B$4:$B$104),_xlpm.Rx,SMALL(_xlpm.CORR,A9),IFERROR(MATCH(_xlpm.Rx,_xlpm.CORR,0),0))} -> 9 | C9: {=IF($B9=0,"",INDEX(Données,$B9,C$3))} -> Traail 9 | D9: {=IF($B9=0,"",INDEX(Données,$B9,D$3))} -> Client 9 | E9: {=IF($B9=0,"",INDEX(Données,$B9,E$3))} -> 45777 | F9: {=IF($B9=0,"",INDEX(Données,$B9,F$3))} -> OUI | G9: =+IF($F9="oui",+VLOOKUP($A9,DATA!$A:$AG,DATA!$P$3,FALSE),0) -> 1 | H9: =+IF($F9="oui",+VLOOKUP($A9,DATA!$A:$AG,DATA!$R$3,FALSE),0) -> 18 | I9: =+IF($F9="oui",+VLOOKUP($A9,DATA!$A:$AG,DATA!$T$3,FALSE),0) -> 146 | J9: =+IF($F9="oui",+VLOOKUP($A9,DATA!$A:$AG,DATA!$V$3,FALSE),0) -> 206 | K9: =+IF($F9="oui",+VLOOKUP($A9,DATA!$A:$AG,DATA!$X$3,FALSE),0) -> 28 | L9: =+IF($F9="oui",+VLOOKUP($A9,DATA!$A:$AG,DATA!$Z$3,FALSE),0) -> 136 | M9: =+IF($F9="oui",+VLOOKUP($A9,DATA!$A:$AG,DATA!$AB$3,FALSE),0) -> 0 | N9: =+IF($F9="oui",+VLOOKUP($A9,DATA!$A:$AG,DATA!$AD$3,FALSE),0) -> 21 | O9: =+IF($F9="oui",+VLOOKUP($A9,DATA!$A:$AG,DATA!$AF$3,FALSE),0) -> 23 | P9: =SUM(G9:O9) -> 579 | Q9: =+IF($F9="oui",+VLOOKUP($A9,DATA!$A:$AG,DATA!$Q$3,FALSE),0) -> 402 | R9: =+IF($F9="oui",+VLOOKUP($A9,DATA!$A:$AG,DATA!$S$3,FALSE),0) -> 30336 | S9: =+IF($F9="oui",+VLOOKUP($A9,DATA!$A:$AG,DATA!$U$3,FALSE),0) -> 45185 | T9: =+IF($F9="oui",+VLOOKUP($A9,DATA!$A:$AG,DATA!$W$3,FALSE),0) -> 17577 | U9: =+IF($F9="oui",+VLOOKUP($A9,DATA!$A:$AG,DATA!$Y$3,FALSE),0) -> 3174 | V9: =+IF($F9="oui",+VLOOKUP($A9,DATA!$A:$AG,DATA!$AA$3,FALSE),0) -> 12246 | W9: =+IF($F9="oui",+VLOOKUP($A9,DATA!$A:$AG,DATA!$AC$3,FALSE),0) -> 0 | X9: =+IF($F9="oui",+VLOOKUP($A9,DATA!$A:$AG,DATA!$AE$3,FALSE),0) -> 12160 | Y9: =+IF($F9="oui",+VLOOKUP($A9,DATA!$A:$AG,DATA!$AG$3,FALSE),0) -> 236 | Z9: =SUM(Q9:Y9) -> 121316 | AA9: =+AA8+Q9 -> 47437 | AB9: =+AB8+R9 -> 78180 | AC9: =+AC8+S9 -> 88299 | AD9: =+AD8+T9 -> 21043 | AE9: =+AE8+U9 -> 5440 | AF9: =+AF8+V9 -> 16966 | AG9: =+AG8+W9 -> 0 | AH9: =+AH8+X9 -> 12160 | AI9: =+AI8+Y9 -> 693 | AJ9: =+IF(Q9=0," ",+WORKDAY.INTL(+VLOOKUP(AJ$1,POSTE!$B:$G,3,FALSE),+CUM!AA8/+VLOOKUP(AJ$1,POSTE!$B:$H,7,FALSE),,CONGÉ!$C$2:$C$80)) -> 45761 | AK9: =+IF(R9=0," ",+WORKDAY.INTL(+VLOOKUP(AK$1,POSTE!$B:$G,3,FALSE),+CUM!AB8/+VLOOKUP(AK$1,POSTE!$B:$H,7,FALSE),,CONGÉ!$C$2:$C$80)) -> 45762 | AL9: =+IF(S9=0," ",+WORKDAY.INTL(+VLOOKUP(AL$1,POSTE!$B:$G,3,FALSE),+CUM!AC8/+VLOOKUP(AL$1,POSTE!$B:$H,7,FALSE),,CONGÉ!$C$2:$C$80)) -> 45762 | AM9: =+IF(T9=0," ",+WORKDAY.INTL(+VLOOKUP(AM$1,POSTE!$B:$G,3,FALSE),+CUM!AD8/+VLOOKUP(AM$1,POSTE!$B:$H,7,FALSE),,CONGÉ!$C$2:$C$80)) -> 45754 | AN9: =+IF(U9=0," ",+WORKDAY.INTL(+VLOOKUP(AN$1,POSTE!$B:$G,3,FALSE),+CUM!AE8/+VLOOKUP(AN$1,POSTE!$B:$H,7,FALSE),,CONGÉ!$C$2:$C$80)) -> 45755 | AO9: =+IF(V9=0," ",+WORKDAY.INTL(+VLOOKUP(AO$1,POSTE!$B:$G,3,FALSE),+CUM!AF8/+VLOOKUP(AO$1,POSTE!$B:$H,7,FALSE),,CONGÉ!$C$2:$C$80)) -> 45756 | AP9: =+IF(W9=0," ",+WORKDAY.INTL(+VLOOKUP(AP$1,POSTE!$B:$G,3,FALSE),+CUM!AG8/+VLOOKUP(AP$1,POSTE!$B:$H,7,FALSE),,CONGÉ!$C$2:$C$80)) | AQ9: =+IF(X9=0," ",+WORKDAY.INTL(+VLOOKUP(AQ$1,POSTE!$B:$G,3,FALSE),+CUM!AH8/+VLOOKUP(AQ$1,POSTE!$B:$H,7,FALSE),,CONGÉ!$C$2:$C$80)) -> 45754 | AR9: =+IF(Y9=0," ",+WORKDAY.INTL(+VLOOKUP(AR$1,POSTE!$B:$G,3,FALSE),+CUM!AI8/+VLOOKUP(AR$1,POSTE!$B:$H,7,FALSE),,CONGÉ!$C$2:$C$80)) -> 45765 | AS9: =+IF(Q9=0," ",+WORKDAY.INTL(+VLOOKUP(AS$1,POSTE!$B:$G,3,FALSE),+CUM!AA9/+VLOOKUP(AS$1,POSTE!$B:$H,7,FALSE),,CONGÉ!$C$2:$C$80)) -> 45761 | AT9: =+IF(R9=0," ",+WORKDAY.INTL(+VLOOKUP(AT$1,POSTE!$B:$G,3,FALSE),+CUM!AB9/+VLOOKUP(AT$1,POSTE!$B:$H,7,FALSE),,CONGÉ!$C$2:$C$80)) -> 45768 | AU9: =+IF(AND(S9=0,T9=0)," ",+WORKDAY.INTL(+VLOOKUP($AS$1,POSTE!B:J,3,FALSE),+(((AC9*POSTE!$H$5)+(CUM!AD9*POSTE!$H$4))/(POSTE!$H$4*POSTE!$H$5*2)),,CONGÉ!$C$2:$C$80)) -> 45765 | AV9: =+IF(U9=0," ",+WORKDAY.INTL(+VLOOKUP(AV$1,POSTE!$B:$G,3,FALSE),+CUM!AE9/+VLOOKUP(AV$1,POSTE!$B:$H,7,FALSE),,CONGÉ!$C$2:$C$80)) -> 45757 | AW9: =+IF(V9=0," ",+WORKDAY.INTL(+VLOOKUP(AW$1,POSTE!$B:$G,3,FALSE),+CUM!AF9/+VLOOKUP(AW$1,POSTE!$B:$H,7,FALSE),,CONGÉ!$C$2:$C$80)) -> 45764 | AX9: =+IF(W9=0," ",+WORKDAY.INTL(+VLOOKUP(AX$1,POSTE!$B:$G,3,FALSE),+CUM!AG9/+VLOOKUP(AX$1,POSTE!$B:$H,7,FALSE),,CONGÉ!$C$2:$C$80)) | AY9: =+IF(X9=0," ",+WORKDAY.INTL(+VLOOKUP(AY$1,POSTE!$B:$G,3,FALSE),+CUM!AH9/+VLOOKUP(AY$1,POSTE!$B:$H,7,FALSE),,CONGÉ!$C$2:$C$80)) -> 45762 | AZ9: =+IF(Y9=0," ",+WORKDAY.INTL(+VLOOKUP(AZ$1,POSTE!$B:$G,3,FALSE),+CUM!AI9/+VLOOKUP(AZ$1,POSTE!$B:$H,7,FALSE),,CONGÉ!$C$2:$C$80)) -> 45772 | BA9: =+IF(S9=0," ",+WORKDAY.INTL(+VLOOKUP(BA$1,POSTE!$B:$G,3,FALSE),+CUM!AC9/+VLOOKUP(BA$1,POSTE!$B:$H,7,FALSE),,CONGÉ!$C$2:$C$80)) -> 45771 | BB9: =+IF(T9=0," ",+WORKDAY.INTL(+VLOOKUP(BB$1,POSTE!$B:$G,3,FALSE),+CUM!AD9/+VLOOKUP(BB$1,POSTE!$B:$H,7,FALSE),,CONGÉ!$C$2:$C$80)) -> 45758 | BC9: =+IF(+MIN(AJ9:AZ9)>0,+MIN(AJ9:AZ9)," ") -> 45754 | BD9: =+IF(+MAX(AS9:AZ9)>0,+MAX(AS9:AZ9)," ") -> 45772 | BE9: =+IF($F9="oui",+VLOOKUP($A9,DATA!$A:$AH,DATA!$AH$3,FALSE),0) -> 0 | BF9: =+BF8+BE9 -> 120 | BG9: =+IF(BE9>0,+MAX((BH$4:BH8),BD9),"") | BH9: =+IF(BE9>0,+MAX((BH$4:BH8),+WORKDAY.INTL(BG9,+BE9/8,,CONGÉ!$C$2:$C$73)),"") | BI9: =+IF(BE9=0,+IFERROR(+EDATE(BD9,1)," "),+EDATE(BH9,1)) -> 45802 | BJ9: =+AC9+AD9 -> 109342 | BK9: =+TODAY() -> 45754 | BL9: =+(((AC9*POSTE!$H$5)+(CUM!AD9*POSTE!$H$4))/(POSTE!$H$4*POSTE!$H$5*2)) -> 9.0903385 | BM9: =+WORKDAY.INTL(BK9,BL9,,CONGÉ!C$4:C$72) -> 45765 | BN9: =+AU9-BM9 -> 0
A10: =+ROW()-ROW($A$4) -> 6 | B10: {=_xlfn.LET(_xlpm.CORR,IF(DATA!$B$4:$B$104="",IF(DATA!$A$4:$A$104="","--",DATA!$A$4:$A$104),DATA!$B$4:$B$104),_xlpm.Rx,SMALL(_xlpm.CORR,A10),IFERROR(MATCH(_xlpm.Rx,_xlpm.CORR,0),0))} -> 11 | C10: {=IF($B10=0,"",INDEX(Données,$B10,C$3))} -> Traail 11 | D10: {=IF($B10=0,"",INDEX(Données,$B10,D$3))} -> Client 11 | E10: {=IF($B10=0,"",INDEX(Données,$B10,E$3))} -> 45793 | F10: {=IF($B10=0,"",INDEX(Données,$B10,F$3))} -> OUI | G10: =+IF($F10="oui",+VLOOKUP($A10,DATA!$A:$AG,DATA!$P$3,FALSE),0) -> 4 | H10: =+IF($F10="oui",+VLOOKUP($A10,DATA!$A:$AG,DATA!$R$3,FALSE),0) -> 14 | I10: =+IF($F10="oui",+VLOOKUP($A10,DATA!$A:$AG,DATA!$T$3,FALSE),0) -> 155 | J10: =+IF($F10="oui",+VLOOKUP($A10,DATA!$A:$AG,DATA!$V$3,FALSE),0) -> 289 | K10: =+IF($F10="oui",+VLOOKUP($A10,DATA!$A:$AG,DATA!$X$3,FALSE),0) -> 11 | L10: =+IF($F10="oui",+VLOOKUP($A10,DATA!$A:$AG,DATA!$Z$3,FALSE),0) -> 90 | M10: =+IF($F10="oui",+VLOOKUP($A10,DATA!$A:$AG,DATA!$AB$3,FALSE),0) -> 0 | N10: =+IF($F10="oui",+VLOOKUP($A10,DATA!$A:$AG,DATA!$AD$3,FALSE),0) -> 3 | O10: =+IF($F10="oui",+VLOOKUP($A10,DATA!$A:$AG,DATA!$AF$3,FALSE),0) -> 35 | P10: =SUM(G10:O10) -> 601 | Q10: =+IF($F10="oui",+VLOOKUP($A10,DATA!$A:$AG,DATA!$Q$3,FALSE),0) -> 97 | R10: =+IF($F10="oui",+VLOOKUP($A10,DATA!$A:$AG,DATA!$S$3,FALSE),0) -> 4882 | S10: =+IF($F10="oui",+VLOOKUP($A10,DATA!$A:$AG,DATA!$U$3,FALSE),0) -> 21702 | T10: =+IF($F10="oui",+VLOOKUP($A10,DATA!$A:$AG,DATA!$W$3,FALSE),0) -> 8818 | U10: =+IF($F10="oui",+VLOOKUP($A10,DATA!$A:$AG,DATA!$Y$3,FALSE),0) -> 695 | V10: =+IF($F10="oui",+VLOOKUP($A10,DATA!$A:$AG,DATA!$AA$3,FALSE),0) -> 2116 | W10: =+IF($F10="oui",+VLOOKUP($A10,DATA!$A:$AG,DATA!$AC$3,FALSE),0) -> 0 | X10: =+IF($F10="oui",+VLOOKUP($A10,DATA!$A:$AG,DATA!$AE$3,FALSE),0) -> 20 | Y10: =+IF($F10="oui",+VLOOKUP($A10,DATA!$A:$AG,DATA!$AG$3,FALSE),0) -> 19 | Z10: =SUM(Q10:Y10) -> 38349 | AA10: =+AA9+Q10 -> 47534 | AB10: =+AB9+R10 -> 83062 | AC10: =+AC9+S10 -> 110001 | AD10: =+AD9+T10 -> 29861 | AE10: =+AE9+U10 -> 6135 | AF10: =+AF9+V10 -> 19082 | AG10: =+AG9+W10 -> 0 | AH10: =+AH9+X10 -> 12180 | AI10: =+AI9+Y10 -> 712 | AJ10: =+IF(Q10=0," ",+WORKDAY.INTL(+VLOOKUP(AJ$1,POSTE!$B:$G,3,FALSE),+CUM!AA9/+VLOOKUP(AJ$1,POSTE!$B:$H,7,FALSE),,CONGÉ!$C$2:$C$80)) -> 45761 | AK10: =+IF(R10=0," ",+WORKDAY.INTL(+VLOOKUP(AK$1,POSTE!$B:$G,3,FALSE),+CUM!AB9/+VLOOKUP(AK$1,POSTE!$B:$H,7,FALSE),,CONGÉ!$C$2:$C$80)) -> 45768 | AL10: =+IF(S10=0," ",+WORKDAY.INTL(+VLOOKUP(AL$1,POSTE!$B:$G,3,FALSE),+CUM!AC9/+VLOOKUP(AL$1,POSTE!$B:$H,7,FALSE),,CONGÉ!$C$2:$C$80)) -> 45771 | AM10: =+IF(T10=0," ",+WORKDAY.INTL(+VLOOKUP(AM$1,POSTE!$B:$G,3,FALSE),+CUM!AD9/+VLOOKUP(AM$1,POSTE!$B:$H,7,FALSE),,CONGÉ!$C$2:$C$80)) -> 45758 | AN10: =+IF(U10=0," ",+WORKDAY.INTL(+VLOOKUP(AN$1,POSTE!$B:$G,3,FALSE),+CUM!AE9/+VLOOKUP(AN$1,POSTE!$B:$H,7,FALSE),,CONGÉ!$C$2:$C$80)) -> 45757 | AO10: =+IF(V10=0," ",+WORKDAY.INTL(+VLOOKUP(AO$1,POSTE!$B:$G,3,FALSE),+CUM!AF9/+VLOOKUP(AO$1,POSTE!$B:$H,7,FALSE),,CONGÉ!$C$2:$C$80)) -> 45764 | AP10: =+IF(W10=0," ",+WORKDAY.INTL(+VLOOKUP(AP$1,POSTE!$B:$G,3,FALSE),+CUM!AG9/+VLOOKUP(AP$1,POSTE!$B:$H,7,FALSE),,CONGÉ!$C$2:$C$80)) | AQ10: =+IF(X10=0," ",+WORKDAY.INTL(+VLOOKUP(AQ$1,POSTE!$B:$G,3,FALSE),+CUM!AH9/+VLOOKUP(AQ$1,POSTE!$B:$H,7,FALSE),,CONGÉ!$C$2:$C$80)) -> 45762 | AR10: =+IF(Y10=0," ",+WORKDAY.INTL(+VLOOKUP(AR$1,POSTE!$B:$G,3,FALSE),+CUM!AI9/+VLOOKUP(AR$1,POSTE!$B:$H,7,FALSE),,CONGÉ!$C$2:$C$80)) -> 45772 | AS10: =+IF(Q10=0," ",+WORKDAY.INTL(+VLOOKUP(AS$1,POSTE!$B:$G,3,FALSE),+CUM!AA10/+VLOOKUP(AS$1,POSTE!$B:$H,7,FALSE),,CONGÉ!$C$2:$C$80)) -> 45761 | AT10: =+IF(R10=0," ",+WORKDAY.INTL(+VLOOKUP(AT$1,POSTE!$B:$G,3,FALSE),+CUM!AB10/+VLOOKUP(AT$1,POSTE!$B:$H,7,FALSE),,CONGÉ!$C$2:$C$80)) -> 45769 | AU10: =+IF(AND(S10=0,T10=0)," ",+WORKDAY.INTL(+VLOOKUP($AS$1,POSTE!B:J,3,FALSE),+(((AC10*POSTE!$H$5)+(CUM!AD10*POSTE!$H$4))/(POSTE!$H$4*POSTE!$H$5*2)),,CONGÉ!$C$2:$C$80)) -> 45769 | AV10: =+IF(U10=0," ",+WORKDAY.INTL(+VLOOKUP(AV$1,POSTE!$B:$G,3,FALSE),+CUM!AE10/+VLOOKUP(AV$1,POSTE!$B:$H,7,FALSE),,CONGÉ!$C$2:$C$80)) -> 45757 | AW10: =+IF(V10=0," ",+WORKDAY.INTL(+VLOOKUP(AW$1,POSTE!$B:$G,3,FALSE),+CUM!AF10/+VLOOKUP(AW$1,POSTE!$B:$H,7,FALSE),,CONGÉ!$C$2:$C$80)) -> 45765 | AX10: =+IF(W10=0," ",+WORKDAY.INTL(+VLOOKUP(AX$1,POSTE!$B:$G,3,FALSE),+CUM!AG10/+VLOOKUP(AX$1,POSTE!$B:$H,7,FALSE),,CONGÉ!$C$2:$C$80)) | AY10: =+IF(X10=0," ",+WORKDAY.INTL(+VLOOKUP(AY$1,POSTE!$B:$G,3,FALSE),+CUM!AH10/+VLOOKUP(AY$1,POSTE!$B:$H,7,FALSE),,CONGÉ!$C$2:$C$80)) -> 45762 | AZ10: =+IF(Y10=0," ",+WORKDAY.INTL(+VLOOKUP(AZ$1,POSTE!$B:$G,3,FALSE),+CUM!AI10/+VLOOKUP(AZ$1,POSTE!$B:$H,7,FALSE),,CONGÉ!$C$2:$C$80)) -> 45772 | BA10: =+IF(S10=0," ",+WORKDAY.INTL(+VLOOKUP(BA$1,POSTE!$B:$G,3,FALSE),+CUM!AC10/+VLOOKUP(BA$1,POSTE!$B:$H,7,FALSE),,CONGÉ!$C$2:$C$80)) -> 45777 | BB10: =+IF(T10=0," ",+WORKDAY.INTL(+VLOOKUP(BB$1,POSTE!$B:$G,3,FALSE),+CUM!AD10/+VLOOKUP(BB$1,POSTE!$B:$H,7,FALSE),,CONGÉ!$C$2:$C$80)) -> 45762 | BC10: =+IF(+MIN(AJ10:AZ10)>0,+MIN(AJ10:AZ10)," ") -> 45757 | BD10: =+IF(+MAX(AS10:AZ10)>0,+MAX(AS10:AZ10)," ") -> 45772 | BE10: =+IF($F10="oui",+VLOOKUP($A10,DATA!$A:$AH,DATA!$AH$3,FALSE),0) -> 140 | BF10: =+BF9+BE10 -> 260 | BG10: =+IF(BE10>0,+MAX((BH$4:BH9),BD10),"") -> 45785 | BH10: =+IF(BE10>0,+MAX((BH$4:BH9),+WORKDAY.INTL(BG10,+BE10/8,,CONGÉ!$C$2:$C$73)),"") -> 45810 | BI10: =+IF(BE10=0,+IFERROR(+EDATE(BD10,1)," "),+EDATE(BH10,1)) -> 45840 | BJ10: =+AC10+AD10 -> 139862 | BK10: =+TODAY() -> 45754 | BL10: =+(((AC10*POSTE!$H$5)+(CUM!AD10*POSTE!$H$4))/(POSTE!$H$4*POSTE!$H$5*2)) -> 11.704349 | BM10: =+WORKDAY.INTL(BK10,BL10,,CONGÉ!C$4:C$72) -> 45769 | BN10: =+AU10-BM10 -> 0
A11: =+ROW()-ROW($A$4) -> 7 | B11: {=_xlfn.LET(_xlpm.CORR,IF(DATA!$B$4:$B$104="",IF(DATA!$A$4:$A$104="","--",DATA!$A$4:$A$104),DATA!$B$4:$B$104),_xlpm.Rx,SMALL(_xlpm.CORR,A11),IFERROR(MATCH(_xlpm.Rx,_xlpm.CORR,0),0))} -> 1 | C11: {=IF($B11=0,"",INDEX(Données,$B11,C$3))} -> Travail 1 | D11: {=IF($B11=0,"",INDEX(Données,$B11,D$3))} -> Client 1 | E11: {=IF($B11=0,"",INDEX(Données,$B11,E$3))} -> 45855 | F11: {=IF($B11=0,"",INDEX(Données,$B11,F$3))} -> OUI | G11: =+IF($F11="oui",+VLOOKUP($A11,DATA!$A:$AG,DATA!$P$3,FALSE),0) -> 0 | H11: =+IF($F11="oui",+VLOOKUP($A11,DATA!$A:$AG,DATA!$R$3,FALSE),0) -> 10 | I11: =+IF($F11="oui",+VLOOKUP($A11,DATA!$A:$AG,DATA!$T$3,FALSE),0) -> 138 | J11: =+IF($F11="oui",+VLOOKUP($A11,DATA!$A:$AG,DATA!$V$3,FALSE),0) -> 107 | K11: =+IF($F11="oui",+VLOOKUP($A11,DATA!$A:$AG,DATA!$X$3,FALSE),0) -> 109 | L11: =+IF($F11="oui",+VLOOKUP($A11,DATA!$A:$AG,DATA!$Z$3,FALSE),0) -> 151 | M11: =+IF($F11="oui",+VLOOKUP($A11,DATA!$A:$AG,DATA!$AB$3,FALSE),0) -> 0 | N11: =+IF($F11="oui",+VLOOKUP($A11,DATA!$A:$AG,DATA!$AD$3,FALSE),0) -> 0 | O11: =+IF($F11="oui",+VLOOKUP($A11,DATA!$A:$AG,DATA!$AF$3,FALSE),0) -> 56 | P11: =SUM(G11:O11) -> 571 | Q11: =+IF($F11="oui",+VLOOKUP($A11,DATA!$A:$AG,DATA!$Q$3,FALSE),0) -> 0 | R11: =+IF($F11="oui",+VLOOKUP($A11,DATA!$A:$AG,DATA!$S$3,FALSE),0) -> 29486 | S11: =+IF($F11="oui",+VLOOKUP($A11,DATA!$A:$AG,DATA!$U$3,FALSE),0) -> 25117 | T11: =+IF($F11="oui",+VLOOKUP($A11,DATA!$A:$AG,DATA!$W$3,FALSE),0) -> 2407 | U11: =+IF($F11="oui",+VLOOKUP($A11,DATA!$A:$AG,DATA!$Y$3,FALSE),0) -> 14719 | V11: =+IF($F11="oui",+VLOOKUP($A11,DATA!$A:$AG,DATA!$AA$3,FALSE),0) -> 3456 | W11: =+IF($F11="oui",+VLOOKUP($A11,DATA!$A:$AG,DATA!$AC$3,FALSE),0) -> 0 | X11: =+IF($F11="oui",+VLOOKUP($A11,DATA!$A:$AG,DATA!$AE$3,FALSE),0) -> 0 | Y11: =+IF($F11="oui",+VLOOKUP($A11,DATA!$A:$AG,DATA!$AG$3,FALSE),0) -> 28 | Z11: =SUM(Q11:Y11) -> 75213 | AA11: =+AA10+Q11 -> 47534 | AB11: =+AB10+R11 -> 112548 | AC11: =+AC10+S11 -> 135118 | AD11: =+AD10+T11 -> 32268 | AE11: =+AE10+U11 -> 20854 | AF11: =+AF10+V11 -> 22538 | AG11: =+AG10+W11 -> 0 | AH11: =+AH10+X11 -> 12180 | AI11: =+AI10+Y11 -> 740 | AJ11: =+IF(Q11=0," ",+WORKDAY.INTL(+VLOOKUP(AJ$1,POSTE!$B:$G,3,FALSE),+CUM!AA10/+VLOOKUP(AJ$1,POSTE!$B:$H,7,FALSE),,CONGÉ!$C$2:$C$80)) | AK11: =+IF(R11=0," ",+WORKDAY.INTL(+VLOOKUP(AK$1,POSTE!$B:$G,3,FALSE),+CUM!AB10/+VLOOKUP(AK$1,POSTE!$B:$H,7,FALSE),,CONGÉ!$C$2:$C$80)) -> 45769 | AL11: =+IF(S11=0," ",+WORKDAY.INTL(+VLOOKUP(AL$1,POSTE!$B:$G,3,FALSE),+CUM!AC10/+VLOOKUP(AL$1,POSTE!$B:$H,7,FALSE),,CONGÉ!$C$2:$C$80)) -> 45777 | AM11: =+IF(T11=0," ",+WORKDAY.INTL(+VLOOKUP(AM$1,POSTE!$B:$G,3,FALSE),+CUM!AD10/+VLOOKUP(AM$1,POSTE!$B:$H,7,FALSE),,CONGÉ!$C$2:$C$80)) -> 45762 | AN11: =+IF(U11=0," ",+WORKDAY.INTL(+VLOOKUP(AN$1,POSTE!$B:$G,3,FALSE),+CUM!AE10/+VLOOKUP(AN$1,POSTE!$B:$H,7,FALSE),,CONGÉ!$C$2:$C$80)) -> 45757 | AO11: =+IF(V11=0," ",+WORKDAY.INTL(+VLOOKUP(AO$1,POSTE!$B:$G,3,FALSE),+CUM!AF10/+VLOOKUP(AO$1,POSTE!$B:$H,7,FALSE),,CONGÉ!$C$2:$C$80)) -> 45765 | AP11: =+IF(W11=0," ",+WORKDAY.INTL(+VLOOKUP(AP$1,POSTE!$B:$G,3,FALSE),+CUM!AG10/+VLOOKUP(AP$1,POSTE!$B:$H,7,FALSE),,CONGÉ!$C$2:$C$80)) | AQ11: =+IF(X11=0," ",+WORKDAY.INTL(+VLOOKUP(AQ$1,POSTE!$B:$G,3,FALSE),+CUM!AH10/+VLOOKUP(AQ$1,POSTE!$B:$H,7,FALSE),,CONGÉ!$C$2:$C$80)) | AR11: =+IF(Y11=0," ",+WORKDAY.INTL(+VLOOKUP(AR$1,POSTE!$B:$G,3,FALSE),+CUM!AI10/+VLOOKUP(AR$1,POSTE!$B:$H,7,FALSE),,CONGÉ!$C$2:$C$80)) -> 45772 | AS11: =+IF(Q11=0," ",+WORKDAY.INTL(+VLOOKUP(AS$1,POSTE!$B:$G,3,FALSE),+CUM!AA11/+VLOOKUP(AS$1,POSTE!$B:$H,7,FALSE),,CONGÉ!$C$2:$C$80)) | AT11: =+IF(R11=0," ",+WORKDAY.INTL(+VLOOKUP(AT$1,POSTE!$B:$G,3,FALSE),+CUM!AB11/+VLOOKUP(AT$1,POSTE!$B:$H,7,FALSE),,CONGÉ!$C$2:$C$80)) -> 45775 | AU11: =+IF(AND(S11=0,T11=0)," ",+WORKDAY.INTL(+VLOOKUP($AS$1,POSTE!B:J,3,FALSE),+(((AC11*POSTE!$H$5)+(CUM!AD11*POSTE!$H$4))/(POSTE!$H$4*POSTE!$H$5*2)),,CONGÉ!$C$2:$C$80)) -> 45771 | AV11: =+IF(U11=0," ",+WORKDAY.INTL(+VLOOKUP(AV$1,POSTE!$B:$G,3,FALSE),+CUM!AE11/+VLOOKUP(AV$1,POSTE!$B:$H,7,FALSE),,CONGÉ!$C$2:$C$80)) -> 45771 | AW11: =+IF(V11=0," ",+WORKDAY.INTL(+VLOOKUP(AW$1,POSTE!$B:$G,3,FALSE),+CUM!AF11/+VLOOKUP(AW$1,POSTE!$B:$H,7,FALSE),,CONGÉ!$C$2:$C$80)) -> 45769 | AX11: =+IF(W11=0," ",+WORKDAY.INTL(+VLOOKUP(AX$1,POSTE!$B:$G,3,FALSE),+CUM!AG11/+VLOOKUP(AX$1,POSTE!$B:$H,7,FALSE),,CONGÉ!$C$2:$C$80)) | AY11: =+IF(X11=0," ",+WORKDAY.INTL(+VLOOKUP(AY$1,POSTE!$B:$G,3,FALSE),+CUM!AH11/+VLOOKUP(AY$1,POSTE!$B:$H,7,FALSE),,CONGÉ!$C$2:$C$80)) | AZ11: =+IF(Y11=0," ",+WORKDAY.INTL(+VLOOKUP(AZ$1,POSTE!$B:$G,3,FALSE),+CUM!AI11/+VLOOKUP(AZ$1,POSTE!$B:$H,7,FALSE),,CONGÉ!$C$2:$C$80)) -> 45775 | BA11: =+IF(S11=0," ",+WORKDAY.INTL(+VLOOKUP(BA$1,POSTE!$B:$G,3,FALSE),+CUM!AC11/+VLOOKUP(BA$1,POSTE!$B:$H,7,FALSE),,CONGÉ!$C$2:$C$80)) -> 45783 | BB11: =+IF(T11=0," ",+WORKDAY.INTL(+VLOOKUP(BB$1,POSTE!$B:$G,3,FALSE),+CUM!AD11/+VLOOKUP(BB$1,POSTE!$B:$H,7,FALSE),,CONGÉ!$C$2:$C$80)) -> 45762 | BC11: =+IF(+MIN(AJ11:AZ11)>0,+MIN(AJ11:AZ11)," ") -> 45757 | BD11: =+IF(+MAX(AS11:AZ11)>0,+MAX(AS11:AZ11)," ") -> 45775 | BE11: =+IF($F11="oui",+VLOOKUP($A11,DATA!$A:$AH,DATA!$AH$3,FALSE),0) -> 220 | BF11: =+BF10+BE11 -> 480 | BG11: =+IF(BE11>0,+MAX((BH$4:BH10),BD11),"") -> 45810 | BH11: =+IF(BE11>0,+MAX((BH$4:BH10),+WORKDAY.INTL(BG11,+BE11/8,,CONGÉ!$C$2:$C$73)),"") -> 45849 | BI11: =+IF(BE11=0,+IFERROR(+EDATE(BD11,1)," "),+EDATE(BH11,1)) -> 45880 | BJ11: =+AC11+AD11 -> 167386 | BK11: =+TODAY() -> 45754 | BL11: =+(((AC11*POSTE!$H$5)+(CUM!AD11*POSTE!$H$4))/(POSTE!$H$4*POSTE!$H$5*2)) -> 13.917344 | BM11: =+WORKDAY.INTL(BK11,BL11,,CONGÉ!C$4:C$72) -> 45771 | BN11: =+AU11-BM11 -> 0
A12: =+ROW()-ROW($A$4) -> 8 | B12: {=_xlfn.LET(_xlpm.CORR,IF(DATA!$B$4:$B$104="",IF(DATA!$A$4:$A$104="","--",DATA!$A$4:$A$104),DATA!$B$4:$B$104),_xlpm.Rx,SMALL(_xlpm.CORR,A12),IFERROR(MATCH(_xlpm.Rx,_xlpm.CORR,0),0))} -> 6 | C12: {=IF($B12=0,"",INDEX(Données,$B12,C$3))} -> Traail 6 | D12: {=IF($B12=0,"",INDEX(Données,$B12,D$3))} -> Client 6 | E12: {=IF($B12=0,"",INDEX(Données,$B12,E$3))} -> 45855 | F12: {=IF($B12=0,"",INDEX(Données,$B12,F$3))} -> OUI | G12: =+IF($F12="oui",+VLOOKUP($A12,DATA!$A:$AG,DATA!$P$3,FALSE),0) -> 0 | H12: =+IF($F12="oui",+VLOOKUP($A12,DATA!$A:$AG,DATA!$R$3,FALSE),0) -> 13 | I12: =+IF($F12="oui",+VLOOKUP($A12,DATA!$A:$AG,DATA!$T$3,FALSE),0) -> 33 | J12: =+IF($F12="oui",+VLOOKUP($A12,DATA!$A:$AG,DATA!$V$3,FALSE),0) -> 14 | K12: =+IF($F12="oui",+VLOOKUP($A12,DATA!$A:$AG,DATA!$X$3,FALSE),0) -> 26 | L12: =+IF($F12="oui",+VLOOKUP($A12,DATA!$A:$AG,DATA!$Z$3,FALSE),0) -> 9 | M12: =+IF($F12="oui",+VLOOKUP($A12,DATA!$A:$AG,DATA!$AB$3,FALSE),0) -> 0 | N12: =+IF($F12="oui",+VLOOKUP($A12,DATA!$A:$AG,DATA!$AD$3,FALSE),0) -> 2 | O12: =+IF($F12="oui",+VLOOKUP($A12,DATA!$A:$AG,DATA!$AF$3,FALSE),0) -> 16 | P12: =SUM(G12:O12) -> 113 | Q12: =+IF($F12="oui",+VLOOKUP($A12,DATA!$A:$AG,DATA!$Q$3,FALSE),0) -> 0 | R12: =+IF($F12="oui",+VLOOKUP($A12,DATA!$A:$AG,DATA!$S$3,FALSE),0) -> 59176 | S12: =+IF($F12="oui",+VLOOKUP($A12,DATA!$A:$AG,DATA!$U$3,FALSE),0) -> 19337 | T12: =+IF($F12="oui",+VLOOKUP($A12,DATA!$A:$AG,DATA!$W$3,FALSE),0) -> 1734 | U12: =+IF($F12="oui",+VLOOKUP($A12,DATA!$A:$AG,DATA!$Y$3,FALSE),0) -> 12980 | V12: =+IF($F12="oui",+VLOOKUP($A12,DATA!$A:$AG,DATA!$AA$3,FALSE),0) -> 607 | W12: =+IF($F12="oui",+VLOOKUP($A12,DATA!$A:$AG,DATA!$AC$3,FALSE),0) -> 0 | X12: =+IF($F12="oui",+VLOOKUP($A12,DATA!$A:$AG,DATA!$AE$3,FALSE),0) -> 1505 | Y12: =+IF($F12="oui",+VLOOKUP($A12,DATA!$A:$AG,DATA!$AG$3,FALSE),0) -> 440 | Z12: =SUM(Q12:Y12) -> 95779 | AA12: =+AA11+Q12 -> 47534 | AB12: =+AB11+R12 -> 171724 | AC12: =+AC11+S12 -> 154455 | AD12: =+AD11+T12 -> 34002 | AE12: =+AE11+U12 -> 33834 | AF12: =+AF11+V12 -> 23145 | AG12: =+AG11+W12 -> 0 | AH12: =+AH11+X12 -> 13685 | AI12: =+AI11+Y12 -> 1180 | AJ12: =+IF(Q12=0," ",+WORKDAY.INTL(+VLOOKUP(AJ$1,POSTE!$B:$G,3,FALSE),+CUM!AA11/+VLOOKUP(AJ$1,POSTE!$B:$H,7,FALSE),,CONGÉ!$C$2:$C$80)) | AK12: =+IF(R12=0," ",+WORKDAY.INTL(+VLOOKUP(AK$1,POSTE!$B:$G,3,FALSE),+CUM!AB11/+VLOOKUP(AK$1,POSTE!$B:$H,7,FALSE),,CONGÉ!$C$2:$C$80)) -> 45775 | AL12: =+IF(S12=0," ",+WORKDAY.INTL(+VLOOKUP(AL$1,POSTE!$B:$G,3,FALSE),+CUM!AC11/+VLOOKUP(AL$1,POSTE!$B:$H,7,FALSE),,CONGÉ!$C$2:$C$80)) -> 45783 | AM12: =+IF(T12=0," ",+WORKDAY.INTL(+VLOOKUP(AM$1,POSTE!$B:$G,3,FALSE),+CUM!AD11/+VLOOKUP(AM$1,POSTE!$B:$H,7,FALSE),,CONGÉ!$C$2:$C$80)) -> 45762 | AN12: =+IF(U12=0," ",+WORKDAY.INTL(+VLOOKUP(AN$1,POSTE!$B:$G,3,FALSE),+CUM!AE11/+VLOOKUP(AN$1,POSTE!$B:$H,7,FALSE),,CONGÉ!$C$2:$C$80)) -> 45771 | AO12: =+IF(V12=0," ",+WORKDAY.INTL(+VLOOKUP(AO$1,POSTE!$B:$G,3,FALSE),+CUM!AF11/+VLOOKUP(AO$1,POSTE!$B:$H,7,FALSE),,CONGÉ!$C$2:$C$80)) -> 45769 | AP12: =+IF(W12=0," ",+WORKDAY.INTL(+VLOOKUP(AP$1,POSTE!$B:$G,3,FALSE),+CUM!AG11/+VLOOKUP(AP$1,POSTE!$B:$H,7,FALSE),,CONGÉ!$C$2:$C$80)) | AQ12: =+IF(X12=0," ",+WORKDAY.INTL(+VLOOKUP(AQ$1,POSTE!$B:$G,3,FALSE),+CUM!AH11/+VLOOKUP(AQ$1,POSTE!$B:$H,7,FALSE),,CONGÉ!$C$2:$C$80)) -> 45762 | AR12: =+IF(Y12=0," ",+WORKDAY.INTL(+VLOOKUP(AR$1,POSTE!$B:$G,3,FALSE),+CUM!AI11/+VLOOKUP(AR$1,POSTE!$B:$H,7,FALSE),,CONGÉ!$C$2:$C$80)) -> 45775 | AS12: =+IF(Q12=0," ",+WORKDAY.INTL(+VLOOKUP(AS$1,POSTE!$B:$G,3,FALSE),+CUM!AA12/+VLOOKUP(AS$1,POSTE!$B:$H,7,FALSE),,CONGÉ!$C$2:$C$80)) | AT12: =+IF(R12=0," ",+WORKDAY.INTL(+VLOOKUP(AT$1,POSTE!$B:$G,3,FALSE),+CUM!AB12/+VLOOKUP(AT$1,POSTE!$B:$H,7,FALSE),,CONGÉ!$C$2:$C$80)) -> 45785 | AU12: =+IF(AND(S12=0,T12=0)," ",+WORKDAY.INTL(+VLOOKUP($AS$1,POSTE!B:J,3,FALSE),+(((AC12*POSTE!$H$5)+(CUM!AD12*POSTE!$H$4))/(POSTE!$H$4*POSTE!$H$5*2)),,CONGÉ!$C$2:$C$80)) -> 45775 | AV12: =+IF(U12=0," ",+WORKDAY.INTL(+VLOOKUP(AV$1,POSTE!$B:$G,3,FALSE),+CUM!AE12/+VLOOKUP(AV$1,POSTE!$B:$H,7,FALSE),,CONGÉ!$C$2:$C$80)) -> 45783 | AW12: =+IF(V12=0," ",+WORKDAY.INTL(+VLOOKUP(AW$1,POSTE!$B:$G,3,FALSE),+CUM!AF12/+VLOOKUP(AW$1,POSTE!$B:$H,7,FALSE),,CONGÉ!$C$2:$C$80)) -> 45769 | AX12: =+IF(W12=0," ",+WORKDAY.INTL(+VLOOKUP(AX$1,POSTE!$B:$G,3,FALSE),+CUM!AG12/+VLOOKUP(AX$1,POSTE!$B:$H,7,FALSE),,CONGÉ!$C$2:$C$80)) | AY12: =+IF(X12=0," ",+WORKDAY.INTL(+VLOOKUP(AY$1,POSTE!$B:$G,3,FALSE),+CUM!AH12/+VLOOKUP(AY$1,POSTE!$B:$H,7,FALSE),,CONGÉ!$C$2:$C$80)) -> 45762 | AZ12: =+IF(Y12=0," ",+WORKDAY.INTL(+VLOOKUP(AZ$1,POSTE!$B:$G,3,FALSE),+CUM!AI12/+VLOOKUP(AZ$1,POSTE!$B:$H,7,FALSE),,CONGÉ!$C$2:$C$80)) -> 45786 | BA12: =+IF(S12=0," ",+WORKDAY.INTL(+VLOOKUP(BA$1,POSTE!$B:$G,3,FALSE),+CUM!AC12/+VLOOKUP(BA$1,POSTE!$B:$H,7,FALSE),,CONGÉ!$C$2:$C$80)) -> 45786 | BB12: =+IF(T12=0," ",+WORKDAY.INTL(+VLOOKUP(BB$1,POSTE!$B:$G,3,FALSE),+CUM!AD12/+VLOOKUP(BB$1,POSTE!$B:$H,7,FALSE),,CONGÉ!$C$2:$C$80)) -> 45763 | BC12: =+IF(+MIN(AJ12:AZ12)>0,+MIN(AJ12:AZ12)," ") -> 45762 | BD12: =+IF(+MAX(AS12:AZ12)>0,+MAX(AS12:AZ12)," ") -> 45786 | BE12: =+IF($F12="oui",+VLOOKUP($A12,DATA!$A:$AH,DATA!$AH$3,FALSE),0) -> 0 | BF12: =+BF11+BE12 -> 480 | BG12: =+IF(BE12>0,+MAX((BH$4:BH11),BD12),"") | BH12: =+IF(BE12>0,+MAX((BH$4:BH11),+WORKDAY.INTL(BG12,+BE12/8,,CONGÉ!$C$2:$C$73)),"") | BI12: =+IF(BE12=0,+IFERROR(+EDATE(BD12,1)," "),+EDATE(BH12,1)) -> 45817 | BJ12: =+AC12+AD12 -> 188457 | BK12: =+TODAY() -> 45754 | BL12: =+(((AC12*POSTE!$H$5)+(CUM!AD12*POSTE!$H$4))/(POSTE!$H$4*POSTE!$H$5*2)) -> 15.608672 | BM12: =+WORKDAY.INTL(BK12,BL12,,CONGÉ!C$4:C$72) -> 45775 | BN12: =+AU12-BM12 -> 0
A13: =+ROW()-ROW($A$4) -> 9 | B13: {=_xlfn.LET(_xlpm.CORR,IF(DATA!$B$4:$B$104="",IF(DATA!$A$4:$A$104="","--",DATA!$A$4:$A$104),DATA!$B$4:$B$104),_xlpm.Rx,SMALL(_xlpm.CORR,A13),IFERROR(MATCH(_xlpm.Rx,_xlpm.CORR,0),0))} -> 5 | C13: {=IF($B13=0,"",INDEX(Données,$B13,C$3))} -> Traail 5 | D13: {=IF($B13=0,"",INDEX(Données,$B13,D$3))} -> Client 5 | E13: {=IF($B13=0,"",INDEX(Données,$B13,E$3))} -> 45814 | F13: {=IF($B13=0,"",INDEX(Données,$B13,F$3))} -> OUI | G13: =+IF($F13="oui",+VLOOKUP($A13,DATA!$A:$AG,DATA!$P$3,FALSE),0) -> 8 | H13: =+IF($F13="oui",+VLOOKUP($A13,DATA!$A:$AG,DATA!$R$3,FALSE),0) -> 47 | I13: =+IF($F13="oui",+VLOOKUP($A13,DATA!$A:$AG,DATA!$T$3,FALSE),0) -> 204 | J13: =+IF($F13="oui",+VLOOKUP($A13,DATA!$A:$AG,DATA!$V$3,FALSE),0) -> 206 | K13: =+IF($F13="oui",+VLOOKUP($A13,DATA!$A:$AG,DATA!$X$3,FALSE),0) -> 25 | L13: =+IF($F13="oui",+VLOOKUP($A13,DATA!$A:$AG,DATA!$Z$3,FALSE),0) -> 177 | M13: =+IF($F13="oui",+VLOOKUP($A13,DATA!$A:$AG,DATA!$AB$3,FALSE),0) -> 0 | N13: =+IF($F13="oui",+VLOOKUP($A13,DATA!$A:$AG,DATA!$AD$3,FALSE),0) -> 2 | O13: =+IF($F13="oui",+VLOOKUP($A13,DATA!$A:$AG,DATA!$AF$3,FALSE),0) -> 56 | P13: =SUM(G13:O13) -> 725 | Q13: =+IF($F13="oui",+VLOOKUP($A13,DATA!$A:$AG,DATA!$Q$3,FALSE),0) -> 911 | R13: =+IF($F13="oui",+VLOOKUP($A13,DATA!$A:$AG,DATA!$S$3,FALSE),0) -> 9367 | S13: =+IF($F13="oui",+VLOOKUP($A13,DATA!$A:$AG,DATA!$U$3,FALSE),0) -> 21847 | T13: =+IF($F13="oui",+VLOOKUP($A13,DATA!$A:$AG,DATA!$W$3,FALSE),0) -> 4144 | U13: =+IF($F13="oui",+VLOOKUP($A13,DATA!$A:$AG,DATA!$Y$3,FALSE),0) -> 1365 | V13: =+IF($F13="oui",+VLOOKUP($A13,DATA!$A:$AG,DATA!$AA$3,FALSE),0) -> 2529 | W13: =+IF($F13="oui",+VLOOKUP($A13,DATA!$A:$AG,DATA!$AC$3,FALSE),0) -> 0 | X13: =+IF($F13="oui",+VLOOKUP($A13,DATA!$A:$AG,DATA!$AE$3,FALSE),0) -> 29 | Y13: =+IF($F13="oui",+VLOOKUP($A13,DATA!$A:$AG,DATA!$AG$3,FALSE),0) -> 37 | Z13: =SUM(Q13:Y13) -> 40229 | AA13: =+AA12+Q13 -> 48445 | AB13: =+AB12+R13 -> 181091 | AC13: =+AC12+S13 -> 176302 | AD13: =+AD12+T13 -> 38146 | AE13: =+AE12+U13 -> 35199 | AF13: =+AF12+V13 -> 25674 | AG13: =+AG12+W13 -> 0 | AH13: =+AH12+X13 -> 13714 | AI13: =+AI12+Y13 -> 1217 | AJ13: =+IF(Q13=0," ",+WORKDAY.INTL(+VLOOKUP(AJ$1,POSTE!$B:$G,3,FALSE),+CUM!AA12/+VLOOKUP(AJ$1,POSTE!$B:$H,7,FALSE),,CONGÉ!$C$2:$C$80)) -> 45761 | AK13: =+IF(R13=0," ",+WORKDAY.INTL(+VLOOKUP(AK$1,POSTE!$B:$G,3,FALSE),+CUM!AB12/+VLOOKUP(AK$1,POSTE!$B:$H,7,FALSE),,CONGÉ!$C$2:$C$80)) -> 45785 | AL13: =+IF(S13=0," ",+WORKDAY.INTL(+VLOOKUP(AL$1,POSTE!$B:$G,3,FALSE),+CUM!AC12/+VLOOKUP(AL$1,POSTE!$B:$H,7,FALSE),,CONGÉ!$C$2:$C$80)) -> 45786 | AM13: =+IF(T13=0," ",+WORKDAY.INTL(+VLOOKUP(AM$1,POSTE!$B:$G,3,FALSE),+CUM!AD12/+VLOOKUP(AM$1,POSTE!$B:$H,7,FALSE),,CONGÉ!$C$2:$C$80)) -> 45763 | AN13: =+IF(U13=0," ",+WORKDAY.INTL(+VLOOKUP(AN$1,POSTE!$B:$G,3,FALSE),+CUM!AE12/+VLOOKUP(AN$1,POSTE!$B:$H,7,FALSE),,CONGÉ!$C$2:$C$80)) -> 45783 | AO13: =+IF(V13=0," ",+WORKDAY.INTL(+VLOOKUP(AO$1,POSTE!$B:$G,3,FALSE),+CUM!AF12/+VLOOKUP(AO$1,POSTE!$B:$H,7,FALSE),,CONGÉ!$C$2:$C$80)) -> 45769 | AP13: =+IF(W13=0," ",+WORKDAY.INTL(+VLOOKUP(AP$1,POSTE!$B:$G,3,FALSE),+CUM!AG12/+VLOOKUP(AP$1,POSTE!$B:$H,7,FALSE),,CONGÉ!$C$2:$C$80)) | AQ13: =+IF(X13=0," ",+WORKDAY.INTL(+VLOOKUP(AQ$1,POSTE!$B:$G,3,FALSE),+CUM!AH12/+VLOOKUP(AQ$1,POSTE!$B:$H,7,FALSE),,CONGÉ!$C$2:$C$80)) -> 45762 | AR13: =+IF(Y13=0," ",+WORKDAY.INTL(+VLOOKUP(AR$1,POSTE!$B:$G,3,FALSE),+CUM!AI12/+VLOOKUP(AR$1,POSTE!$B:$H,7,FALSE),,CONGÉ!$C$2:$C$80)) -> 45786 | AS13: =+IF(Q13=0," ",+WORKDAY.INTL(+VLOOKUP(AS$1,POSTE!$B:$G,3,FALSE),+CUM!AA13/+VLOOKUP(AS$1,POSTE!$B:$H,7,FALSE),,CONGÉ!$C$2:$C$80)) -> 45762 | AT13: =+IF(R13=0," ",+WORKDAY.INTL(+VLOOKUP(AT$1,POSTE!$B:$G,3,FALSE),+CUM!AB13/+VLOOKUP(AT$1,POSTE!$B:$H,7,FALSE),,CONGÉ!$C$2:$C$80)) -> 45789 | AU13: =+IF(AND(S13=0,T13=0)," ",+WORKDAY.INTL(+VLOOKUP($AS$1,POSTE!B:J,3,FALSE),+(((AC13*POSTE!$H$5)+(CUM!AD13*POSTE!$H$4))/(POSTE!$H$4*POSTE!$H$5*2)),,CONGÉ!$C$2:$C$80)) -> 45777 | AV13: =+IF(U13=0," ",+WORKDAY.INTL(+VLOOKUP(AV$1,POSTE!$B:$G,3,FALSE),+CUM!AE13/+VLOOKUP(AV$1,POSTE!$B:$H,7,FALSE),,CONGÉ!$C$2:$C$80)) -> 45783 | AW13: =+IF(V13=0," ",+WORKDAY.INTL(+VLOOKUP(AW$1,POSTE!$B:$G,3,FALSE),+CUM!AF13/+VLOOKUP(AW$1,POSTE!$B:$H,7,FALSE),,CONGÉ!$C$2:$C$80)) -> 45771 | AX13: =+IF(W13=0," ",+WORKDAY.INTL(+VLOOKUP(AX$1,POSTE!$B:$G,3,FALSE),+CUM!AG13/+VLOOKUP(AX$1,POSTE!$B:$H,7,FALSE),,CONGÉ!$C$2:$C$80)) | AY13: =+IF(X13=0," ",+WORKDAY.INTL(+VLOOKUP(AY$1,POSTE!$B:$G,3,FALSE),+CUM!AH13/+VLOOKUP(AY$1,POSTE!$B:$H,7,FALSE),,CONGÉ!$C$2:$C$80)) -> 45762 | AZ13: =+IF(Y13=0," ",+WORKDAY.INTL(+VLOOKUP(AZ$1,POSTE!$B:$G,3,FALSE),+CUM!AI13/+VLOOKUP(AZ$1,POSTE!$B:$H,7,FALSE),,CONGÉ!$C$2:$C$80)) -> 45789 | BA13: =+IF(S13=0," ",+WORKDAY.INTL(+VLOOKUP(BA$1,POSTE!$B:$G,3,FALSE),+CUM!AC13/+VLOOKUP(BA$1,POSTE!$B:$H,7,FALSE),,CONGÉ!$C$2:$C$80)) -> 45791 | BB13: =+IF(T13=0," ",+WORKDAY.INTL(+VLOOKUP(BB$1,POSTE!$B:$G,3,FALSE),+CUM!AD13/+VLOOKUP(BB$1,POSTE!$B:$H,7,FALSE),,CONGÉ!$C$2:$C$80)) -> 45763 | BC13: =+IF(+MIN(AJ13:AZ13)>0,+MIN(AJ13:AZ13)," ") -> 45761 | BD13: =+IF(+MAX(AS13:AZ13)>0,+MAX(AS13:AZ13)," ") -> 45789 | BE13: =+IF($F13="oui",+VLOOKUP($A13,DATA!$A:$AH,DATA!$AH$3,FALSE),0) -> 134.66667 | BF13: =+BF12+BE13 -> 614.66667 | BG13: =+IF(BE13>0,+MAX((BH$4:BH12),BD13),"") -> 45849 | BH13: =+IF(BE13>0,+MAX((BH$4:BH12),+WORKDAY.INTL(BG13,+BE13/8,,CONGÉ!$C$2:$C$73)),"") -> 45894 | BI13: =+IF(BE13=0,+IFERROR(+EDATE(BD13,1)," "),+EDATE(BH13,1)) -> 45925 | BJ13: =+AC13+AD13 -> 214448 | BK13: =+TODAY() -> 45754 | BL13: =+(((AC13*POSTE!$H$5)+(CUM!AD13*POSTE!$H$4))/(POSTE!$H$4*POSTE!$H$5*2)) -> 17.747135 | BM13: =+WORKDAY.INTL(BK13,BL13,,CONGÉ!C$4:C$72) -> 45777 | BN13: =+AU13-BM13 -> 0
