Workbook
Name Col1_: OFFSET(Données,,,,1)
Name Données: DATA!$A$4:$AK$110

Sheet Feuil1
I12: ><<

Sheet PROCÉDURE
B2: MISE A JOUR DES DONNÉES PAR POSTE
C4: VARIABLE PAR POSTE MODIFIABLE SOUS L'ONGLET "POSTE" :
C6: * | D6: Date de départ des Forecast
C7: * | D7: Moyenne Kg/heure
C8: * | D8: Nombre d'employés / poste
C9: * | D9: Nombre d'heures / jour ouvrable
C12: AJOUT D'UN NOUVEAU POSTE DE TRAVAIL
C14: * | D14: Faire la demande a la comptabilité
B17: MISE A JOUR DES DONNÉES DES PROJETS
C19: AJOUT D'UN PROJET
C21: Inscrire les données du projet sous l'onglet "DATA" (Colonne C a Z)
C23: * | D23: Si il y a une quantité NULLE, inscrire un ZÉRO
C25: * | D25: S'assurer d'inscrire le projet sur une ligne dont les cellules sont en couleur.
D26: Ceci indique qu'il y a des formules dans les zones grises et que les formules
D27: vont tenir compte de l'ajout
C30: RETIRER UN PROJET EXISTANT DE LA PLANIFICATION TEMPORAIREMENT
C32: * | D32: Inscrire NON sous la colonne "H" de l'onglet "DATA"
D34: Ceci permet de conserver les données dans le fichier ET de les
D35: exclures de la palnification en terme de Qté et de date
C38: DEPLACER UN PROJET DANS L'ORDRE DES PRIORITÉS
C40: * | D40: Sélectionner la ligne du projet désiré (Au complet)
C41: * | D41: Couper
C42: * | D42: Insérer la ligne a l'endroit désiré (Coller)
D44: Important : Après avoir fait des changements sous l'onglet DATA, il faut mettre
D45: a jour le TCD pour que la modification se reflete dans le tableau.
C47: AJOUTER DES CONGÉS FÉRIÉES
C49: * | D49: Incrire la date sous l'onglet CONGÉ dans la zone BLEU
B51: TABLEAU SOMMAIRE
C53: ONGLET SOMMAIRE
C55: * | D55: Tableau sommaire qui permet d'avoir une vue d'ensemble de la planification
D56: avec la date de fin de tous les projets par poste
C58: ONGLET DETAIL TOUT
C60: * | D60: Présente la date de fin des travaux pour chaque job planifié pour
D61: chaque étape de production planifiée.
D63: Si la date de fin de livrison est plus grandes que la date de réquisition du client
D64: la cellule de la date de livraison sera rouge
D66: S'il n'y a pas de date de requisition pour la job, la date de requisition sera rouge
D68: Il est possible d'utiliser les filtres pour cibler un poste ou une job en particulier
B71: DIAGRAMME DE GANT
C73: GANTT PAR JOB
C75: * | D75: Selectionner LA JOB désirée dans le menu déroulant
D76: (Cellule B2 de l'onglet GANTT JOB)

Sheet POSTE
B1: # POSTE | C1: DESCRIPTION | D1: DEBUT | E1: KG/HEURE | F1: # HOMMES | G1: HRE/JOUR | H1: CAP/JOUR | I1: CAP/SEM
B2: RADIAL (WF + C) | C2: RADIAL (WF + C) | D2: =+TODAY() -> 45754 | E2: 500 | F2: 2 | G2: =F2*8 -> 16 | H2: =+E2*G2 -> 8000 | I2: =H2*5 -> 40000 | J2: =I2 -> 40000 | L2: 1
B3: LS | C3: PERC. C/N (LS OU LC) 9/16" ≥ et plus | D3: =+TODAY() -> 45754 | E3: 600 | F3: 1.5 | G3: =F3*8 -> 12 | H3: =+E3*G3 -> 7200 | I3: =H3*5 -> 36000 | J3: =I3 -> 36000 | L3: 1.5
B4: LC | C4: PROFEL LC 1/2" ≤ d´épais et moins | D4: =+TODAY() -> 45754 | E4: 400 | F4: 2 | G4: =F4*8 -> 16 | H4: =+E4*G4 -> 6400 | I4: =H4*5 -> 32000 | J4: =I4 -> 32000 | L4: 3
B5: LB | C5: FORMAT BARRE LB | D5: =+TODAY() -> 45754 | E5: 300 | F5: 2 | G5: =F5*8 -> 16 | H5: =+E5*G5 -> 4800 | I5: =H5*5 -> 24000 | J5: =I5 -> 24000 | L5: 3
B6: LC + LB | D6: =+TODAY() -> 45754 | J6: 0
B7: PL+ | C7: RADIAL (PL ET FLAT) 9/16" ≥ et plus | D7: =+TODAY() -> 45754 | E7: 200 | F7: 1 | G7: =F7*8 -> 8 | H7: =+E7*G7 -> 1600 | I7: =H7*5 -> 8000 | J7: =I7 -> 8000 | L7: 1
B8: PL- | C8: POINÇ. (PL ET FLAT) 1/2" ≤ d´épais et moins | D8: =+TODAY() -> 45754 | E8: 121 | F8: 2 | G8: =F8*8 -> 16 | H8: =+E8*G8 -> 1936 | I8: =H8*5 -> 9680 | J8: =I8 -> 9680 | L8: 1
B9: 6a15 | C9: WF (6@15)et (6@8.5) (8@13) | D9: =+TODAY() -> 45754 | E9: 750 | F9: 1 | G9: =F9*8 -> 8 | H9: =+E9*G9 -> 6000 | I9: =H9*5 -> 30000 | J9: =I9 -> 30000 | L9: 1
B10: DIVERS | C10: DIVERS | D10: =+TODAY() -> 45754 | E10: 250 | F10: 1 | G10: =F10*8 -> 8 | H10: =+E10*G10 -> 2000 | I10: =H10*5 -> 10000 | J10: =I10 -> 10000 | L10: 1
B11: SOUDURE | C11: Soudure Mks / Pièces | D11: =+TODAY() -> 45754 | E11: 1 | F11: 6 | G11: =F11*8 -> 48 | H11: =+E11*G11 -> 48 | I11: =H11*5 -> 240 | J11: 0 | L11: 6
B12: MONTAGE | C12: Nombre d'heure | D12: =+TODAY() -> 45754 | E12: 1 | F12: 1 | G12: 8 | H12: =+E12*G12 -> 8 | I12: =H12*5 -> 40 | L12: 1
J13: =SUM(J2:J9) -> 179680 | K13: =J13*4.2 -> 754656 | L13: =J13*48 -> 8624640
J14: weekly | K14: monthly | L14: Annualy
F15: 2 | J15: CNP | K15: CNP
A16: Soudeur 1 | B16: Pierre Hamel | C16: Jour | F16: 4 | J16: CNP | K16: CNP
A17: Soudeur 2 | B17: Yanick Dufresne | C17: Jour | F17: 4
A18: Soudeur 3 | B18: Marco Ayotte | C18: Jour | F18: 4
A19: Soudeur 4 | B19: Francis Desharnais | C19: Jour
A20: Soudeur 5 | B20: Serge Villemure | C20: Soir | F20: 2
A21: Soudeur 6 | B21: John Fredy | C21: Soir | F21: 2
A22: Soudeur 7 | B22: Rabia | C22: Soir | F22: 2
F23: 1
F24: 6
F25: 1

Sheet CONGÉ
B2: 2024
B4: Jour de l'an | C4: =+DATE($B2,1,1) -> 45292
B5: Dimanche Pâques | C5: 45383
B6: Lundi de paques | C6: =+C5+1 -> 45384
B7: Fetes des patriotes | C7: 45432
B8: Fete nationale | C8: =+ DATE($B2,6,24) -> 45467
B9: Fete du canada | C9: =+ DATE($B2,7,1) -> 45474
B10: Vacances | C10: 45495
B11: Vacances | C11: =1+C10 -> 45496
B12: Vacances | C12: =1+C11 -> 45497
B13: Vacances | C13: =1+C12 -> 45498
B14: Vacances | C14: =1+C13 -> 45499
B15: Vacances | C15: =C14+3 -> 45502
B16: Vacances | C16: =1+C15 -> 45503
B17: Vacances | C17: =1+C16 -> 45504
B18: Vacances | C18: =1+C17 -> 45505
B19: Vacances | C19: =1+C18 -> 45506
B20: Vacances | C20: =C19+3 -> 45509
B21: Vacances | C21: =1+C20 -> 45510
B22: Vacances | C22: =1+C21 -> 45511
B23: Vacances | C23: =1+C22 -> 45512
B24: Vacances | C24: =1+C23 -> 45513
B25: fete du travail | C25: 45537
B26: Action graces | C26: 45579
B27: Noel | C27: =+DATE($B$2,12,23) -> 45649
B28: Noel | C28: =+DATE($B$2,12,24) -> 45650
B29: Noel | C29: =+DATE($B$2,12,25) -> 45651
B30: Noel | C30: =+DATE($B$2,12,26) -> 45652
B31: Noel | C31: =+DATE($B$2,12,27) -> 45653
B32: Noel | C32: =+DATE($B$2,12,28) -> 45654
B33: Noel | C33: =+DATE($B$2,12,29) -> 45655
B34: Noel | C34: =+DATE($B$2,12,30) -> 45656
B35: Noel | C35: =+DATE($B$2,12,31) -> 45657
B36: Noel | C36: =+DATE($B$2+1,1,1) -> 45658
B37: Noel | C37: =+DATE($B$2+1,1,2) -> 45659
B38: Noel | C38: =+DATE($B$2+1,1,3) -> 45660
B42: 2025
B44: Jour de l'an | C44: =+DATE($B42,1,1) -> 45658
B45: Dimanche Pâques | C45: 45382
B46: Lundi de paques | C46: =+C45+1 -> 45383
B47: Fetes des patriotes | C47: 45432
B48: Fete nationale | C48: =+ DATE($B42,6,24) -> 45832
B49: Fete du canada | C49: =+ DATE($B42,7,1) -> 45839
B50: Vacances | C50: 45859
B51: Vacances | C51: =1+C50 -> 45860
B52: Vacances | C52: =1+C51 -> 45861
B53: Vacances | C53: =1+C52 -> 45862
B54: Vacances | C54: =1+C53 -> 45863
B55: Vacances | C55: =C54+3 -> 45866
B56: Vacances | C56: =1+C55 -> 45867
B57: Vacances | C57: =1+C56 -> 45868
B58: Vacances | C58: =1+C57 -> 45869
B59: Vacances | C59: =1+C58 -> 45870
B60: Vacances | C60: =C59+3 -> 45873
B61: Vacances | C61: =1+C60 -> 45874
B62: Vacances | C62: =1+C61 -> 45875
B63: Vacances | C63: =1+C62 -> 45876
B64: Vacances | C64: =1+C63 -> 45877
B65: fete du travail | C65: 45902
B66: Action graces | C66: 45943
B67: Noel | C67: =+DATE($B$42,12,23) -> 46014
B68: Noel | C68: =+DATE($B$42,12,24) -> 46015
B69: Noel | C69: =+DATE($B$42,12,25) -> 46016
B70: Noel | C70: =+DATE($B$42,12,26) -> 46017
B71: Noel | C71: =+DATE($B$42,12,27) -> 46018
B72: Noel | C72: =+DATE($B$42,12,28) -> 46019
B73: Noel | C73: =+DATE($B$42,12,29) -> 46020
B74: Noel | C74: =+DATE($B$42,12,30) -> 46021
B75: Noel | C75: =+DATE($B$42,12,31) -> 46022
B76: Noel | C76: =+DATE($B$42+1,1,1) -> 46023
B77: Noel | C77: =+DATE($B$42+1,1,2) -> 46024
B78: Noel | C78: =+DATE($B$42+1,1,3) -> 46025
B80: $C$2@$C$80 pour les dates de congé

Sheet CUM
A1: PRIORITÉ | C1: JOB | D1: CLIENT | E1: REQUISITION | F1: PLANIFIÉ | G1: =+CONCATENATE(POSTE!$B2,"-","MARQ") -> RADIAL (WF + C)-MARQ | H1: =+CONCATENATE(POSTE!$B3,"-","MARQ") -> LS-MARQ | I1: =+CONCATENATE(POSTE!$B4,"-","MARQ") -> LC-MARQ | J1: =+CONCATENATE(POSTE!$B5,"-","MARQ") -> LB-MARQ | K1: =+CONCATENATE(POSTE!$B7,"-","MARQ") -> PL+-MARQ | L1: =+CONCATENATE(POSTE!$B8,"-","MARQ") -> PL--MARQ | M1: =+CONCATENATE(POSTE!$B9,"-","MARQ") -> 6a15-MARQ | N1: =+CONCATENATE(POSTE!$B10,"-","MARQ") -> DIVERS-MARQ | O1: =+CONCATENATE(POSTE!$B11,"-","MARQ") -> SOUDURE-MARQ | P1: TTL MARKS | Q1: =+CONCATENATE(POSTE!$B2,"-","POIDS") -> RADIAL (WF + C)-POIDS | R1: =+CONCATENATE(POSTE!$B3,"-","POIDS") -> LS-POIDS | S1: =+CONCATENATE(POSTE!$B4,"-","POIDS") -> LC-POIDS | T1: =+CONCATENATE(POSTE!$B5,"-","POIDS") -> LB-POIDS | U1: =+CONCATENATE(POSTE!$B7,"-","POIDS") -> PL+-POIDS | V1: =+CONCATENATE(POSTE!$B8,"-","POIDS") -> PL--POIDS | W1: =+CONCATENATE(POSTE!$B9,"-","POIDS") -> 6a15-POIDS | X1: =+CONCATENATE(POSTE!$B10,"-","POIDS") -> DIVERS-POIDS | Y1: =+CONCATENATE(POSTE!$B11,"-","POIDS") -> SOUDURE-POIDS | Z1: TTL KG | AA1: =+CONCATENATE(POSTE!$B2,"-","CUM") -> RADIAL (WF + C)-CUM | AB1: =+CONCATENATE(POSTE!$B3,"-","CUM") -> LS-CUM | AC1: =+CONCATENATE(POSTE!$B4,"-","CUM") -> LC-CUM | AD1: =+CONCATENATE(POSTE!$B5,"-","CUM") -> LB-CUM | AE1: =+CONCATENATE(POSTE!$B7,"-","CUM") -> PL+-CUM | AF1: =+CONCATENATE(POSTE!$B8,"-","CUM") -> PL--CUM | AG1: =+CONCATENATE(POSTE!$B9,"-","CUM") -> 6a15-CUM | AH1: =+CONCATENATE(POSTE!$B10,"-","CUM") -> DIVERS-CUM | AI1: =+CONCATENATE(POSTE!$B11,"-","CUM") -> SOUDURE-CUM | AJ1: RADIAL (WF + C) | AK1: LS | AL1: LC | AM1: LB | AN1: PL+ | AO1: PL- | AP1: 6a15 | AQ1: DIVERS | AR1: SOUDURE | AS1: RADIAL (WF + C) | AT1: LS | AU1: LC + LB | AV1: PL+ | AW1: PL- | AX1: 6a15 | AY1: DIVERS | AZ1: SOUDURE | BA1: LC | BB1: LB | BC1: DATE MIN | BD1: DATE MAX | BE1: MONTAGE-HRE | BF1: =+CONCATENATE(POSTE!$B12,"-","CUM") -> MONTAGE-CUM | BG1: MONTAGE | BH1: MONTAGE | BI1: FIN EMBALLAGE | BJ1: LC + LB | BK1: CONTRÔLE | BL1: CONTRÔLE | BM1: CONTRÔLE | BN1: CONTRÔLE
C2: 0 | AJ2: DATE DEB | AK2: DATE DEB | AL2: DATE DEB | AM2: DATE DEB | AN2: DATE DEB | AO2: DATE DEB | AP2: DATE DEB | AQ2: DATE DEB | AR2: DATE DEB | AS2: DATE FIN | AT2: DATE FIN | AU2: DATE FIN | AV2: DATE FIN | AW2: DATE FIN | AX2: DATE FIN | AY2: DATE FIN | AZ2: DATE FIN | BA2: DATE FIN | BB2: DATE FIN | BG2: DATE DEB | BH2: DATE FIN | BJ2: CUM | BK2: DEBUT | BL2: DUREE | BM2: FIN | BN2: ECART
A3: Date | C3: 5 | D3: 4 | E3: 7 | F3: 15 | G3: =+COLUMN()-2 -> 5 | H3: =+COLUMN()-2 -> 6 | I3: =+COLUMN()-2 -> 7 | J3: =+COLUMN()-2 -> 8 | K3: =+COLUMN()-2 -> 9 | L3: =+COLUMN()-2 -> 10 | M3: =+COLUMN()-2 -> 11 | N3: =+COLUMN()-2 -> 12 | ... BN3: =+COLUMN()-2 -> 64
A4: Mise en prod | B4: ligne | C4: 0 | AA4: 0 | AB4: 0 | AC4: 0 | AD4: 0 | AE4: 0 | AF4: 0 | AG4: 0 | AH4: 0 | AI4: 0 | BF4: 0
A5: =+ROW()-ROW($A$4) -> 1 | B5: {=_xlfn.LET(_xlpm.CORR,IF(DATA!$B$4:$B$104="",IF(DATA!$A$4:$A$104="","--",DATA!$A$4:$A$104),DATA!$B$4:$B$104),_xlpm.Rx,SMALL(_xlpm.CORR,A5),IFERROR(MATCH(_xlpm.Rx,_xlpm.CORR,0),0))} -> 7 | C5: {=IF($B5=0,"",INDEX(Données,$B5,C$3))} -> Traail 7 | D5: {=IF($B5=0,"",INDEX(Données,$B5,D$3))} -> Client 7 | E5: {=IF($B5=0,"",INDEX(Données,$B5,E$3))} -> 45782 | F5: {=IF($B5=0,"",INDEX(Données,$B5,F$3))} -> OUI | G5: =+IF($F5="oui",+VLOOKUP($A5,DATA!$A:$AG,DATA!$P$3,FALSE),0) -> 7 | H5: =+IF($F5="oui",+VLOOKUP($A5,DATA!$A:$AG,DATA!$R$3,FALSE),0) -> 2 | I5: =+IF($F5="oui",+VLOOKUP($A5,DATA!$A:$AG,DATA!$T$3,FALSE),0) -> 0 | J5: =+IF($F5="oui",+VLOOKUP($A5,DATA!$A:$AG,DATA!$V$3,FALSE),0) -> 0 | K5: =+IF($F5="oui",+VLOOKUP($A5,DATA!$A:$AG,DATA!$X$3,FALSE),0) -> 0 | L5: =+IF($F5="oui",+VLOOKUP($A5,DATA!$A:$AG,DATA!$Z$3,FALSE),0) -> 0 | M5: =+IF($F5="oui",+VLOOKUP($A5,DATA!$A:$AG,DATA!$AB$3,FALSE),0) -> 0 | N5: =+IF($F5="oui",+VLOOKUP($A5,DATA!$A:$AG,DATA!$AD$3,FALSE),0) -> 0 | O5: =+IF($F5="oui",+VLOOKUP($A5,DATA!$A:$AG,DATA!$AF$3,FALSE),0) -> 5 | P5: =SUM(G5:O5) -> 14 | Q5: =+IF($F5="oui",+VLOOKUP($A5,DATA!$A:$AG,DATA!$Q$3,FALSE),0) -> 46958 | R5: =+IF($F5="oui",+VLOOKUP($A5,DATA!$A:$AG,DATA!$S$3,FALSE),0) -> 3672 | S5: =+IF($F5="oui",+VLOOKUP($A5,DATA!$A:$AG,DATA!$U$3,FALSE),0) -> 0 | T5: =+IF($F5="oui",+VLOOKUP($A5,DATA!$A:$AG,DATA!$W$3,FALSE),0) -> 0 | U5: =+IF($F5="oui",+VLOOKUP($A5,DATA!$A:$AG,DATA!$Y$3,FALSE),0) -> 0 | V5: =+IF($F5="oui",+VLOOKUP($A5,DATA!$A:$AG,DATA!$AA$3,FALSE),0) -> 0 | W5: =+IF($F5="oui",+VLOOKUP($A5,DATA!$A:$AG,DATA!$AC$3,FALSE),0) -> 0 | X5: =+IF($F5="oui",+VLOOKUP($A5,DATA!$A:$AG,DATA!$AE$3,FALSE),0) -> 0 | Y5: =+IF($F5="oui",+VLOOKUP($A5,DATA!$A:$AG,DATA!$AG$3,FALSE),0) -> 384 | Z5: =SUM(Q5:Y5) -> 51014 | AA5: =+AA4+Q5 -> 46958 | AB5: =+AB4+R5 -> 3672 | AC5: =+AC4+S5 -> 0 | AD5: =+AD4+T5 -> 0 | AE5: =+AE4+U5 -> 0 | AF5: =+AF4+V5 -> 0 | AG5: =+AG4+W5 -> 0 | AH5: =+AH4+X5 -> 0 | AI5: =+AI4+Y5 -> 384 | AJ5: =+IF(Q5=0," ",+WORKDAY.INTL(+VLOOKUP(AJ$1,POSTE!$B:$G,3,FALSE),+CUM!AA4/+VLOOKUP(AJ$1,POSTE!$B:$H,7,FALSE),,CONGÉ!$C$2:$C$80)) -> 45754 | AK5: =+IF(R5=0," ",+WORKDAY.INTL(+VLOOKUP(AK$1,POSTE!$B:$G,3,FALSE),+CUM!AB4/+VLOOKUP(AK$1,POSTE!$B:$H,7,FALSE),,CONGÉ!$C$2:$C$80)) -> 45754 | AL5: =+IF(S5=0," ",+WORKDAY.INTL(+VLOOKUP(AL$1,POSTE!$B:$G,3,FALSE),+CUM!AC4/+VLOOKUP(AL$1,POSTE!$B:$H,7,FALSE),,CONGÉ!$C$2:$C$80)) | AM5: =+IF(T5=0," ",+WORKDAY.INTL(+VLOOKUP(AM$1,POSTE!$B:$G,3,FALSE),+CUM!AD4/+VLOOKUP(AM$1,POSTE!$B:$H,7,FALSE),,CONGÉ!$C$2:$C$80)) | AN5: =+IF(U5=0," ",+WORKDAY.INTL(+VLOOKUP(AN$1,POSTE!$B:$G,3,FALSE),+CUM!AE4/+VLOOKUP(AN$1,POSTE!$B:$H,7,FALSE),,CONGÉ!$C$2:$C$80)) | AO5: =+IF(V5=0," ",+WORKDAY.INTL(+VLOOKUP(AO$1,POSTE!$B:$G,3,FALSE),+CUM!AF4/+VLOOKUP(AO$1,POSTE!$B:$H,7,FALSE),,CONGÉ!$C$2:$C$80)) | AP5: =+IF(W5=0," ",+WORKDAY.INTL(+VLOOKUP(AP$1,POSTE!$B:$G,3,FALSE),+CUM!AG4/+VLOOKUP(AP$1,POSTE!$B:$H,7,FALSE),,CONGÉ!$C$2:$C$80)) | AQ5: =+IF(X5=0," ",+WORKDAY.INTL(+VLOOKUP(AQ$1,POSTE!$B:$G,3,FALSE),+CUM!AH4/+VLOOKUP(AQ$1,POSTE!$B:$H,7,FALSE),,CONGÉ!$C$2:$C$80)) | AR5: =+IF(Y5=0," ",+WORKDAY.INTL(+VLOOKUP(AR$1,POSTE!$B:$G,3,FALSE),+CUM!AI4/+VLOOKUP(AR$1,POSTE!$B:$H,7,FALSE),,CONGÉ!$C$2:$C$80)) -> 45754 | AS5: =+IF(Q5=0," ",+WORKDAY.INTL(+VLOOKUP(AS$1,POSTE!$B:$G,3,FALSE),+CUM!AA5/+VLOOKUP(AS$1,POSTE!$B:$H,7,FALSE),,CONGÉ!$C$2:$C$80)) -> 45761 | AT5: =+IF(R5=0," ",+WORKDAY.INTL(+VLOOKUP(AT$1,POSTE!$B:$G,3,FALSE),+CUM!AB5/+VLOOKUP(AT$1,POSTE!$B:$H,7,FALSE),,CONGÉ!$C$2:$C$80)) -> 45754 | AU5: =+IF(AND(S5=0,T5=0)," ",+WORKDAY.INTL(+VLOOKUP($AS$1,POSTE!B:J,3,FALSE),+(((AC5*POSTE!$H$5)+(CUM!AD5*POSTE!$H$4))/(POSTE!$H$4*POSTE!$H$5*2)),,CONGÉ!$C$2:$C$80)) | AV5: =+IF(U5=0," ",+WORKDAY.INTL(+VLOOKUP(AV$1,POSTE!$B:$G,3,FALSE),+CUM!AE5/+VLOOKUP(AV$1,POSTE!$B:$H,7,FALSE),,CONGÉ!$C$2:$C$80)) | AW5: =+IF(V5=0," ",+WORKDAY.INTL(+VLOOKUP(AW$1,POSTE!$B:$G,3,FALSE),+CUM!AF5/+VLOOKUP(AW$1,POSTE!$B:$H,7,FALSE),,CONGÉ!$C$2:$C$80)) | AX5: =+IF(W5=0," ",+WORKDAY.INTL(+VLOOKUP(AX$1,POSTE!$B:$G,3,FALSE),+CUM!AG5/+VLOOKUP(AX$1,POSTE!$B:$H,7,FALSE),,CONGÉ!$C$2:$C$80)) | AY5: =+IF(X5=0," ",+WORKDAY.INTL(+VLOOKUP(AY$1,POSTE!$B:$G,3,FALSE),+CUM!AH5/+VLOOKUP(AY$1,POSTE!$B:$H,7,FALSE),,CONGÉ!$C$2:$C$80)) | AZ5: =+IF(Y5=0," ",+WORKDAY.INTL(+VLOOKUP(AZ$1,POSTE!$B:$G,3,FALSE),+CUM!AI5/+VLOOKUP(AZ$1,POSTE!$B:$H,7,FALSE),,CONGÉ!$C$2:$C$80)) -> 45764 | BA5: =+IF(S5=0," ",+WORKDAY.INTL(+VLOOKUP(BA$1,POSTE!$B:$G,3,FALSE),+CUM!AC5/+VLOOKUP(BA$1,POSTE!$B:$H,7,FALSE),,CONGÉ!$C$2:$C$80)) | BB5: =+IF(T5=0," ",+WORKDAY.INTL(+VLOOKUP(BB$1,POSTE!$B:$G,3,FALSE),+CUM!AD5/+VLOOKUP(BB$1,POSTE!$B:$H,7,FALSE),,CONGÉ!$C$2:$C$80)) | BC5: =+IF(+MIN(AJ5:AZ5)>0,+MIN(AJ5:AZ5)," ") -> 45754 | BD5: =+IF(+MAX(AS5:AZ5)>0,+MAX(AS5:AZ5)," ") -> 45764 | BE5: =+IF($F5="oui",+VLOOKUP($A5,DATA!$A:$AH,DATA!$AH$3,FALSE),0) -> 0 | BF5: =+BF4+BE5 -> 0 | BG5: =+IF(BE5>0,+MAX((BH$4:BH4),BD5),"") | BH5: =+IF(BE5>0,+MAX((BH$4:BH4),+WORKDAY.INTL(BG5,+BE5/8,,CONGÉ!$C$2:$C$73)),"") | BI5: =+IF(BE5=0,+IFERROR(+EDATE(BD5,1)," "),+EDATE(BH5,1)) -> 45794 | BJ5: =+AC5+AD5 -> 0 | BK5: =+TODAY() -> 45754 | BL5: =+(((AC5*POSTE!$H$5)+(CUM!AD5*POSTE!$H$4))/(POSTE!$H$4*POSTE!$H$5*2)) -> 0 | BM5: =+WORKDAY.INTL(BK5,BL5,,CONGÉ!C$4:C$72) -> 45754 | BN5: =+AU5-BM5 -> #VALUE!
A6: =+ROW()-ROW($A$4) -> 2 | B6: {=_xlfn.LET(_xlpm.CORR,IF(DATA!$B$4:$B$104="",IF(DATA!$A$4:$A$104="","--",DATA!$A$4:$A$104),DATA!$B$4:$B$104),_xlpm.Rx,SMALL(_xlpm.CORR,A6),IFERROR(MATCH(_xlpm.Rx,_xlpm.CORR,0),0))} -> 10 | C6: {=IF($B6=0,"",INDEX(Données,$B6,C$3))} -> Traail 10 | D6: {=IF($B6=0,"",INDEX(Données,$B6,D$3))} -> Client 10 | E6: {=IF($B6=0,"",INDEX(Données,$B6,E$3))} -> 45777 | F6: {=IF($B6=0,"",INDEX(Données,$B6,F$3))} -> OUI | G6: =+IF($F6="oui",+VLOOKUP($A6,DATA!$A:$AG,DATA!$P$3,FALSE),0) -> 6 | H6: =+IF($F6="oui",+VLOOKUP($A6,DATA!$A:$AG,DATA!$R$3,FALSE),0) -> 27 | I6: =+IF($F6="oui",+VLOOKUP($A6,DATA!$A:$AG,DATA!$T$3,FALSE),0) -> 102 | J6: =+IF($F6="oui",+VLOOKUP($A6,DATA!$A:$AG,DATA!$V$3,FALSE),0) -> 76 | K6: =+IF($F6="oui",+VLOOKUP($A6,DATA!$A:$AG,DATA!$X$3,FALSE),0) -> 14 | L6: =+IF($F6="oui",+VLOOKUP($A6,DATA!$A:$AG,DATA!$Z$3,FALSE),0) -> 75 | M6: =+IF($F6="oui",+VLOOKUP($A6,DATA!$A:$AG,DATA!$AB$3,FALSE),0) -> 0 | N6: =+IF($F6="oui",+VLOOKUP($A6,DATA!$A:$AG,DATA!$AD$3,FALSE),0) -> 0 | O6: =+IF($F6="oui",+VLOOKUP($A6,DATA!$A:$AG,DATA!$AF$3,FALSE),0) -> 15 | P6: =SUM(G6:O6) -> 315 | Q6: =+IF($F6="oui",+VLOOKUP($A6,DATA!$A:$AG,DATA!$Q$3,FALSE),0) -> 77 | R6: =+IF($F6="oui",+VLOOKUP($A6,DATA!$A:$AG,DATA!$S$3,FALSE),0) -> 25939 | S6: =+IF($F6="oui",+VLOOKUP($A6,DATA!$A:$AG,DATA!$U$3,FALSE),0) -> 40115 | T6: =+IF($F6="oui",+VLOOKUP($A6,DATA!$A:$AG,DATA!$W$3,FALSE),0) -> 3466 | U6: =+IF($F6="oui",+VLOOKUP($A6,DATA!$A:$AG,DATA!$Y$3,FALSE),0) -> 2223 | V6: =+IF($F6="oui",+VLOOKUP($A6,DATA!$A:$AG,DATA!$AA$3,FALSE),0) -> 4177 | W6: =+IF($F6="oui",+VLOOKUP($A6,DATA!$A:$AG,DATA!$AC$3,FALSE),0) -> 0 | X6: =+IF($F6="oui",+VLOOKUP($A6,DATA!$A:$AG,DATA!$AE$3,FALSE),0) -> 0 | Y6: =+IF($F6="oui",+VLOOKUP($A6,DATA!$A:$AG,DATA!$AG$3,FALSE),0) -> 23 | Z6: =SUM(Q6:Y6) -> 76020 | AA6: =+AA5+Q6 -> 47035 | AB6: =+AB5+R6 -> 29611 | AC6: =+AC5+S6 -> 40115 | AD6: =+AD5+T6 -> 3466 | AE6: =+AE5+U6 -> 2223 | AF6: =+AF5+V6 -> 4177 | AG6: =+AG5+W6 -> 0 | AH6: =+AH5+X6 -> 0 | AI6: =+AI5+Y6 -> 407 | AJ6: =+IF(Q6=0," ",+WORKDAY.INTL(+VLOOKUP(AJ$1,POSTE!$B:$G,3,FALSE),+CUM!AA5/+VLOOKUP(AJ$1,POSTE!$B:$H,7,FALSE),,CONGÉ!$C$2:$C$80)) -> 45761 | AK6: =+IF(R6=0," ",+WORKDAY.INTL(+VLOOKUP(AK$1,POSTE!$B:$G,3,FALSE),+CUM!AB5/+VLOOKUP(AK$1,POSTE!$B:$H,7,FALSE),,CONGÉ!$C$2:$C$80)) -> 45754 | AL6: =+IF(S6=0," ",+WORKDAY.INTL(+VLOOKUP(AL$1,POSTE!$B:$G,3,FALSE),+CUM!AC5/+VLOOKUP(AL$1,POSTE!$B:$H,7,FALSE),,CONGÉ!$C$2:$C$80)) -> 45754 | AM6: =+IF(T6=0," ",+WORKDAY.INTL(+VLOOKUP(AM$1,POSTE!$B:$G,3,FALSE),+CUM!AD5/+VLOOKUP(AM$1,POSTE!$B:$H,7,FALSE),,CONGÉ!$C$2:$C$80)) -> 45754 | AN6: =+IF(U6=0," ",+WORKDAY.INTL(+VLOOKUP(AN$1,POSTE!$B:$G,3,FALSE),+CUM!AE5/+VLOOKUP(AN$1,POSTE!$B:$H,7,FALSE),,CONGÉ!$C$2:$C$80)) -> 45754 | AO6: =+IF(V6=0," ",+WORKDAY.INTL(+VLOOKUP(AO$1,POSTE!$B:$G,3,FALSE),+CUM!AF5/+VLOOKUP(AO$1,POSTE!$B:$H,7,FALSE),,CONGÉ!$C$2:$C$80)) -> 45754 | AP6: =+IF(W6=0," ",+WORKDAY.INTL(+VLOOKUP(AP$1,POSTE!$B:$G,3,FALSE),+CUM!AG5/+VLOOKUP(AP$1,POSTE!$B:$H,7,FALSE),,CONGÉ!$C$2:$C$80)) | AQ6: =+IF(X6=0," ",+WORKDAY.INTL(+VLOOKUP(AQ$1,POSTE!$B:$G,3,FALSE),+CUM!AH5/+VLOOKUP(AQ$1,POSTE!$B:$H,7,FALSE),,CONGÉ!$C$2:$C$80)) | AR6: =+IF(Y6=0," ",+WORKDAY.INTL(+VLOOKUP(AR$1,POSTE!$B:$G,3,FALSE),+CUM!AI5/+VLOOKUP(AR$1,POSTE!$B:$H,7,FALSE),,CONGÉ!$C$2:$C$80)) -> 45764 | AS6: =+IF(Q6=0," ",+WORKDAY.INTL(+VLOOKUP(AS$1,POSTE!$B:$G,3,FALSE),+CUM!AA6/+VLOOKUP(AS$1,POSTE!$B:$H,7,FALSE),,CONGÉ!$C$2:$C$80)) -> 45761 | AT6: =+IF(R6=0," ",+WORKDAY.INTL(+VLOOKUP(AT$1,POSTE!$B:$G,3,FALSE),+CUM!AB6/+VLOOKUP(AT$1,POSTE!$B:$H,7,FALSE),,CONGÉ!$C$2:$C$80)) -> 45758 | AU6: =+IF(AND(S6=0,T6=0)," ",+WORKDAY.INTL(+VLOOKUP($AS$1,POSTE!B:J,3,FALSE),+(((AC6*POSTE!$H$5)+(CUM!AD6*POSTE!$H$4))/(POSTE!$H$4*POSTE!$H$5*2)),,CONGÉ!$C$2:$C$80)) -> 45757 | AV6: =+IF(U6=0," ",+WORKDAY.INTL(+VLOOKUP(AV$1,POSTE!$B:$G,3,FALSE),+CUM!AE6/+VLOOKUP(AV$1,POSTE!$B:$H,7,FALSE),,CONGÉ!$C$2:$C$80)) -> 45755 | AW6: =+IF(V6=0," ",+WORKDAY.INTL(+VLOOKUP(AW$1,POSTE!$B:$G,3,FALSE),+CUM!AF6/+VLOOKUP(AW$1,POSTE!$B:$H,7,FALSE),,CONGÉ!$C$2:$C$80)) -> 45756 | AX6: =+IF(W6=0," ",+WORKDAY.INTL(+VLOOKUP(AX$1,POSTE!$B:$G,3,FALSE),+CUM!AG6/+VLOOKUP(AX$1,POSTE!$B:$H,7,FALSE),,CONGÉ!$C$2:$C$80)) | AY6: =+IF(X6=0," ",+WORKDAY.INTL(+VLOOKUP(AY$1,POSTE!$B:$G,3,FALSE),+CUM!AH6/+VLOOKUP(AY$1,POSTE!$B:$H,7,FALSE),,CONGÉ!$C$2:$C$80)) | AZ6: =+IF(Y6=0," ",+WORKDAY.INTL(+VLOOKUP(AZ$1,POSTE!$B:$G,3,FALSE),+CUM!AI6/+VLOOKUP(AZ$1,POSTE!$B:$H,7,FALSE),,CONGÉ!$C$2:$C$80)) -> 45764 | BA6: =+IF(S6=0," ",+WORKDAY.INTL(+VLOOKUP(BA$1,POSTE!$B:$G,3,FALSE),+CUM!AC6/+VLOOKUP(BA$1,POSTE!$B:$H,7,FALSE),,CONGÉ!$C$2:$C$80)) -> 45762 | BB6: =+IF(T6=0," ",+WORKDAY.INTL(+VLOOKUP(BB$1,POSTE!$B:$G,3,FALSE),+CUM!AD6/+VLOOKUP(BB$1,POSTE!$B:$H,7,FALSE),,CONGÉ!$C$2:$C$80)) -> 45754 | BC6: =+IF(+MIN(AJ6:AZ6)>0,+MIN(AJ6:AZ6)," ") -> 45754 | BD6: =+IF(+MAX(AS6:AZ6)>0,+MAX(AS6:AZ6)," ") -> 45764 | BE6: =+IF($F6="oui",+VLOOKUP($A6,DATA!$A:$AH,DATA!$AH$3,FALSE),0) -> 80 | BF6: =+BF5+BE6 -> 80 | BG6: =+IF(BE6>0,+MAX((BH$4:BH5),BD6),"") -> 45764 | BH6: =+IF(BE6>0,+MAX((BH$4:BH5),+WORKDAY.INTL(BG6,+BE6/8,,CONGÉ!$C$2:$C$73)),"") -> 45778 | BI6: =+IF(BE6=0,+IFERROR(+EDATE(BD6,1)," "),+EDATE(BH6,1)) -> 45809 | BJ6: =+AC6+AD6 -> 43581 | BK6: =+TODAY() -> 45754 | BL6: =+(((AC6*POSTE!$H$5)+(CUM!AD6*POSTE!$H$4))/(POSTE!$H$4*POSTE!$H$5*2)) -> 3.495026 | BM6: =+WORKDAY.INTL(BK6,BL6,,CONGÉ!C$4:C$72) -> 45757 | BN6: =+AU6-BM6 -> 0
A7: =+ROW()-ROW($A$4) -> 3 | B7: {=_xlfn.LET(_xlpm.CORR,IF(DATA!$B$4:$B$104="",IF(DATA!$A$4:$A$104="","--",DATA!$A$4:$A$104),DATA!$B$4:$B$104),_xlpm.Rx,SMALL(_xlpm.CORR,A7),IFERROR(MATCH(_xlpm.Rx,_xlpm.CORR,0),0))} -> 3 | C7: {=IF($B7=0,"",INDEX(Données,$B7,C$3))} -> Traail 3 | D7: {=IF($B7=0,"",INDEX(Données,$B7,D$3))} -> Client 3 | E7: {=IF($B7=0,"",INDEX(Données,$B7,E$3))} -> 45898 | F7: {=IF($B7=0,"",INDEX(Données,$B7,F$3))} -> OUI | G7: =+IF($F7="oui",+VLOOKUP($A7,DATA!$A:$AG,DATA!$P$3,FALSE),0) -> 0 | H7: =+IF($F7="oui",+VLOOKUP($A7,DATA!$A:$AG,DATA!$R$3,FALSE),0) -> 11 | I7: =+IF($F7="oui",+VLOOKUP($A7,DATA!$A:$AG,DATA!$T$3,FALSE),0) -> 19 | J7: =+IF($F7="oui",+VLOOKUP($A7,DATA!$A:$AG,DATA!$V$3,FALSE),0) -> 0 | K7: =+IF($F7="oui",+VLOOKUP($A7,DATA!$A:$AG,DATA!$X$3,FALSE),0) -> 3 | L7: =+IF($F7="oui",+VLOOKUP($A7,DATA!$A:$AG,DATA!$Z$3,FALSE),0) -> 3 | M7: =+IF($F7="oui",+VLOOKUP($A7,DATA!$A:$AG,DATA!$AB$3,FALSE),0) -> 0 | N7: =+IF($F7="oui",+VLOOKUP($A7,DATA!$A:$AG,DATA!$AD$3,FALSE),0) -> 0 | O7: =+IF($F7="oui",+VLOOKUP($A7,DATA!$A:$AG,DATA!$AF$3,FALSE),0) -> 24 | P7: =SUM(G7:O7) -> 60 | Q7: =+IF($F7="oui",+VLOOKUP($A7,DATA!$A:$AG,DATA!$Q$3,FALSE),0) -> 0 | R7: =+IF($F7="oui",+VLOOKUP($A7,DATA!$A:$AG,DATA!$S$3,FALSE),0) -> 18233 | S7: =+IF($F7="oui",+VLOOKUP($A7,DATA!$A:$AG,DATA!$U$3,FALSE),0) -> 2999 | T7: =+IF($F7="oui",+VLOOKUP($A7,DATA!$A:$AG,DATA!$W$3,FALSE),0) -> 0 | U7: =+IF($F7="oui",+VLOOKUP($A7,DATA!$A:$AG,DATA!$Y$3,FALSE),0) -> 43 | V7: =+IF($F7="oui",+VLOOKUP($A7,DATA!$A:$AG,DATA!$AA$3,FALSE),0) -> 16 | W7: =+IF($F7="oui",+VLOOKUP($A7,DATA!$A:$AG,DATA!$AC$3,FALSE),0) -> 0 | X7: =+IF($F7="oui",+VLOOKUP($A7,DATA!$A:$AG,DATA!$AE$3,FALSE),0) -> 0 | Y7: =+IF($F7="oui",+VLOOKUP($A7,DATA!$A:$AG,DATA!$AG$3,FALSE),0) -> 50 | Z7: =SUM(Q7:Y7) -> 21341 | AA7: =+AA6+Q7 -> 47035 | AB7: =+AB6+R7 -> 47844 | AC7: =+AC6+S7 -> 43114 | AD7: =+AD6+T7 -> 3466 | AE7: =+AE6+U7 -> 2266 | AF7: =+AF6+V7 -> 4193 | AG7: =+AG6+W7 -> 0 | AH7: =+AH6+X7 -> 0 | AI7: =+AI6+Y7 -> 457 | AJ7: =+IF(Q7=0," ",+WORKDAY.INTL(+VLOOKUP(AJ$1,POSTE!$B:$G,3,FALSE),+CUM!AA6/+VLOOKUP(AJ$1,POSTE!$B:$H,7,FALSE),,CONGÉ!$C$2:$C$80)) | AK7: =+IF(R7=0," ",+WORKDAY.INTL(+VLOOKUP(AK$1,POSTE!$B:$G,3,FALSE),+CUM!AB6/+VLOOKUP(AK$1,POSTE!$B:$H,7,FALSE),,CONGÉ!$C$2:$C$80)) -> 45758 | AL7: =+IF(S7=0," ",+WORKDAY.INTL(+VLOOKUP(AL$1,POSTE!$B:$G,3,FALSE),+CUM!AC6/+VLOOKUP(AL$1,POSTE!$B:$H,7,FALSE),,CONGÉ!$C$2:$C$80)) -> 45762 | AM7: =+IF(T7=0," ",+WORKDAY.INTL(+VLOOKUP(AM$1,POSTE!$B:$G,3,FALSE),+CUM!AD6/+VLOOKUP(AM$1,POSTE!$B:$H,7,FALSE),,CONGÉ!$C$2:$C$80)) | AN7: =+IF(U7=0," ",+WORKDAY.INTL(+VLOOKUP(AN$1,POSTE!$B:$G,3,FALSE),+CUM!AE6/+VLOOKUP(AN$1,POSTE!$B:$H,7,FALSE),,CONGÉ!$C$2:$C$80)) -> 45755 | AO7: =+IF(V7=0," ",+WORKDAY.INTL(+VLOOKUP(AO$1,POSTE!$B:$G,3,FALSE),+CUM!AF6/+VLOOKUP(AO$1,POSTE!$B:$H,7,FALSE),,CONGÉ!$C$2:$C$80)) -> 45756 | AP7: =+IF(W7=0," ",+WORKDAY.INTL(+VLOOKUP(AP$1,POSTE!$B:$G,3,FALSE),+CUM!AG6/+VLOOKUP(AP$1,POSTE!$B:$H,7,FALSE),,CONGÉ!$C$2:$C$80)) | AQ7: =+IF(X7=0," ",+WORKDAY.INTL(+VLOOKUP(AQ$1,POSTE!$B:$G,3,FALSE),+CUM!AH6/+VLOOKUP(AQ$1,POSTE!$B:$H,7,FALSE),,CONGÉ!$C$2:$C$80)) | AR7: =+IF(Y7=0," ",+WORKDAY.INTL(+VLOOKUP(AR$1,POSTE!$B:$G,3,FALSE),+CUM!AI6/+VLOOKUP(AR$1,POSTE!$B:$H,7,FALSE),,CONGÉ!$C$2:$C$80)) -> 45764 | AS7: =+IF(Q7=0," ",+WORKDAY.INTL(+VLOOKUP(AS$1,POSTE!$B:$G,3,FALSE),+CUM!AA7/+VLOOKUP(AS$1,POSTE!$B:$H,7,FALSE),,CONGÉ!$C$2:$C$80)) | AT7: =+IF(R7=0," ",+WORKDAY.INTL(+VLOOKUP(AT$1,POSTE!$B:$G,3,FALSE),+CUM!AB7/+VLOOKUP(AT$1,POSTE!$B:$H,7,FALSE),,CONGÉ!$C$2:$C$80)) -> 45762 | AU7: =+IF(AND(S7=0,T7=0)," ",+WORKDAY.INTL(+VLOOKUP($AS$1,POSTE!B:J,3,FALSE),+(((AC7*POSTE!$H$5)+(CUM!AD7*POSTE!$H$4))/(POSTE!$H$4*POSTE!$H$5*2)),,CONGÉ!$C$2:$C$80)) -> 45757 | AV7: =+IF(U7=0," ",+WORKDAY.INTL(+VLOOKUP(AV$1,POSTE!$B:$G,3,FALSE),+CUM!AE7/+VLOOKUP(AV$1,POSTE!$B:$H,7,FALSE),,CONGÉ!$C$2:$C$80)) -> 45755 | AW7: =+IF(V7=0," ",+WORKDAY.INTL(+VLOOKUP(AW$1,POSTE!$B:$G,3,FALSE),+CUM!AF7/+VLOOKUP(AW$1,POSTE!$B:$H,7,FALSE),,CONGÉ!$C$2:$C$80)) -> 45756 | AX7: =+IF(W7=0," ",+WORKDAY.INTL(+VLOOKUP(AX$1,POSTE!$B:$G,3,FALSE),+CUM!AG7/+VLOOKUP(AX$1,POSTE!$B:$H,7,FALSE),,CONGÉ!$C$2:$C$80)) | AY7: =+IF(X7=0," ",+WORKDAY.INTL(+VLOOKUP(AY$1,POSTE!$B:$G,3,FALSE),+CUM!AH7/+VLOOKUP(AY$1,POSTE!$B:$H,7,FALSE),,CONGÉ!$C$2:$C$80)) | AZ7: =+IF(Y7=0," ",+WORKDAY.INTL(+VLOOKUP(AZ$1,POSTE!$B:$G,3,FALSE),+CUM!AI7/+VLOOKUP(AZ$1,POSTE!$B:$H,7,FALSE),,CONGÉ!$C$2:$C$80)) -> 45765 | BA7: =+IF(S7=0," ",+WORKDAY.INTL(+VLOOKUP(BA$1,POSTE!$B:$G,3,FALSE),+CUM!AC7/+VLOOKUP(BA$1,POSTE!$B:$H,7,FALSE),,CONGÉ!$C$2:$C$80)) -> 45762 | BB7: =+IF(T7=0," ",+WORKDAY.INTL(+VLOOKUP(BB$1,POSTE!$B:$G,3,FALSE),+CUM!AD7/+VLOOKUP(BB$1,POSTE!$B:$H,7,FALSE),,CONGÉ!$C$2:$C$80)) | BC7: =+IF(+MIN(AJ7:AZ7)>0,+MIN(AJ7:AZ7)," ") -> 45755 | BD7: =+IF(+MAX(AS7:AZ7)>0,+MAX(AS7:AZ7)," ") -> 45765 | BE7: =+IF($F7="oui",+VLOOKUP($A7,DATA!$A:$AH,DATA!$AH$3,FALSE),0) -> 0 | BF7: =+BF6+BE7 -> 80 | BG7: =+IF(BE7>0,+MAX((BH$4:BH6),BD7),"") | BH7: =+IF(BE7>0,+MAX((BH$4:BH6),+WORKDAY.INTL(BG7,+BE7/8,,CONGÉ!$C$2:$C$73)),"") | BI7: =+IF(BE7=0,+IFERROR(+EDATE(BD7,1)," "),+EDATE(BH7,1)) -> 45795 | BJ7: =+AC7+AD7 -> 46580 | BK7: =+TODAY() -> 45754 | BL7: =+(((AC7*POSTE!$H$5)+(CUM!AD7*POSTE!$H$4))/(POSTE!$H$4*POSTE!$H$5*2)) -> 3.7293229 | BM7: =+WORKDAY.INTL(BK7,BL7,,CONGÉ!C$4:C$72) -> 45757 | BN7: =+AU7-BM7 -> 0
A8: =+ROW()-ROW($A$4) -> 4 | B8: {=_xlfn.LET(_xlpm.CORR,IF(DATA!$B$4:$B$104="",IF(DATA!$A$4:$A$104="","--",DATA!$A$4:$A$104),DATA!$B$4:$B$104),_xlpm.Rx,SMALL(_xlpm.CORR,A8),IFERROR(MATCH(_xlpm.Rx,_xlpm.CORR,0),0))} -> 8 | C8: {=IF($B8=0,"",INDEX(Données,$B8,C$3))} -> Traail 8 | D8: {=IF($B8=0,"",INDEX(Données,$B8,D$3))} -> Client 8 | E8: {=IF($B8=0,"",INDEX(Données,$B8,E$3))} -> 45777 | F8: {=IF($B8=0,"",INDEX(Données,$B8,F$3))} -> OUI | G8: =+IF($F8="oui",+VLOOKUP($A8,DATA!$A:$AG,DATA!$P$3,FALSE),0) -> 0 | H8: =+IF($F8="oui",+VLOOKUP($A8,DATA!$A:$AG,DATA!$R$3,FALSE),0) -> 0 | I8: =+IF($F8="oui",+VLOOKUP($A8,DATA!$A:$AG,DATA!$T$3,FALSE),0) -> 0 | J8: =+IF($F8="oui",+VLOOKUP($A8,DATA!$A:$AG,DATA!$V$3,FALSE),0) -> 0 | K8: =+IF($F8="oui",+VLOOKUP($A8,DATA!$A:$AG,DATA!$X$3,FALSE),0) -> 0 | L8: =+IF($F8="oui",+VLOOKUP($A8,DATA!$A:$AG,DATA!$Z$3,FALSE),0) -> 5 | M8: =+IF($F8="oui",+VLOOKUP($A8,DATA!$A:$AG,DATA!$AB$3,FALSE),0) -> 0 | N8: =+IF($F8="oui",+VLOOKUP($A8,DATA!$A:$AG,DATA!$AD$3,FALSE),0) -> 0 | O8: =+IF($F8="oui",+VLOOKUP($A8,DATA!$A:$AG,DATA!$AF$3,FALSE),0) -> 0 | P8: =SUM(G8:O8) -> 5 | Q8: =+IF($F8="oui",+VLOOKUP($A8,DATA!$A:$AG,DATA!$Q$3,FALSE),0) -> 0 | R8: =+IF($F8="oui",+VLOOKUP($A8,DATA!$A:$AG,DATA!$S$3,FALSE),0) -> 0 | S8: =+IF($F8="oui",+VLOOKUP($A8,DATA!$A:$AG,DATA!$U$3,FALSE),0) -> 0 | T8: =+IF($F8="oui",+VLOOKUP($A8,DATA!$A:$AG,DATA!$W$3,FALSE),0) -> 0 | U8: =+IF($F8="oui",+VLOOKUP($A8,DATA!$A:$AG,DATA!$Y$3,FALSE),0) -> 0 | V8: =+IF($F8="oui",+VLOOKUP($A8,DATA!$A:$AG,DATA!$AA$3,FALSE),0) -> 527 | W8: =+IF($F8="oui",+VLOOKUP($A8,DATA!$A:$AG,DATA!$AC$3,FALSE),0) -> 0 | X8: =+IF($F8="oui",+VLOOKUP($A8,DATA!$A:$AG,DATA!$AE$3,FALSE),0) -> 0 | Y8: =+IF($F8="oui",+VLOOKUP($A8,DATA!$A:$AG,DATA!$AG$3,FALSE),0) -> 0 | Z8: =SUM(Q8:Y8) -> 527 | AA8: =+AA7+Q8 -> 47035 | AB8: =+AB7+R8 -> 47844 | AC8: =+AC7+S8 -> 43114 | AD8: =+AD7+T8 -> 3466 | AE8: =+AE7+U8 -> 2266 | AF8: =+AF7+V8 -> 4720 | AG8: =+AG7+W8 -> 0 | AH8: =+AH7+X8 -> 0 | AI8: =+AI7+Y8 -> 457 | AJ8: =+IF(Q8=0," ",+WORKDAY.INTL(+VLOOKUP(AJ$1,POSTE!$B:$G,3,FALSE),+CUM!AA7/+VLOOKUP(AJ$1,POSTE!$B:$H,7,FALSE),,CONGÉ!$C$2:$C$80)) | AK8: =+IF(R8=0," ",+WORKDAY.INTL(+VLOOKUP(AK$1,POSTE!$B:$G,3,FALSE),+CUM!AB7/+VLOOKUP(AK$1,POSTE!$B:$H,7,FALSE),,CONGÉ!$C$2:$C$80)) | AL8: =+IF(S8=0," ",+WORKDAY.INTL(+VLOOKUP(AL$1,POSTE!$B:$G,3,FALSE),+CUM!AC7/+VLOOKUP(AL$1,POSTE!$B:$H,7,FALSE),,CONGÉ!$C$2:$C$80)) | AM8: =+IF(T8=0," ",+WORKDAY.INTL(+VLOOKUP(AM$1,POSTE!$B:$G,3,FALSE),+CUM!AD7/+VLOOKUP(AM$1,POSTE!$B:$H,7,FALSE),,CONGÉ!$C$2:$C$80)) | AN8: =+IF(U8=0," ",+WORKDAY.INTL(+VLOOKUP(AN$1,POSTE!$B:$G,3,FALSE),+CUM!AE7/+VLOOKUP(AN$1,POSTE!$B:$H,7,FALSE),,CONGÉ!$C$2:$C$80)) | AO8: =+IF(V8=0," ",+WORKDAY.INTL(+VLOOKUP(AO$1,POSTE!$B:$G,3,FALSE),+CUM!AF7/+VLOOKUP(AO$1,POSTE!$B:$H,7,FALSE),,CONGÉ!$C$2:$C$80)) -> 45756 | AP8: =+IF(W8=0," ",+WORKDAY.INTL(+VLOOKUP(AP$1,POSTE!$B:$G,3,FALSE),+CUM!AG7/+VLOOKUP(AP$1,POSTE!$B:$H,7,FALSE),,CONGÉ!$C$2:$C$80)) | AQ8: =+IF(X8=0," ",+WORKDAY.INTL(+VLOOKUP(AQ$1,POSTE!$B:$G,3,FALSE),+CUM!AH7/+VLOOKUP(AQ$1,POSTE!$B:$H,7,FALSE),,CONGÉ!$C$2:$C$80)) | AR8: =+IF(Y8=0," ",+WORKDAY.INTL(+VLOOKUP(AR$1,POSTE!$B:$G,3,FALSE),+CUM!AI7/+VLOOKUP(AR$1,POSTE!$B:$H,7,FALSE),,CONGÉ!$C$2:$C$80)) | AS8: =+IF(Q8=0," ",+WORKDAY.INTL(+VLOOKUP(AS$1,POSTE!$B:$G,3,FALSE),+CUM!AA8/+VLOOKUP(AS$1,POSTE!$B:$H,7,FALSE),,CONGÉ!$C$2:$C$80)) | AT8: =+IF(R8=0," ",+WORKDAY.INTL(+VLOOKUP(AT$1,POSTE!$B:$G,3,FALSE),+CUM!AB8/+VLOOKUP(AT$1,POSTE!$B:$H,7,FALSE),,CONGÉ!$C$2:$C$80)) | AU8: =+IF(AND(S8=0,T8=0)," ",+WORKDAY.INTL(+VLOOKUP($AS$1,POSTE!B:J,3,FALSE),+(((AC8*POSTE!$H$5)+(CUM!AD8*POSTE!$H$4))/(POSTE!$H$4*POSTE!$H$5*2)),,CONGÉ!$C$2:$C$80)) | AV8: =+IF(U8=0," ",+WORKDAY.INTL(+VLOOKUP(AV$1,POSTE!$B:$G,3,FALSE),+CUM!AE8/+VLOOKUP(AV$1,POSTE!$B:$H,7,FALSE),,CONGÉ!$C$2:$C$80)) | AW8: =+IF(V8=0," ",+WORKDAY.INTL(+VLOOKUP(AW$1,POSTE!$B:$G,3,FALSE),+CUM!AF8/+VLOOKUP(AW$1,POSTE!$B:$H,7,FALSE),,CONGÉ!$C$2:$C$80)) -> 45756 | AX8: =+IF(W8=0," ",+WORKDAY.INTL(+VLOOKUP(AX$1,POSTE!$B:$G,3,FALSE),+CUM!AG8/+VLOOKUP(AX$1,POSTE!$B:$H,7,FALSE),,CONGÉ!$C$2:$C$80)) | AY8: =+IF(X8=0," ",+WORKDAY.INTL(+VLOOKUP(AY$1,POSTE!$B:$G,3,FALSE),+CUM!AH8/+VLOOKUP(AY$1,POSTE!$B:$H,7,FALSE),,CONGÉ!$C$2:$C$80)) | AZ8: =+IF(Y8=0," ",+WORKDAY.INTL(+VLOOKUP(AZ$1,POSTE!$B:$G,3,FALSE),+CUM!AI8/+VLOOKUP(AZ$1,POSTE!$B:$H,7,FALSE),,CONGÉ!$C$2:$C$80)) | BA8: =+IF(S8=0," ",+WORKDAY.INTL(+VLOOKUP(BA$1,POSTE!$B:$G,3,FALSE),+CUM!AC8/+VLOOKUP(BA$1,POSTE!$B:$H,7,FALSE),,CONGÉ!$C$2:$C$80)) | BB8: =+IF(T8=0," ",+WORKDAY.INTL(+VLOOKUP(BB$1,POSTE!$B:$G,3,FALSE),+CUM!AD8/+VLOOKUP(BB$1,POSTE!$B:$H,7,FALSE),,CONGÉ!$C$2:$C$80)) | BC8: =+IF(+MIN(AJ8:AZ8)>0,+MIN(AJ8:AZ8)," ") -> 45756 | BD8: =+IF(+MAX(AS8:AZ8)>0,+MAX(AS8:AZ8)," ") -> 45756 | BE8: =+IF($F8="oui",+VLOOKUP($A8,DATA!$A:$AH,DATA!$AH$3,FALSE),0) -> 40 | BF8: =+BF7+BE8 -> 120 | BG8: =+IF(BE8>0,+MAX((BH$4:BH7),BD8),"") -> 45778 | BH8: =+IF(BE8>0,+MAX((BH$4:BH7),+WORKDAY.INTL(BG8,+BE8/8,,CONGÉ!$C$2:$C$73)),"") -> 45785 | BI8: =+IF(BE8=0,+IFERROR(+EDATE(BD8,1)," "),+EDATE(BH8,1)) -> 45816 | BJ8: =+AC8+AD8 -> 46580 | BK8: =+TODAY() -> 45754 | BL8: =+(((AC8*POSTE!$H$5)+(CUM!AD8*POSTE!$H$4))/(POSTE!$H$4*POSTE!$H$5*2)) -> 3.7293229 | BM8: =+WORKDAY.INTL(BK8,BL8,,CONGÉ!C$4:C$72) -> 45757 | BN8: =+AU8-BM8 -> #VALUE!
A9: =+ROW()-ROW($A$4) -> 5 | B9: {=_xlfn.LET(_xlpm.CORR,IF(DATA!$B$4:$B$104="",IF(DATA!$A$4:$A$104="","--",DATA!$A$4:$A$104),DATA!$B$4:$B$104),_xlpm.Rx,SMALL(_xlpm.CORR,A9),IFERROR(MATCH(_xlpm.Rx,_xlpm.CORR,0),0))} -> 9 | C9: {=IF($B9=0,"",INDEX(Données,$B9,C$3))} -> Traail 9 | D9: {=IF($B9=0,"",INDEX(Données,$B9,D$3))} -> Client 9 | E9: {=IF($B9=0,"",INDEX(Données,$B9,E$3))} -> 45777 | F9: {=IF($B9=0,"",INDEX(Données,$B9,F$3))} -> OUI | G9: =+IF($F9="oui",+VLOOKUP($A9,DATA!$A:$AG,DATA!$P$3,FALSE),0) -> 1 | H9: =+IF($F9="oui",+VLOOKUP($A9,DATA!$A:$AG,DATA!$R$3,FALSE),0) -> 18 | I9: =+IF($F9="oui",+VLOOKUP($A9,DATA!$A:$AG,DATA!$T$3,FALSE),0) -> 146 | J9: =+IF($F9="oui",+VLOOKUP($A9,DATA!$A:$AG,DATA!$V$3,FALSE),0) -> 206 | K9: =+IF($F9="oui",+VLOOKUP($A9,DATA!$A:$AG,DATA!$X$3,FALSE),0) -> 28 | L9: =+IF($F9="oui",+VLOOKUP($A9,DATA!$A:$AG,DATA!$Z$3,FALSE),0) -> 136 | M9: =+IF($F9="oui",+VLOOKUP($A9,DATA!$A:$AG,DATA!$AB$3,FALSE),0) -> 0 | N9: =+IF($F9="oui",+VLOOKUP($A9,DATA!$A:$AG,DATA!$AD$3,FALSE),0) -> 21 | O9: =+IF($F9="oui",+VLOOKUP($A9,DATA!$A:$AG,DATA!$AF$3,FALSE),0) -> 23 | P9: =SUM(G9:O9) -> 579 | Q9: =+IF($F9="oui",+VLOOKUP($A9,DATA!$A:$AG,DATA!$Q$3,FALSE),0) -> 402 | R9: =+IF($F9="oui",+VLOOKUP($A9,DATA!$A:$AG,DATA!$S$3,FALSE),0) -> 30336 | S9: =+IF($F9="oui",+VLOOKUP($A9,DATA!$A:$AG,DATA!$U$3,FALSE),0) -> 45185 | T9: =+IF($F9="oui",+VLOOKUP($A9,DATA!$A:$AG,DATA!$W$3,FALSE),0) -> 17577 | U9: =+IF($F9="oui",+VLOOKUP($A9,DATA!$A:$AG,DATA!$Y$3,FALSE),0) -> 3174 | V9: =+IF($F9="oui",+VLOOKUP($A9,DATA!$A:$AG,DATA!$AA$3,FALSE),0) -> 12246 | W9: =+IF($F9="oui",+VLOOKUP($A9,DATA!$A:$AG,DATA!$AC$3,FALSE),0) -> 0 | X9: =+IF($F9="oui",+VLOOKUP($A9,DATA!$A:$AG,DATA!$AE$3,FALSE),0) -> 12160 | Y9: =+IF($F9="oui",+VLOOKUP($A9,DATA!$A:$AG,DATA!$AG$3,FALSE),0) -> 236 | Z9: =SUM(Q9:Y9) -> 121316 | AA9: =+AA8+Q9 -> 47437 | AB9: =+AB8+R9 -> 78180 | AC9: =+AC8+S9 -> 88299 | AD9: =+AD8+T9 -> 21043 | AE9: =+AE8+U9 -> 5440 | AF9: =+AF8+V9 -> 16966 | AG9: =+AG8+W9 -> 0 | AH9: =+AH8+X9 -> 12160 | AI9: =+AI8+Y9 -> 693 | AJ9: =+IF(Q9=0," ",+WORKDAY.INTL(+VLOOKUP(AJ$1,POSTE!$B:$G,3,FALSE),+CUM!AA8/+VLOOKUP(AJ$1,POSTE!$B:$H,7,FALSE),,CONGÉ!$C$2:$C$80)) -> 45761 | AK9: =+IF(R9=0," ",+WORKDAY.INTL(+VLOOKUP(AK$1,POSTE!$B:$G,3,FALSE),+CUM!AB8/+VLOOKUP(AK$1,POSTE!$B:$H,7,FALSE),,CONGÉ!$C$2:$C$80)) -> 45762 | AL9: =+IF(S9=0," ",+WORKDAY.INTL(+VLOOKUP(AL$1,POSTE!$B:$G,3,FALSE),+CUM!AC8/+VLOOKUP(AL$1,POSTE!$B:$H,7,FALSE),,CONGÉ!$C$2:$C$80)) -> 45762 | AM9: =+IF(T9=0," ",+WORKDAY.INTL(+VLOOKUP(AM$1,POSTE!$B:$G,3,FALSE),+CUM!AD8/+VLOOKUP(AM$1,POSTE!$B:$H,7,FALSE),,CONGÉ!$C$2:$C$80)) -> 45754 | AN9: =+IF(U9=0," ",+WORKDAY.INTL(+VLOOKUP(AN$1,POSTE!$B:$G,3,FALSE),+CUM!AE8/+VLOOKUP(AN$1,POSTE!$B:$H,7,FALSE),,CONGÉ!$C$2:$C$80)) -> 45755 | AO9: =+IF(V9=0," ",+WORKDAY.INTL(+VLOOKUP(AO$1,POSTE!$B:$G,3,FALSE),+CUM!AF8/+VLOOKUP(AO$1,POSTE!$B:$H,7,FALSE),,CONGÉ!$C$2:$C$80)) -> 45756 | AP9: =+IF(W9=0," ",+WORKDAY.INTL(+VLOOKUP(AP$1,POSTE!$B:$G,3,FALSE),+CUM!AG8/+VLOOKUP(AP$1,POSTE!$B:$H,7,FALSE),,CONGÉ!$C$2:$C$80)) | AQ9: =+IF(X9=0," ",+WORKDAY.INTL(+VLOOKUP(AQ$1,POSTE!$B:$G,3,FALSE),+CUM!AH8/+VLOOKUP(AQ$1,POSTE!$B:$H,7,FALSE),,CONGÉ!$C$2:$C$80)) -> 45754 | AR9: =+IF(Y9=0," ",+WORKDAY.INTL(+VLOOKUP(AR$1,POSTE!$B:$G,3,FALSE),+CUM!AI8/+VLOOKUP(AR$1,POSTE!$B:$H,7,FALSE),,CONGÉ!$C$2:$C$80)) -> 45765 | AS9: =+IF(Q9=0," ",+WORKDAY.INTL(+VLOOKUP(AS$1,POSTE!$B:$G,3,FALSE),+CUM!AA9/+VLOOKUP(AS$1,POSTE!$B:$H,7,FALSE),,CONGÉ!$C$2:$C$80)) -> 45761 | AT9: =+IF(R9=0," ",+WORKDAY.INTL(+VLOOKUP(AT$1,POSTE!$B:$G,3,FALSE),+CUM!AB9/+VLOOKUP(AT$1,POSTE!$B:$H,7,FALSE),,CONGÉ!$C$2:$C$80)) -> 45768 | AU9: =+IF(AND(S9=0,T9=0)," ",+WORKDAY.INTL(+VLOOKUP($AS$1,POSTE!B:J,3,FALSE),+(((AC9*POSTE!$H$5)+(CUM!AD9*POSTE!$H$4))/(POSTE!$H$4*POSTE!$H$5*2)),,CONGÉ!$C$2:$C$80)) -> 45765 | AV9: =+IF(U9=0," ",+WORKDAY.INTL(+VLOOKUP(AV$1,POSTE!$B:$G,3,FALSE),+CUM!AE9/+VLOOKUP(AV$1,POSTE!$B:$H,7,FALSE),,CONGÉ!$C$2:$C$80)) -> 45757 | AW9: =+IF(V9=0," ",+WORKDAY.INTL(+VLOOKUP(AW$1,POSTE!$B:$G,3,FALSE),+CUM!AF9/+VLOOKUP(AW$1,POSTE!$B:$H,7,FALSE),,CONGÉ!$C$2:$C$80)) -> 45764 | AX9: =+IF(W9=0," ",+WORKDAY.INTL(+VLOOKUP(AX$1,POSTE!$B:$G,3,FALSE),+CUM!AG9/+VLOOKUP(AX$1,POSTE!$B:$H,7,FALSE),,CONGÉ!$C$2:$C$80)) | AY9: =+IF(X9=0," ",+WORKDAY.INTL(+VLOOKUP(AY$1,POSTE!$B:$G,3,FALSE),+CUM!AH9/+VLOOKUP(AY$1,POSTE!$B:$H,7,FALSE),,CONGÉ!$C$2:$C$80)) -> 45762 | AZ9: =+IF(Y9=0," ",+WORKDAY.INTL(+VLOOKUP(AZ$1,POSTE!$B:$G,3,FALSE),+CUM!AI9/+VLOOKUP(AZ$1,POSTE!$B:$H,7,FALSE),,CONGÉ!$C$2:$C$80)) -> 45772 | BA9: =+IF(S9=0," ",+WORKDAY.INTL(+VLOOKUP(BA$1,POSTE!$B:$G,3,FALSE),+CUM!AC9/+VLOOKUP(BA$1,POSTE!$B:$H,7,FALSE),,CONGÉ!$C$2:$C$80)) -> 45771 | BB9: =+IF(T9=0," ",+WORKDAY.INTL(+VLOOKUP(BB$1,POSTE!$B:$G,3,FALSE),+CUM!AD9/+VLOOKUP(BB$1,POSTE!$B:$H,7,FALSE),,CONGÉ!$C$2:$C$80)) -> 45758 | BC9: =+IF(+MIN(AJ9:AZ9)>0,+MIN(AJ9:AZ9)," ") -> 45754 | BD9: =+IF(+MAX(AS9:AZ9)>0,+MAX(AS9:AZ9)," ") -> 45772 | BE9: =+IF($F9="oui",+VLOOKUP($A9,DATA!$A:$AH,DATA!$AH$3,FALSE),0) -> 0 | BF9: =+BF8+BE9 -> 120 | BG9: =+IF(BE9>0,+MAX((BH$4:BH8),BD9),"") | BH9: =+IF(BE9>0,+MAX((BH$4:BH8),+WORKDAY.INTL(BG9,+BE9/8,,CONGÉ!$C$2:$C$73)),"") | BI9: =+IF(BE9=0,+IFERROR(+EDATE(BD9,1)," "),+EDATE(BH9,1)) -> 45802 | BJ9: =+AC9+AD9 -> 109342 | BK9: =+TODAY() -> 45754 | BL9: =+(((AC9*POSTE!$H$5)+(CUM!AD9*POSTE!$H$4))/(POSTE!$H$4*POSTE!$H$5*2)) -> 9.0903385 | BM9: =+WORKDAY.INTL(BK9,BL9,,CONGÉ!C$4:C$72) -> 45765 | BN9: =+AU9-BM9 -> 0
A10: =+ROW()-ROW($A$4) -> 6 | B10: {=_xlfn.LET(_xlpm.CORR,IF(DATA!$B$4:$B$104="",IF(DATA!$A$4:$A$104="","--",DATA!$A$4:$A$104),DATA!$B$4:$B$104),_xlpm.Rx,SMALL(_xlpm.CORR,A10),IFERROR(MATCH(_xlpm.Rx,_xlpm.CORR,0),0))} -> 11 | C10: {=IF($B10=0,"",INDEX(Données,$B10,C$3))} -> Traail 11 | D10: {=IF($B10=0,"",INDEX(Données,$B10,D$3))} -> Client 11 | E10: {=IF($B10=0,"",INDEX(Données,$B10,E$3))} -> 45793 | F10: {=IF($B10=0,"",INDEX(Données,$B10,F$3))} -> OUI | G10: =+IF($F10="oui",+VLOOKUP($A10,DATA!$A:$AG,DATA!$P$3,FALSE),0) -> 4 | H10: =+IF($F10="oui",+VLOOKUP($A10,DATA!$A:$AG,DATA!$R$3,FALSE),0) -> 14 | I10: =+IF($F10="oui",+VLOOKUP($A10,DATA!$A:$AG,DATA!$T$3,FALSE),0) -> 155 | J10: =+IF($F10="oui",+VLOOKUP($A10,DATA!$A:$AG,DATA!$V$3,FALSE),0) -> 289 | K10: =+IF($F10="oui",+VLOOKUP($A10,DATA!$A:$AG,DATA!$X$3,FALSE),0) -> 11 | L10: =+IF($F10="oui",+VLOOKUP($A10,DATA!$A:$AG,DATA!$Z$3,FALSE),0) -> 90 | M10: =+IF($F10="oui",+VLOOKUP($A10,DATA!$A:$AG,DATA!$AB$3,FALSE),0) -> 0 | N10: =+IF($F10="oui",+VLOOKUP($A10,DATA!$A:$AG,DATA!$AD$3,FALSE),0) -> 3 | O10: =+IF($F10="oui",+VLOOKUP($A10,DATA!$A:$AG,DATA!$AF$3,FALSE),0) -> 35 | P10: =SUM(G10:O10) -> 601 | Q10: =+IF($F10="oui",+VLOOKUP($A10,DATA!$A:$AG,DATA!$Q$3,FALSE),0) -> 97 | R10: =+IF($F10="oui",+VLOOKUP($A10,DATA!$A:$AG,DATA!$S$3,FALSE),0) -> 4882 | S10: =+IF($F10="oui",+VLOOKUP($A10,DATA!$A:$AG,DATA!$U$3,FALSE),0) -> 21702 | T10: =+IF($F10="oui",+VLOOKUP($A10,DATA!$A:$AG,DATA!$W$3,FALSE),0) -> 8818 | U10: =+IF($F10="oui",+VLOOKUP($A10,DATA!$A:$AG,DATA!$Y$3,FALSE),0) -> 695 | V10: =+IF($F10="oui",+VLOOKUP($A10,DATA!$A:$AG,DATA!$AA$3,FALSE),0) -> 2116 | W10: =+IF($F10="oui",+VLOOKUP($A10,DATA!$A:$AG,DATA!$AC$3,FALSE),0) -> 0 | X10: =+IF($F10="oui",+VLOOKUP($A10,DATA!$A:$AG,DATA!$AE$3,FALSE),0) -> 20 | Y10: =+IF($F10="oui",+VLOOKUP($A10,DATA!$A:$AG,DATA!$AG$3,FALSE),0) -> 19 | Z10: =SUM(Q10:Y10) -> 38349 | AA10: =+AA9+Q10 -> 47534 | AB10: =+AB9+R10 -> 83062 | AC10: =+AC9+S10 -> 110001 | AD10: =+AD9+T10 -> 29861 | AE10: =+AE9+U10 -> 6135 | AF10: =+AF9+V10 -> 19082 | AG10: =+AG9+W10 -> 0 | AH10: =+AH9+X10 -> 12180 | AI10: =+AI9+Y10 -> 712 | AJ10: =+IF(Q10=0," ",+WORKDAY.INTL(+VLOOKUP(AJ$1,POSTE!$B:$G,3,FALSE),+CUM!AA9/+VLOOKUP(AJ$1,POSTE!$B:$H,7,FALSE),,CONGÉ!$C$2:$C$80)) -> 45761 | AK10: =+IF(R10=0," ",+WORKDAY.INTL(+VLOOKUP(AK$1,POSTE!$B:$G,3,FALSE),+CUM!AB9/+VLOOKUP(AK$1,POSTE!$B:$H,7,FALSE),,CONGÉ!$C$2:$C$80)) -> 45768 | AL10: =+IF(S10=0," ",+WORKDAY.INTL(+VLOOKUP(AL$1,POSTE!$B:$G,3,FALSE),+CUM!AC9/+VLOOKUP(AL$1,POSTE!$B:$H,7,FALSE),,CONGÉ!$C$2:$C$80)) -> 45771 | AM10: =+IF(T10=0," ",+WORKDAY.INTL(+VLOOKUP(AM$1,POSTE!$B:$G,3,FALSE),+CUM!AD9/+VLOOKUP(AM$1,POSTE!$B:$H,7,FALSE),,CONGÉ!$C$2:$C$80)) -> 45758 | AN10: =+IF(U10=0," ",+WORKDAY.INTL(+VLOOKUP(AN$1,POSTE!$B:$G,3,FALSE),+CUM!AE9/+VLOOKUP(AN$1,POSTE!$B:$H,7,FALSE),,CONGÉ!$C$2:$C$80)) -> 45757 | AO10: =+IF(V10=0," ",+WORKDAY.INTL(+VLOOKUP(AO$1,POSTE!$B:$G,3,FALSE),+CUM!AF9/+VLOOKUP(AO$1,POSTE!$B:$H,7,FALSE),,CONGÉ!$C$2:$C$80)) -> 45764 | AP10: =+IF(W10=0," ",+WORKDAY.INTL(+VLOOKUP(AP$1,POSTE!$B:$G,3,FALSE),+CUM!AG9/+VLOOKUP(AP$1,POSTE!$B:$H,7,FALSE),,CONGÉ!$C$2:$C$80)) | AQ10: =+IF(X10=0," ",+WORKDAY.INTL(+VLOOKUP(AQ$1,POSTE!$B:$G,3,FALSE),+CUM!AH9/+VLOOKUP(AQ$1,POSTE!$B:$H,7,FALSE),,CONGÉ!$C$2:$C$80)) -> 45762 | AR10: =+IF(Y10=0," ",+WORKDAY.INTL(+VLOOKUP(AR$1,POSTE!$B:$G,3,FALSE),+CUM!AI9/+VLOOKUP(AR$1,POSTE!$B:$H,7,FALSE),,CONGÉ!$C$2:$C$80)) -> 45772 | AS10: =+IF(Q10=0," ",+WORKDAY.INTL(+VLOOKUP(AS$1,POSTE!$B:$G,3,FALSE),+CUM!AA10/+VLOOKUP(AS$1,POSTE!$B:$H,7,FALSE),,CONGÉ!$C$2:$C$80)) -> 45761 | AT10: =+IF(R10=0," ",+WORKDAY.INTL(+VLOOKUP(AT$1,POSTE!$B:$G,3,FALSE),+CUM!AB10/+VLOOKUP(AT$1,POSTE!$B:$H,7,FALSE),,CONGÉ!$C$2:$C$80)) -> 45769 | AU10: =+IF(AND(S10=0,T10=0)," ",+WORKDAY.INTL(+VLOOKUP($AS$1,POSTE!B:J,3,FALSE),+(((AC10*POSTE!$H$5)+(CUM!AD10*POSTE!$H$4))/(POSTE!$H$4*POSTE!$H$5*2)),,CONGÉ!$C$2:$C$80)) -> 45769 | AV10: =+IF(U10=0," ",+WORKDAY.INTL(+VLOOKUP(AV$1,POSTE!$B:$G,3,FALSE),+CUM!AE10/+VLOOKUP(AV$1,POSTE!$B:$H,7,FALSE),,CONGÉ!$C$2:$C$80)) -> 45757 | AW10: =+IF(V10=0," ",+WORKDAY.INTL(+VLOOKUP(AW$1,POSTE!$B:$G,3,FALSE),+CUM!AF10/+VLOOKUP(AW$1,POSTE!$B:$H,7,FALSE),,CONGÉ!$C$2:$C$80)) -> 45765 | AX10: =+IF(W10=0," ",+WORKDAY.INTL(+VLOOKUP(AX$1,POSTE!$B:$G,3,FALSE),+CUM!AG10/+VLOOKUP(AX$1,POSTE!$B:$H,7,FALSE),,CONGÉ!$C$2:$C$80)) | AY10: =+IF(X10=0," ",+WORKDAY.INTL(+VLOOKUP(AY$1,POSTE!$B:$G,3,FALSE),+CUM!AH10/+VLOOKUP(AY$1,POSTE!$B:$H,7,FALSE),,CONGÉ!$C$2:$C$80)) -> 45762 | AZ10: =+IF(Y10=0," ",+WORKDAY.INTL(+VLOOKUP(AZ$1,POSTE!$B:$G,3,FALSE),+CUM!AI10/+VLOOKUP(AZ$1,POSTE!$B:$H,7,FALSE),,CONGÉ!$C$2:$C$80)) -> 45772 | BA10: =+IF(S10=0," ",+WORKDAY.INTL(+VLOOKUP(BA$1,POSTE!$B:$G,3,FALSE),+CUM!AC10/+VLOOKUP(BA$1,POSTE!$B:$H,7,FALSE),,CONGÉ!$C$2:$C$80)) -> 45777 | BB10: =+IF(T10=0," ",+WORKDAY.INTL(+VLOOKUP(BB$1,POSTE!$B:$G,3,FALSE),+CUM!AD10/+VLOOKUP(BB$1,POSTE!$B:$H,7,FALSE),,CONGÉ!$C$2:$C$80)) -> 45762 | BC10: =+IF(+MIN(AJ10:AZ10)>0,+MIN(AJ10:AZ10)," ") -> 45757 | BD10: =+IF(+MAX(AS10:AZ10)>0,+MAX(AS10:AZ10)," ") -> 45772 | BE10: =+IF($F10="oui",+VLOOKUP($A10,DATA!$A:$AH,DATA!$AH$3,FALSE),0) -> 140 | BF10: =+BF9+BE10 -> 260 | BG10: =+IF(BE10>0,+MAX((BH$4:BH9),BD10),"") -> 45785 | BH10: =+IF(BE10>0,+MAX((BH$4:BH9),+WORKDAY.INTL(BG10,+BE10/8,,CONGÉ!$C$2:$C$73)),"") -> 45810 | BI10: =+IF(BE10=0,+IFERROR(+EDATE(BD10,1)," "),+EDATE(BH10,1)) -> 45840 | BJ10: =+AC10+AD10 -> 139862 | BK10: =+TODAY() -> 45754 | BL10: =+(((AC10*POSTE!$H$5)+(CUM!AD10*POSTE!$H$4))/(POSTE!$H$4*POSTE!$H$5*2)) -> 11.704349 | BM10: =+WORKDAY.INTL(BK10,BL10,,CONGÉ!C$4:C$72) -> 45769 | BN10: =+AU10-BM10 -> 0
A11: =+ROW()-ROW($A$4) -> 7 | B11: {=_xlfn.LET(_xlpm.CORR,IF(DATA!$B$4:$B$104="",IF(DATA!$A$4:$A$104="","--",DATA!$A$4:$A$104),DATA!$B$4:$B$104),_xlpm.Rx,SMALL(_xlpm.CORR,A11),IFERROR(MATCH(_xlpm.Rx,_xlpm.CORR,0),0))} -> 1 | C11: {=IF($B11=0,"",INDEX(Données,$B11,C$3))} -> Travail 1 | D11: {=IF($B11=0,"",INDEX(Données,$B11,D$3))} -> Client 1 | E11: {=IF($B11=0,"",INDEX(Données,$B11,E$3))} -> 45855 | F11: {=IF($B11=0,"",INDEX(Données,$B11,F$3))} -> OUI | G11: =+IF($F11="oui",+VLOOKUP($A11,DATA!$A:$AG,DATA!$P$3,FALSE),0) -> 0 | H11: =+IF($F11="oui",+VLOOKUP($A11,DATA!$A:$AG,DATA!$R$3,FALSE),0) -> 10 | I11: =+IF($F11="oui",+VLOOKUP($A11,DATA!$A:$AG,DATA!$T$3,FALSE),0) -> 138 | J11: =+IF($F11="oui",+VLOOKUP($A11,DATA!$A:$AG,DATA!$V$3,FALSE),0) -> 107 | K11: =+IF($F11="oui",+VLOOKUP($A11,DATA!$A:$AG,DATA!$X$3,FALSE),0) -> 109 | L11: =+IF($F11="oui",+VLOOKUP($A11,DATA!$A:$AG,DATA!$Z$3,FALSE),0) -> 151 | M11: =+IF($F11="oui",+VLOOKUP($A11,DATA!$A:$AG,DATA!$AB$3,FALSE),0) -> 0 | N11: =+IF($F11="oui",+VLOOKUP($A11,DATA!$A:$AG,DATA!$AD$3,FALSE),0) -> 0 | O11: =+IF($F11="oui",+VLOOKUP($A11,DATA!$A:$AG,DATA!$AF$3,FALSE),0) -> 56 | P11: =SUM(G11:O11) -> 571 | Q11: =+IF($F11="oui",+VLOOKUP($A11,DATA!$A:$AG,DATA!$Q$3,FALSE),0) -> 0 | R11: =+IF($F11="oui",+VLOOKUP($A11,DATA!$A:$AG,DATA!$S$3,FALSE),0) -> 29486 | S11: =+IF($F11="oui",+VLOOKUP($A11,DATA!$A:$AG,DATA!$U$3,FALSE),0) -> 25117 | T11: =+IF($F11="oui",+VLOOKUP($A11,DATA!$A:$AG,DATA!$W$3,FALSE),0) -> 2407 | U11: =+IF($F11="oui",+VLOOKUP($A11,DATA!$A:$AG,DATA!$Y$3,FALSE),0) -> 14719 | V11: =+IF($F11="oui",+VLOOKUP($A11,DATA!$A:$AG,DATA!$AA$3,FALSE),0) -> 3456 | W11: =+IF($F11="oui",+VLOOKUP($A11,DATA!$A:$AG,DATA!$AC$3,FALSE),0) -> 0 | X11: =+IF($F11="oui",+VLOOKUP($A11,DATA!$A:$AG,DATA!$AE$3,FALSE),0) -> 0 | Y11: =+IF($F11="oui",+VLOOKUP($A11,DATA!$A:$AG,DATA!$AG$3,FALSE),0) -> 28 | Z11: =SUM(Q11:Y11) -> 75213 | AA11: =+AA10+Q11 -> 47534 | AB11: =+AB10+R11 -> 112548 | AC11: =+AC10+S11 -> 135118 | AD11: =+AD10+T11 -> 32268 | AE11: =+AE10+U11 -> 20854 | AF11: =+AF10+V11 -> 22538 | AG11: =+AG10+W11 -> 0 | AH11: =+AH10+X11 -> 12180 | AI11: =+AI10+Y11 -> 740 | AJ11: =+IF(Q11=0," ",+WORKDAY.INTL(+VLOOKUP(AJ$1,POSTE!$B:$G,3,FALSE),+CUM!AA10/+VLOOKUP(AJ$1,POSTE!$B:$H,7,FALSE),,CONGÉ!$C$2:$C$80)) | AK11: =+IF(R11=0," ",+WORKDAY.INTL(+VLOOKUP(AK$1,POSTE!$B:$G,3,FALSE),+CUM!AB10/+VLOOKUP(AK$1,POSTE!$B:$H,7,FALSE),,CONGÉ!$C$2:$C$80)) -> 45769 | AL11: =+IF(S11=0," ",+WORKDAY.INTL(+VLOOKUP(AL$1,POSTE!$B:$G,3,FALSE),+CUM!AC10/+VLOOKUP(AL$1,POSTE!$B:$H,7,FALSE),,CONGÉ!$C$2:$C$80)) -> 45777 | AM11: =+IF(T11=0," ",+WORKDAY.INTL(+VLOOKUP(AM$1,POSTE!$B:$G,3,FALSE),+CUM!AD10/+VLOOKUP(AM$1,POSTE!$B:$H,7,FALSE),,CONGÉ!$C$2:$C$80)) -> 45762 | AN11: =+IF(U11=0," ",+WORKDAY.INTL(+VLOOKUP(AN$1,POSTE!$B:$G,3,FALSE),+CUM!AE10/+VLOOKUP(AN$1,POSTE!$B:$H,7,FALSE),,CONGÉ!$C$2:$C$80)) -> 45757 | AO11: =+IF(V11=0," ",+WORKDAY.INTL(+VLOOKUP(AO$1,POSTE!$B:$G,3,FALSE),+CUM!AF10/+VLOOKUP(AO$1,POSTE!$B:$H,7,FALSE),,CONGÉ!$C$2:$C$80)) -> 45765 | AP11: =+IF(W11=0," ",+WORKDAY.INTL(+VLOOKUP(AP$1,POSTE!$B:$G,3,FALSE),+CUM!AG10/+VLOOKUP(AP$1,POSTE!$B:$H,7,FALSE),,CONGÉ!$C$2:$C$80)) | AQ11: =+IF(X11=0," ",+WORKDAY.INTL(+VLOOKUP(AQ$1,POSTE!$B:$G,3,FALSE),+CUM!AH10/+VLOOKUP(AQ$1,POSTE!$B:$H,7,FALSE),,CONGÉ!$C$2:$C$80)) | AR11: =+IF(Y11=0," ",+WORKDAY.INTL(+VLOOKUP(AR$1,POSTE!$B:$G,3,FALSE),+CUM!AI10/+VLOOKUP(AR$1,POSTE!$B:$H,7,FALSE),,CONGÉ!$C$2:$C$80)) -> 45772 | AS11: =+IF(Q11=0," ",+WORKDAY.INTL(+VLOOKUP(AS$1,POSTE!$B:$G,3,FALSE),+CUM!AA11/+VLOOKUP(AS$1,POSTE!$B:$H,7,FALSE),,CONGÉ!$C$2:$C$80)) | AT11: =+IF(R11=0," ",+WORKDAY.INTL(+VLOOKUP(AT$1,POSTE!$B:$G,3,FALSE),+CUM!AB11/+VLOOKUP(AT$1,POSTE!$B:$H,7,FALSE),,CONGÉ!$C$2:$C$80)) -> 45775 | AU11: =+IF(AND(S11=0,T11=0)," ",+WORKDAY.INTL(+VLOOKUP($AS$1,POSTE!B:J,3,FALSE),+(((AC11*POSTE!$H$5)+(CUM!AD11*POSTE!$H$4))/(POSTE!$H$4*POSTE!$H$5*2)),,CONGÉ!$C$2:$C$80)) -> 45771 | AV11: =+IF(U11=0," ",+WORKDAY.INTL(+VLOOKUP(AV$1,POSTE!$B:$G,3,FALSE),+CUM!AE11/+VLOOKUP(AV$1,POSTE!$B:$H,7,FALSE),,CONGÉ!$C$2:$C$80)) -> 45771 | AW11: =+IF(V11=0," ",+WORKDAY.INTL(+VLOOKUP(AW$1,POSTE!$B:$G,3,FALSE),+CUM!AF11/+VLOOKUP(AW$1,POSTE!$B:$H,7,FALSE),,CONGÉ!$C$2:$C$80)) -> 45769 | AX11: =+IF(W11=0," ",+WORKDAY.INTL(+VLOOKUP(AX$1,POSTE!$B:$G,3,FALSE),+CUM!AG11/+VLOOKUP(AX$1,POSTE!$B:$H,7,FALSE),,CONGÉ!$C$2:$C$80)) | AY11: =+IF(X11=0," ",+WORKDAY.INTL(+VLOOKUP(AY$1,POSTE!$B:$G,3,FALSE),+CUM!AH11/+VLOOKUP(AY$1,POSTE!$B:$H,7,FALSE),,CONGÉ!$C$2:$C$80)) | AZ11: =+IF(Y11=0," ",+WORKDAY.INTL(+VLOOKUP(AZ$1,POSTE!$B:$G,3,FALSE),+CUM!AI11/+VLOOKUP(AZ$1,POSTE!$B:$H,7,FALSE),,CONGÉ!$C$2:$C$80)) -> 45775 | BA11: =+IF(S11=0," ",+WORKDAY.INTL(+VLOOKUP(BA$1,POSTE!$B:$G,3,FALSE),+CUM!AC11/+VLOOKUP(BA$1,POSTE!$B:$H,7,FALSE),,CONGÉ!$C$2:$C$80)) -> 45783 | BB11: =+IF(T11=0," ",+WORKDAY.INTL(+VLOOKUP(BB$1,POSTE!$B:$G,3,FALSE),+CUM!AD11/+VLOOKUP(BB$1,POSTE!$B:$H,7,FALSE),,CONGÉ!$C$2:$C$80)) -> 45762 | BC11: =+IF(+MIN(AJ11:AZ11)>0,+MIN(AJ11:AZ11)," ") -> 45757 | BD11: =+IF(+MAX(AS11:AZ11)>0,+MAX(AS11:AZ11)," ") -> 45775 | BE11: =+IF($F11="oui",+VLOOKUP($A11,DATA!$A:$AH,DATA!$AH$3,FALSE),0) -> 220 | BF11: =+BF10+BE11 -> 480 | BG11: =+IF(BE11>0,+MAX((BH$4:BH10),BD11),"") -> 45810 | BH11: =+IF(BE11>0,+MAX((BH$4:BH10),+WORKDAY.INTL(BG11,+BE11/8,,CONGÉ!$C$2:$C$73)),"") -> 45849 | BI11: =+IF(BE11=0,+IFERROR(+EDATE(BD11,1)," "),+EDATE(BH11,1)) -> 45880 | BJ11: =+AC11+AD11 -> 167386 | BK11: =+TODAY() -> 45754 | BL11: =+(((AC11*POSTE!$H$5)+(CUM!AD11*POSTE!$H$4))/(POSTE!$H$4*POSTE!$H$5*2)) -> 13.917344 | BM11: =+WORKDAY.INTL(BK11,BL11,,CONGÉ!C$4:C$72) -> 45771 | BN11: =+AU11-BM11 -> 0
A12: =+ROW()-ROW($A$4) -> 8 | B12: {=_xlfn.LET(_xlpm.CORR,IF(DATA!$B$4:$B$104="",IF(DATA!$A$4:$A$104="","--",DATA!$A$4:$A$104),DATA!$B$4:$B$104),_xlpm.Rx,SMALL(_xlpm.CORR,A12),IFERROR(MATCH(_xlpm.Rx,_xlpm.CORR,0),0))} -> 6 | C12: {=IF($B12=0,"",INDEX(Données,$B12,C$3))} -> Traail 6 | D12: {=IF($B12=0,"",INDEX(Données,$B12,D$3))} -> Client 6 | E12: {=IF($B12=0,"",INDEX(Données,$B12,E$3))} -> 45855 | F12: {=IF($B12=0,"",INDEX(Données,$B12,F$3))} -> OUI | G12: =+IF($F12="oui",+VLOOKUP($A12,DATA!$A:$AG,DATA!$P$3,FALSE),0) -> 0 | H12: =+IF($F12="oui",+VLOOKUP($A12,DATA!$A:$AG,DATA!$R$3,FALSE),0) -> 13 | I12: =+IF($F12="oui",+VLOOKUP($A12,DATA!$A:$AG,DATA!$T$3,FALSE),0) -> 33 | J12: =+IF($F12="oui",+VLOOKUP($A12,DATA!$A:$AG,DATA!$V$3,FALSE),0) -> 14 | K12: =+IF($F12="oui",+VLOOKUP($A12,DATA!$A:$AG,DATA!$X$3,FALSE),0) -> 26 | L12: =+IF($F12="oui",+VLOOKUP($A12,DATA!$A:$AG,DATA!$Z$3,FALSE),0) -> 9 | M12: =+IF($F12="oui",+VLOOKUP($A12,DATA!$A:$AG,DATA!$AB$3,FALSE),0) -> 0 | N12: =+IF($F12="oui",+VLOOKUP($A12,DATA!$A:$AG,DATA!$AD$3,FALSE),0) -> 2 | O12: =+IF($F12="oui",+VLOOKUP($A12,DATA!$A:$AG,DATA!$AF$3,FALSE),0) -> 16 | P12: =SUM(G12:O12) -> 113 | Q12: =+IF($F12="oui",+VLOOKUP($A12,DATA!$A:$AG,DATA!$Q$3,FALSE),0) -> 0 | R12: =+IF($F12="oui",+VLOOKUP($A12,DATA!$A:$AG,DATA!$S$3,FALSE),0) -> 59176 | S12: =+IF($F12="oui",+VLOOKUP($A12,DATA!$A:$AG,DATA!$U$3,FALSE),0) -> 19337 | T12: =+IF($F12="oui",+VLOOKUP($A12,DATA!$A:$AG,DATA!$W$3,FALSE),0) -> 1734 | U12: =+IF($F12="oui",+VLOOKUP($A12,DATA!$A:$AG,DATA!$Y$3,FALSE),0) -> 12980 | V12: =+IF($F12="oui",+VLOOKUP($A12,DATA!$A:$AG,DATA!$AA$3,FALSE),0) -> 607 | W12: =+IF($F12="oui",+VLOOKUP($A12,DATA!$A:$AG,DATA!$AC$3,FALSE),0) -> 0 | X12: =+IF($F12="oui",+VLOOKUP($A12,DATA!$A:$AG,DATA!$AE$3,FALSE),0) -> 1505 | Y12: =+IF($F12="oui",+VLOOKUP($A12,DATA!$A:$AG,DATA!$AG$3,FALSE),0) -> 440 | Z12: =SUM(Q12:Y12) -> 95779 | AA12: =+AA11+Q12 -> 47534 | AB12: =+AB11+R12 -> 171724 | AC12: =+AC11+S12 -> 154455 | AD12: =+AD11+T12 -> 34002 | AE12: =+AE11+U12 -> 33834 | AF12: =+AF11+V12 -> 23145 | AG12: =+AG11+W12 -> 0 | AH12: =+AH11+X12 -> 13685 | AI12: =+AI11+Y12 -> 1180 | AJ12: =+IF(Q12=0," ",+WORKDAY.INTL(+VLOOKUP(AJ$1,POSTE!$B:$G,3,FALSE),+CUM!AA11/+VLOOKUP(AJ$1,POSTE!$B:$H,7,FALSE),,CONGÉ!$C$2:$C$80)) | AK12: =+IF(R12=0," ",+WORKDAY.INTL(+VLOOKUP(AK$1,POSTE!$B:$G,3,FALSE),+CUM!AB11/+VLOOKUP(AK$1,POSTE!$B:$H,7,FALSE),,CONGÉ!$C$2:$C$80)) -> 45775 | AL12: =+IF(S12=0," ",+WORKDAY.INTL(+VLOOKUP(AL$1,POSTE!$B:$G,3,FALSE),+CUM!AC11/+VLOOKUP(AL$1,POSTE!$B:$H,7,FALSE),,CONGÉ!$C$2:$C$80)) -> 45783 | AM12: =+IF(T12=0," ",+WORKDAY.INTL(+VLOOKUP(AM$1,POSTE!$B:$G,3,FALSE),+CUM!AD11/+VLOOKUP(AM$1,POSTE!$B:$H,7,FALSE),,CONGÉ!$C$2:$C$80)) -> 45762 | AN12: =+IF(U12=0," ",+WORKDAY.INTL(+VLOOKUP(AN$1,POSTE!$B:$G,3,FALSE),+CUM!AE11/+VLOOKUP(AN$1,POSTE!$B:$H,7,FALSE),,CONGÉ!$C$2:$C$80)) -> 45771 | AO12: =+IF(V12=0," ",+WORKDAY.INTL(+VLOOKUP(AO$1,POSTE!$B:$G,3,FALSE),+CUM!AF11/+VLOOKUP(AO$1,POSTE!$B:$H,7,FALSE),,CONGÉ!$C$2:$C$80)) -> 45769 | AP12: =+IF(W12=0," ",+WORKDAY.INTL(+VLOOKUP(AP$1,POSTE!$B:$G,3,FALSE),+CUM!AG11/+VLOOKUP(AP$1,POSTE!$B:$H,7,FALSE),,CONGÉ!$C$2:$C$80)) | AQ12: =+IF(X12=0," ",+WORKDAY.INTL(+VLOOKUP(AQ$1,POSTE!$B:$G,3,FALSE),+CUM!AH11/+VLOOKUP(AQ$1,POSTE!$B:$H,7,FALSE),,CONGÉ!$C$2:$C$80)) -> 45762 | AR12: =+IF(Y12=0," ",+WORKDAY.INTL(+VLOOKUP(AR$1,POSTE!$B:$G,3,FALSE),+CUM!AI11/+VLOOKUP(AR$1,POSTE!$B:$H,7,FALSE),,CONGÉ!$C$2:$C$80)) -> 45775 | AS12: =+IF(Q12=0," ",+WORKDAY.INTL(+VLOOKUP(AS$1,POSTE!$B:$G,3,FALSE),+CUM!AA12/+VLOOKUP(AS$1,POSTE!$B:$H,7,FALSE),,CONGÉ!$C$2:$C$80)) | AT12: =+IF(R12=0," ",+WORKDAY.INTL(+VLOOKUP(AT$1,POSTE!$B:$G,3,FALSE),+CUM!AB12/+VLOOKUP(AT$1,POSTE!$B:$H,7,FALSE),,CONGÉ!$C$2:$C$80)) -> 45785 | AU12: =+IF(AND(S12=0,T12=0)," ",+WORKDAY.INTL(+VLOOKUP($AS$1,POSTE!B:J,3,FALSE),+(((AC12*POSTE!$H$5)+(CUM!AD12*POSTE!$H$4))/(POSTE!$H$4*POSTE!$H$5*2)),,CONGÉ!$C$2:$C$80)) -> 45775 | AV12: =+IF(U12=0," ",+WORKDAY.INTL(+VLOOKUP(AV$1,POSTE!$B:$G,3,FALSE),+CUM!AE12/+VLOOKUP(AV$1,POSTE!$B:$H,7,FALSE),,CONGÉ!$C$2:$C$80)) -> 45783 | AW12: =+IF(V12=0," ",+WORKDAY.INTL(+VLOOKUP(AW$1,POSTE!$B:$G,3,FALSE),+CUM!AF12/+VLOOKUP(AW$1,POSTE!$B:$H,7,FALSE),,CONGÉ!$C$2:$C$80)) -> 45769 | AX12: =+IF(W12=0," ",+WORKDAY.INTL(+VLOOKUP(AX$1,POSTE!$B:$G,3,FALSE),+CUM!AG12/+VLOOKUP(AX$1,POSTE!$B:$H,7,FALSE),,CONGÉ!$C$2:$C$80)) | AY12: =+IF(X12=0," ",+WORKDAY.INTL(+VLOOKUP(AY$1,POSTE!$B:$G,3,FALSE),+CUM!AH12/+VLOOKUP(AY$1,POSTE!$B:$H,7,FALSE),,CONGÉ!$C$2:$C$80)) -> 45762 | AZ12: =+IF(Y12=0," ",+WORKDAY.INTL(+VLOOKUP(AZ$1,POSTE!$B:$G,3,FALSE),+CUM!AI12/+VLOOKUP(AZ$1,POSTE!$B:$H,7,FALSE),,CONGÉ!$C$2:$C$80)) -> 45786 | BA12: =+IF(S12=0," ",+WORKDAY.INTL(+VLOOKUP(BA$1,POSTE!$B:$G,3,FALSE),+CUM!AC12/+VLOOKUP(BA$1,POSTE!$B:$H,7,FALSE),,CONGÉ!$C$2:$C$80)) -> 45786 | BB12: =+IF(T12=0," ",+WORKDAY.INTL(+VLOOKUP(BB$1,POSTE!$B:$G,3,FALSE),+CUM!AD12/+VLOOKUP(BB$1,POSTE!$B:$H,7,FALSE),,CONGÉ!$C$2:$C$80)) -> 45763 | BC12: =+IF(+MIN(AJ12:AZ12)>0,+MIN(AJ12:AZ12)," ") -> 45762 | BD12: =+IF(+MAX(AS12:AZ12)>0,+MAX(AS12:AZ12)," ") -> 45786 | BE12: =+IF($F12="oui",+VLOOKUP($A12,DATA!$A:$AH,DATA!$AH$3,FALSE),0) -> 0 | BF12: =+BF11+BE12 -> 480 | BG12: =+IF(BE12>0,+MAX((BH$4:BH11),BD12),"") | BH12: =+IF(BE12>0,+MAX((BH$4:BH11),+WORKDAY.INTL(BG12,+BE12/8,,CONGÉ!$C$2:$C$73)),"") | BI12: =+IF(BE12=0,+IFERROR(+EDATE(BD12,1)," "),+EDATE(BH12,1)) -> 45817 | BJ12: =+AC12+AD12 -> 188457 | BK12: =+TODAY() -> 45754 | BL12: =+(((AC12*POSTE!$H$5)+(CUM!AD12*POSTE!$H$4))/(POSTE!$H$4*POSTE!$H$5*2)) -> 15.608672 | BM12: =+WORKDAY.INTL(BK12,BL12,,CONGÉ!C$4:C$72) -> 45775 | BN12: =+AU12-BM12 -> 0
A13: =+ROW()-ROW($A$4) -> 9 | B13: {=_xlfn.LET(_xlpm.CORR,IF(DATA!$B$4:$B$104="",IF(DATA!$A$4:$A$104="","--",DATA!$A$4:$A$104),DATA!$B$4:$B$104),_xlpm.Rx,SMALL(_xlpm.CORR,A13),IFERROR(MATCH(_xlpm.Rx,_xlpm.CORR,0),0))} -> 5 | C13: {=IF($B13=0,"",INDEX(Données,$B13,C$3))} -> Traail 5 | D13: {=IF($B13=0,"",INDEX(Données,$B13,D$3))} -> Client 5 | E13: {=IF($B13=0,"",INDEX(Données,$B13,E$3))} -> 45814 | F13: {=IF($B13=0,"",INDEX(Données,$B13,F$3))} -> OUI | G13: =+IF($F13="oui",+VLOOKUP($A13,DATA!$A:$AG,DATA!$P$3,FALSE),0) -> 8 | H13: =+IF($F13="oui",+VLOOKUP($A13,DATA!$A:$AG,DATA!$R$3,FALSE),0) -> 47 | I13: =+IF($F13="oui",+VLOOKUP($A13,DATA!$A:$AG,DATA!$T$3,FALSE),0) -> 204 | J13: =+IF($F13="oui",+VLOOKUP($A13,DATA!$A:$AG,DATA!$V$3,FALSE),0) -> 206 | K13: =+IF($F13="oui",+VLOOKUP($A13,DATA!$A:$AG,DATA!$X$3,FALSE),0) -> 25 | L13: =+IF($F13="oui",+VLOOKUP($A13,DATA!$A:$AG,DATA!$Z$3,FALSE),0) -> 177 | M13: =+IF($F13="oui",+VLOOKUP($A13,DATA!$A:$AG,DATA!$AB$3,FALSE),0) -> 0 | N13: =+IF($F13="oui",+VLOOKUP($A13,DATA!$A:$AG,DATA!$AD$3,FALSE),0) -> 2 | O13: =+IF($F13="oui",+VLOOKUP($A13,DATA!$A:$AG,DATA!$AF$3,FALSE),0) -> 56 | P13: =SUM(G13:O13) -> 725 | Q13: =+IF($F13="oui",+VLOOKUP($A13,DATA!$A:$AG,DATA!$Q$3,FALSE),0) -> 911 | R13: =+IF($F13="oui",+VLOOKUP($A13,DATA!$A:$AG,DATA!$S$3,FALSE),0) -> 9367 | S13: =+IF($F13="oui",+VLOOKUP($A13,DATA!$A:$AG,DATA!$U$3,FALSE),0) -> 21847 | T13: =+IF($F13="oui",+VLOOKUP($A13,DATA!$A:$AG,DATA!$W$3,FALSE),0) -> 4144 | U13: =+IF($F13="oui",+VLOOKUP($A13,DATA!$A:$AG,DATA!$Y$3,FALSE),0) -> 1365 | V13: =+IF($F13="oui",+VLOOKUP($A13,DATA!$A:$AG,DATA!$AA$3,FALSE),0) -> 2529 | W13: =+IF($F13="oui",+VLOOKUP($A13,DATA!$A:$AG,DATA!$AC$3,FALSE),0) -> 0 | X13: =+IF($F13="oui",+VLOOKUP($A13,DATA!$A:$AG,DATA!$AE$3,FALSE),0) -> 29 | Y13: =+IF($F13="oui",+VLOOKUP($A13,DATA!$A:$AG,DATA!$AG$3,FALSE),0) -> 37 | Z13: =SUM(Q13:Y13) -> 40229 | AA13: =+AA12+Q13 -> 48445 | AB13: =+AB12+R13 -> 181091 | AC13: =+AC12+S13 -> 176302 | AD13: =+AD12+T13 -> 38146 | AE13: =+AE12+U13 -> 35199 | AF13: =+AF12+V13 -> 25674 | AG13: =+AG12+W13 -> 0 | AH13: =+AH12+X13 -> 13714 | AI13: =+AI12+Y13 -> 1217 | AJ13: =+IF(Q13=0," ",+WORKDAY.INTL(+VLOOKUP(AJ$1,POSTE!$B:$G,3,FALSE),+CUM!AA12/+VLOOKUP(AJ$1,POSTE!$B:$H,7,FALSE),,CONGÉ!$C$2:$C$80)) -> 45761 | AK13: =+IF(R13=0," ",+WORKDAY.INTL(+VLOOKUP(AK$1,POSTE!$B:$G,3,FALSE),+CUM!AB12/+VLOOKUP(AK$1,POSTE!$B:$H,7,FALSE),,CONGÉ!$C$2:$C$80)) -> 45785 | AL13: =+IF(S13=0," ",+WORKDAY.INTL(+VLOOKUP(AL$1,POSTE!$B:$G,3,FALSE),+CUM!AC12/+VLOOKUP(AL$1,POSTE!$B:$H,7,FALSE),,CONGÉ!$C$2:$C$80)) -> 45786 | AM13: =+IF(T13=0," ",+WORKDAY.INTL(+VLOOKUP(AM$1,POSTE!$B:$G,3,FALSE),+CUM!AD12/+VLOOKUP(AM$1,POSTE!$B:$H,7,FALSE),,CONGÉ!$C$2:$C$80)) -> 45763 | AN13: =+IF(U13=0," ",+WORKDAY.INTL(+VLOOKUP(AN$1,POSTE!$B:$G,3,FALSE),+CUM!AE12/+VLOOKUP(AN$1,POSTE!$B:$H,7,FALSE),,CONGÉ!$C$2:$C$80)) -> 45783 | AO13: =+IF(V13=0," ",+WORKDAY.INTL(+VLOOKUP(AO$1,POSTE!$B:$G,3,FALSE),+CUM!AF12/+VLOOKUP(AO$1,POSTE!$B:$H,7,FALSE),,CONGÉ!$C$2:$C$80)) -> 45769 | AP13: =+IF(W13=0," ",+WORKDAY.INTL(+VLOOKUP(AP$1,POSTE!$B:$G,3,FALSE),+CUM!AG12/+VLOOKUP(AP$1,POSTE!$B:$H,7,FALSE),,CONGÉ!$C$2:$C$80)) | AQ13: =+IF(X13=0," ",+WORKDAY.INTL(+VLOOKUP(AQ$1,POSTE!$B:$G,3,FALSE),+CUM!AH12/+VLOOKUP(AQ$1,POSTE!$B:$H,7,FALSE),,CONGÉ!$C$2:$C$80)) -> 45762 | AR13: =+IF(Y13=0," ",+WORKDAY.INTL(+VLOOKUP(AR$1,POSTE!$B:$G,3,FALSE),+CUM!AI12/+VLOOKUP(AR$1,POSTE!$B:$H,7,FALSE),,CONGÉ!$C$2:$C$80)) -> 45786 | AS13: =+IF(Q13=0," ",+WORKDAY.INTL(+VLOOKUP(AS$1,POSTE!$B:$G,3,FALSE),+CUM!AA13/+VLOOKUP(AS$1,POSTE!$B:$H,7,FALSE),,CONGÉ!$C$2:$C$80)) -> 45762 | AT13: =+IF(R13=0," ",+WORKDAY.INTL(+VLOOKUP(AT$1,POSTE!$B:$G,3,FALSE),+CUM!AB13/+VLOOKUP(AT$1,POSTE!$B:$H,7,FALSE),,CONGÉ!$C$2:$C$80)) -> 45789 | AU13: =+IF(AND(S13=0,T13=0)," ",+WORKDAY.INTL(+VLOOKUP($AS$1,POSTE!B:J,3,FALSE),+(((AC13*POSTE!$H$5)+(CUM!AD13*POSTE!$H$4))/(POSTE!$H$4*POSTE!$H$5*2)),,CONGÉ!$C$2:$C$80)) -> 45777 | AV13: =+IF(U13=0," ",+WORKDAY.INTL(+VLOOKUP(AV$1,POSTE!$B:$G,3,FALSE),+CUM!AE13/+VLOOKUP(AV$1,POSTE!$B:$H,7,FALSE),,CONGÉ!$C$2:$C$80)) -> 45783 | AW13: =+IF(V13=0," ",+WORKDAY.INTL(+VLOOKUP(AW$1,POSTE!$B:$G,3,FALSE),+CUM!AF13/+VLOOKUP(AW$1,POSTE!$B:$H,7,FALSE),,CONGÉ!$C$2:$C$80)) -> 45771 | AX13: =+IF(W13=0," ",+WORKDAY.INTL(+VLOOKUP(AX$1,POSTE!$B:$G,3,FALSE),+CUM!AG13/+VLOOKUP(AX$1,POSTE!$B:$H,7,FALSE),,CONGÉ!$C$2:$C$80)) | AY13: =+IF(X13=0," ",+WORKDAY.INTL(+VLOOKUP(AY$1,POSTE!$B:$G,3,FALSE),+CUM!AH13/+VLOOKUP(AY$1,POSTE!$B:$H,7,FALSE),,CONGÉ!$C$2:$C$80)) -> 45762 | AZ13: =+IF(Y13=0," ",+WORKDAY.INTL(+VLOOKUP(AZ$1,POSTE!$B:$G,3,FALSE),+CUM!AI13/+VLOOKUP(AZ$1,POSTE!$B:$H,7,FALSE),,CONGÉ!$C$2:$C$80)) -> 45789 | BA13: =+IF(S13=0," ",+WORKDAY.INTL(+VLOOKUP(BA$1,POSTE!$B:$G,3,FALSE),+CUM!AC13/+VLOOKUP(BA$1,POSTE!$B:$H,7,FALSE),,CONGÉ!$C$2:$C$80)) -> 45791 | BB13: =+IF(T13=0," ",+WORKDAY.INTL(+VLOOKUP(BB$1,POSTE!$B:$G,3,FALSE),+CUM!AD13/+VLOOKUP(BB$1,POSTE!$B:$H,7,FALSE),,CONGÉ!$C$2:$C$80)) -> 45763 | BC13: =+IF(+MIN(AJ13:AZ13)>0,+MIN(AJ13:AZ13)," ") -> 45761 | BD13: =+IF(+MAX(AS13:AZ13)>0,+MAX(AS13:AZ13)," ") -> 45789 | BE13: =+IF($F13="oui",+VLOOKUP($A13,DATA!$A:$AH,DATA!$AH$3,FALSE),0) -> 134.66667 | BF13: =+BF12+BE13 -> 614.66667 | BG13: =+IF(BE13>0,+MAX((BH$4:BH12),BD13),"") -> 45849 | BH13: =+IF(BE13>0,+MAX((BH$4:BH12),+WORKDAY.INTL(BG13,+BE13/8,,CONGÉ!$C$2:$C$73)),"") -> 45894 | BI13: =+IF(BE13=0,+IFERROR(+EDATE(BD13,1)," "),+EDATE(BH13,1)) -> 45925 | BJ13: =+AC13+AD13 -> 214448 | BK13: =+TODAY() -> 45754 | BL13: =+(((AC13*POSTE!$H$5)+(CUM!AD13*POSTE!$H$4))/(POSTE!$H$4*POSTE!$H$5*2)) -> 17.747135 | BM13: =+WORKDAY.INTL(BK13,BL13,,CONGÉ!C$4:C$72) -> 45777 | BN13: =+AU13-BM13 -> 0
A14: =+ROW()-ROW($A$4) -> 10 | B14: {=_xlfn.LET(_xlpm.CORR,IF(DATA!$B$4:$B$104="",IF(DATA!$A$4:$A$104="","--",DATA!$A$4:$A$104),DATA!$B$4:$B$104),_xlpm.Rx,SMALL(_xlpm.CORR,A14),IFERROR(MATCH(_xlpm.Rx,_xlpm.CORR,0),0))} -> 12 | C14: {=IF($B14=0,"",INDEX(Données,$B14,C$3))} -> Traail 12 | D14: {=IF($B14=0,"",INDEX(Données,$B14,D$3))} -> Client 12 | E14: {=IF($B14=0,"",INDEX(Données,$B14,E$3))} -> 45814 | F14: {=IF($B14=0,"",INDEX(Données,$B14,F$3))} -> OUI | G14: =+IF($F14="oui",+VLOOKUP($A14,DATA!$A:$AG,DATA!$P$3,FALSE),0) -> 0 | H14: =+IF($F14="oui",+VLOOKUP($A14,DATA!$A:$AG,DATA!$R$3,FALSE),0) -> 10 | I14: =+IF($F14="oui",+VLOOKUP($A14,DATA!$A:$AG,DATA!$T$3,FALSE),0) -> 32 | J14: =+IF($F14="oui",+VLOOKUP($A14,DATA!$A:$AG,DATA!$V$3,FALSE),0) -> 1 | K14: =+IF($F14="oui",+VLOOKUP($A14,DATA!$A:$AG,DATA!$X$3,FALSE),0) -> 1 | L14: =+IF($F14="oui",+VLOOKUP($A14,DATA!$A:$AG,DATA!$Z$3,FALSE),0) -> 1 | M14: =+IF($F14="oui",+VLOOKUP($A14,DATA!$A:$AG,DATA!$AB$3,FALSE),0) -> 0 | N14: =+IF($F14="oui",+VLOOKUP($A14,DATA!$A:$AG,DATA!$AD$3,FALSE),0) -> 0 | O14: =+IF($F14="oui",+VLOOKUP($A14,DATA!$A:$AG,DATA!$AF$3,FALSE),0) -> 20 | P14: =SUM(G14:O14) -> 65 | Q14: =+IF($F14="oui",+VLOOKUP($A14,DATA!$A:$AG,DATA!$Q$3,FALSE),0) -> 0 | R14: =+IF($F14="oui",+VLOOKUP($A14,DATA!$A:$AG,DATA!$S$3,FALSE),0) -> 34332 | S14: =+IF($F14="oui",+VLOOKUP($A14,DATA!$A:$AG,DATA!$U$3,FALSE),0) -> 9558 | T14: =+IF($F14="oui",+VLOOKUP($A14,DATA!$A:$AG,DATA!$W$3,FALSE),0) -> 21 | U14: =+IF($F14="oui",+VLOOKUP($A14,DATA!$A:$AG,DATA!$Y$3,FALSE),0) -> 394 | V14: =+IF($F14="oui",+VLOOKUP($A14,DATA!$A:$AG,DATA!$AA$3,FALSE),0) -> 10 | W14: =+IF($F14="oui",+VLOOKUP($A14,DATA!$A:$AG,DATA!$AC$3,FALSE),0) -> 0 | X14: =+IF($F14="oui",+VLOOKUP($A14,DATA!$A:$AG,DATA!$AE$3,FALSE),0) -> 0 | Y14: =+IF($F14="oui",+VLOOKUP($A14,DATA!$A:$AG,DATA!$AG$3,FALSE),0) -> 150 | Z14: =SUM(Q14:Y14) -> 44465 | AA14: =+AA13+Q14 -> 48445 | AB14: =+AB13+R14 -> 215423 | AC14: =+AC13+S14 -> 185860 | AD14: =+AD13+T14 -> 38167 | AE14: =+AE13+U14 -> 35593 | AF14: =+AF13+V14 -> 25684 | AG14: =+AG13+W14 -> 0 | AH14: =+AH13+X14 -> 13714 | AI14: =+AI13+Y14 -> 1367 | AJ14: =+IF(Q14=0," ",+WORKDAY.INTL(+VLOOKUP(AJ$1,POSTE!$B:$G,3,FALSE),+CUM!AA13/+VLOOKUP(AJ$1,POSTE!$B:$H,7,FALSE),,CONGÉ!$C$2:$C$80)) | AK14: =+IF(R14=0," ",+WORKDAY.INTL(+VLOOKUP(AK$1,POSTE!$B:$G,3,FALSE),+CUM!AB13/+VLOOKUP(AK$1,POSTE!$B:$H,7,FALSE),,CONGÉ!$C$2:$C$80)) -> 45789 | AL14: =+IF(S14=0," ",+WORKDAY.INTL(+VLOOKUP(AL$1,POSTE!$B:$G,3,FALSE),+CUM!AC13/+VLOOKUP(AL$1,POSTE!$B:$H,7,FALSE),,CONGÉ!$C$2:$C$80)) -> 45791 | AM14: =+IF(T14=0," ",+WORKDAY.INTL(+VLOOKUP(AM$1,POSTE!$B:$G,3,FALSE),+CUM!AD13/+VLOOKUP(AM$1,POSTE!$B:$H,7,FALSE),,CONGÉ!$C$2:$C$80)) -> 45763 | AN14: =+IF(U14=0," ",+WORKDAY.INTL(+VLOOKUP(AN$1,POSTE!$B:$G,3,FALSE),+CUM!AE13/+VLOOKUP(AN$1,POSTE!$B:$H,7,FALSE),,CONGÉ!$C$2:$C$80)) -> 45783 | AO14: =+IF(V14=0," ",+WORKDAY.INTL(+VLOOKUP(AO$1,POSTE!$B:$G,3,FALSE),+CUM!AF13/+VLOOKUP(AO$1,POSTE!$B:$H,7,FALSE),,CONGÉ!$C$2:$C$80)) -> 45771 | AP14: =+IF(W14=0," ",+WORKDAY.INTL(+VLOOKUP(AP$1,POSTE!$B:$G,3,FALSE),+CUM!AG13/+VLOOKUP(AP$1,POSTE!$B:$H,7,FALSE),,CONGÉ!$C$2:$C$80)) | AQ14: =+IF(X14=0," ",+WORKDAY.INTL(+VLOOKUP(AQ$1,POSTE!$B:$G,3,FALSE),+CUM!AH13/+VLOOKUP(AQ$1,POSTE!$B:$H,7,FALSE),,CONGÉ!$C$2:$C$80)) | AR14: =+IF(Y14=0," ",+WORKDAY.INTL(+VLOOKUP(AR$1,POSTE!$B:$G,3,FALSE),+CUM!AI13/+VLOOKUP(AR$1,POSTE!$B:$H,7,FALSE),,CONGÉ!$C$2:$C$80)) -> 45789 | AS14: =+IF(Q14=0," ",+WORKDAY.INTL(+VLOOKUP(AS$1,POSTE!$B:$G,3,FALSE),+CUM!AA14/+VLOOKUP(AS$1,POSTE!$B:$H,7,FALSE),,CONGÉ!$C$2:$C$80)) | AT14: =+IF(R14=0," ",+WORKDAY.INTL(+VLOOKUP(AT$1,POSTE!$B:$G,3,FALSE),+CUM!AB14/+VLOOKUP(AT$1,POSTE!$B:$H,7,FALSE),,CONGÉ!$C$2:$C$80)) -> 45793 | AU14: =+IF(AND(S14=0,T14=0)," ",+WORKDAY.INTL(+VLOOKUP($AS$1,POSTE!B:J,3,FALSE),+(((AC14*POSTE!$H$5)+(CUM!AD14*POSTE!$H$4))/(POSTE!$H$4*POSTE!$H$5*2)),,CONGÉ!$C$2:$C$80)) -> 45778 | AV14: =+IF(U14=0," ",+WORKDAY.INTL(+VLOOKUP(AV$1,POSTE!$B:$G,3,FALSE),+CUM!AE14/+VLOOKUP(AV$1,POSTE!$B:$H,7,FALSE),,CONGÉ!$C$2:$C$80)) -> 45784 | AW14: =+IF(V14=0," ",+WORKDAY.INTL(+VLOOKUP(AW$1,POSTE!$B:$G,3,FALSE),+CUM!AF14/+VLOOKUP(AW$1,POSTE!$B:$H,7,FALSE),,CONGÉ!$C$2:$C$80)) -> 45771 | AX14: =+IF(W14=0," ",+WORKDAY.INTL(+VLOOKUP(AX$1,POSTE!$B:$G,3,FALSE),+CUM!AG14/+VLOOKUP(AX$1,POSTE!$B:$H,7,FALSE),,CONGÉ!$C$2:$C$80)) | AY14: =+IF(X14=0," ",+WORKDAY.INTL(+VLOOKUP(AY$1,POSTE!$B:$G,3,FALSE),+CUM!AH14/+VLOOKUP(AY$1,POSTE!$B:$H,7,FALSE),,CONGÉ!$C$2:$C$80)) | AZ14: =+IF(Y14=0," ",+WORKDAY.INTL(+VLOOKUP(AZ$1,POSTE!$B:$G,3,FALSE),+CUM!AI14/+VLOOKUP(AZ$1,POSTE!$B:$H,7,FALSE),,CONGÉ!$C$2:$C$80)) -> 45792 | BA14: =+IF(S14=0," ",+WORKDAY.INTL(+VLOOKUP(BA$1,POSTE!$B:$G,3,FALSE),+CUM!AC14/+VLOOKUP(BA$1,POSTE!$B:$H,7,FALSE),,CONGÉ!$C$2:$C$80)) -> 45793 | BB14: =+IF(T14=0," ",+WORKDAY.INTL(+VLOOKUP(BB$1,POSTE!$B:$G,3,FALSE),+CUM!AD14/+VLOOKUP(BB$1,POSTE!$B:$H,7,FALSE),,CONGÉ!$C$2:$C$80)) -> 45763 | BC14: =+IF(+MIN(AJ14:AZ14)>0,+MIN(AJ14:AZ14)," ") -> 45763 | BD14: =+IF(+MAX(AS14:AZ14)>0,+MAX(AS14:AZ14)," ") -> 45793 | BE14: =+IF($F14="oui",+VLOOKUP($A14,DATA!$A:$AH,DATA!$AH$3,FALSE),0) -> 0 | BF14: =+BF13+BE14 -> 614.66667 | BG14: =+IF(BE14>0,+MAX((BH$4:BH13),BD14),"") | BH14: =+IF(BE14>0,+MAX((BH$4:BH13),+WORKDAY.INTL(BG14,+BE14/8,,CONGÉ!$C$2:$C$73)),"") | BI14: =+IF(BE14=0,+IFERROR(+EDATE(BD14,1)," "),+EDATE(BH14,1)) -> 45824 | BJ14: =+AC14+AD14 -> 224027 | BK14: =+TODAY() -> 45754 | BL14: =+(((AC14*POSTE!$H$5)+(CUM!AD14*POSTE!$H$4))/(POSTE!$H$4*POSTE!$H$5*2)) -> 18.496042 | BM14: =+WORKDAY.INTL(BK14,BL14,,CONGÉ!C$4:C$72) -> 45778 | BN14: =+AU14-BM14 -> 0
A15: =+ROW()-ROW($A$4) -> 11 | B15: {=_xlfn.LET(_xlpm.CORR,IF(DATA!$B$4:$B$104="",IF(DATA!$A$4:$A$104="","--",DATA!$A$4:$A$104),DATA!$B$4:$B$104),_xlpm.Rx,SMALL(_xlpm.CORR,A15),IFERROR(MATCH(_xlpm.Rx,_xlpm.CORR,0),0))} -> 4 | C15: {=IF($B15=0,"",INDEX(Données,$B15,C$3))} -> Traail 4 | D15: {=IF($B15=0,"",INDEX(Données,$B15,D$3))} -> Client 4 | E15: {=IF($B15=0,"",INDEX(Données,$B15,E$3))} -> 45898 | F15: {=IF($B15=0,"",INDEX(Données,$B15,F$3))} -> OUI | G15: =+IF($F15="oui",+VLOOKUP($A15,DATA!$A:$AG,DATA!$P$3,FALSE),0) -> 0 | H15: =+IF($F15="oui",+VLOOKUP($A15,DATA!$A:$AG,DATA!$R$3,FALSE),0) -> 0 | I15: =+IF($F15="oui",+VLOOKUP($A15,DATA!$A:$AG,DATA!$T$3,FALSE),0) -> 0 | J15: =+IF($F15="oui",+VLOOKUP($A15,DATA!$A:$AG,DATA!$V$3,FALSE),0) -> 0 | K15: =+IF($F15="oui",+VLOOKUP($A15,DATA!$A:$AG,DATA!$X$3,FALSE),0) -> 0 | L15: =+IF($F15="oui",+VLOOKUP($A15,DATA!$A:$AG,DATA!$Z$3,FALSE),0) -> 0 | M15: =+IF($F15="oui",+VLOOKUP($A15,DATA!$A:$AG,DATA!$AB$3,FALSE),0) -> 0 | N15: =+IF($F15="oui",+VLOOKUP($A15,DATA!$A:$AG,DATA!$AD$3,FALSE),0) -> 0 | O15: =+IF($F15="oui",+VLOOKUP($A15,DATA!$A:$AG,DATA!$AF$3,FALSE),0) -> 3 | P15: =SUM(G15:O15) -> 3 | Q15: =+IF($F15="oui",+VLOOKUP($A15,DATA!$A:$AG,DATA!$Q$3,FALSE),0) -> 0 | R15: =+IF($F15="oui",+VLOOKUP($A15,DATA!$A:$AG,DATA!$S$3,FALSE),0) -> 0 | S15: =+IF($F15="oui",+VLOOKUP($A15,DATA!$A:$AG,DATA!$U$3,FALSE),0) -> 0 | T15: =+IF($F15="oui",+VLOOKUP($A15,DATA!$A:$AG,DATA!$W$3,FALSE),0) -> 0 | U15: =+IF($F15="oui",+VLOOKUP($A15,DATA!$A:$AG,DATA!$Y$3,FALSE),0) -> 0 | V15: =+IF($F15="oui",+VLOOKUP($A15,DATA!$A:$AG,DATA!$AA$3,FALSE),0) -> 0 | W15: =+IF($F15="oui",+VLOOKUP($A15,DATA!$A:$AG,DATA!$AC$3,FALSE),0) -> 0 | X15: =+IF($F15="oui",+VLOOKUP($A15,DATA!$A:$AG,DATA!$AE$3,FALSE),0) -> 0 | Y15: =+IF($F15="oui",+VLOOKUP($A15,DATA!$A:$AG,DATA!$AG$3,FALSE),0) -> 120 | Z15: =SUM(Q15:Y15) -> 120 | AA15: =+AA14+Q15 -> 48445 | AB15: =+AB14+R15 -> 215423 | AC15: =+AC14+S15 -> 185860 | AD15: =+AD14+T15 -> 38167 | AE15: =+AE14+U15 -> 35593 | AF15: =+AF14+V15 -> 25684 | AG15: =+AG14+W15 -> 0 | AH15: =+AH14+X15 -> 13714 | AI15: =+AI14+Y15 -> 1487 | AJ15: =+IF(Q15=0," ",+WORKDAY.INTL(+VLOOKUP(AJ$1,POSTE!$B:$G,3,FALSE),+CUM!AA14/+VLOOKUP(AJ$1,POSTE!$B:$H,7,FALSE),,CONGÉ!$C$2:$C$80)) | AK15: =+IF(R15=0," ",+WORKDAY.INTL(+VLOOKUP(AK$1,POSTE!$B:$G,3,FALSE),+CUM!AB14/+VLOOKUP(AK$1,POSTE!$B:$H,7,FALSE),,CONGÉ!$C$2:$C$80)) | AL15: =+IF(S15=0," ",+WORKDAY.INTL(+VLOOKUP(AL$1,POSTE!$B:$G,3,FALSE),+CUM!AC14/+VLOOKUP(AL$1,POSTE!$B:$H,7,FALSE),,CONGÉ!$C$2:$C$80)) | AM15: =+IF(T15=0," ",+WORKDAY.INTL(+VLOOKUP(AM$1,POSTE!$B:$G,3,FALSE),+CUM!AD14/+VLOOKUP(AM$1,POSTE!$B:$H,7,FALSE),,CONGÉ!$C$2:$C$80)) | AN15: =+IF(U15=0," ",+WORKDAY.INTL(+VLOOKUP(AN$1,POSTE!$B:$G,3,FALSE),+CUM!AE14/+VLOOKUP(AN$1,POSTE!$B:$H,7,FALSE),,CONGÉ!$C$2:$C$80)) | AO15: =+IF(V15=0," ",+WORKDAY.INTL(+VLOOKUP(AO$1,POSTE!$B:$G,3,FALSE),+CUM!AF14/+VLOOKUP(AO$1,POSTE!$B:$H,7,FALSE),,CONGÉ!$C$2:$C$80)) | AP15: =+IF(W15=0," ",+WORKDAY.INTL(+VLOOKUP(AP$1,POSTE!$B:$G,3,FALSE),+CUM!AG14/+VLOOKUP(AP$1,POSTE!$B:$H,7,FALSE),,CONGÉ!$C$2:$C$80)) | AQ15: =+IF(X15=0," ",+WORKDAY.INTL(+VLOOKUP(AQ$1,POSTE!$B:$G,3,FALSE),+CUM!AH14/+VLOOKUP(AQ$1,POSTE!$B:$H,7,FALSE),,CONGÉ!$C$2:$C$80)) | AR15: =+IF(Y15=0," ",+WORKDAY.INTL(+VLOOKUP(AR$1,POSTE!$B:$G,3,FALSE),+CUM!AI14/+VLOOKUP(AR$1,POSTE!$B:$H,7,FALSE),,CONGÉ!$C$2:$C$80)) -> 45792 | AS15: =+IF(Q15=0," ",+WORKDAY.INTL(+VLOOKUP(AS$1,POSTE!$B:$G,3,FALSE),+CUM!AA15/+VLOOKUP(AS$1,POSTE!$B:$H,7,FALSE),,CONGÉ!$C$2:$C$80)) | AT15: =+IF(R15=0," ",+WORKDAY.INTL(+VLOOKUP(AT$1,POSTE!$B:$G,3,FALSE),+CUM!AB15/+VLOOKUP(AT$1,POSTE!$B:$H,7,FALSE),,CONGÉ!$C$2:$C$80)) | AU15: =+IF(AND(S15=0,T15=0)," ",+WORKDAY.INTL(+VLOOKUP($AS$1,POSTE!B:J,3,FALSE),+(((AC15*POSTE!$H$5)+(CUM!AD15*POSTE!$H$4))/(POSTE!$H$4*POSTE!$H$5*2)),,CONGÉ!$C$2:$C$80)) | AV15: =+IF(U15=0," ",+WORKDAY.INTL(+VLOOKUP(AV$1,POSTE!$B:$G,3,FALSE),+CUM!AE15/+VLOOKUP(AV$1,POSTE!$B:$H,7,FALSE),,CONGÉ!$C$2:$C$80)) | AW15: =+IF(V15=0," ",+WORKDAY.INTL(+VLOOKUP(AW$1,POSTE!$B:$G,3,FALSE),+CUM!AF15/+VLOOKUP(AW$1,POSTE!$B:$H,7,FALSE),,CONGÉ!$C$2:$C$80)) | AX15: =+IF(W15=0," ",+WORKDAY.INTL(+VLOOKUP(AX$1,POSTE!$B:$G,3,FALSE),+CUM!AG15/+VLOOKUP(AX$1,POSTE!$B:$H,7,FALSE),,CONGÉ!$C$2:$C$80)) | AY15: =+IF(X15=0," ",+WORKDAY.INTL(+VLOOKUP(AY$1,POSTE!$B:$G,3,FALSE),+CUM!AH15/+VLOOKUP(AY$1,POSTE!$B:$H,7,FALSE),,CONGÉ!$C$2:$C$80)) | AZ15: =+IF(Y15=0," ",+WORKDAY.INTL(+VLOOKUP(AZ$1,POSTE!$B:$G,3,FALSE),+CUM!AI15/+VLOOKUP(AZ$1,POSTE!$B:$H,7,FALSE),,CONGÉ!$C$2:$C$80)) -> 45796 | BA15: =+IF(S15=0," ",+WORKDAY.INTL(+VLOOKUP(BA$1,POSTE!$B:$G,3,FALSE),+CUM!AC15/+VLOOKUP(BA$1,POSTE!$B:$H,7,FALSE),,CONGÉ!$C$2:$C$80)) | BB15: =+IF(T15=0," ",+WORKDAY.INTL(+VLOOKUP(BB$1,POSTE!$B:$G,3,FALSE),+CUM!AD15/+VLOOKUP(BB$1,POSTE!$B:$H,7,FALSE),,CONGÉ!$C$2:$C$80)) | BC15: =+IF(+MIN(AJ15:AZ15)>0,+MIN(AJ15:AZ15)," ") -> 45792 | BD15: =+IF(+MAX(AS15:AZ15)>0,+MAX(AS15:AZ15)," ") -> 45796 | BE15: =+IF($F15="oui",+VLOOKUP($A15,DATA!$A:$AH,DATA!$AH$3,FALSE),0) -> 0 | BF15: =+BF14+BE15 -> 614.66667 | BG15: =+IF(BE15>0,+MAX((BH$4:BH14),BD15),"") | BH15: =+IF(BE15>0,+MAX((BH$4:BH14),+WORKDAY.INTL(BG15,+BE15/8,,CONGÉ!$C$2:$C$73)),"") | BI15: =+IF(BE15=0,+IFERROR(+EDATE(BD15,1)," "),+EDATE(BH15,1)) -> 45827 | BJ15: =+AC15+AD15 -> 224027 | BK15: =+TODAY() -> 45754 | BL15: =+(((AC15*POSTE!$H$5)+(CUM!AD15*POSTE!$H$4))/(POSTE!$H$4*POSTE!$H$5*2)) -> 18.496042 | BM15: =+WORKDAY.INTL(BK15,BL15,,CONGÉ!C$4:C$72) -> 45778 | BN15: =+AU15-BM15 -> #VALUE!
A16: =+ROW()-ROW($A$4) -> 12 | B16: {=_xlfn.LET(_xlpm.CORR,IF(DATA!$B$4:$B$104="",IF(DATA!$A$4:$A$104="","--",DATA!$A$4:$A$104),DATA!$B$4:$B$104),_xlpm.Rx,SMALL(_xlpm.CORR,A16),IFERROR(MATCH(_xlpm.Rx,_xlpm.CORR,0),0))} -> 2 | C16: {=IF($B16=0,"",INDEX(Données,$B16,C$3))} -> Traail 2 | D16: {=IF($B16=0,"",INDEX(Données,$B16,D$3))} -> Client 2 | E16: {=IF($B16=0,"",INDEX(Données,$B16,E$3))} -> 45843 | F16: {=IF($B16=0,"",INDEX(Données,$B16,F$3))} -> OUI | G16: =+IF($F16="oui",+VLOOKUP($A16,DATA!$A:$AG,DATA!$P$3,FALSE),0) -> 0 | H16: =+IF($F16="oui",+VLOOKUP($A16,DATA!$A:$AG,DATA!$R$3,FALSE),0) -> 1 | I16: =+IF($F16="oui",+VLOOKUP($A16,DATA!$A:$AG,DATA!$T$3,FALSE),0) -> 1 | J16: =+IF($F16="oui",+VLOOKUP($A16,DATA!$A:$AG,DATA!$V$3,FALSE),0) -> 0 | K16: =+IF($F16="oui",+VLOOKUP($A16,DATA!$A:$AG,DATA!$X$3,FALSE),0) -> 8 | L16: =+IF($F16="oui",+VLOOKUP($A16,DATA!$A:$AG,DATA!$Z$3,FALSE),0) -> 0 | M16: =+IF($F16="oui",+VLOOKUP($A16,DATA!$A:$AG,DATA!$AB$3,FALSE),0) -> 0 | N16: =+IF($F16="oui",+VLOOKUP($A16,DATA!$A:$AG,DATA!$AD$3,FALSE),0) -> 1 | O16: =+IF($F16="oui",+VLOOKUP($A16,DATA!$A:$AG,DATA!$AF$3,FALSE),0) -> 1 | P16: =SUM(G16:O16) -> 12 | Q16: =+IF($F16="oui",+VLOOKUP($A16,DATA!$A:$AG,DATA!$Q$3,FALSE),0) -> 0 | R16: =+IF($F16="oui",+VLOOKUP($A16,DATA!$A:$AG,DATA!$S$3,FALSE),0) -> 1054 | S16: =+IF($F16="oui",+VLOOKUP($A16,DATA!$A:$AG,DATA!$U$3,FALSE),0) -> 130 | T16: =+IF($F16="oui",+VLOOKUP($A16,DATA!$A:$AG,DATA!$W$3,FALSE),0) -> 0 | U16: =+IF($F16="oui",+VLOOKUP($A16,DATA!$A:$AG,DATA!$Y$3,FALSE),0) -> 3305 | V16: =+IF($F16="oui",+VLOOKUP($A16,DATA!$A:$AG,DATA!$AA$3,FALSE),0) -> 0 | W16: =+IF($F16="oui",+VLOOKUP($A16,DATA!$A:$AG,DATA!$AC$3,FALSE),0) -> 0 | X16: =+IF($F16="oui",+VLOOKUP($A16,DATA!$A:$AG,DATA!$AE$3,FALSE),0) -> 899 | Y16: =+IF($F16="oui",+VLOOKUP($A16,DATA!$A:$AG,DATA!$AG$3,FALSE),0) -> 2 | Z16: =SUM(Q16:Y16) -> 5390 | AA16: =+AA15+Q16 -> 48445 | AB16: =+AB15+R16 -> 216477 | AC16: =+AC15+S16 -> 185990 | AD16: =+AD15+T16 -> 38167 | AE16: =+AE15+U16 -> 38898 | AF16: =+AF15+V16 -> 25684 | AG16: =+AG15+W16 -> 0 | AH16: =+AH15+X16 -> 14613 | AI16: =+AI15+Y16 -> 1489 | AJ16: =+IF(Q16=0," ",+WORKDAY.INTL(+VLOOKUP(AJ$1,POSTE!$B:$G,3,FALSE),+CUM!AA15/+VLOOKUP(AJ$1,POSTE!$B:$H,7,FALSE),,CONGÉ!$C$2:$C$80)) | AK16: =+IF(R16=0," ",+WORKDAY.INTL(+VLOOKUP(AK$1,POSTE!$B:$G,3,FALSE),+CUM!AB15/+VLOOKUP(AK$1,POSTE!$B:$H,7,FALSE),,CONGÉ!$C$2:$C$80)) -> 45793 | AL16: =+IF(S16=0," ",+WORKDAY.INTL(+VLOOKUP(AL$1,POSTE!$B:$G,3,FALSE),+CUM!AC15/+VLOOKUP(AL$1,POSTE!$B:$H,7,FALSE),,CONGÉ!$C$2:$C$80)) -> 45793 | AM16: =+IF(T16=0," ",+WORKDAY.INTL(+VLOOKUP(AM$1,POSTE!$B:$G,3,FALSE),+CUM!AD15/+VLOOKUP(AM$1,POSTE!$B:$H,7,FALSE),,CONGÉ!$C$2:$C$80)) | AN16: =+IF(U16=0," ",+WORKDAY.INTL(+VLOOKUP(AN$1,POSTE!$B:$G,3,FALSE),+CUM!AE15/+VLOOKUP(AN$1,POSTE!$B:$H,7,FALSE),,CONGÉ!$C$2:$C$80)) -> 45784 | AO16: =+IF(V16=0," ",+WORKDAY.INTL(+VLOOKUP(AO$1,POSTE!$B:$G,3,FALSE),+CUM!AF15/+VLOOKUP(AO$1,POSTE!$B:$H,7,FALSE),,CONGÉ!$C$2:$C$80)) | AP16: =+IF(W16=0," ",+WORKDAY.INTL(+VLOOKUP(AP$1,POSTE!$B:$G,3,FALSE),+CUM!AG15/+VLOOKUP(AP$1,POSTE!$B:$H,7,FALSE),,CONGÉ!$C$2:$C$80)) | AQ16: =+IF(X16=0," ",+WORKDAY.INTL(+VLOOKUP(AQ$1,POSTE!$B:$G,3,FALSE),+CUM!AH15/+VLOOKUP(AQ$1,POSTE!$B:$H,7,FALSE),,CONGÉ!$C$2:$C$80)) -> 45762 | AR16: =+IF(Y16=0," ",+WORKDAY.INTL(+VLOOKUP(AR$1,POSTE!$B:$G,3,FALSE),+CUM!AI15/+VLOOKUP(AR$1,POSTE!$B:$H,7,FALSE),,CONGÉ!$C$2:$C$80)) -> 45796 | AS16: =+IF(Q16=0," ",+WORKDAY.INTL(+VLOOKUP(AS$1,POSTE!$B:$G,3,FALSE),+CUM!AA16/+VLOOKUP(AS$1,POSTE!$B:$H,7,FALSE),,CONGÉ!$C$2:$C$80)) | AT16: =+IF(R16=0," ",+WORKDAY.INTL(+VLOOKUP(AT$1,POSTE!$B:$G,3,FALSE),+CUM!AB16/+VLOOKUP(AT$1,POSTE!$B:$H,7,FALSE),,CONGÉ!$C$2:$C$80)) -> 45796 | AU16: =+IF(AND(S16=0,T16=0)," ",+WORKDAY.INTL(+VLOOKUP($AS$1,POSTE!B:J,3,FALSE),+(((AC16*POSTE!$H$5)+(CUM!AD16*POSTE!$H$4))/(POSTE!$H$4*POSTE!$H$5*2)),,CONGÉ!$C$2:$C$80)) -> 45778 | AV16: =+IF(U16=0," ",+WORKDAY.INTL(+VLOOKUP(AV$1,POSTE!$B:$G,3,FALSE),+CUM!AE16/+VLOOKUP(AV$1,POSTE!$B:$H,7,FALSE),,CONGÉ!$C$2:$C$80)) -> 45786 | AW16: =+IF(V16=0," ",+WORKDAY.INTL(+VLOOKUP(AW$1,POSTE!$B:$G,3,FALSE),+CUM!AF16/+VLOOKUP(AW$1,POSTE!$B:$H,7,FALSE),,CONGÉ!$C$2:$C$80)) | AX16: =+IF(W16=0," ",+WORKDAY.INTL(+VLOOKUP(AX$1,POSTE!$B:$G,3,FALSE),+CUM!AG16/+VLOOKUP(AX$1,POSTE!$B:$H,7,FALSE),,CONGÉ!$C$2:$C$80)) | AY16: =+IF(X16=0," ",+WORKDAY.INTL(+VLOOKUP(AY$1,POSTE!$B:$G,3,FALSE),+CUM!AH16/+VLOOKUP(AY$1,POSTE!$B:$H,7,FALSE),,CONGÉ!$C$2:$C$80)) -> 45763 | AZ16: =+IF(Y16=0," ",+WORKDAY.INTL(+VLOOKUP(AZ$1,POSTE!$B:$G,3,FALSE),+CUM!AI16/+VLOOKUP(AZ$1,POSTE!$B:$H,7,FALSE),,CONGÉ!$C$2:$C$80)) -> 45797 | BA16: =+IF(S16=0," ",+WORKDAY.INTL(+VLOOKUP(BA$1,POSTE!$B:$G,3,FALSE),+CUM!AC16/+VLOOKUP(BA$1,POSTE!$B:$H,7,FALSE),,CONGÉ!$C$2:$C$80)) -> 45793 | BB16: =+IF(T16=0," ",+WORKDAY.INTL(+VLOOKUP(BB$1,POSTE!$B:$G,3,FALSE),+CUM!AD16/+VLOOKUP(BB$1,POSTE!$B:$H,7,FALSE),,CONGÉ!$C$2:$C$80)) | BC16: =+IF(+MIN(AJ16:AZ16)>0,+MIN(AJ16:AZ16)," ") -> 45762 | BD16: =+IF(+MAX(AS16:AZ16)>0,+MAX(AS16:AZ16)," ") -> 45797 | BE16: =+IF($F16="oui",+VLOOKUP($A16,DATA!$A:$AH,DATA!$AH$3,FALSE),0) -> 0 | BF16: =+BF15+BE16 -> 614.66667 | BG16: =+IF(BE16>0,+MAX((BH$4:BH15),BD16),"") | BH16: =+IF(BE16>0,+MAX((BH$4:BH15),+WORKDAY.INTL(BG16,+BE16/8,,CONGÉ!$C$2:$C$73)),"") | BI16: =+IF(BE16=0,+IFERROR(+EDATE(BD16,1)," "),+EDATE(BH16,1)) -> 45828 | BJ16: =+AC16+AD16 -> 224157 | BK16: =+TODAY() -> 45754 | BL16: =+(((AC16*POSTE!$H$5)+(CUM!AD16*POSTE!$H$4))/(POSTE!$H$4*POSTE!$H$5*2)) -> 18.506198 | BM16: =+WORKDAY.INTL(BK16,BL16,,CONGÉ!C$4:C$72) -> 45778 | BN16: =+AU16-BM16 -> 0
... A26: =+ROW()-ROW($A$4) -> 22 | B26: {=_xlfn.LET(_xlpm.CORR,IF(DATA!$B$4:$B$104="",IF(DATA!$A$4:$A$104="","--",DATA!$A$4:$A$104),DATA!$B$4:$B$104),_xlpm.Rx,SMALL(_xlpm.CORR,A26),IFERROR(MATCH(_xlpm.Rx,_xlpm.CORR,0),0))} -> 0 | C26: {=IF($B26=0,"",INDEX(Données,$B26,C$3))} | D26: {=IF($B26=0,"",INDEX(Données,$B26,D$3))} | E26: {=IF($B26=0,"",INDEX(Données,$B26,E$3))} | F26: {=IF($B26=0,"",INDEX(Données,$B26,F$3))} | G26: =+IF($F26="oui",+VLOOKUP($A26,DATA!$A:$AG,DATA!$P$3,FALSE),0) -> 0 | H26: =+IF($F26="oui",+VLOOKUP($A26,DATA!$A:$AG,DATA!$R$3,FALSE),0) -> 0 | I26: =+IF($F26="oui",+VLOOKUP($A26,DATA!$A:$AG,DATA!$T$3,FALSE),0) -> 0 | J26: =+IF($F26="oui",+VLOOKUP($A26,DATA!$A:$AG,DATA!$V$3,FALSE),0) -> 0 | K26: =+IF($F26="oui",+VLOOKUP($A26,DATA!$A:$AG,DATA!$X$3,FALSE),0) -> 0 | L26: =+IF($F26="oui",+VLOOKUP($A26,DATA!$A:$AG,DATA!$Z$3,FALSE),0) -> 0 | M26: =+IF($F26="oui",+VLOOKUP($A26,DATA!$A:$AG,DATA!$AB$3,FALSE),0) -> 0 | N26: =+IF($F26="oui",+VLOOKUP($A26,DATA!$A:$AG,DATA!$AD$3,FALSE),0) -> 0 | O26: =+IF($F26="oui",+VLOOKUP($A26,DATA!$A:$AG,DATA!$AF$3,FALSE),0) -> 0 | P26: =SUM(G26:O26) -> 0 | Q26: =+IF($F26="oui",+VLOOKUP($A26,DATA!$A:$AG,DATA!$Q$3,FALSE),0) -> 0 | R26: =+IF($F26="oui",+VLOOKUP($A26,DATA!$A:$AG,DATA!$S$3,FALSE),0) -> 0 | S26: =+IF($F26="oui",+VLOOKUP($A26,DATA!$A:$AG,DATA!$U$3,FALSE),0) -> 0 | T26: =+IF($F26="oui",+VLOOKUP($A26,DATA!$A:$AG,DATA!$W$3,FALSE),0) -> 0 | U26: =+IF($F26="oui",+VLOOKUP($A26,DATA!$A:$AG,DATA!$Y$3,FALSE),0) -> 0 | V26: =+IF($F26="oui",+VLOOKUP($A26,DATA!$A:$AG,DATA!$AA$3,FALSE),0) -> 0 | W26: =+IF($F26="oui",+VLOOKUP($A26,DATA!$A:$AG,DATA!$AC$3,FALSE),0) -> 0 | X26: =+IF($F26="oui",+VLOOKUP($A26,DATA!$A:$AG,DATA!$AE$3,FALSE),0) -> 0 | Y26: =+IF($F26="oui",+VLOOKUP($A26,DATA!$A:$AG,DATA!$AG$3,FALSE),0) -> 0 | Z26: =SUM(Q26:Y26) -> 0 | AA26: =+AA25+Q26 -> 48445 | AB26: =+AB25+R26 -> 216477 | AC26: =+AC25+S26 -> 185990 | AD26: =+AD25+T26 -> 38167 | AE26: =+AE25+U26 -> 38898 | AF26: =+AF25+V26 -> 25684 | AG26: =+AG25+W26 -> 0 | AH26: =+AH25+X26 -> 14613 | AI26: =+AI25+Y26 -> 1489 | AJ26: =+IF(Q26=0," ",+WORKDAY.INTL(+VLOOKUP(AJ$1,POSTE!$B:$G,3,FALSE),+CUM!AA25/+VLOOKUP(AJ$1,POSTE!$B:$H,7,FALSE),,CONGÉ!$C$2:$C$80)) | AK26: =+IF(R26=0," ",+WORKDAY.INTL(+VLOOKUP(AK$1,POSTE!$B:$G,3,FALSE),+CUM!AB25/+VLOOKUP(AK$1,POSTE!$B:$H,7,FALSE),,CONGÉ!$C$2:$C$80)) | AL26: =+IF(S26=0," ",+WORKDAY.INTL(+VLOOKUP(AL$1,POSTE!$B:$G,3,FALSE),+CUM!AC25/+VLOOKUP(AL$1,POSTE!$B:$H,7,FALSE),,CONGÉ!$C$2:$C$80)) | AM26: =+IF(T26=0," ",+WORKDAY.INTL(+VLOOKUP(AM$1,POSTE!$B:$G,3,FALSE),+CUM!AD25/+VLOOKUP(AM$1,POSTE!$B:$H,7,FALSE),,CONGÉ!$C$2:$C$80)) | AN26: =+IF(U26=0," ",+WORKDAY.INTL(+VLOOKUP(AN$1,POSTE!$B:$G,3,FALSE),+CUM!AE25/+VLOOKUP(AN$1,POSTE!$B:$H,7,FALSE),,CONGÉ!$C$2:$C$80)) | AO26: =+IF(V26=0," ",+WORKDAY.INTL(+VLOOKUP(AO$1,POSTE!$B:$G,3,FALSE),+CUM!AF25/+VLOOKUP(AO$1,POSTE!$B:$H,7,FALSE),,CONGÉ!$C$2:$C$80)) | AP26: =+IF(W26=0," ",+WORKDAY.INTL(+VLOOKUP(AP$1,POSTE!$B:$G,3,FALSE),+CUM!AG25/+VLOOKUP(AP$1,POSTE!$B:$H,7,FALSE),,CONGÉ!$C$2:$C$80)) | AQ26: =+IF(X26=0," ",+WORKDAY.INTL(+VLOOKUP(AQ$1,POSTE!$B:$G,3,FALSE),+CUM!AH25/+VLOOKUP(AQ$1,POSTE!$B:$H,7,FALSE),,CONGÉ!$C$2:$C$80)) | AR26: =+IF(Y26=0," ",+WORKDAY.INTL(+VLOOKUP(AR$1,POSTE!$B:$G,3,FALSE),+CUM!AI25/+VLOOKUP(AR$1,POSTE!$B:$H,7,FALSE),,CONGÉ!$C$2:$C$80)) | AS26: =+IF(Q26=0," ",+WORKDAY.INTL(+VLOOKUP(AS$1,POSTE!$B:$G,3,FALSE),+CUM!AA26/+VLOOKUP(AS$1,POSTE!$B:$H,7,FALSE),,CONGÉ!$C$2:$C$80)) | AT26: =+IF(R26=0," ",+WORKDAY.INTL(+VLOOKUP(AT$1,POSTE!$B:$G,3,FALSE),+CUM!AB26/+VLOOKUP(AT$1,POSTE!$B:$H,7,FALSE),,CONGÉ!$C$2:$C$80)) | AU26: =+IF(AND(S26=0,T26=0)," ",+WORKDAY.INTL(+VLOOKUP($AS$1,POSTE!B:J,3,FALSE),+(((AC26*POSTE!$H$5)+(CUM!AD26*POSTE!$H$4))/(POSTE!$H$4*POSTE!$H$5*2)),,CONGÉ!$C$2:$C$80)) | AV26: =+IF(U26=0," ",+WORKDAY.INTL(+VLOOKUP(AV$1,POSTE!$B:$G,3,FALSE),+CUM!AE26/+VLOOKUP(AV$1,POSTE!$B:$H,7,FALSE),,CONGÉ!$C$2:$C$80)) | AW26: =+IF(V26=0," ",+WORKDAY.INTL(+VLOOKUP(AW$1,POSTE!$B:$G,3,FALSE),+CUM!AF26/+VLOOKUP(AW$1,POSTE!$B:$H,7,FALSE),,CONGÉ!$C$2:$C$80)) | AX26: =+IF(W26=0," ",+WORKDAY.INTL(+VLOOKUP(AX$1,POSTE!$B:$G,3,FALSE),+CUM!AG26/+VLOOKUP(AX$1,POSTE!$B:$H,7,FALSE),,CONGÉ!$C$2:$C$80)) | AY26: =+IF(X26=0," ",+WORKDAY.INTL(+VLOOKUP(AY$1,POSTE!$B:$G,3,FALSE),+CUM!AH26/+VLOOKUP(AY$1,POSTE!$B:$H,7,FALSE),,CONGÉ!$C$2:$C$80)) | AZ26: =+IF(Y26=0," ",+WORKDAY.INTL(+VLOOKUP(AZ$1,POSTE!$B:$G,3,FALSE),+CUM!AI26/+VLOOKUP(AZ$1,POSTE!$B:$H,7,FALSE),,CONGÉ!$C$2:$C$80)) | BA26: =+IF(S26=0," ",+WORKDAY.INTL(+VLOOKUP(BA$1,POSTE!$B:$G,3,FALSE),+CUM!AC26/+VLOOKUP(BA$1,POSTE!$B:$H,7,FALSE),,CONGÉ!$C$2:$C$80)) | BB26: =+IF(T26=0," ",+WORKDAY.INTL(+VLOOKUP(BB$1,POSTE!$B:$G,3,FALSE),+CUM!AD26/+VLOOKUP(BB$1,POSTE!$B:$H,7,FALSE),,CONGÉ!$C$2:$C$80)) | BC26: =+IF(+MIN(AJ26:AZ26)>0,+MIN(AJ26:AZ26)," ") | BD26: =+IF(+MAX(AS26:AZ26)>0,+MAX(AS26:AZ26)," ") | BE26: =+IF($F26="oui",+VLOOKUP($A26,DATA!$A:$AH,DATA!$AH$3,FALSE),0) -> 0 | BF26: =+BF25+BE26 -> 614.66667 | BG26: =+IF(BE26>0,+MAX((BH$4:BH25),BD26),"") | BH26: =+IF(BE26>0,+MAX((BH$4:BH25),+WORKDAY.INTL(BG26,+BE26/8,,CONGÉ!$C$2:$C$73)),"") | BI26: =+IF(BE26=0,+IFERROR(+EDATE(BD26,1)," "),+EDATE(BH26,1)) | BJ26: =+AC26+AD26 -> 224157 | BK26: =+TODAY() -> 45754 | BL26: =+(((AC26*POSTE!$H$5)+(CUM!AD26*POSTE!$H$4))/(POSTE!$H$4*POSTE!$H$5*2)) -> 18.506198 | BM26: =+WORKDAY.INTL(BK26,BL26,,CONGÉ!C$4:C$72) -> 45778 | BN26: =+AU26-BM26 -> #VALUE!
A27: =+ROW()-ROW($A$4) -> 23 | B27: {=_xlfn.LET(_xlpm.CORR,IF(DATA!$B$4:$B$104="",IF(DATA!$A$4:$A$104="","--",DATA!$A$4:$A$104),DATA!$B$4:$B$104),_xlpm.Rx,SMALL(_xlpm.CORR,A27),IFERROR(MATCH(_xlpm.Rx,_xlpm.CORR,0),0))} -> 0 | C27: =+VLOOKUP($A27,DATA!$A:$AG,DATA!$E$3,FALSE) -> #N/A | D27: =+VLOOKUP($A27,DATA!$A:$AG,DATA!$D$3,FALSE) -> #N/A | E27: =+VLOOKUP($A27,DATA!$A:$AG,DATA!$G$3,FALSE) -> #N/A | F27: =+VLOOKUP($A27,DATA!$A:$AG,DATA!$O$3,FALSE) -> #N/A | G27: =+IF($F27="oui",+VLOOKUP($A27,DATA!$A:$AG,DATA!$P$3,FALSE),0) -> #N/A | H27: =+IF($F27="oui",+VLOOKUP($A27,DATA!$A:$AG,DATA!$R$3,FALSE),0) -> #N/A | I27: =+IF($F27="oui",+VLOOKUP($A27,DATA!$A:$AG,DATA!$T$3,FALSE),0) -> #N/A | J27: =+IF($F27="oui",+VLOOKUP($A27,DATA!$A:$AG,DATA!$V$3,FALSE),0) -> #N/A | K27: =+IF($F27="oui",+VLOOKUP($A27,DATA!$A:$AG,DATA!$X$3,FALSE),0) -> #N/A | L27: =+IF($F27="oui",+VLOOKUP($A27,DATA!$A:$AG,DATA!$Z$3,FALSE),0) -> #N/A | M27: =+IF($F27="oui",+VLOOKUP($A27,DATA!$A:$AG,DATA!$AB$3,FALSE),0) -> #N/A | N27: =+IF($F27="oui",+VLOOKUP($A27,DATA!$A:$AG,DATA!$AD$3,FALSE),0) -> #N/A | O27: =+IF($F27="oui",+VLOOKUP($A27,DATA!$A:$AG,DATA!$AF$3,FALSE),0) -> #N/A | P27: =SUM(G27:O27) -> #N/A | Q27: =+IF($F27="oui",+VLOOKUP($A27,DATA!$A:$AG,DATA!$Q$3,FALSE),0) -> #N/A | R27: =+IF($F27="oui",+VLOOKUP($A27,DATA!$A:$AG,DATA!$S$3,FALSE),0) -> #N/A | S27: =+IF($F27="oui",+VLOOKUP($A27,DATA!$A:$AG,DATA!$U$3,FALSE),0) -> #N/A | T27: =+IF($F27="oui",+VLOOKUP($A27,DATA!$A:$AG,DATA!$W$3,FALSE),0) -> #N/A | U27: =+IF($F27="oui",+VLOOKUP($A27,DATA!$A:$AG,DATA!$Y$3,FALSE),0) -> #N/A | V27: =+IF($F27="oui",+VLOOKUP($A27,DATA!$A:$AG,DATA!$AA$3,FALSE),0) -> #N/A | W27: =+IF($F27="oui",+VLOOKUP($A27,DATA!$A:$AG,DATA!$AC$3,FALSE),0) -> #N/A | X27: =+IF($F27="oui",+VLOOKUP($A27,DATA!$A:$AG,DATA!$AE$3,FALSE),0) -> #N/A | Y27: =+IF($F27="oui",+VLOOKUP($A27,DATA!$A:$AG,DATA!$AG$3,FALSE),0) -> #N/A | Z27: =SUM(Q27:Y27) -> #N/A | AA27: =+AA26+Q27 -> #N/A | AB27: =+AB26+R27 -> #N/A | AC27: =+AC26+S27 -> #N/A | AD27: =+AD26+T27 -> #N/A | AE27: =+AE26+U27 -> #N/A | AF27: =+AF26+V27 -> #N/A | AG27: =+AG26+W27 -> #N/A | AH27: =+AH26+X27 -> #N/A | AI27: =+AI26+Y27 -> #N/A | AJ27: =+IF(Q27=0," ",+WORKDAY.INTL(+VLOOKUP(AJ$1,POSTE!$B:$G,3,FALSE),+CUM!AA26/+VLOOKUP(AJ$1,POSTE!$B:$H,7,FALSE),,CONGÉ!$C$2:$C$80)) -> #N/A | AK27: =+IF(R27=0," ",+WORKDAY.INTL(+VLOOKUP(AK$1,POSTE!$B:$G,3,FALSE),+CUM!AB26/+VLOOKUP(AK$1,POSTE!$B:$H,7,FALSE),,CONGÉ!$C$2:$C$80)) -> #N/A | AL27: =+IF(S27=0," ",+WORKDAY.INTL(+VLOOKUP(AL$1,POSTE!$B:$G,3,FALSE),+CUM!AC26/+VLOOKUP(AL$1,POSTE!$B:$H,7,FALSE),,CONGÉ!$C$2:$C$80)) -> #N/A | AM27: =+IF(T27=0," ",+WORKDAY.INTL(+VLOOKUP(AM$1,POSTE!$B:$G,3,FALSE),+CUM!AD26/+VLOOKUP(AM$1,POSTE!$B:$H,7,FALSE),,CONGÉ!$C$2:$C$80)) -> #N/A | AN27: =+IF(U27=0," ",+WORKDAY.INTL(+VLOOKUP(AN$1,POSTE!$B:$G,3,FALSE),+CUM!AE26/+VLOOKUP(AN$1,POSTE!$B:$H,7,FALSE),,CONGÉ!$C$2:$C$80)) -> #N/A | AO27: =+IF(V27=0," ",+WORKDAY.INTL(+VLOOKUP(AO$1,POSTE!$B:$G,3,FALSE),+CUM!AF26/+VLOOKUP(AO$1,POSTE!$B:$H,7,FALSE),,CONGÉ!$C$2:$C$80)) -> #N/A | AP27: =+IF(W27=0," ",+WORKDAY.INTL(+VLOOKUP(AP$1,POSTE!$B:$G,3,FALSE),+CUM!AG26/+VLOOKUP(AP$1,POSTE!$B:$H,7,FALSE),,CONGÉ!$C$2:$C$80)) -> #N/A | AQ27: =+IF(X27=0," ",+WORKDAY.INTL(+VLOOKUP(AQ$1,POSTE!$B:$G,3,FALSE),+CUM!AH26/+VLOOKUP(AQ$1,POSTE!$B:$H,7,FALSE),,CONGÉ!$C$2:$C$80)) -> #N/A | AR27: =+IF(Y27=0," ",+WORKDAY.INTL(+VLOOKUP(AR$1,POSTE!$B:$G,3,FALSE),+CUM!AI26/+VLOOKUP(AR$1,POSTE!$B:$H,7,FALSE),,CONGÉ!$C$2:$C$80)) -> #N/A | AS27: =+IF(Q27=0," ",+WORKDAY.INTL(+VLOOKUP(AS$1,POSTE!$B:$G,3,FALSE),+CUM!AA27/+VLOOKUP(AS$1,POSTE!$B:$H,7,FALSE),,CONGÉ!$C$2:$C$80)) -> #N/A | AT27: =+IF(R27=0," ",+WORKDAY.INTL(+VLOOKUP(AT$1,POSTE!$B:$G,3,FALSE),+CUM!AB27/+VLOOKUP(AT$1,POSTE!$B:$H,7,FALSE),,CONGÉ!$C$2:$C$80)) -> #N/A | AU27: =+IF(AND(S27=0,T27=0)," ",+WORKDAY.INTL(+VLOOKUP($AS$1,POSTE!B:J,3,FALSE),+(((AC27*POSTE!$H$5)+(CUM!AD27*POSTE!$H$4))/(POSTE!$H$4*POSTE!$H$5*2)),,CONGÉ!$C$2:$C$80)) -> #N/A | AV27: =+IF(U27=0," ",+WORKDAY.INTL(+VLOOKUP(AV$1,POSTE!$B:$G,3,FALSE),+CUM!AE27/+VLOOKUP(AV$1,POSTE!$B:$H,7,FALSE),,CONGÉ!$C$2:$C$80)) -> #N/A | AW27: =+IF(V27=0," ",+WORKDAY.INTL(+VLOOKUP(AW$1,POSTE!$B:$G,3,FALSE),+CUM!AF27/+VLOOKUP(AW$1,POSTE!$B:$H,7,FALSE),,CONGÉ!$C$2:$C$80)) -> #N/A | AX27: =+IF(W27=0," ",+WORKDAY.INTL(+VLOOKUP(AX$1,POSTE!$B:$G,3,FALSE),+CUM!AG27/+VLOOKUP(AX$1,POSTE!$B:$H,7,FALSE),,CONGÉ!$C$2:$C$80)) -> #N/A | AY27: =+IF(X27=0," ",+WORKDAY.INTL(+VLOOKUP(AY$1,POSTE!$B:$G,3,FALSE),+CUM!AH27/+VLOOKUP(AY$1,POSTE!$B:$H,7,FALSE),,CONGÉ!$C$2:$C$80)) -> #N/A | AZ27: =+IF(Y27=0," ",+WORKDAY.INTL(+VLOOKUP(AZ$1,POSTE!$B:$G,3,FALSE),+CUM!AI27/+VLOOKUP(AZ$1,POSTE!$B:$H,7,FALSE),,CONGÉ!$C$2:$C$80)) -> #N/A | BA27: =+IF(S27=0," ",+WORKDAY.INTL(+VLOOKUP(BA$1,POSTE!$B:$G,3,FALSE),+CUM!AC27/+VLOOKUP(BA$1,POSTE!$B:$H,7,FALSE),,CONGÉ!$C$2:$C$80)) -> #N/A | BB27: =+IF(T27=0," ",+WORKDAY.INTL(+VLOOKUP(BB$1,POSTE!$B:$G,3,FALSE),+CUM!AD27/+VLOOKUP(BB$1,POSTE!$B:$H,7,FALSE),,CONGÉ!$C$2:$C$80)) -> #N/A | BC27: =+IF(+MIN(AJ27:AZ27)>0,+MIN(AJ27:AZ27)," ") -> #N/A | BD27: =+IF(+MAX(AS27:AZ27)>0,+MAX(AS27:AZ27)," ") -> #N/A | BE27: =+IF($F27="oui",+VLOOKUP($A27,DATA!$A:$AH,DATA!$AH$3,FALSE),0) -> #N/A | BF27: =+BF26+BE27 -> #N/A | BG27: =+IF(BE27>0,+MAX((BH$4:BH26),BD27),"") -> #N/A | BH27: =+IF(BE27>0,+MAX((BH$4:BH26),+WORKDAY.INTL(BG27,+BE27/8,,CONGÉ!$C$2:$C$73)),"") -> #N/A | BI27: =+IF(BE27=0,+IFERROR(+EDATE(BD27,1)," "),+EDATE(BH27,1)) -> #N/A | BJ27: =+AC27+AD27 -> #N/A | BK27: =+TODAY() -> 45754 | BL27: =+(((AC27*POSTE!$H$5)+(CUM!AD27*POSTE!$H$4))/(POSTE!$H$4*POSTE!$H$5*2)) -> #N/A | BM27: =+WORKDAY.INTL(BK27,BL27,,CONGÉ!C$4:C$72) -> #N/A | BN27: =+AU27-BM27 -> #N/A
A28: =+ROW()-ROW($A$4) -> 24 | B28: {=_xlfn.LET(_xlpm.CORR,IF(DATA!$B$4:$B$104="",IF(DATA!$A$4:$A$104="","--",DATA!$A$4:$A$104),DATA!$B$4:$B$104),_xlpm.Rx,SMALL(_xlpm.CORR,A28),IFERROR(MATCH(_xlpm.Rx,_xlpm.CORR,0),0))} -> 0 | C28: =+VLOOKUP($A28,DATA!$A:$AG,DATA!$E$3,FALSE) -> #N/A | D28: =+VLOOKUP($A28,DATA!$A:$AG,DATA!$D$3,FALSE) -> #N/A | E28: =+VLOOKUP($A28,DATA!$A:$AG,DATA!$G$3,FALSE) -> #N/A | F28: =+VLOOKUP($A28,DATA!$A:$AG,DATA!$O$3,FALSE) -> #N/A | G28: =+IF($F28="oui",+VLOOKUP($A28,DATA!$A:$AG,DATA!$P$3,FALSE),0) -> #N/A | H28: =+IF($F28="oui",+VLOOKUP($A28,DATA!$A:$AG,DATA!$R$3,FALSE),0) -> #N/A | I28: =+IF($F28="oui",+VLOOKUP($A28,DATA!$A:$AG,DATA!$T$3,FALSE),0) -> #N/A | J28: =+IF($F28="oui",+VLOOKUP($A28,DATA!$A:$AG,DATA!$V$3,FALSE),0) -> #N/A | K28: =+IF($F28="oui",+VLOOKUP($A28,DATA!$A:$AG,DATA!$X$3,FALSE),0) -> #N/A | L28: =+IF($F28="oui",+VLOOKUP($A28,DATA!$A:$AG,DATA!$Z$3,FALSE),0) -> #N/A | M28: =+IF($F28="oui",+VLOOKUP($A28,DATA!$A:$AG,DATA!$AB$3,FALSE),0) -> #N/A | N28: =+IF($F28="oui",+VLOOKUP($A28,DATA!$A:$AG,DATA!$AD$3,FALSE),0) -> #N/A | O28: =+IF($F28="oui",+VLOOKUP($A28,DATA!$A:$AG,DATA!$AF$3,FALSE),0) -> #N/A | P28: =SUM(G28:O28) -> #N/A | Q28: =+IF($F28="oui",+VLOOKUP($A28,DATA!$A:$AG,DATA!$Q$3,FALSE),0) -> #N/A | R28: =+IF($F28="oui",+VLOOKUP($A28,DATA!$A:$AG,DATA!$S$3,FALSE),0) -> #N/A | S28: =+IF($F28="oui",+VLOOKUP($A28,DATA!$A:$AG,DATA!$U$3,FALSE),0) -> #N/A | T28: =+IF($F28="oui",+VLOOKUP($A28,DATA!$A:$AG,DATA!$W$3,FALSE),0) -> #N/A | U28: =+IF($F28="oui",+VLOOKUP($A28,DATA!$A:$AG,DATA!$Y$3,FALSE),0) -> #N/A | V28: =+IF($F28="oui",+VLOOKUP($A28,DATA!$A:$AG,DATA!$AA$3,FALSE),0) -> #N/A | W28: =+IF($F28="oui",+VLOOKUP($A28,DATA!$A:$AG,DATA!$AC$3,FALSE),0) -> #N/A | X28: =+IF($F28="oui",+VLOOKUP($A28,DATA!$A:$AG,DATA!$AE$3,FALSE),0) -> #N/A | Y28: =+IF($F28="oui",+VLOOKUP($A28,DATA!$A:$AG,DATA!$AG$3,FALSE),0) -> #N/A | Z28: =SUM(Q28:Y28) -> #N/A | AA28: =+AA27+Q28 -> #N/A | AB28: =+AB27+R28 -> #N/A | AC28: =+AC27+S28 -> #N/A | AD28: =+AD27+T28 -> #N/A | AE28: =+AE27+U28 -> #N/A | AF28: =+AF27+V28 -> #N/A | AG28: =+AG27+W28 -> #N/A | AH28: =+AH27+X28 -> #N/A | AI28: =+AI27+Y28 -> #N/A | AJ28: =+IF(Q28=0," ",+WORKDAY.INTL(+VLOOKUP(AJ$1,POSTE!$B:$G,3,FALSE),+CUM!AA27/+VLOOKUP(AJ$1,POSTE!$B:$H,7,FALSE),,CONGÉ!$C$2:$C$80)) -> #N/A | AK28: =+IF(R28=0," ",+WORKDAY.INTL(+VLOOKUP(AK$1,POSTE!$B:$G,3,FALSE),+CUM!AB27/+VLOOKUP(AK$1,POSTE!$B:$H,7,FALSE),,CONGÉ!$C$2:$C$80)) -> #N/A | AL28: =+IF(S28=0," ",+WORKDAY.INTL(+VLOOKUP(AL$1,POSTE!$B:$G,3,FALSE),+CUM!AC27/+VLOOKUP(AL$1,POSTE!$B:$H,7,FALSE),,CONGÉ!$C$2:$C$80)) -> #N/A | AM28: =+IF(T28=0," ",+WORKDAY.INTL(+VLOOKUP(AM$1,POSTE!$B:$G,3,FALSE),+CUM!AD27/+VLOOKUP(AM$1,POSTE!$B:$H,7,FALSE),,CONGÉ!$C$2:$C$80)) -> #N/A | AN28: =+IF(U28=0," ",+WORKDAY.INTL(+VLOOKUP(AN$1,POSTE!$B:$G,3,FALSE),+CUM!AE27/+VLOOKUP(AN$1,POSTE!$B:$H,7,FALSE),,CONGÉ!$C$2:$C$80)) -> #N/A | AO28: =+IF(V28=0," ",+WORKDAY.INTL(+VLOOKUP(AO$1,POSTE!$B:$G,3,FALSE),+CUM!AF27/+VLOOKUP(AO$1,POSTE!$B:$H,7,FALSE),,CONGÉ!$C$2:$C$80)) -> #N/A | AP28: =+IF(W28=0," ",+WORKDAY.INTL(+VLOOKUP(AP$1,POSTE!$B:$G,3,FALSE),+CUM!AG27/+VLOOKUP(AP$1,POSTE!$B:$H,7,FALSE),,CONGÉ!$C$2:$C$80)) -> #N/A | AQ28: =+IF(X28=0," ",+WORKDAY.INTL(+VLOOKUP(AQ$1,POSTE!$B:$G,3,FALSE),+CUM!AH27/+VLOOKUP(AQ$1,POSTE!$B:$H,7,FALSE),,CONGÉ!$C$2:$C$80)) -> #N/A | AR28: =+IF(Y28=0," ",+WORKDAY.INTL(+VLOOKUP(AR$1,POSTE!$B:$G,3,FALSE),+CUM!AI27/+VLOOKUP(AR$1,POSTE!$B:$H,7,FALSE),,CONGÉ!$C$2:$C$80)) -> #N/A | AS28: =+IF(Q28=0," ",+WORKDAY.INTL(+VLOOKUP(AS$1,POSTE!$B:$G,3,FALSE),+CUM!AA28/+VLOOKUP(AS$1,POSTE!$B:$H,7,FALSE),,CONGÉ!$C$2:$C$80)) -> #N/A | AT28: =+IF(R28=0," ",+WORKDAY.INTL(+VLOOKUP(AT$1,POSTE!$B:$G,3,FALSE),+CUM!AB28/+VLOOKUP(AT$1,POSTE!$B:$H,7,FALSE),,CONGÉ!$C$2:$C$80)) -> #N/A | AU28: =+IF(AND(S28=0,T28=0)," ",+WORKDAY.INTL(+VLOOKUP($AS$1,POSTE!B:J,3,FALSE),+(((AC28*POSTE!$H$5)+(CUM!AD28*POSTE!$H$4))/(POSTE!$H$4*POSTE!$H$5*2)),,CONGÉ!$C$2:$C$80)) -> #N/A | AV28: =+IF(U28=0," ",+WORKDAY.INTL(+VLOOKUP(AV$1,POSTE!$B:$G,3,FALSE),+CUM!AE28/+VLOOKUP(AV$1,POSTE!$B:$H,7,FALSE),,CONGÉ!$C$2:$C$80)) -> #N/A | AW28: =+IF(V28=0," ",+WORKDAY.INTL(+VLOOKUP(AW$1,POSTE!$B:$G,3,FALSE),+CUM!AF28/+VLOOKUP(AW$1,POSTE!$B:$H,7,FALSE),,CONGÉ!$C$2:$C$80)) -> #N/A | AX28: =+IF(W28=0," ",+WORKDAY.INTL(+VLOOKUP(AX$1,POSTE!$B:$G,3,FALSE),+CUM!AG28/+VLOOKUP(AX$1,POSTE!$B:$H,7,FALSE),,CONGÉ!$C$2:$C$80)) -> #N/A | AY28: =+IF(X28=0," ",+WORKDAY.INTL(+VLOOKUP(AY$1,POSTE!$B:$G,3,FALSE),+CUM!AH28/+VLOOKUP(AY$1,POSTE!$B:$H,7,FALSE),,CONGÉ!$C$2:$C$80)) -> #N/A | AZ28: =+IF(Y28=0," ",+WORKDAY.INTL(+VLOOKUP(AZ$1,POSTE!$B:$G,3,FALSE),+CUM!AI28/+VLOOKUP(AZ$1,POSTE!$B:$H,7,FALSE),,CONGÉ!$C$2:$C$80)) -> #N/A | BA28: =+IF(S28=0," ",+WORKDAY.INTL(+VLOOKUP(BA$1,POSTE!$B:$G,3,FALSE),+CUM!AC28/+VLOOKUP(BA$1,POSTE!$B:$H,7,FALSE),,CONGÉ!$C$2:$C$80)) -> #N/A | BB28: =+IF(T28=0," ",+WORKDAY.INTL(+VLOOKUP(BB$1,POSTE!$B:$G,3,FALSE),+CUM!AD28/+VLOOKUP(BB$1,POSTE!$B:$H,7,FALSE),,CONGÉ!$C$2:$C$80)) -> #N/A | BC28: =+IF(+MIN(AJ28:AZ28)>0,+MIN(AJ28:AZ28)," ") -> #N/A | BD28: =+IF(+MAX(AS28:AZ28)>0,+MAX(AS28:AZ28)," ") -> #N/A | BE28: =+IF($F28="oui",+VLOOKUP($A28,DATA!$A:$AH,DATA!$AH$3,FALSE),0) -> #N/A | BF28: =+BF27+BE28 -> #N/A | BG28: =+IF(BE28>0,+MAX((BH$4:BH27),BD28),"") -> #N/A | BH28: =+IF(BE28>0,+MAX((BH$4:BH27),+WORKDAY.INTL(BG28,+BE28/8,,CONGÉ!$C$2:$C$73)),"") -> #N/A | BI28: =+IF(BE28=0,+IFERROR(+EDATE(BD28,1)," "),+EDATE(BH28,1)) -> #N/A | BJ28: =+AC28+AD28 -> #N/A | BK28: =+TODAY() -> 45754 | BL28: =+(((AC28*POSTE!$H$5)+(CUM!AD28*POSTE!$H$4))/(POSTE!$H$4*POSTE!$H$5*2)) -> #N/A | BM28: =+WORKDAY.INTL(BK28,BL28,,CONGÉ!C$4:C$72) -> #N/A | BN28: =+AU28-BM28 -> #N/A
A29: =+ROW()-ROW($A$4) -> 25 | B29: {=_xlfn.LET(_xlpm.CORR,IF(DATA!$B$4:$B$104="",IF(DATA!$A$4:$A$104="","--",DATA!$A$4:$A$104),DATA!$B$4:$B$104),_xlpm.Rx,SMALL(_xlpm.CORR,A29),IFERROR(MATCH(_xlpm.Rx,_xlpm.CORR,0),0))} -> 0 | C29: =+VLOOKUP($A29,DATA!$A:$AG,DATA!$E$3,FALSE) -> #N/A | D29: =+VLOOKUP($A29,DATA!$A:$AG,DATA!$D$3,FALSE) -> #N/A | E29: =+VLOOKUP($A29,DATA!$A:$AG,DATA!$G$3,FALSE) -> #N/A | F29: =+VLOOKUP($A29,DATA!$A:$AG,DATA!$O$3,FALSE) -> #N/A | G29: =+IF($F29="oui",+VLOOKUP($A29,DATA!$A:$AG,DATA!$P$3,FALSE),0) -> #N/A | H29: =+IF($F29="oui",+VLOOKUP($A29,DATA!$A:$AG,DATA!$R$3,FALSE),0) -> #N/A | I29: =+IF($F29="oui",+VLOOKUP($A29,DATA!$A:$AG,DATA!$T$3,FALSE),0) -> #N/A | J29: =+IF($F29="oui",+VLOOKUP($A29,DATA!$A:$AG,DATA!$V$3,FALSE),0) -> #N/A | K29: =+IF($F29="oui",+VLOOKUP($A29,DATA!$A:$AG,DATA!$X$3,FALSE),0) -> #N/A | L29: =+IF($F29="oui",+VLOOKUP($A29,DATA!$A:$AG,DATA!$Z$3,FALSE),0) -> #N/A | M29: =+IF($F29="oui",+VLOOKUP($A29,DATA!$A:$AG,DATA!$AB$3,FALSE),0) -> #N/A | N29: =+IF($F29="oui",+VLOOKUP($A29,DATA!$A:$AG,DATA!$AD$3,FALSE),0) -> #N/A | O29: =+IF($F29="oui",+VLOOKUP($A29,DATA!$A:$AG,DATA!$AF$3,FALSE),0) -> #N/A | P29: =SUM(G29:O29) -> #N/A | Q29: =+IF($F29="oui",+VLOOKUP($A29,DATA!$A:$AG,DATA!$Q$3,FALSE),0) -> #N/A | R29: =+IF($F29="oui",+VLOOKUP($A29,DATA!$A:$AG,DATA!$S$3,FALSE),0) -> #N/A | S29: =+IF($F29="oui",+VLOOKUP($A29,DATA!$A:$AG,DATA!$U$3,FALSE),0) -> #N/A | T29: =+IF($F29="oui",+VLOOKUP($A29,DATA!$A:$AG,DATA!$W$3,FALSE),0) -> #N/A | U29: =+IF($F29="oui",+VLOOKUP($A29,DATA!$A:$AG,DATA!$Y$3,FALSE),0) -> #N/A | V29: =+IF($F29="oui",+VLOOKUP($A29,DATA!$A:$AG,DATA!$AA$3,FALSE),0) -> #N/A | W29: =+IF($F29="oui",+VLOOKUP($A29,DATA!$A:$AG,DATA!$AC$3,FALSE),0) -> #N/A | X29: =+IF($F29="oui",+VLOOKUP($A29,DATA!$A:$AG,DATA!$AE$3,FALSE),0) -> #N/A | Y29: =+IF($F29="oui",+VLOOKUP($A29,DATA!$A:$AG,DATA!$AG$3,FALSE),0) -> #N/A | Z29: =SUM(Q29:Y29) -> #N/A | AA29: =+AA28+Q29 -> #N/A | AB29: =+AB28+R29 -> #N/A | AC29: =+AC28+S29 -> #N/A | AD29: =+AD28+T29 -> #N/A | AE29: =+AE28+U29 -> #N/A | AF29: =+AF28+V29 -> #N/A | AG29: =+AG28+W29 -> #N/A | AH29: =+AH28+X29 -> #N/A | AI29: =+AI28+Y29 -> #N/A | AJ29: =+IF(Q29=0," ",+WORKDAY.INTL(+VLOOKUP(AJ$1,POSTE!$B:$G,3,FALSE),+CUM!AA28/+VLOOKUP(AJ$1,POSTE!$B:$H,7,FALSE),,CONGÉ!$C$2:$C$80)) -> #N/A | AK29: =+IF(R29=0," ",+WORKDAY.INTL(+VLOOKUP(AK$1,POSTE!$B:$G,3,FALSE),+CUM!AB28/+VLOOKUP(AK$1,POSTE!$B:$H,7,FALSE),,CONGÉ!$C$2:$C$80)) -> #N/A | AL29: =+IF(S29=0," ",+WORKDAY.INTL(+VLOOKUP(AL$1,POSTE!$B:$G,3,FALSE),+CUM!AC28/+VLOOKUP(AL$1,POSTE!$B:$H,7,FALSE),,CONGÉ!$C$2:$C$80)) -> #N/A | AM29: =+IF(T29=0," ",+WORKDAY.INTL(+VLOOKUP(AM$1,POSTE!$B:$G,3,FALSE),+CUM!AD28/+VLOOKUP(AM$1,POSTE!$B:$H,7,FALSE),,CONGÉ!$C$2:$C$80)) -> #N/A | AN29: =+IF(U29=0," ",+WORKDAY.INTL(+VLOOKUP(AN$1,POSTE!$B:$G,3,FALSE),+CUM!AE28/+VLOOKUP(AN$1,POSTE!$B:$H,7,FALSE),,CONGÉ!$C$2:$C$80)) -> #N/A | AO29: =+IF(V29=0," ",+WORKDAY.INTL(+VLOOKUP(AO$1,POSTE!$B:$G,3,FALSE),+CUM!AF28/+VLOOKUP(AO$1,POSTE!$B:$H,7,FALSE),,CONGÉ!$C$2:$C$80)) -> #N/A | AP29: =+IF(W29=0," ",+WORKDAY.INTL(+VLOOKUP(AP$1,POSTE!$B:$G,3,FALSE),+CUM!AG28/+VLOOKUP(AP$1,POSTE!$B:$H,7,FALSE),,CONGÉ!$C$2:$C$80)) -> #N/A | AQ29: =+IF(X29=0," ",+WORKDAY.INTL(+VLOOKUP(AQ$1,POSTE!$B:$G,3,FALSE),+CUM!AH28/+VLOOKUP(AQ$1,POSTE!$B:$H,7,FALSE),,CONGÉ!$C$2:$C$80)) -> #N/A | AR29: =+IF(Y29=0," ",+WORKDAY.INTL(+VLOOKUP(AR$1,POSTE!$B:$G,3,FALSE),+CUM!AI28/+VLOOKUP(AR$1,POSTE!$B:$H,7,FALSE),,CONGÉ!$C$2:$C$80)) -> #N/A | AS29: =+IF(Q29=0," ",+WORKDAY.INTL(+VLOOKUP(AS$1,POSTE!$B:$G,3,FALSE),+CUM!AA29/+VLOOKUP(AS$1,POSTE!$B:$H,7,FALSE),,CONGÉ!$C$2:$C$80)) -> #N/A | AT29: =+IF(R29=0," ",+WORKDAY.INTL(+VLOOKUP(AT$1,POSTE!$B:$G,3,FALSE),+CUM!AB29/+VLOOKUP(AT$1,POSTE!$B:$H,7,FALSE),,CONGÉ!$C$2:$C$80)) -> #N/A | AU29: =+IF(AND(S29=0,T29=0)," ",+WORKDAY.INTL(+VLOOKUP($AS$1,POSTE!B:J,3,FALSE),+(((AC29*POSTE!$H$5)+(CUM!AD29*POSTE!$H$4))/(POSTE!$H$4*POSTE!$H$5*2)),,CONGÉ!$C$2:$C$80)) -> #N/A | AV29: =+IF(U29=0," ",+WORKDAY.INTL(+VLOOKUP(AV$1,POSTE!$B:$G,3,FALSE),+CUM!AE29/+VLOOKUP(AV$1,POSTE!$B:$H,7,FALSE),,CONGÉ!$C$2:$C$80)) -> #N/A | AW29: =+IF(V29=0," ",+WORKDAY.INTL(+VLOOKUP(AW$1,POSTE!$B:$G,3,FALSE),+CUM!AF29/+VLOOKUP(AW$1,POSTE!$B:$H,7,FALSE),,CONGÉ!$C$2:$C$80)) -> #N/A | AX29: =+IF(W29=0," ",+WORKDAY.INTL(+VLOOKUP(AX$1,POSTE!$B:$G,3,FALSE),+CUM!AG29/+VLOOKUP(AX$1,POSTE!$B:$H,7,FALSE),,CONGÉ!$C$2:$C$80)) -> #N/A | AY29: =+IF(X29=0," ",+WORKDAY.INTL(+VLOOKUP(AY$1,POSTE!$B:$G,3,FALSE),+CUM!AH29/+VLOOKUP(AY$1,POSTE!$B:$H,7,FALSE),,CONGÉ!$C$2:$C$80)) -> #N/A | AZ29: =+IF(Y29=0," ",+WORKDAY.INTL(+VLOOKUP(AZ$1,POSTE!$B:$G,3,FALSE),+CUM!AI29/+VLOOKUP(AZ$1,POSTE!$B:$H,7,FALSE),,CONGÉ!$C$2:$C$80)) -> #N/A | BA29: =+IF(S29=0," ",+WORKDAY.INTL(+VLOOKUP(BA$1,POSTE!$B:$G,3,FALSE),+CUM!AC29/+VLOOKUP(BA$1,POSTE!$B:$H,7,FALSE),,CONGÉ!$C$2:$C$80)) -> #N/A | BB29: =+IF(T29=0," ",+WORKDAY.INTL(+VLOOKUP(BB$1,POSTE!$B:$G,3,FALSE),+CUM!AD29/+VLOOKUP(BB$1,POSTE!$B:$H,7,FALSE),,CONGÉ!$C$2:$C$80)) -> #N/A | BC29: =+IF(+MIN(AJ29:AZ29)>0,+MIN(AJ29:AZ29)," ") -> #N/A | BD29: =+IF(+MAX(AS29:AZ29)>0,+MAX(AS29:AZ29)," ") -> #N/A | BE29: =+IF($F29="oui",+VLOOKUP($A29,DATA!$A:$AH,DATA!$AH$3,FALSE),0) -> #N/A | BF29: =+BF28+BE29 -> #N/A | BG29: =+IF(BE29>0,+MAX((BH$4:BH28),BD29),"") -> #N/A | BH29: =+IF(BE29>0,+MAX((BH$4:BH28),+WORKDAY.INTL(BG29,+BE29/8,,CONGÉ!$C$2:$C$73)),"") -> #N/A | BI29: =+IF(BE29=0,+IFERROR(+EDATE(BD29,1)," "),+EDATE(BH29,1)) -> #N/A | BJ29: =+AC29+AD29 -> #N/A | BK29: =+TODAY() -> 45754 | BL29: =+(((AC29*POSTE!$H$5)+(CUM!AD29*POSTE!$H$4))/(POSTE!$H$4*POSTE!$H$5*2)) -> #N/A | BM29: =+WORKDAY.INTL(BK29,BL29,,CONGÉ!C$4:C$72) -> #N/A | BN29: =+AU29-BM29 -> #N/A
A30: =+ROW()-ROW($A$4) -> 26 | B30: {=_xlfn.LET(_xlpm.CORR,IF(DATA!$B$4:$B$104="",IF(DATA!$A$4:$A$104="","--",DATA!$A$4:$A$104),DATA!$B$4:$B$104),_xlpm.Rx,SMALL(_xlpm.CORR,A30),IFERROR(MATCH(_xlpm.Rx,_xlpm.CORR,0),0))} -> 0 | C30: =+VLOOKUP($A30,DATA!$A:$AG,DATA!$E$3,FALSE) -> #N/A | D30: =+VLOOKUP($A30,DATA!$A:$AG,DATA!$D$3,FALSE) -> #N/A | E30: =+VLOOKUP($A30,DATA!$A:$AG,DATA!$G$3,FALSE) -> #N/A | F30: =+VLOOKUP($A30,DATA!$A:$AG,DATA!$O$3,FALSE) -> #N/A | G30: =+IF($F30="oui",+VLOOKUP($A30,DATA!$A:$AG,DATA!$P$3,FALSE),0) -> #N/A | H30: =+IF($F30="oui",+VLOOKUP($A30,DATA!$A:$AG,DATA!$R$3,FALSE),0) -> #N/A | I30: =+IF($F30="oui",+VLOOKUP($A30,DATA!$A:$AG,DATA!$T$3,FALSE),0) -> #N/A | J30: =+IF($F30="oui",+VLOOKUP($A30,DATA!$A:$AG,DATA!$V$3,FALSE),0) -> #N/A | K30: =+IF($F30="oui",+VLOOKUP($A30,DATA!$A:$AG,DATA!$X$3,FALSE),0) -> #N/A | L30: =+IF($F30="oui",+VLOOKUP($A30,DATA!$A:$AG,DATA!$Z$3,FALSE),0) -> #N/A | M30: =+IF($F30="oui",+VLOOKUP($A30,DATA!$A:$AG,DATA!$AB$3,FALSE),0) -> #N/A | N30: =+IF($F30="oui",+VLOOKUP($A30,DATA!$A:$AG,DATA!$AD$3,FALSE),0) -> #N/A | O30: =+IF($F30="oui",+VLOOKUP($A30,DATA!$A:$AG,DATA!$AF$3,FALSE),0) -> #N/A | P30: =SUM(G30:O30) -> #N/A | Q30: =+IF($F30="oui",+VLOOKUP($A30,DATA!$A:$AG,DATA!$Q$3,FALSE),0) -> #N/A | R30: =+IF($F30="oui",+VLOOKUP($A30,DATA!$A:$AG,DATA!$S$3,FALSE),0) -> #N/A | S30: =+IF($F30="oui",+VLOOKUP($A30,DATA!$A:$AG,DATA!$U$3,FALSE),0) -> #N/A | T30: =+IF($F30="oui",+VLOOKUP($A30,DATA!$A:$AG,DATA!$W$3,FALSE),0) -> #N/A | U30: =+IF($F30="oui",+VLOOKUP($A30,DATA!$A:$AG,DATA!$Y$3,FALSE),0) -> #N/A | V30: =+IF($F30="oui",+VLOOKUP($A30,DATA!$A:$AG,DATA!$AA$3,FALSE),0) -> #N/A | W30: =+IF($F30="oui",+VLOOKUP($A30,DATA!$A:$AG,DATA!$AC$3,FALSE),0) -> #N/A | X30: =+IF($F30="oui",+VLOOKUP($A30,DATA!$A:$AG,DATA!$AE$3,FALSE),0) -> #N/A | Y30: =+IF($F30="oui",+VLOOKUP($A30,DATA!$A:$AG,DATA!$AG$3,FALSE),0) -> #N/A | Z30: =SUM(Q30:Y30) -> #N/A | AA30: =+AA29+Q30 -> #N/A | AB30: =+AB29+R30 -> #N/A | AC30: =+AC29+S30 -> #N/A | AD30: =+AD29+T30 -> #N/A | AE30: =+AE29+U30 -> #N/A | AF30: =+AF29+V30 -> #N/A | AG30: =+AG29+W30 -> #N/A | AH30: =+AH29+X30 -> #N/A | AI30: =+AI29+Y30 -> #N/A | AJ30: =+IF(Q30=0," ",+WORKDAY.INTL(+VLOOKUP(AJ$1,POSTE!$B:$G,3,FALSE),+CUM!AA29/+VLOOKUP(AJ$1,POSTE!$B:$H,7,FALSE),,CONGÉ!$C$2:$C$80)) -> #N/A | AK30: =+IF(R30=0," ",+WORKDAY.INTL(+VLOOKUP(AK$1,POSTE!$B:$G,3,FALSE),+CUM!AB29/+VLOOKUP(AK$1,POSTE!$B:$H,7,FALSE),,CONGÉ!$C$2:$C$80)) -> #N/A | AL30: =+IF(S30=0," ",+WORKDAY.INTL(+VLOOKUP(AL$1,POSTE!$B:$G,3,FALSE),+CUM!AC29/+VLOOKUP(AL$1,POSTE!$B:$H,7,FALSE),,CONGÉ!$C$2:$C$80)) -> #N/A | AM30: =+IF(T30=0," ",+WORKDAY.INTL(+VLOOKUP(AM$1,POSTE!$B:$G,3,FALSE),+CUM!AD29/+VLOOKUP(AM$1,POSTE!$B:$H,7,FALSE),,CONGÉ!$C$2:$C$80)) -> #N/A | AN30: =+IF(U30=0," ",+WORKDAY.INTL(+VLOOKUP(AN$1,POSTE!$B:$G,3,FALSE),+CUM!AE29/+VLOOKUP(AN$1,POSTE!$B:$H,7,FALSE),,CONGÉ!$C$2:$C$80)) -> #N/A | AO30: =+IF(V30=0," ",+WORKDAY.INTL(+VLOOKUP(AO$1,POSTE!$B:$G,3,FALSE),+CUM!AF29/+VLOOKUP(AO$1,POSTE!$B:$H,7,FALSE),,CONGÉ!$C$2:$C$80)) -> #N/A | AP30: =+IF(W30=0," ",+WORKDAY.INTL(+VLOOKUP(AP$1,POSTE!$B:$G,3,FALSE),+CUM!AG29/+VLOOKUP(AP$1,POSTE!$B:$H,7,FALSE),,CONGÉ!$C$2:$C$80)) -> #N/A | AQ30: =+IF(X30=0," ",+WORKDAY.INTL(+VLOOKUP(AQ$1,POSTE!$B:$G,3,FALSE),+CUM!AH29/+VLOOKUP(AQ$1,POSTE!$B:$H,7,FALSE),,CONGÉ!$C$2:$C$80)) -> #N/A | AR30: =+IF(Y30=0," ",+WORKDAY.INTL(+VLOOKUP(AR$1,POSTE!$B:$G,3,FALSE),+CUM!AI29/+VLOOKUP(AR$1,POSTE!$B:$H,7,FALSE),,CONGÉ!$C$2:$C$80)) -> #N/A | AS30: =+IF(Q30=0," ",+WORKDAY.INTL(+VLOOKUP(AS$1,POSTE!$B:$G,3,FALSE),+CUM!AA30/+VLOOKUP(AS$1,POSTE!$B:$H,7,FALSE),,CONGÉ!$C$2:$C$80)) -> #N/A | AT30: =+IF(R30=0," ",+WORKDAY.INTL(+VLOOKUP(AT$1,POSTE!$B:$G,3,FALSE),+CUM!AB30/+VLOOKUP(AT$1,POSTE!$B:$H,7,FALSE),,CONGÉ!$C$2:$C$80)) -> #N/A | AU30: =+IF(AND(S30=0,T30=0)," ",+WORKDAY.INTL(+VLOOKUP($AS$1,POSTE!B:J,3,FALSE),+(((AC30*POSTE!$H$5)+(CUM!AD30*POSTE!$H$4))/(POSTE!$H$4*POSTE!$H$5*2)),,CONGÉ!$C$2:$C$80)) -> #N/A | AV30: =+IF(U30=0," ",+WORKDAY.INTL(+VLOOKUP(AV$1,POSTE!$B:$G,3,FALSE),+CUM!AE30/+VLOOKUP(AV$1,POSTE!$B:$H,7,FALSE),,CONGÉ!$C$2:$C$80)) -> #N/A | AW30: =+IF(V30=0," ",+WORKDAY.INTL(+VLOOKUP(AW$1,POSTE!$B:$G,3,FALSE),+CUM!AF30/+VLOOKUP(AW$1,POSTE!$B:$H,7,FALSE),,CONGÉ!$C$2:$C$80)) -> #N/A | AX30: =+IF(W30=0," ",+WORKDAY.INTL(+VLOOKUP(AX$1,POSTE!$B:$G,3,FALSE),+CUM!AG30/+VLOOKUP(AX$1,POSTE!$B:$H,7,FALSE),,CONGÉ!$C$2:$C$80)) -> #N/A | AY30: =+IF(X30=0," ",+WORKDAY.INTL(+VLOOKUP(AY$1,POSTE!$B:$G,3,FALSE),+CUM!AH30/+VLOOKUP(AY$1,POSTE!$B:$H,7,FALSE),,CONGÉ!$C$2:$C$80)) -> #N/A | AZ30: =+IF(Y30=0," ",+WORKDAY.INTL(+VLOOKUP(AZ$1,POSTE!$B:$G,3,FALSE),+CUM!AI30/+VLOOKUP(AZ$1,POSTE!$B:$H,7,FALSE),,CONGÉ!$C$2:$C$80)) -> #N/A | BA30: =+IF(S30=0," ",+WORKDAY.INTL(+VLOOKUP(BA$1,POSTE!$B:$G,3,FALSE),+CUM!AC30/+VLOOKUP(BA$1,POSTE!$B:$H,7,FALSE),,CONGÉ!$C$2:$C$80)) -> #N/A | BB30: =+IF(T30=0," ",+WORKDAY.INTL(+VLOOKUP(BB$1,POSTE!$B:$G,3,FALSE),+CUM!AD30/+VLOOKUP(BB$1,POSTE!$B:$H,7,FALSE),,CONGÉ!$C$2:$C$80)) -> #N/A | BC30: =+IF(+MIN(AJ30:AZ30)>0,+MIN(AJ30:AZ30)," ") -> #N/A | BD30: =+IF(+MAX(AS30:AZ30)>0,+MAX(AS30:AZ30)," ") -> #N/A | BE30: =+IF($F30="oui",+VLOOKUP($A30,DATA!$A:$AH,DATA!$AH$3,FALSE),0) -> #N/A | BF30: =+BF29+BE30 -> #N/A | BG30: =+IF(BE30>0,+MAX((BH$4:BH29),BD30),"") -> #N/A | BH30: =+IF(BE30>0,+MAX((BH$4:BH29),+WORKDAY.INTL(BG30,+BE30/8,,CONGÉ!$C$2:$C$73)),"") -> #N/A | BI30: =+IF(BE30=0,+IFERROR(+EDATE(BD30,1)," "),+EDATE(BH30,1)) -> #N/A | BJ30: =+AC30+AD30 -> #N/A | BK30: =+TODAY() -> 45754 | BL30: =+(((AC30*POSTE!$H$5)+(CUM!AD30*POSTE!$H$4))/(POSTE!$H$4*POSTE!$H$5*2)) -> #N/A | BM30: =+WORKDAY.INTL(BK30,BL30,,CONGÉ!C$4:C$72) -> #N/A | BN30: =+AU30-BM30 -> #N/A
A31: =+ROW()-ROW($A$4) -> 27 | B31: {=_xlfn.LET(_xlpm.CORR,IF(DATA!$B$4:$B$104="",IF(DATA!$A$4:$A$104="","--",DATA!$A$4:$A$104),DATA!$B$4:$B$104),_xlpm.Rx,SMALL(_xlpm.CORR,A31),IFERROR(MATCH(_xlpm.Rx,_xlpm.CORR,0),0))} -> 0 | C31: =+VLOOKUP($A31,DATA!$A:$AG,DATA!$E$3,FALSE) -> #N/A | D31: =+VLOOKUP($A31,DATA!$A:$AG,DATA!$D$3,FALSE) -> #N/A | E31: =+VLOOKUP($A31,DATA!$A:$AG,DATA!$G$3,FALSE) -> #N/A | F31: =+VLOOKUP($A31,DATA!$A:$AG,DATA!$O$3,FALSE) -> #N/A | G31: =+IF($F31="oui",+VLOOKUP($A31,DATA!$A:$AG,DATA!$P$3,FALSE),0) -> #N/A | H31: =+IF($F31="oui",+VLOOKUP($A31,DATA!$A:$AG,DATA!$R$3,FALSE),0) -> #N/A | I31: =+IF($F31="oui",+VLOOKUP($A31,DATA!$A:$AG,DATA!$T$3,FALSE),0) -> #N/A | J31: =+IF($F31="oui",+VLOOKUP($A31,DATA!$A:$AG,DATA!$V$3,FALSE),0) -> #N/A | K31: =+IF($F31="oui",+VLOOKUP($A31,DATA!$A:$AG,DATA!$X$3,FALSE),0) -> #N/A | L31: =+IF($F31="oui",+VLOOKUP($A31,DATA!$A:$AG,DATA!$Z$3,FALSE),0) -> #N/A | M31: =+IF($F31="oui",+VLOOKUP($A31,DATA!$A:$AG,DATA!$AB$3,FALSE),0) -> #N/A | N31: =+IF($F31="oui",+VLOOKUP($A31,DATA!$A:$AG,DATA!$AD$3,FALSE),0) -> #N/A | O31: =+IF($F31="oui",+VLOOKUP($A31,DATA!$A:$AG,DATA!$AF$3,FALSE),0) -> #N/A | P31: =SUM(G31:O31) -> #N/A | Q31: =+IF($F31="oui",+VLOOKUP($A31,DATA!$A:$AG,DATA!$Q$3,FALSE),0) -> #N/A | R31: =+IF($F31="oui",+VLOOKUP($A31,DATA!$A:$AG,DATA!$S$3,FALSE),0) -> #N/A | S31: =+IF($F31="oui",+VLOOKUP($A31,DATA!$A:$AG,DATA!$U$3,FALSE),0) -> #N/A | T31: =+IF($F31="oui",+VLOOKUP($A31,DATA!$A:$AG,DATA!$W$3,FALSE),0) -> #N/A | U31: =+IF($F31="oui",+VLOOKUP($A31,DATA!$A:$AG,DATA!$Y$3,FALSE),0) -> #N/A | V31: =+IF($F31="oui",+VLOOKUP($A31,DATA!$A:$AG,DATA!$AA$3,FALSE),0) -> #N/A | W31: =+IF($F31="oui",+VLOOKUP($A31,DATA!$A:$AG,DATA!$AC$3,FALSE),0) -> #N/A | X31: =+IF($F31="oui",+VLOOKUP($A31,DATA!$A:$AG,DATA!$AE$3,FALSE),0) -> #N/A | Y31: =+IF($F31="oui",+VLOOKUP($A31,DATA!$A:$AG,DATA!$AG$3,FALSE),0) -> #N/A | Z31: =SUM(Q31:Y31) -> #N/A | AA31: =+AA30+Q31 -> #N/A | AB31: =+AB30+R31 -> #N/A | AC31: =+AC30+S31 -> #N/A | AD31: =+AD30+T31 -> #N/A | AE31: =+AE30+U31 -> #N/A | AF31: =+AF30+V31 -> #N/A | AG31: =+AG30+W31 -> #N/A | AH31: =+AH30+X31 -> #N/A | AI31: =+AI30+Y31 -> #N/A | AJ31: =+IF(Q31=0," ",+WORKDAY.INTL(+VLOOKUP(AJ$1,POSTE!$B:$G,3,FALSE),+CUM!AA30/+VLOOKUP(AJ$1,POSTE!$B:$H,7,FALSE),,CONGÉ!$C$2:$C$80)) -> #N/A | AK31: =+IF(R31=0," ",+WORKDAY.INTL(+VLOOKUP(AK$1,POSTE!$B:$G,3,FALSE),+CUM!AB30/+VLOOKUP(AK$1,POSTE!$B:$H,7,FALSE),,CONGÉ!$C$2:$C$80)) -> #N/A | AL31: =+IF(S31=0," ",+WORKDAY.INTL(+VLOOKUP(AL$1,POSTE!$B:$G,3,FALSE),+CUM!AC30/+VLOOKUP(AL$1,POSTE!$B:$H,7,FALSE),,CONGÉ!$C$2:$C$80)) -> #N/A | AM31: =+IF(T31=0," ",+WORKDAY.INTL(+VLOOKUP(AM$1,POSTE!$B:$G,3,FALSE),+CUM!AD30/+VLOOKUP(AM$1,POSTE!$B:$H,7,FALSE),,CONGÉ!$C$2:$C$80)) -> #N/A | AN31: =+IF(U31=0," ",+WORKDAY.INTL(+VLOOKUP(AN$1,POSTE!$B:$G,3,FALSE),+CUM!AE30/+VLOOKUP(AN$1,POSTE!$B:$H,7,FALSE),,CONGÉ!$C$2:$C$80)) -> #N/A | AO31: =+IF(V31=0," ",+WORKDAY.INTL(+VLOOKUP(AO$1,POSTE!$B:$G,3,FALSE),+CUM!AF30/+VLOOKUP(AO$1,POSTE!$B:$H,7,FALSE),,CONGÉ!$C$2:$C$80)) -> #N/A | AP31: =+IF(W31=0," ",+WORKDAY.INTL(+VLOOKUP(AP$1,POSTE!$B:$G,3,FALSE),+CUM!AG30/+VLOOKUP(AP$1,POSTE!$B:$H,7,FALSE),,CONGÉ!$C$2:$C$80)) -> #N/A | AQ31: =+IF(X31=0," ",+WORKDAY.INTL(+VLOOKUP(AQ$1,POSTE!$B:$G,3,FALSE),+CUM!AH30/+VLOOKUP(AQ$1,POSTE!$B:$H,7,FALSE),,CONGÉ!$C$2:$C$80)) -> #N/A | AR31: =+IF(Y31=0," ",+WORKDAY.INTL(+VLOOKUP(AR$1,POSTE!$B:$G,3,FALSE),+CUM!AI30/+VLOOKUP(AR$1,POSTE!$B:$H,7,FALSE),,CONGÉ!$C$2:$C$80)) -> #N/A | AS31: =+IF(Q31=0," ",+WORKDAY.INTL(+VLOOKUP(AS$1,POSTE!$B:$G,3,FALSE),+CUM!AA31/+VLOOKUP(AS$1,POSTE!$B:$H,7,FALSE),,CONGÉ!$C$2:$C$80)) -> #N/A | AT31: =+IF(R31=0," ",+WORKDAY.INTL(+VLOOKUP(AT$1,POSTE!$B:$G,3,FALSE),+CUM!AB31/+VLOOKUP(AT$1,POSTE!$B:$H,7,FALSE),,CONGÉ!$C$2:$C$80)) -> #N/A | AU31: =+IF(AND(S31=0,T31=0)," ",+WORKDAY.INTL(+VLOOKUP($AS$1,POSTE!B:J,3,FALSE),+(((AC31*POSTE!$H$5)+(CUM!AD31*POSTE!$H$4))/(POSTE!$H$4*POSTE!$H$5*2)),,CONGÉ!$C$2:$C$80)) -> #N/A | AV31: =+IF(U31=0," ",+WORKDAY.INTL(+VLOOKUP(AV$1,POSTE!$B:$G,3,FALSE),+CUM!AE31/+VLOOKUP(AV$1,POSTE!$B:$H,7,FALSE),,CONGÉ!$C$2:$C$80)) -> #N/A | AW31: =+IF(V31=0," ",+WORKDAY.INTL(+VLOOKUP(AW$1,POSTE!$B:$G,3,FALSE),+CUM!AF31/+VLOOKUP(AW$1,POSTE!$B:$H,7,FALSE),,CONGÉ!$C$2:$C$80)) -> #N/A | AX31: =+IF(W31=0," ",+WORKDAY.INTL(+VLOOKUP(AX$1,POSTE!$B:$G,3,FALSE),+CUM!AG31/+VLOOKUP(AX$1,POSTE!$B:$H,7,FALSE),,CONGÉ!$C$2:$C$80)) -> #N/A | AY31: =+IF(X31=0," ",+WORKDAY.INTL(+VLOOKUP(AY$1,POSTE!$B:$G,3,FALSE),+CUM!AH31/+VLOOKUP(AY$1,POSTE!$B:$H,7,FALSE),,CONGÉ!$C$2:$C$80)) -> #N/A | AZ31: =+IF(Y31=0," ",+WORKDAY.INTL(+VLOOKUP(AZ$1,POSTE!$B:$G,3,FALSE),+CUM!AI31/+VLOOKUP(AZ$1,POSTE!$B:$H,7,FALSE),,CONGÉ!$C$2:$C$80)) -> #N/A | BA31: =+IF(S31=0," ",+WORKDAY.INTL(+VLOOKUP(BA$1,POSTE!$B:$G,3,FALSE),+CUM!AC31/+VLOOKUP(BA$1,POSTE!$B:$H,7,FALSE),,CONGÉ!$C$2:$C$80)) -> #N/A | BB31: =+IF(T31=0," ",+WORKDAY.INTL(+VLOOKUP(BB$1,POSTE!$B:$G,3,FALSE),+CUM!AD31/+VLOOKUP(BB$1,POSTE!$B:$H,7,FALSE),,CONGÉ!$C$2:$C$80)) -> #N/A | BC31: =+IF(+MIN(AJ31:AZ31)>0,+MIN(AJ31:AZ31)," ") -> #N/A | BD31: =+IF(+MAX(AS31:AZ31)>0,+MAX(AS31:AZ31)," ") -> #N/A | BE31: =+IF($F31="oui",+VLOOKUP($A31,DATA!$A:$AH,DATA!$AH$3,FALSE),0) -> #N/A | BF31: =+BF30+BE31 -> #N/A | BG31: =+IF(BE31>0,+MAX((BH$4:BH30),BD31),"") -> #N/A | BH31: =+IF(BE31>0,+MAX((BH$4:BH30),+WORKDAY.INTL(BG31,+BE31/8,,CONGÉ!$C$2:$C$73)),"") -> #N/A | BI31: =+IF(BE31=0,+IFERROR(+EDATE(BD31,1)," "),+EDATE(BH31,1)) -> #N/A | BJ31: =+AC31+AD31 -> #N/A | BK31: =+TODAY() -> 45754 | BL31: =+(((AC31*POSTE!$H$5)+(CUM!AD31*POSTE!$H$4))/(POSTE!$H$4*POSTE!$H$5*2)) -> #N/A | BM31: =+WORKDAY.INTL(BK31,BL31,,CONGÉ!C$4:C$72) -> #N/A | BN31: =+AU31-BM31 -> #N/A
A32: =+ROW()-ROW($A$4) -> 28 | B32: {=_xlfn.LET(_xlpm.CORR,IF(DATA!$B$4:$B$104="",IF(DATA!$A$4:$A$104="","--",DATA!$A$4:$A$104),DATA!$B$4:$B$104),_xlpm.Rx,SMALL(_xlpm.CORR,A32),IFERROR(MATCH(_xlpm.Rx,_xlpm.CORR,0),0))} -> 0 | C32: =+VLOOKUP($A32,DATA!$A:$AG,DATA!$E$3,FALSE) -> #N/A | D32: =+VLOOKUP($A32,DATA!$A:$AG,DATA!$D$3,FALSE) -> #N/A | E32: =+VLOOKUP($A32,DATA!$A:$AG,DATA!$G$3,FALSE) -> #N/A | F32: =+VLOOKUP($A32,DATA!$A:$AG,DATA!$O$3,FALSE) -> #N/A | G32: =+IF($F32="oui",+VLOOKUP($A32,DATA!$A:$AG,DATA!$P$3,FALSE),0) -> #N/A | H32: =+IF($F32="oui",+VLOOKUP($A32,DATA!$A:$AG,DATA!$R$3,FALSE),0) -> #N/A | I32: =+IF($F32="oui",+VLOOKUP($A32,DATA!$A:$AG,DATA!$T$3,FALSE),0) -> #N/A | J32: =+IF($F32="oui",+VLOOKUP($A32,DATA!$A:$AG,DATA!$V$3,FALSE),0) -> #N/A | K32: =+IF($F32="oui",+VLOOKUP($A32,DATA!$A:$AG,DATA!$X$3,FALSE),0) -> #N/A | L32: =+IF($F32="oui",+VLOOKUP($A32,DATA!$A:$AG,DATA!$Z$3,FALSE),0) -> #N/A | M32: =+IF($F32="oui",+VLOOKUP($A32,DATA!$A:$AG,DATA!$AB$3,FALSE),0) -> #N/A | N32: =+IF($F32="oui",+VLOOKUP($A32,DATA!$A:$AG,DATA!$AD$3,FALSE),0) -> #N/A | O32: =+IF($F32="oui",+VLOOKUP($A32,DATA!$A:$AG,DATA!$AF$3,FALSE),0) -> #N/A | P32: =SUM(G32:O32) -> #N/A | Q32: =+IF($F32="oui",+VLOOKUP($A32,DATA!$A:$AG,DATA!$Q$3,FALSE),0) -> #N/A | R32: =+IF($F32="oui",+VLOOKUP($A32,DATA!$A:$AG,DATA!$S$3,FALSE),0) -> #N/A | S32: =+IF($F32="oui",+VLOOKUP($A32,DATA!$A:$AG,DATA!$U$3,FALSE),0) -> #N/A | T32: =+IF($F32="oui",+VLOOKUP($A32,DATA!$A:$AG,DATA!$W$3,FALSE),0) -> #N/A | U32: =+IF($F32="oui",+VLOOKUP($A32,DATA!$A:$AG,DATA!$Y$3,FALSE),0) -> #N/A | V32: =+IF($F32="oui",+VLOOKUP($A32,DATA!$A:$AG,DATA!$AA$3,FALSE),0) -> #N/A | W32: =+IF($F32="oui",+VLOOKUP($A32,DATA!$A:$AG,DATA!$AC$3,FALSE),0) -> #N/A | X32: =+IF($F32="oui",+VLOOKUP($A32,DATA!$A:$AG,DATA!$AE$3,FALSE),0) -> #N/A | Y32: =+IF($F32="oui",+VLOOKUP($A32,DATA!$A:$AG,DATA!$AG$3,FALSE),0) -> #N/A | Z32: =SUM(Q32:Y32) -> #N/A | AA32: =+AA31+Q32 -> #N/A | AB32: =+AB31+R32 -> #N/A | AC32: =+AC31+S32 -> #N/A | AD32: =+AD31+T32 -> #N/A | AE32: =+AE31+U32 -> #N/A | AF32: =+AF31+V32 -> #N/A | AG32: =+AG31+W32 -> #N/A | AH32: =+AH31+X32 -> #N/A | AI32: =+AI31+Y32 -> #N/A | AJ32: =+IF(Q32=0," ",+WORKDAY.INTL(+VLOOKUP(AJ$1,POSTE!$B:$G,3,FALSE),+CUM!AA31/+VLOOKUP(AJ$1,POSTE!$B:$H,7,FALSE),,CONGÉ!$C$2:$C$80)) -> #N/A | AK32: =+IF(R32=0," ",+WORKDAY.INTL(+VLOOKUP(AK$1,POSTE!$B:$G,3,FALSE),+CUM!AB31/+VLOOKUP(AK$1,POSTE!$B:$H,7,FALSE),,CONGÉ!$C$2:$C$80)) -> #N/A | AL32: =+IF(S32=0," ",+WORKDAY.INTL(+VLOOKUP(AL$1,POSTE!$B:$G,3,FALSE),+CUM!AC31/+VLOOKUP(AL$1,POSTE!$B:$H,7,FALSE),,CONGÉ!$C$2:$C$80)) -> #N/A | AM32: =+IF(T32=0," ",+WORKDAY.INTL(+VLOOKUP(AM$1,POSTE!$B:$G,3,FALSE),+CUM!AD31/+VLOOKUP(AM$1,POSTE!$B:$H,7,FALSE),,CONGÉ!$C$2:$C$80)) -> #N/A | AN32: =+IF(U32=0," ",+WORKDAY.INTL(+VLOOKUP(AN$1,POSTE!$B:$G,3,FALSE),+CUM!AE31/+VLOOKUP(AN$1,POSTE!$B:$H,7,FALSE),,CONGÉ!$C$2:$C$80)) -> #N/A | AO32: =+IF(V32=0," ",+WORKDAY.INTL(+VLOOKUP(AO$1,POSTE!$B:$G,3,FALSE),+CUM!AF31/+VLOOKUP(AO$1,POSTE!$B:$H,7,FALSE),,CONGÉ!$C$2:$C$80)) -> #N/A | AP32: =+IF(W32=0," ",+WORKDAY.INTL(+VLOOKUP(AP$1,POSTE!$B:$G,3,FALSE),+CUM!AG31/+VLOOKUP(AP$1,POSTE!$B:$H,7,FALSE),,CONGÉ!$C$2:$C$80)) -> #N/A | AQ32: =+IF(X32=0," ",+WORKDAY.INTL(+VLOOKUP(AQ$1,POSTE!$B:$G,3,FALSE),+CUM!AH31/+VLOOKUP(AQ$1,POSTE!$B:$H,7,FALSE),,CONGÉ!$C$2:$C$80)) -> #N/A | AR32: =+IF(Y32=0," ",+WORKDAY.INTL(+VLOOKUP(AR$1,POSTE!$B:$G,3,FALSE),+CUM!AI31/+VLOOKUP(AR$1,POSTE!$B:$H,7,FALSE),,CONGÉ!$C$2:$C$80)) -> #N/A | AS32: =+IF(Q32=0," ",+WORKDAY.INTL(+VLOOKUP(AS$1,POSTE!$B:$G,3,FALSE),+CUM!AA32/+VLOOKUP(AS$1,POSTE!$B:$H,7,FALSE),,CONGÉ!$C$2:$C$80)) -> #N/A | AT32: =+IF(R32=0," ",+WORKDAY.INTL(+VLOOKUP(AT$1,POSTE!$B:$G,3,FALSE),+CUM!AB32/+VLOOKUP(AT$1,POSTE!$B:$H,7,FALSE),,CONGÉ!$C$2:$C$80)) -> #N/A | AU32: =+IF(AND(S32=0,T32=0)," ",+WORKDAY.INTL(+VLOOKUP($AS$1,POSTE!B:J,3,FALSE),+(((AC32*POSTE!$H$5)+(CUM!AD32*POSTE!$H$4))/(POSTE!$H$4*POSTE!$H$5*2)),,CONGÉ!$C$2:$C$80)) -> #N/A | AV32: =+IF(U32=0," ",+WORKDAY.INTL(+VLOOKUP(AV$1,POSTE!$B:$G,3,FALSE),+CUM!AE32/+VLOOKUP(AV$1,POSTE!$B:$H,7,FALSE),,CONGÉ!$C$2:$C$80)) -> #N/A | AW32: =+IF(V32=0," ",+WORKDAY.INTL(+VLOOKUP(AW$1,POSTE!$B:$G,3,FALSE),+CUM!AF32/+VLOOKUP(AW$1,POSTE!$B:$H,7,FALSE),,CONGÉ!$C$2:$C$80)) -> #N/A | AX32: =+IF(W32=0," ",+WORKDAY.INTL(+VLOOKUP(AX$1,POSTE!$B:$G,3,FALSE),+CUM!AG32/+VLOOKUP(AX$1,POSTE!$B:$H,7,FALSE),,CONGÉ!$C$2:$C$80)) -> #N/A | AY32: =+IF(X32=0," ",+WORKDAY.INTL(+VLOOKUP(AY$1,POSTE!$B:$G,3,FALSE),+CUM!AH32/+VLOOKUP(AY$1,POSTE!$B:$H,7,FALSE),,CONGÉ!$C$2:$C$80)) -> #N/A | AZ32: =+IF(Y32=0," ",+WORKDAY.INTL(+VLOOKUP(AZ$1,POSTE!$B:$G,3,FALSE),+CUM!AI32/+VLOOKUP(AZ$1,POSTE!$B:$H,7,FALSE),,CONGÉ!$C$2:$C$80)) -> #N/A | BA32: =+IF(S32=0," ",+WORKDAY.INTL(+VLOOKUP(BA$1,POSTE!$B:$G,3,FALSE),+CUM!AC32/+VLOOKUP(BA$1,POSTE!$B:$H,7,FALSE),,CONGÉ!$C$2:$C$80)) -> #N/A | BB32: =+IF(T32=0," ",+WORKDAY.INTL(+VLOOKUP(BB$1,POSTE!$B:$G,3,FALSE),+CUM!AD32/+VLOOKUP(BB$1,POSTE!$B:$H,7,FALSE),,CONGÉ!$C$2:$C$80)) -> #N/A | BC32: =+IF(+MIN(AJ32:AZ32)>0,+MIN(AJ32:AZ32)," ") -> #N/A | BD32: =+IF(+MAX(AS32:AZ32)>0,+MAX(AS32:AZ32)," ") -> #N/A | BE32: =+IF($F32="oui",+VLOOKUP($A32,DATA!$A:$AH,DATA!$AH$3,FALSE),0) -> #N/A | BF32: =+BF31+BE32 -> #N/A | BG32: =+IF(BE32>0,+MAX((BH$4:BH31),BD32),"") -> #N/A | BH32: =+IF(BE32>0,+MAX((BH$4:BH31),+WORKDAY.INTL(BG32,+BE32/8,,CONGÉ!$C$2:$C$73)),"") -> #N/A | BI32: =+IF(BE32=0,+IFERROR(+EDATE(BD32,1)," "),+EDATE(BH32,1)) -> #N/A | BJ32: =+AC32+AD32 -> #N/A | BK32: =+TODAY() -> 45754 | BL32: =+(((AC32*POSTE!$H$5)+(CUM!AD32*POSTE!$H$4))/(POSTE!$H$4*POSTE!$H$5*2)) -> #N/A | BM32: =+WORKDAY.INTL(BK32,BL32,,CONGÉ!C$4:C$72) -> #N/A | BN32: =+AU32-BM32 -> #N/A
A33: =+ROW()-ROW($A$4) -> 29 | B33: {=_xlfn.LET(_xlpm.CORR,IF(DATA!$B$4:$B$104="",IF(DATA!$A$4:$A$104="","--",DATA!$A$4:$A$104),DATA!$B$4:$B$104),_xlpm.Rx,SMALL(_xlpm.CORR,A33),IFERROR(MATCH(_xlpm.Rx,_xlpm.CORR,0),0))} -> 0 | C33: =+VLOOKUP($A33,DATA!$A:$AG,DATA!$E$3,FALSE) -> #N/A | D33: =+VLOOKUP($A33,DATA!$A:$AG,DATA!$D$3,FALSE) -> #N/A | E33: =+VLOOKUP($A33,DATA!$A:$AG,DATA!$G$3,FALSE) -> #N/A | F33: =+VLOOKUP($A33,DATA!$A:$AG,DATA!$O$3,FALSE) -> #N/A | G33: =+IF($F33="oui",+VLOOKUP($A33,DATA!$A:$AG,DATA!$P$3,FALSE),0) -> #N/A | H33: =+IF($F33="oui",+VLOOKUP($A33,DATA!$A:$AG,DATA!$R$3,FALSE),0) -> #N/A | I33: =+IF($F33="oui",+VLOOKUP($A33,DATA!$A:$AG,DATA!$T$3,FALSE),0) -> #N/A | J33: =+IF($F33="oui",+VLOOKUP($A33,DATA!$A:$AG,DATA!$V$3,FALSE),0) -> #N/A | K33: =+IF($F33="oui",+VLOOKUP($A33,DATA!$A:$AG,DATA!$X$3,FALSE),0) -> #N/A | L33: =+IF($F33="oui",+VLOOKUP($A33,DATA!$A:$AG,DATA!$Z$3,FALSE),0) -> #N/A | M33: =+IF($F33="oui",+VLOOKUP($A33,DATA!$A:$AG,DATA!$AB$3,FALSE),0) -> #N/A | N33: =+IF($F33="oui",+VLOOKUP($A33,DATA!$A:$AG,DATA!$AD$3,FALSE),0) -> #N/A | O33: =+IF($F33="oui",+VLOOKUP($A33,DATA!$A:$AG,DATA!$AF$3,FALSE),0) -> #N/A | P33: =SUM(G33:O33) -> #N/A | Q33: =+IF($F33="oui",+VLOOKUP($A33,DATA!$A:$AG,DATA!$Q$3,FALSE),0) -> #N/A | R33: =+IF($F33="oui",+VLOOKUP($A33,DATA!$A:$AG,DATA!$S$3,FALSE),0) -> #N/A | S33: =+IF($F33="oui",+VLOOKUP($A33,DATA!$A:$AG,DATA!$U$3,FALSE),0) -> #N/A | T33: =+IF($F33="oui",+VLOOKUP($A33,DATA!$A:$AG,DATA!$W$3,FALSE),0) -> #N/A | U33: =+IF($F33="oui",+VLOOKUP($A33,DATA!$A:$AG,DATA!$Y$3,FALSE),0) -> #N/A | V33: =+IF($F33="oui",+VLOOKUP($A33,DATA!$A:$AG,DATA!$AA$3,FALSE),0) -> #N/A | W33: =+IF($F33="oui",+VLOOKUP($A33,DATA!$A:$AG,DATA!$AC$3,FALSE),0) -> #N/A | X33: =+IF($F33="oui",+VLOOKUP($A33,DATA!$A:$AG,DATA!$AE$3,FALSE),0) -> #N/A | Y33: =+IF($F33="oui",+VLOOKUP($A33,DATA!$A:$AG,DATA!$AG$3,FALSE),0) -> #N/A | Z33: =SUM(Q33:Y33) -> #N/A | AA33: =+AA32+Q33 -> #N/A | AB33: =+AB32+R33 -> #N/A | AC33: =+AC32+S33 -> #N/A | AD33: =+AD32+T33 -> #N/A | AE33: =+AE32+U33 -> #N/A | AF33: =+AF32+V33 -> #N/A | AG33: =+AG32+W33 -> #N/A | AH33: =+AH32+X33 -> #N/A | AI33: =+AI32+Y33 -> #N/A | AJ33: =+IF(Q33=0," ",+WORKDAY.INTL(+VLOOKUP(AJ$1,POSTE!$B:$G,3,FALSE),+CUM!AA32/+VLOOKUP(AJ$1,POSTE!$B:$H,7,FALSE),,CONGÉ!$C$2:$C$80)) -> #N/A | AK33: =+IF(R33=0," ",+WORKDAY.INTL(+VLOOKUP(AK$1,POSTE!$B:$G,3,FALSE),+CUM!AB32/+VLOOKUP(AK$1,POSTE!$B:$H,7,FALSE),,CONGÉ!$C$2:$C$80)) -> #N/A | AL33: =+IF(S33=0," ",+WORKDAY.INTL(+VLOOKUP(AL$1,POSTE!$B:$G,3,FALSE),+CUM!AC32/+VLOOKUP(AL$1,POSTE!$B:$H,7,FALSE),,CONGÉ!$C$2:$C$80)) -> #N/A | AM33: =+IF(T33=0," ",+WORKDAY.INTL(+VLOOKUP(AM$1,POSTE!$B:$G,3,FALSE),+CUM!AD32/+VLOOKUP(AM$1,POSTE!$B:$H,7,FALSE),,CONGÉ!$C$2:$C$80)) -> #N/A | AN33: =+IF(U33=0," ",+WORKDAY.INTL(+VLOOKUP(AN$1,POSTE!$B:$G,3,FALSE),+CUM!AE32/+VLOOKUP(AN$1,POSTE!$B:$H,7,FALSE),,CONGÉ!$C$2:$C$80)) -> #N/A | AO33: =+IF(V33=0," ",+WORKDAY.INTL(+VLOOKUP(AO$1,POSTE!$B:$G,3,FALSE),+CUM!AF32/+VLOOKUP(AO$1,POSTE!$B:$H,7,FALSE),,CONGÉ!$C$2:$C$80)) -> #N/A | AP33: =+IF(W33=0," ",+WORKDAY.INTL(+VLOOKUP(AP$1,POSTE!$B:$G,3,FALSE),+CUM!AG32/+VLOOKUP(AP$1,POSTE!$B:$H,7,FALSE),,CONGÉ!$C$2:$C$80)) -> #N/A | AQ33: =+IF(X33=0," ",+WORKDAY.INTL(+VLOOKUP(AQ$1,POSTE!$B:$G,3,FALSE),+CUM!AH32/+VLOOKUP(AQ$1,POSTE!$B:$H,7,FALSE),,CONGÉ!$C$2:$C$80)) -> #N/A | AR33: =+IF(Y33=0," ",+WORKDAY.INTL(+VLOOKUP(AR$1,POSTE!$B:$G,3,FALSE),+CUM!AI32/+VLOOKUP(AR$1,POSTE!$B:$H,7,FALSE),,CONGÉ!$C$2:$C$80)) -> #N/A | AS33: =+IF(Q33=0," ",+WORKDAY.INTL(+VLOOKUP(AS$1,POSTE!$B:$G,3,FALSE),+CUM!AA33/+VLOOKUP(AS$1,POSTE!$B:$H,7,FALSE),,CONGÉ!$C$2:$C$80)) -> #N/A | AT33: =+IF(R33=0," ",+WORKDAY.INTL(+VLOOKUP(AT$1,POSTE!$B:$G,3,FALSE),+CUM!AB33/+VLOOKUP(AT$1,POSTE!$B:$H,7,FALSE),,CONGÉ!$C$2:$C$80)) -> #N/A | AU33: =+IF(AND(S33=0,T33=0)," ",+WORKDAY.INTL(+VLOOKUP($AS$1,POSTE!B:J,3,FALSE),+(((AC33*POSTE!$H$5)+(CUM!AD33*POSTE!$H$4))/(POSTE!$H$4*POSTE!$H$5*2)),,CONGÉ!$C$2:$C$80)) -> #N/A | AV33: =+IF(U33=0," ",+WORKDAY.INTL(+VLOOKUP(AV$1,POSTE!$B:$G,3,FALSE),+CUM!AE33/+VLOOKUP(AV$1,POSTE!$B:$H,7,FALSE),,CONGÉ!$C$2:$C$80)) -> #N/A | AW33: =+IF(V33=0," ",+WORKDAY.INTL(+VLOOKUP(AW$1,POSTE!$B:$G,3,FALSE),+CUM!AF33/+VLOOKUP(AW$1,POSTE!$B:$H,7,FALSE),,CONGÉ!$C$2:$C$80)) -> #N/A | AX33: =+IF(W33=0," ",+WORKDAY.INTL(+VLOOKUP(AX$1,POSTE!$B:$G,3,FALSE),+CUM!AG33/+VLOOKUP(AX$1,POSTE!$B:$H,7,FALSE),,CONGÉ!$C$2:$C$80)) -> #N/A | AY33: =+IF(X33=0," ",+WORKDAY.INTL(+VLOOKUP(AY$1,POSTE!$B:$G,3,FALSE),+CUM!AH33/+VLOOKUP(AY$1,POSTE!$B:$H,7,FALSE),,CONGÉ!$C$2:$C$80)) -> #N/A | AZ33: =+IF(Y33=0," ",+WORKDAY.INTL(+VLOOKUP(AZ$1,POSTE!$B:$G,3,FALSE),+CUM!AI33/+VLOOKUP(AZ$1,POSTE!$B:$H,7,FALSE),,CONGÉ!$C$2:$C$80)) -> #N/A | BA33: =+IF(S33=0," ",+WORKDAY.INTL(+VLOOKUP(BA$1,POSTE!$B:$G,3,FALSE),+CUM!AC33/+VLOOKUP(BA$1,POSTE!$B:$H,7,FALSE),,CONGÉ!$C$2:$C$80)) -> #N/A | BB33: =+IF(T33=0," ",+WORKDAY.INTL(+VLOOKUP(BB$1,POSTE!$B:$G,3,FALSE),+CUM!AD33/+VLOOKUP(BB$1,POSTE!$B:$H,7,FALSE),,CONGÉ!$C$2:$C$80)) -> #N/A | BC33: =+IF(+MIN(AJ33:AZ33)>0,+MIN(AJ33:AZ33)," ") -> #N/A | BD33: =+IF(+MAX(AS33:AZ33)>0,+MAX(AS33:AZ33)," ") -> #N/A | BE33: =+IF($F33="oui",+VLOOKUP($A33,DATA!$A:$AH,DATA!$AH$3,FALSE),0) -> #N/A | BF33: =+BF32+BE33 -> #N/A | BG33: =+IF(BE33>0,+MAX((BH$4:BH32),BD33),"") -> #N/A | BH33: =+IF(BE33>0,+MAX((BH$4:BH32),+WORKDAY.INTL(BG33,+BE33/8,,CONGÉ!$C$2:$C$73)),"") -> #N/A | BI33: =+IF(BE33=0,+IFERROR(+EDATE(BD33,1)," "),+EDATE(BH33,1)) -> #N/A | BJ33: =+AC33+AD33 -> #N/A | BK33: =+TODAY() -> 45754 | BL33: =+(((AC33*POSTE!$H$5)+(CUM!AD33*POSTE!$H$4))/(POSTE!$H$4*POSTE!$H$5*2)) -> #N/A | BM33: =+WORKDAY.INTL(BK33,BL33,,CONGÉ!C$4:C$72) -> #N/A | BN33: =+AU33-BM33 -> #N/A
A34: =+ROW()-ROW($A$4) -> 30 | B34: {=_xlfn.LET(_xlpm.CORR,IF(DATA!$B$4:$B$104="",IF(DATA!$A$4:$A$104="","--",DATA!$A$4:$A$104),DATA!$B$4:$B$104),_xlpm.Rx,SMALL(_xlpm.CORR,A34),IFERROR(MATCH(_xlpm.Rx,_xlpm.CORR,0),0))} -> 0 | C34: =+VLOOKUP($A34,DATA!$A:$AG,DATA!$E$3,FALSE) -> #N/A | D34: =+VLOOKUP($A34,DATA!$A:$AG,DATA!$D$3,FALSE) -> #N/A | E34: =+VLOOKUP($A34,DATA!$A:$AG,DATA!$G$3,FALSE) -> #N/A | F34: =+VLOOKUP($A34,DATA!$A:$AG,DATA!$O$3,FALSE) -> #N/A | G34: =+IF($F34="oui",+VLOOKUP($A34,DATA!$A:$AG,DATA!$P$3,FALSE),0) -> #N/A | H34: =+IF($F34="oui",+VLOOKUP($A34,DATA!$A:$AG,DATA!$R$3,FALSE),0) -> #N/A | I34: =+IF($F34="oui",+VLOOKUP($A34,DATA!$A:$AG,DATA!$T$3,FALSE),0) -> #N/A | J34: =+IF($F34="oui",+VLOOKUP($A34,DATA!$A:$AG,DATA!$V$3,FALSE),0) -> #N/A | K34: =+IF($F34="oui",+VLOOKUP($A34,DATA!$A:$AG,DATA!$X$3,FALSE),0) -> #N/A | L34: =+IF($F34="oui",+VLOOKUP($A34,DATA!$A:$AG,DATA!$Z$3,FALSE),0) -> #N/A | M34: =+IF($F34="oui",+VLOOKUP($A34,DATA!$A:$AG,DATA!$AB$3,FALSE),0) -> #N/A | N34: =+IF($F34="oui",+VLOOKUP($A34,DATA!$A:$AG,DATA!$AD$3,FALSE),0) -> #N/A | O34: =+IF($F34="oui",+VLOOKUP($A34,DATA!$A:$AG,DATA!$AF$3,FALSE),0) -> #N/A | P34: =SUM(G34:O34) -> #N/A | Q34: =+IF($F34="oui",+VLOOKUP($A34,DATA!$A:$AG,DATA!$Q$3,FALSE),0) -> #N/A | R34: =+IF($F34="oui",+VLOOKUP($A34,DATA!$A:$AG,DATA!$S$3,FALSE),0) -> #N/A | S34: =+IF($F34="oui",+VLOOKUP($A34,DATA!$A:$AG,DATA!$U$3,FALSE),0) -> #N/A | T34: =+IF($F34="oui",+VLOOKUP($A34,DATA!$A:$AG,DATA!$W$3,FALSE),0) -> #N/A | U34: =+IF($F34="oui",+VLOOKUP($A34,DATA!$A:$AG,DATA!$Y$3,FALSE),0) -> #N/A | V34: =+IF($F34="oui",+VLOOKUP($A34,DATA!$A:$AG,DATA!$AA$3,FALSE),0) -> #N/A | W34: =+IF($F34="oui",+VLOOKUP($A34,DATA!$A:$AG,DATA!$AC$3,FALSE),0) -> #N/A | X34: =+IF($F34="oui",+VLOOKUP($A34,DATA!$A:$AG,DATA!$AE$3,FALSE),0) -> #N/A | Y34: =+IF($F34="oui",+VLOOKUP($A34,DATA!$A:$AG,DATA!$AG$3,FALSE),0) -> #N/A | Z34: =SUM(Q34:Y34) -> #N/A | AA34: =+AA33+Q34 -> #N/A | AB34: =+AB33+R34 -> #N/A | AC34: =+AC33+S34 -> #N/A | AD34: =+AD33+T34 -> #N/A | AE34: =+AE33+U34 -> #N/A | AF34: =+AF33+V34 -> #N/A | AG34: =+AG33+W34 -> #N/A | AH34: =+AH33+X34 -> #N/A | AI34: =+AI33+Y34 -> #N/A | AJ34: =+IF(Q34=0," ",+WORKDAY.INTL(+VLOOKUP(AJ$1,POSTE!$B:$G,3,FALSE),+CUM!AA33/+VLOOKUP(AJ$1,POSTE!$B:$H,7,FALSE),,CONGÉ!$C$2:$C$80)) -> #N/A | AK34: =+IF(R34=0," ",+WORKDAY.INTL(+VLOOKUP(AK$1,POSTE!$B:$G,3,FALSE),+CUM!AB33/+VLOOKUP(AK$1,POSTE!$B:$H,7,FALSE),,CONGÉ!$C$2:$C$80)) -> #N/A | AL34: =+IF(S34=0," ",+WORKDAY.INTL(+VLOOKUP(AL$1,POSTE!$B:$G,3,FALSE),+CUM!AC33/+VLOOKUP(AL$1,POSTE!$B:$H,7,FALSE),,CONGÉ!$C$2:$C$80)) -> #N/A | AM34: =+IF(T34=0," ",+WORKDAY.INTL(+VLOOKUP(AM$1,POSTE!$B:$G,3,FALSE),+CUM!AD33/+VLOOKUP(AM$1,POSTE!$B:$H,7,FALSE),,CONGÉ!$C$2:$C$80)) -> #N/A | AN34: =+IF(U34=0," ",+WORKDAY.INTL(+VLOOKUP(AN$1,POSTE!$B:$G,3,FALSE),+CUM!AE33/+VLOOKUP(AN$1,POSTE!$B:$H,7,FALSE),,CONGÉ!$C$2:$C$80)) -> #N/A | AO34: =+IF(V34=0," ",+WORKDAY.INTL(+VLOOKUP(AO$1,POSTE!$B:$G,3,FALSE),+CUM!AF33/+VLOOKUP(AO$1,POSTE!$B:$H,7,FALSE),,CONGÉ!$C$2:$C$80)) -> #N/A | AP34: =+IF(W34=0," ",+WORKDAY.INTL(+VLOOKUP(AP$1,POSTE!$B:$G,3,FALSE),+CUM!AG33/+VLOOKUP(AP$1,POSTE!$B:$H,7,FALSE),,CONGÉ!$C$2:$C$80)) -> #N/A | AQ34: =+IF(X34=0," ",+WORKDAY.INTL(+VLOOKUP(AQ$1,POSTE!$B:$G,3,FALSE),+CUM!AH33/+VLOOKUP(AQ$1,POSTE!$B:$H,7,FALSE),,CONGÉ!$C$2:$C$80)) -> #N/A | AR34: =+IF(Y34=0," ",+WORKDAY.INTL(+VLOOKUP(AR$1,POSTE!$B:$G,3,FALSE),+CUM!AI33/+VLOOKUP(AR$1,POSTE!$B:$H,7,FALSE),,CONGÉ!$C$2:$C$80)) -> #N/A | AS34: =+IF(Q34=0," ",+WORKDAY.INTL(+VLOOKUP(AS$1,POSTE!$B:$G,3,FALSE),+CUM!AA34/+VLOOKUP(AS$1,POSTE!$B:$H,7,FALSE),,CONGÉ!$C$2:$C$80)) -> #N/A | AT34: =+IF(R34=0," ",+WORKDAY.INTL(+VLOOKUP(AT$1,POSTE!$B:$G,3,FALSE),+CUM!AB34/+VLOOKUP(AT$1,POSTE!$B:$H,7,FALSE),,CONGÉ!$C$2:$C$80)) -> #N/A | AU34: =+IF(AND(S34=0,T34=0)," ",+WORKDAY.INTL(+VLOOKUP($AS$1,POSTE!B:J,3,FALSE),+(((AC34*POSTE!$H$5)+(CUM!AD34*POSTE!$H$4))/(POSTE!$H$4*POSTE!$H$5*2)),,CONGÉ!$C$2:$C$80)) -> #N/A | AV34: =+IF(U34=0," ",+WORKDAY.INTL(+VLOOKUP(AV$1,POSTE!$B:$G,3,FALSE),+CUM!AE34/+VLOOKUP(AV$1,POSTE!$B:$H,7,FALSE),,CONGÉ!$C$2:$C$80)) -> #N/A | AW34: =+IF(V34=0," ",+WORKDAY.INTL(+VLOOKUP(AW$1,POSTE!$B:$G,3,FALSE),+CUM!AF34/+VLOOKUP(AW$1,POSTE!$B:$H,7,FALSE),,CONGÉ!$C$2:$C$80)) -> #N/A | AX34: =+IF(W34=0," ",+WORKDAY.INTL(+VLOOKUP(AX$1,POSTE!$B:$G,3,FALSE),+CUM!AG34/+VLOOKUP(AX$1,POSTE!$B:$H,7,FALSE),,CONGÉ!$C$2:$C$80)) -> #N/A | AY34: =+IF(X34=0," ",+WORKDAY.INTL(+VLOOKUP(AY$1,POSTE!$B:$G,3,FALSE),+CUM!AH34/+VLOOKUP(AY$1,POSTE!$B:$H,7,FALSE),,CONGÉ!$C$2:$C$80)) -> #N/A | AZ34: =+IF(Y34=0," ",+WORKDAY.INTL(+VLOOKUP(AZ$1,POSTE!$B:$G,3,FALSE),+CUM!AI34/+VLOOKUP(AZ$1,POSTE!$B:$H,7,FALSE),,CONGÉ!$C$2:$C$80)) -> #N/A | BA34: =+IF(S34=0," ",+WORKDAY.INTL(+VLOOKUP(BA$1,POSTE!$B:$G,3,FALSE),+CUM!AC34/+VLOOKUP(BA$1,POSTE!$B:$H,7,FALSE),,CONGÉ!$C$2:$C$80)) -> #N/A | BB34: =+IF(T34=0," ",+WORKDAY.INTL(+VLOOKUP(BB$1,POSTE!$B:$G,3,FALSE),+CUM!AD34/+VLOOKUP(BB$1,POSTE!$B:$H,7,FALSE),,CONGÉ!$C$2:$C$80)) -> #N/A | BC34: =+IF(+MIN(AJ34:AZ34)>0,+MIN(AJ34:AZ34)," ") -> #N/A | BD34: =+IF(+MAX(AS34:AZ34)>0,+MAX(AS34:AZ34)," ") -> #N/A | BE34: =+IF($F34="oui",+VLOOKUP($A34,DATA!$A:$AH,DATA!$AH$3,FALSE),0) -> #N/A | BF34: =+BF33+BE34 -> #N/A | BG34: =+IF(BE34>0,+MAX((BH$4:BH33),BD34),"") -> #N/A | BH34: =+IF(BE34>0,+MAX((BH$4:BH33),+WORKDAY.INTL(BG34,+BE34/8,,CONGÉ!$C$2:$C$73)),"") -> #N/A | BI34: =+IF(BE34=0,+IFERROR(+EDATE(BD34,1)," "),+EDATE(BH34,1)) -> #N/A | BJ34: =+AC34+AD34 -> #N/A | BK34: =+TODAY() -> 45754 | BL34: =+(((AC34*POSTE!$H$5)+(CUM!AD34*POSTE!$H$4))/(POSTE!$H$4*POSTE!$H$5*2)) -> #N/A | BM34: =+WORKDAY.INTL(BK34,BL34,,CONGÉ!C$4:C$72) -> #N/A | BN34: =+AU34-BM34 -> #N/A
A35: =+ROW()-ROW($A$4) -> 31 | B35: {=_xlfn.LET(_xlpm.CORR,IF(DATA!$B$4:$B$104="",IF(DATA!$A$4:$A$104="","--",DATA!$A$4:$A$104),DATA!$B$4:$B$104),_xlpm.Rx,SMALL(_xlpm.CORR,A35),IFERROR(MATCH(_xlpm.Rx,_xlpm.CORR,0),0))} -> 0 | C35: =+VLOOKUP($A35,DATA!$A:$AG,DATA!$E$3,FALSE) -> #N/A | D35: =+VLOOKUP($A35,DATA!$A:$AG,DATA!$D$3,FALSE) -> #N/A | E35: =+VLOOKUP($A35,DATA!$A:$AG,DATA!$G$3,FALSE) -> #N/A | F35: =+VLOOKUP($A35,DATA!$A:$AG,DATA!$O$3,FALSE) -> #N/A | G35: =+IF($F35="oui",+VLOOKUP($A35,DATA!$A:$AG,DATA!$P$3,FALSE),0) -> #N/A | H35: =+IF($F35="oui",+VLOOKUP($A35,DATA!$A:$AG,DATA!$R$3,FALSE),0) -> #N/A | I35: =+IF($F35="oui",+VLOOKUP($A35,DATA!$A:$AG,DATA!$T$3,FALSE),0) -> #N/A | J35: =+IF($F35="oui",+VLOOKUP($A35,DATA!$A:$AG,DATA!$V$3,FALSE),0) -> #N/A | K35: =+IF($F35="oui",+VLOOKUP($A35,DATA!$A:$AG,DATA!$X$3,FALSE),0) -> #N/A | L35: =+IF($F35="oui",+VLOOKUP($A35,DATA!$A:$AG,DATA!$Z$3,FALSE),0) -> #N/A | M35: =+IF($F35="oui",+VLOOKUP($A35,DATA!$A:$AG,DATA!$AB$3,FALSE),0) -> #N/A | N35: =+IF($F35="oui",+VLOOKUP($A35,DATA!$A:$AG,DATA!$AD$3,FALSE),0) -> #N/A | O35: =+IF($F35="oui",+VLOOKUP($A35,DATA!$A:$AG,DATA!$AF$3,FALSE),0) -> #N/A | P35: =SUM(G35:O35) -> #N/A | Q35: =+IF($F35="oui",+VLOOKUP($A35,DATA!$A:$AG,DATA!$Q$3,FALSE),0) -> #N/A | R35: =+IF($F35="oui",+VLOOKUP($A35,DATA!$A:$AG,DATA!$S$3,FALSE),0) -> #N/A | S35: =+IF($F35="oui",+VLOOKUP($A35,DATA!$A:$AG,DATA!$U$3,FALSE),0) -> #N/A | T35: =+IF($F35="oui",+VLOOKUP($A35,DATA!$A:$AG,DATA!$W$3,FALSE),0) -> #N/A | U35: =+IF($F35="oui",+VLOOKUP($A35,DATA!$A:$AG,DATA!$Y$3,FALSE),0) -> #N/A | V35: =+IF($F35="oui",+VLOOKUP($A35,DATA!$A:$AG,DATA!$AA$3,FALSE),0) -> #N/A | W35: =+IF($F35="oui",+VLOOKUP($A35,DATA!$A:$AG,DATA!$AC$3,FALSE),0) -> #N/A | X35: =+IF($F35="oui",+VLOOKUP($A35,DATA!$A:$AG,DATA!$AE$3,FALSE),0) -> #N/A | Y35: =+IF($F35="oui",+VLOOKUP($A35,DATA!$A:$AG,DATA!$AG$3,FALSE),0) -> #N/A | Z35: =SUM(Q35:Y35) -> #N/A | AA35: =+AA34+Q35 -> #N/A | AB35: =+AB34+R35 -> #N/A | AC35: =+AC34+S35 -> #N/A | AD35: =+AD34+T35 -> #N/A | AE35: =+AE34+U35 -> #N/A | AF35: =+AF34+V35 -> #N/A | AG35: =+AG34+W35 -> #N/A | AH35: =+AH34+X35 -> #N/A | AI35: =+AI34+Y35 -> #N/A | AJ35: =+IF(Q35=0," ",+WORKDAY.INTL(+VLOOKUP(AJ$1,POSTE!$B:$G,3,FALSE),+CUM!AA34/+VLOOKUP(AJ$1,POSTE!$B:$H,7,FALSE),,CONGÉ!$C$2:$C$80)) -> #N/A | AK35: =+IF(R35=0," ",+WORKDAY.INTL(+VLOOKUP(AK$1,POSTE!$B:$G,3,FALSE),+CUM!AB34/+VLOOKUP(AK$1,POSTE!$B:$H,7,FALSE),,CONGÉ!$C$2:$C$80)) -> #N/A | AL35: =+IF(S35=0," ",+WORKDAY.INTL(+VLOOKUP(AL$1,POSTE!$B:$G,3,FALSE),+CUM!AC34/+VLOOKUP(AL$1,POSTE!$B:$H,7,FALSE),,CONGÉ!$C$2:$C$80)) -> #N/A | AM35: =+IF(T35=0," ",+WORKDAY.INTL(+VLOOKUP(AM$1,POSTE!$B:$G,3,FALSE),+CUM!AD34/+VLOOKUP(AM$1,POSTE!$B:$H,7,FALSE),,CONGÉ!$C$2:$C$80)) -> #N/A | AN35: =+IF(U35=0," ",+WORKDAY.INTL(+VLOOKUP(AN$1,POSTE!$B:$G,3,FALSE),+CUM!AE34/+VLOOKUP(AN$1,POSTE!$B:$H,7,FALSE),,CONGÉ!$C$2:$C$80)) -> #N/A | AO35: =+IF(V35=0," ",+WORKDAY.INTL(+VLOOKUP(AO$1,POSTE!$B:$G,3,FALSE),+CUM!AF34/+VLOOKUP(AO$1,POSTE!$B:$H,7,FALSE),,CONGÉ!$C$2:$C$80)) -> #N/A | AP35: =+IF(W35=0," ",+WORKDAY.INTL(+VLOOKUP(AP$1,POSTE!$B:$G,3,FALSE),+CUM!AG34/+VLOOKUP(AP$1,POSTE!$B:$H,7,FALSE),,CONGÉ!$C$2:$C$80)) -> #N/A | AQ35: =+IF(X35=0," ",+WORKDAY.INTL(+VLOOKUP(AQ$1,POSTE!$B:$G,3,FALSE),+CUM!AH34/+VLOOKUP(AQ$1,POSTE!$B:$H,7,FALSE),,CONGÉ!$C$2:$C$80)) -> #N/A | AR35: =+IF(Y35=0," ",+WORKDAY.INTL(+VLOOKUP(AR$1,POSTE!$B:$G,3,FALSE),+CUM!AI34/+VLOOKUP(AR$1,POSTE!$B:$H,7,FALSE),,CONGÉ!$C$2:$C$80)) -> #N/A | AS35: =+IF(Q35=0," ",+WORKDAY.INTL(+VLOOKUP(AS$1,POSTE!$B:$G,3,FALSE),+CUM!AA35/+VLOOKUP(AS$1,POSTE!$B:$H,7,FALSE),,CONGÉ!$C$2:$C$80)) -> #N/A | AT35: =+IF(R35=0," ",+WORKDAY.INTL(+VLOOKUP(AT$1,POSTE!$B:$G,3,FALSE),+CUM!AB35/+VLOOKUP(AT$1,POSTE!$B:$H,7,FALSE),,CONGÉ!$C$2:$C$80)) -> #N/A | AU35: =+IF(AND(S35=0,T35=0)," ",+WORKDAY.INTL(+VLOOKUP($AS$1,POSTE!B:J,3,FALSE),+(((AC35*POSTE!$H$5)+(CUM!AD35*POSTE!$H$4))/(POSTE!$H$4*POSTE!$H$5*2)),,CONGÉ!$C$2:$C$80)) -> #N/A | AV35: =+IF(U35=0," ",+WORKDAY.INTL(+VLOOKUP(AV$1,POSTE!$B:$G,3,FALSE),+CUM!AE35/+VLOOKUP(AV$1,POSTE!$B:$H,7,FALSE),,CONGÉ!$C$2:$C$80)) -> #N/A | AW35: =+IF(V35=0," ",+WORKDAY.INTL(+VLOOKUP(AW$1,POSTE!$B:$G,3,FALSE),+CUM!AF35/+VLOOKUP(AW$1,POSTE!$B:$H,7,FALSE),,CONGÉ!$C$2:$C$80)) -> #N/A | AX35: =+IF(W35=0," ",+WORKDAY.INTL(+VLOOKUP(AX$1,POSTE!$B:$G,3,FALSE),+CUM!AG35/+VLOOKUP(AX$1,POSTE!$B:$H,7,FALSE),,CONGÉ!$C$2:$C$80)) -> #N/A | AY35: =+IF(X35=0," ",+WORKDAY.INTL(+VLOOKUP(AY$1,POSTE!$B:$G,3,FALSE),+CUM!AH35/+VLOOKUP(AY$1,POSTE!$B:$H,7,FALSE),,CONGÉ!$C$2:$C$80)) -> #N/A | AZ35: =+IF(Y35=0," ",+WORKDAY.INTL(+VLOOKUP(AZ$1,POSTE!$B:$G,3,FALSE),+CUM!AI35/+VLOOKUP(AZ$1,POSTE!$B:$H,7,FALSE),,CONGÉ!$C$2:$C$80)) -> #N/A | BA35: =+IF(S35=0," ",+WORKDAY.INTL(+VLOOKUP(BA$1,POSTE!$B:$G,3,FALSE),+CUM!AC35/+VLOOKUP(BA$1,POSTE!$B:$H,7,FALSE),,CONGÉ!$C$2:$C$80)) -> #N/A | BB35: =+IF(T35=0," ",+WORKDAY.INTL(+VLOOKUP(BB$1,POSTE!$B:$G,3,FALSE),+CUM!AD35/+VLOOKUP(BB$1,POSTE!$B:$H,7,FALSE),,CONGÉ!$C$2:$C$80)) -> #N/A | BC35: =+IF(+MIN(AJ35:AZ35)>0,+MIN(AJ35:AZ35)," ") -> #N/A | BD35: =+IF(+MAX(AS35:AZ35)>0,+MAX(AS35:AZ35)," ") -> #N/A | BE35: =+IF($F35="oui",+VLOOKUP($A35,DATA!$A:$AH,DATA!$AH$3,FALSE),0) -> #N/A | BF35: =+BF34+BE35 -> #N/A | BG35: =+IF(BE35>0,+MAX((BH$4:BH34),BD35),"") -> #N/A | BH35: =+IF(BE35>0,+MAX((BH$4:BH34),+WORKDAY.INTL(BG35,+BE35/8,,CONGÉ!$C$2:$C$73)),"") -> #N/A | BI35: =+IF(BE35=0,+IFERROR(+EDATE(BD35,1)," "),+EDATE(BH35,1)) -> #N/A | BJ35: =+AC35+AD35 -> #N/A | BK35: =+TODAY() -> 45754 | BL35: =+(((AC35*POSTE!$H$5)+(CUM!AD35*POSTE!$H$4))/(POSTE!$H$4*POSTE!$H$5*2)) -> #N/A | BM35: =+WORKDAY.INTL(BK35,BL35,,CONGÉ!C$4:C$72) -> #N/A | BN35: =+AU35-BM35 -> #N/A
A36: =+ROW()-ROW($A$4) -> 32 | B36: {=_xlfn.LET(_xlpm.CORR,IF(DATA!$B$4:$B$104="",IF(DATA!$A$4:$A$104="","--",DATA!$A$4:$A$104),DATA!$B$4:$B$104),_xlpm.Rx,SMALL(_xlpm.CORR,A36),IFERROR(MATCH(_xlpm.Rx,_xlpm.CORR,0),0))} -> 0 | C36: =+VLOOKUP($A36,DATA!$A:$AG,DATA!$E$3,FALSE) -> #N/A | D36: =+VLOOKUP($A36,DATA!$A:$AG,DATA!$D$3,FALSE) -> #N/A | E36: =+VLOOKUP($A36,DATA!$A:$AG,DATA!$G$3,FALSE) -> #N/A | F36: =+VLOOKUP($A36,DATA!$A:$AG,DATA!$O$3,FALSE) -> #N/A | G36: =+IF($F36="oui",+VLOOKUP($A36,DATA!$A:$AG,DATA!$P$3,FALSE),0) -> #N/A | H36: =+IF($F36="oui",+VLOOKUP($A36,DATA!$A:$AG,DATA!$R$3,FALSE),0) -> #N/A | I36: =+IF($F36="oui",+VLOOKUP($A36,DATA!$A:$AG,DATA!$T$3,FALSE),0) -> #N/A | J36: =+IF($F36="oui",+VLOOKUP($A36,DATA!$A:$AG,DATA!$V$3,FALSE),0) -> #N/A | K36: =+IF($F36="oui",+VLOOKUP($A36,DATA!$A:$AG,DATA!$X$3,FALSE),0) -> #N/A | L36: =+IF($F36="oui",+VLOOKUP($A36,DATA!$A:$AG,DATA!$Z$3,FALSE),0) -> #N/A | M36: =+IF($F36="oui",+VLOOKUP($A36,DATA!$A:$AG,DATA!$AB$3,FALSE),0) -> #N/A | N36: =+IF($F36="oui",+VLOOKUP($A36,DATA!$A:$AG,DATA!$AD$3,FALSE),0) -> #N/A | O36: =+IF($F36="oui",+VLOOKUP($A36,DATA!$A:$AG,DATA!$AF$3,FALSE),0) -> #N/A | P36: =SUM(G36:O36) -> #N/A | Q36: =+IF($F36="oui",+VLOOKUP($A36,DATA!$A:$AG,DATA!$Q$3,FALSE),0) -> #N/A | R36: =+IF($F36="oui",+VLOOKUP($A36,DATA!$A:$AG,DATA!$S$3,FALSE),0) -> #N/A | S36: =+IF($F36="oui",+VLOOKUP($A36,DATA!$A:$AG,DATA!$U$3,FALSE),0) -> #N/A | T36: =+IF($F36="oui",+VLOOKUP($A36,DATA!$A:$AG,DATA!$W$3,FALSE),0) -> #N/A | U36: =+IF($F36="oui",+VLOOKUP($A36,DATA!$A:$AG,DATA!$Y$3,FALSE),0) -> #N/A | V36: =+IF($F36="oui",+VLOOKUP($A36,DATA!$A:$AG,DATA!$AA$3,FALSE),0) -> #N/A | W36: =+IF($F36="oui",+VLOOKUP($A36,DATA!$A:$AG,DATA!$AC$3,FALSE),0) -> #N/A | X36: =+IF($F36="oui",+VLOOKUP($A36,DATA!$A:$AG,DATA!$AE$3,FALSE),0) -> #N/A | Y36: =+IF($F36="oui",+VLOOKUP($A36,DATA!$A:$AG,DATA!$AG$3,FALSE),0) -> #N/A | Z36: =SUM(Q36:Y36) -> #N/A | AA36: =+AA35+Q36 -> #N/A | AB36: =+AB35+R36 -> #N/A | AC36: =+AC35+S36 -> #N/A | AD36: =+AD35+T36 -> #N/A | AE36: =+AE35+U36 -> #N/A | AF36: =+AF35+V36 -> #N/A | AG36: =+AG35+W36 -> #N/A | AH36: =+AH35+X36 -> #N/A | AI36: =+AI35+Y36 -> #N/A | AJ36: =+IF(Q36=0," ",+WORKDAY.INTL(+VLOOKUP(AJ$1,POSTE!$B:$G,3,FALSE),+CUM!AA35/+VLOOKUP(AJ$1,POSTE!$B:$H,7,FALSE),,CONGÉ!$C$2:$C$80)) -> #N/A | AK36: =+IF(R36=0," ",+WORKDAY.INTL(+VLOOKUP(AK$1,POSTE!$B:$G,3,FALSE),+CUM!AB35/+VLOOKUP(AK$1,POSTE!$B:$H,7,FALSE),,CONGÉ!$C$2:$C$80)) -> #N/A | AL36: =+IF(S36=0," ",+WORKDAY.INTL(+VLOOKUP(AL$1,POSTE!$B:$G,3,FALSE),+CUM!AC35/+VLOOKUP(AL$1,POSTE!$B:$H,7,FALSE),,CONGÉ!$C$2:$C$80)) -> #N/A | AM36: =+IF(T36=0," ",+WORKDAY.INTL(+VLOOKUP(AM$1,POSTE!$B:$G,3,FALSE),+CUM!AD35/+VLOOKUP(AM$1,POSTE!$B:$H,7,FALSE),,CONGÉ!$C$2:$C$80)) -> #N/A | AN36: =+IF(U36=0," ",+WORKDAY.INTL(+VLOOKUP(AN$1,POSTE!$B:$G,3,FALSE),+CUM!AE35/+VLOOKUP(AN$1,POSTE!$B:$H,7,FALSE),,CONGÉ!$C$2:$C$80)) -> #N/A | AO36: =+IF(V36=0," ",+WORKDAY.INTL(+VLOOKUP(AO$1,POSTE!$B:$G,3,FALSE),+CUM!AF35/+VLOOKUP(AO$1,POSTE!$B:$H,7,FALSE),,CONGÉ!$C$2:$C$80)) -> #N/A | AP36: =+IF(W36=0," ",+WORKDAY.INTL(+VLOOKUP(AP$1,POSTE!$B:$G,3,FALSE),+CUM!AG35/+VLOOKUP(AP$1,POSTE!$B:$H,7,FALSE),,CONGÉ!$C$2:$C$80)) -> #N/A | AQ36: =+IF(X36=0," ",+WORKDAY.INTL(+VLOOKUP(AQ$1,POSTE!$B:$G,3,FALSE),+CUM!AH35/+VLOOKUP(AQ$1,POSTE!$B:$H,7,FALSE),,CONGÉ!$C$2:$C$80)) -> #N/A | AR36: =+IF(Y36=0," ",+WORKDAY.INTL(+VLOOKUP(AR$1,POSTE!$B:$G,3,FALSE),+CUM!AI35/+VLOOKUP(AR$1,POSTE!$B:$H,7,FALSE),,CONGÉ!$C$2:$C$80)) -> #N/A | AS36: =+IF(Q36=0," ",+WORKDAY.INTL(+VLOOKUP(AS$1,POSTE!$B:$G,3,FALSE),+CUM!AA36/+VLOOKUP(AS$1,POSTE!$B:$H,7,FALSE),,CONGÉ!$C$2:$C$80)) -> #N/A | AT36: =+IF(R36=0," ",+WORKDAY.INTL(+VLOOKUP(AT$1,POSTE!$B:$G,3,FALSE),+CUM!AB36/+VLOOKUP(AT$1,POSTE!$B:$H,7,FALSE),,CONGÉ!$C$2:$C$80)) -> #N/A | AU36: =+IF(AND(S36=0,T36=0)," ",+WORKDAY.INTL(+VLOOKUP($AS$1,POSTE!B:J,3,FALSE),+(((AC36*POSTE!$H$5)+(CUM!AD36*POSTE!$H$4))/(POSTE!$H$4*POSTE!$H$5*2)),,CONGÉ!$C$2:$C$80)) -> #N/A | AV36: =+IF(U36=0," ",+WORKDAY.INTL(+VLOOKUP(AV$1,POSTE!$B:$G,3,FALSE),+CUM!AE36/+VLOOKUP(AV$1,POSTE!$B:$H,7,FALSE),,CONGÉ!$C$2:$C$80)) -> #N/A | AW36: =+IF(V36=0," ",+WORKDAY.INTL(+VLOOKUP(AW$1,POSTE!$B:$G,3,FALSE),+CUM!AF36/+VLOOKUP(AW$1,POSTE!$B:$H,7,FALSE),,CONGÉ!$C$2:$C$80)) -> #N/A | AX36: =+IF(W36=0," ",+WORKDAY.INTL(+VLOOKUP(AX$1,POSTE!$B:$G,3,FALSE),+CUM!AG36/+VLOOKUP(AX$1,POSTE!$B:$H,7,FALSE),,CONGÉ!$C$2:$C$80)) -> #N/A | AY36: =+IF(X36=0," ",+WORKDAY.INTL(+VLOOKUP(AY$1,POSTE!$B:$G,3,FALSE),+CUM!AH36/+VLOOKUP(AY$1,POSTE!$B:$H,7,FALSE),,CONGÉ!$C$2:$C$80)) -> #N/A | AZ36: =+IF(Y36=0," ",+WORKDAY.INTL(+VLOOKUP(AZ$1,POSTE!$B:$G,3,FALSE),+CUM!AI36/+VLOOKUP(AZ$1,POSTE!$B:$H,7,FALSE),,CONGÉ!$C$2:$C$80)) -> #N/A | BA36: =+IF(S36=0," ",+WORKDAY.INTL(+VLOOKUP(BA$1,POSTE!$B:$G,3,FALSE),+CUM!AC36/+VLOOKUP(BA$1,POSTE!$B:$H,7,FALSE),,CONGÉ!$C$2:$C$80)) -> #N/A | BB36: =+IF(T36=0," ",+WORKDAY.INTL(+VLOOKUP(BB$1,POSTE!$B:$G,3,FALSE),+CUM!AD36/+VLOOKUP(BB$1,POSTE!$B:$H,7,FALSE),,CONGÉ!$C$2:$C$80)) -> #N/A | BC36: =+IF(+MIN(AJ36:AZ36)>0,+MIN(AJ36:AZ36)," ") -> #N/A | BD36: =+IF(+MAX(AS36:AZ36)>0,+MAX(AS36:AZ36)," ") -> #N/A | BE36: =+IF($F36="oui",+VLOOKUP($A36,DATA!$A:$AH,DATA!$AH$3,FALSE),0) -> #N/A | BF36: =+BF35+BE36 -> #N/A | BG36: =+IF(BE36>0,+MAX((BH$4:BH35),BD36),"") -> #N/A | BH36: =+IF(BE36>0,+MAX((BH$4:BH35),+WORKDAY.INTL(BG36,+BE36/8,,CONGÉ!$C$2:$C$73)),"") -> #N/A | BI36: =+IF(BE36=0,+IFERROR(+EDATE(BD36,1)," "),+EDATE(BH36,1)) -> #N/A | BJ36: =+AC36+AD36 -> #N/A | BK36: =+TODAY() -> 45754 | BL36: =+(((AC36*POSTE!$H$5)+(CUM!AD36*POSTE!$H$4))/(POSTE!$H$4*POSTE!$H$5*2)) -> #N/A | BM36: =+WORKDAY.INTL(BK36,BL36,,CONGÉ!C$4:C$72) -> #N/A | BN36: =+AU36-BM36 -> #N/A
A37: =+ROW()-ROW($A$4) -> 33 | B37: {=_xlfn.LET(_xlpm.CORR,IF(DATA!$B$4:$B$104="",IF(DATA!$A$4:$A$104="","--",DATA!$A$4:$A$104),DATA!$B$4:$B$104),_xlpm.Rx,SMALL(_xlpm.CORR,A37),IFERROR(MATCH(_xlpm.Rx,_xlpm.CORR,0),0))} -> 0 | C37: =+VLOOKUP($A37,DATA!$A:$AG,DATA!$E$3,FALSE) -> #N/A | D37: =+VLOOKUP($A37,DATA!$A:$AG,DATA!$D$3,FALSE) -> #N/A | E37: =+VLOOKUP($A37,DATA!$A:$AG,DATA!$G$3,FALSE) -> #N/A | F37: =+VLOOKUP($A37,DATA!$A:$AG,DATA!$O$3,FALSE) -> #N/A | G37: =+IF($F37="oui",+VLOOKUP($A37,DATA!$A:$AG,DATA!$P$3,FALSE),0) -> #N/A | H37: =+IF($F37="oui",+VLOOKUP($A37,DATA!$A:$AG,DATA!$R$3,FALSE),0) -> #N/A | I37: =+IF($F37="oui",+VLOOKUP($A37,DATA!$A:$AG,DATA!$T$3,FALSE),0) -> #N/A | J37: =+IF($F37="oui",+VLOOKUP($A37,DATA!$A:$AG,DATA!$V$3,FALSE),0) -> #N/A | K37: =+IF($F37="oui",+VLOOKUP($A37,DATA!$A:$AG,DATA!$X$3,FALSE),0) -> #N/A | L37: =+IF($F37="oui",+VLOOKUP($A37,DATA!$A:$AG,DATA!$Z$3,FALSE),0) -> #N/A | M37: =+IF($F37="oui",+VLOOKUP($A37,DATA!$A:$AG,DATA!$AB$3,FALSE),0) -> #N/A | N37: =+IF($F37="oui",+VLOOKUP($A37,DATA!$A:$AG,DATA!$AD$3,FALSE),0) -> #N/A | O37: =+IF($F37="oui",+VLOOKUP($A37,DATA!$A:$AG,DATA!$AF$3,FALSE),0) -> #N/A | P37: =SUM(G37:O37) -> #N/A | Q37: =+IF($F37="oui",+VLOOKUP($A37,DATA!$A:$AG,DATA!$Q$3,FALSE),0) -> #N/A | R37: =+IF($F37="oui",+VLOOKUP($A37,DATA!$A:$AG,DATA!$S$3,FALSE),0) -> #N/A | S37: =+IF($F37="oui",+VLOOKUP($A37,DATA!$A:$AG,DATA!$U$3,FALSE),0) -> #N/A | T37: =+IF($F37="oui",+VLOOKUP($A37,DATA!$A:$AG,DATA!$W$3,FALSE),0) -> #N/A | U37: =+IF($F37="oui",+VLOOKUP($A37,DATA!$A:$AG,DATA!$Y$3,FALSE),0) -> #N/A | V37: =+IF($F37="oui",+VLOOKUP($A37,DATA!$A:$AG,DATA!$AA$3,FALSE),0) -> #N/A | W37: =+IF($F37="oui",+VLOOKUP($A37,DATA!$A:$AG,DATA!$AC$3,FALSE),0) -> #N/A | X37: =+IF($F37="oui",+VLOOKUP($A37,DATA!$A:$AG,DATA!$AE$3,FALSE),0) -> #N/A | Y37: =+IF($F37="oui",+VLOOKUP($A37,DATA!$A:$AG,DATA!$AG$3,FALSE),0) -> #N/A | Z37: =SUM(Q37:Y37) -> #N/A | AA37: =+AA36+Q37 -> #N/A | AB37: =+AB36+R37 -> #N/A | AC37: =+AC36+S37 -> #N/A | AD37: =+AD36+T37 -> #N/A | AE37: =+AE36+U37 -> #N/A | AF37: =+AF36+V37 -> #N/A | AG37: =+AG36+W37 -> #N/A | AH37: =+AH36+X37 -> #N/A | AI37: =+AI36+Y37 -> #N/A | AJ37: =+IF(Q37=0," ",+WORKDAY.INTL(+VLOOKUP(AJ$1,POSTE!$B:$G,3,FALSE),+CUM!AA36/+VLOOKUP(AJ$1,POSTE!$B:$H,7,FALSE),,CONGÉ!$C$2:$C$80)) -> #N/A | AK37: =+IF(R37=0," ",+WORKDAY.INTL(+VLOOKUP(AK$1,POSTE!$B:$G,3,FALSE),+CUM!AB36/+VLOOKUP(AK$1,POSTE!$B:$H,7,FALSE),,CONGÉ!$C$2:$C$80)) -> #N/A | AL37: =+IF(S37=0," ",+WORKDAY.INTL(+VLOOKUP(AL$1,POSTE!$B:$G,3,FALSE),+CUM!AC36/+VLOOKUP(AL$1,POSTE!$B:$H,7,FALSE),,CONGÉ!$C$2:$C$80)) -> #N/A | AM37: =+IF(T37=0," ",+WORKDAY.INTL(+VLOOKUP(AM$1,POSTE!$B:$G,3,FALSE),+CUM!AD36/+VLOOKUP(AM$1,POSTE!$B:$H,7,FALSE),,CONGÉ!$C$2:$C$80)) -> #N/A | AN37: =+IF(U37=0," ",+WORKDAY.INTL(+VLOOKUP(AN$1,POSTE!$B:$G,3,FALSE),+CUM!AE36/+VLOOKUP(AN$1,POSTE!$B:$H,7,FALSE),,CONGÉ!$C$2:$C$80)) -> #N/A | AO37: =+IF(V37=0," ",+WORKDAY.INTL(+VLOOKUP(AO$1,POSTE!$B:$G,3,FALSE),+CUM!AF36/+VLOOKUP(AO$1,POSTE!$B:$H,7,FALSE),,CONGÉ!$C$2:$C$80)) -> #N/A | AP37: =+IF(W37=0," ",+WORKDAY.INTL(+VLOOKUP(AP$1,POSTE!$B:$G,3,FALSE),+CUM!AG36/+VLOOKUP(AP$1,POSTE!$B:$H,7,FALSE),,CONGÉ!$C$2:$C$80)) -> #N/A | AQ37: =+IF(X37=0," ",+WORKDAY.INTL(+VLOOKUP(AQ$1,POSTE!$B:$G,3,FALSE),+CUM!AH36/+VLOOKUP(AQ$1,POSTE!$B:$H,7,FALSE),,CONGÉ!$C$2:$C$80)) -> #N/A | AR37: =+IF(Y37=0," ",+WORKDAY.INTL(+VLOOKUP(AR$1,POSTE!$B:$G,3,FALSE),+CUM!AI36/+VLOOKUP(AR$1,POSTE!$B:$H,7,FALSE),,CONGÉ!$C$2:$C$80)) -> #N/A | AS37: =+IF(Q37=0," ",+WORKDAY.INTL(+VLOOKUP(AS$1,POSTE!$B:$G,3,FALSE),+CUM!AA37/+VLOOKUP(AS$1,POSTE!$B:$H,7,FALSE),,CONGÉ!$C$2:$C$80)) -> #N/A | AT37: =+IF(R37=0," ",+WORKDAY.INTL(+VLOOKUP(AT$1,POSTE!$B:$G,3,FALSE),+CUM!AB37/+VLOOKUP(AT$1,POSTE!$B:$H,7,FALSE),,CONGÉ!$C$2:$C$80)) -> #N/A | AU37: =+IF(AND(S37=0,T37=0)," ",+WORKDAY.INTL(+VLOOKUP($AS$1,POSTE!B:J,3,FALSE),+(((AC37*POSTE!$H$5)+(CUM!AD37*POSTE!$H$4))/(POSTE!$H$4*POSTE!$H$5*2)),,CONGÉ!$C$2:$C$80)) -> #N/A | AV37: =+IF(U37=0," ",+WORKDAY.INTL(+VLOOKUP(AV$1,POSTE!$B:$G,3,FALSE),+CUM!AE37/+VLOOKUP(AV$1,POSTE!$B:$H,7,FALSE),,CONGÉ!$C$2:$C$80)) -> #N/A | AW37: =+IF(V37=0," ",+WORKDAY.INTL(+VLOOKUP(AW$1,POSTE!$B:$G,3,FALSE),+CUM!AF37/+VLOOKUP(AW$1,POSTE!$B:$H,7,FALSE),,CONGÉ!$C$2:$C$80)) -> #N/A | AX37: =+IF(W37=0," ",+WORKDAY.INTL(+VLOOKUP(AX$1,POSTE!$B:$G,3,FALSE),+CUM!AG37/+VLOOKUP(AX$1,POSTE!$B:$H,7,FALSE),,CONGÉ!$C$2:$C$80)) -> #N/A | AY37: =+IF(X37=0," ",+WORKDAY.INTL(+VLOOKUP(AY$1,POSTE!$B:$G,3,FALSE),+CUM!AH37/+VLOOKUP(AY$1,POSTE!$B:$H,7,FALSE),,CONGÉ!$C$2:$C$80)) -> #N/A | AZ37: =+IF(Y37=0," ",+WORKDAY.INTL(+VLOOKUP(AZ$1,POSTE!$B:$G,3,FALSE),+CUM!AI37/+VLOOKUP(AZ$1,POSTE!$B:$H,7,FALSE),,CONGÉ!$C$2:$C$80)) -> #N/A | BA37: =+IF(S37=0," ",+WORKDAY.INTL(+VLOOKUP(BA$1,POSTE!$B:$G,3,FALSE),+CUM!AC37/+VLOOKUP(BA$1,POSTE!$B:$H,7,FALSE),,CONGÉ!$C$2:$C$80)) -> #N/A | BB37: =+IF(T37=0," ",+WORKDAY.INTL(+VLOOKUP(BB$1,POSTE!$B:$G,3,FALSE),+CUM!AD37/+VLOOKUP(BB$1,POSTE!$B:$H,7,FALSE),,CONGÉ!$C$2:$C$80)) -> #N/A | BC37: =+IF(+MIN(AJ37:AZ37)>0,+MIN(AJ37:AZ37)," ") -> #N/A | BD37: =+IF(+MAX(AS37:AZ37)>0,+MAX(AS37:AZ37)," ") -> #N/A | BE37: =+IF($F37="oui",+VLOOKUP($A37,DATA!$A:$AH,DATA!$AH$3,FALSE),0) -> #N/A | BF37: =+BF36+BE37 -> #N/A | BG37: =+IF(BE37>0,+MAX((BH$4:BH36),BD37),"") -> #N/A | BH37: =+IF(BE37>0,+MAX((BH$4:BH36),+WORKDAY.INTL(BG37,+BE37/8,,CONGÉ!$C$2:$C$73)),"") -> #N/A | BI37: =+IF(BE37=0,+IFERROR(+EDATE(BD37,1)," "),+EDATE(BH37,1)) -> #N/A | BJ37: =+AC37+AD37 -> #N/A | BK37: =+TODAY() -> 45754 | BL37: =+(((AC37*POSTE!$H$5)+(CUM!AD37*POSTE!$H$4))/(POSTE!$H$4*POSTE!$H$5*2)) -> #N/A | BM37: =+WORKDAY.INTL(BK37,BL37,,CONGÉ!C$4:C$72) -> #N/A | BN37: =+AU37-BM37 -> #N/A
A38: =+ROW()-ROW($A$4) -> 34 | B38: {=_xlfn.LET(_xlpm.CORR,IF(DATA!$B$4:$B$104="",IF(DATA!$A$4:$A$104="","--",DATA!$A$4:$A$104),DATA!$B$4:$B$104),_xlpm.Rx,SMALL(_xlpm.CORR,A38),IFERROR(MATCH(_xlpm.Rx,_xlpm.CORR,0),0))} -> 0 | C38: =+VLOOKUP($A38,DATA!$A:$AG,DATA!$E$3,FALSE) -> #N/A | D38: =+VLOOKUP($A38,DATA!$A:$AG,DATA!$D$3,FALSE) -> #N/A | E38: =+VLOOKUP($A38,DATA!$A:$AG,DATA!$G$3,FALSE) -> #N/A | F38: =+VLOOKUP($A38,DATA!$A:$AG,DATA!$O$3,FALSE) -> #N/A | G38: =+IF($F38="oui",+VLOOKUP($A38,DATA!$A:$AG,DATA!$P$3,FALSE),0) -> #N/A | H38: =+IF($F38="oui",+VLOOKUP($A38,DATA!$A:$AG,DATA!$R$3,FALSE),0) -> #N/A | I38: =+IF($F38="oui",+VLOOKUP($A38,DATA!$A:$AG,DATA!$T$3,FALSE),0) -> #N/A | J38: =+IF($F38="oui",+VLOOKUP($A38,DATA!$A:$AG,DATA!$V$3,FALSE),0) -> #N/A | K38: =+IF($F38="oui",+VLOOKUP($A38,DATA!$A:$AG,DATA!$X$3,FALSE),0) -> #N/A | L38: =+IF($F38="oui",+VLOOKUP($A38,DATA!$A:$AG,DATA!$Z$3,FALSE),0) -> #N/A | M38: =+IF($F38="oui",+VLOOKUP($A38,DATA!$A:$AG,DATA!$AB$3,FALSE),0) -> #N/A | N38: =+IF($F38="oui",+VLOOKUP($A38,DATA!$A:$AG,DATA!$AD$3,FALSE),0) -> #N/A | O38: =+IF($F38="oui",+VLOOKUP($A38,DATA!$A:$AG,DATA!$AF$3,FALSE),0) -> #N/A | P38: =SUM(G38:O38) -> #N/A | Q38: =+IF($F38="oui",+VLOOKUP($A38,DATA!$A:$AG,DATA!$Q$3,FALSE),0) -> #N/A | R38: =+IF($F38="oui",+VLOOKUP($A38,DATA!$A:$AG,DATA!$S$3,FALSE),0) -> #N/A | S38: =+IF($F38="oui",+VLOOKUP($A38,DATA!$A:$AG,DATA!$U$3,FALSE),0) -> #N/A | T38: =+IF($F38="oui",+VLOOKUP($A38,DATA!$A:$AG,DATA!$W$3,FALSE),0) -> #N/A | U38: =+IF($F38="oui",+VLOOKUP($A38,DATA!$A:$AG,DATA!$Y$3,FALSE),0) -> #N/A | V38: =+IF($F38="oui",+VLOOKUP($A38,DATA!$A:$AG,DATA!$AA$3,FALSE),0) -> #N/A | W38: =+IF($F38="oui",+VLOOKUP($A38,DATA!$A:$AG,DATA!$AC$3,FALSE),0) -> #N/A | X38: =+IF($F38="oui",+VLOOKUP($A38,DATA!$A:$AG,DATA!$AE$3,FALSE),0) -> #N/A | Y38: =+IF($F38="oui",+VLOOKUP($A38,DATA!$A:$AG,DATA!$AG$3,FALSE),0) -> #N/A | Z38: =SUM(Q38:Y38) -> #N/A | AA38: =+AA37+Q38 -> #N/A | AB38: =+AB37+R38 -> #N/A | AC38: =+AC37+S38 -> #N/A | AD38: =+AD37+T38 -> #N/A | AE38: =+AE37+U38 -> #N/A | AF38: =+AF37+V38 -> #N/A | AG38: =+AG37+W38 -> #N/A | AH38: =+AH37+X38 -> #N/A | AI38: =+AI37+Y38 -> #N/A | AJ38: =+IF(Q38=0," ",+WORKDAY.INTL(+VLOOKUP(AJ$1,POSTE!$B:$G,3,FALSE),+CUM!AA37/+VLOOKUP(AJ$1,POSTE!$B:$H,7,FALSE),,CONGÉ!$C$2:$C$80)) -> #N/A | AK38: =+IF(R38=0," ",+WORKDAY.INTL(+VLOOKUP(AK$1,POSTE!$B:$G,3,FALSE),+CUM!AB37/+VLOOKUP(AK$1,POSTE!$B:$H,7,FALSE),,CONGÉ!$C$2:$C$80)) -> #N/A | AL38: =+IF(S38=0," ",+WORKDAY.INTL(+VLOOKUP(AL$1,POSTE!$B:$G,3,FALSE),+CUM!AC37/+VLOOKUP(AL$1,POSTE!$B:$H,7,FALSE),,CONGÉ!$C$2:$C$80)) -> #N/A | AM38: =+IF(T38=0," ",+WORKDAY.INTL(+VLOOKUP(AM$1,POSTE!$B:$G,3,FALSE),+CUM!AD37/+VLOOKUP(AM$1,POSTE!$B:$H,7,FALSE),,CONGÉ!$C$2:$C$80)) -> #N/A | AN38: =+IF(U38=0," ",+WORKDAY.INTL(+VLOOKUP(AN$1,POSTE!$B:$G,3,FALSE),+CUM!AE37/+VLOOKUP(AN$1,POSTE!$B:$H,7,FALSE),,CONGÉ!$C$2:$C$80)) -> #N/A | AO38: =+IF(V38=0," ",+WORKDAY.INTL(+VLOOKUP(AO$1,POSTE!$B:$G,3,FALSE),+CUM!AF37/+VLOOKUP(AO$1,POSTE!$B:$H,7,FALSE),,CONGÉ!$C$2:$C$80)) -> #N/A | AP38: =+IF(W38=0," ",+WORKDAY.INTL(+VLOOKUP(AP$1,POSTE!$B:$G,3,FALSE),+CUM!AG37/+VLOOKUP(AP$1,POSTE!$B:$H,7,FALSE),,CONGÉ!$C$2:$C$80)) -> #N/A | AQ38: =+IF(X38=0," ",+WORKDAY.INTL(+VLOOKUP(AQ$1,POSTE!$B:$G,3,FALSE),+CUM!AH37/+VLOOKUP(AQ$1,POSTE!$B:$H,7,FALSE),,CONGÉ!$C$2:$C$80)) -> #N/A | AR38: =+IF(Y38=0," ",+WORKDAY.INTL(+VLOOKUP(AR$1,POSTE!$B:$G,3,FALSE),+CUM!AI37/+VLOOKUP(AR$1,POSTE!$B:$H,7,FALSE),,CONGÉ!$C$2:$C$80)) -> #N/A | AS38: =+IF(Q38=0," ",+WORKDAY.INTL(+VLOOKUP(AS$1,POSTE!$B:$G,3,FALSE),+CUM!AA38/+VLOOKUP(AS$1,POSTE!$B:$H,7,FALSE),,CONGÉ!$C$2:$C$80)) -> #N/A | AT38: =+IF(R38=0," ",+WORKDAY.INTL(+VLOOKUP(AT$1,POSTE!$B:$G,3,FALSE),+CUM!AB38/+VLOOKUP(AT$1,POSTE!$B:$H,7,FALSE),,CONGÉ!$C$2:$C$80)) -> #N/A | AU38: =+IF(AND(S38=0,T38=0)," ",+WORKDAY.INTL(+VLOOKUP($AS$1,POSTE!B:J,3,FALSE),+(((AC38*POSTE!$H$5)+(CUM!AD38*POSTE!$H$4))/(POSTE!$H$4*POSTE!$H$5*2)),,CONGÉ!$C$2:$C$80)) -> #N/A | AV38: =+IF(U38=0," ",+WORKDAY.INTL(+VLOOKUP(AV$1,POSTE!$B:$G,3,FALSE),+CUM!AE38/+VLOOKUP(AV$1,POSTE!$B:$H,7,FALSE),,CONGÉ!$C$2:$C$80)) -> #N/A | AW38: =+IF(V38=0," ",+WORKDAY.INTL(+VLOOKUP(AW$1,POSTE!$B:$G,3,FALSE),+CUM!AF38/+VLOOKUP(AW$1,POSTE!$B:$H,7,FALSE),,CONGÉ!$C$2:$C$80)) -> #N/A | AX38: =+IF(W38=0," ",+WORKDAY.INTL(+VLOOKUP(AX$1,POSTE!$B:$G,3,FALSE),+CUM!AG38/+VLOOKUP(AX$1,POSTE!$B:$H,7,FALSE),,CONGÉ!$C$2:$C$80)) -> #N/A | AY38: =+IF(X38=0," ",+WORKDAY.INTL(+VLOOKUP(AY$1,POSTE!$B:$G,3,FALSE),+CUM!AH38/+VLOOKUP(AY$1,POSTE!$B:$H,7,FALSE),,CONGÉ!$C$2:$C$80)) -> #N/A | AZ38: =+IF(Y38=0," ",+WORKDAY.INTL(+VLOOKUP(AZ$1,POSTE!$B:$G,3,FALSE),+CUM!AI38/+VLOOKUP(AZ$1,POSTE!$B:$H,7,FALSE),,CONGÉ!$C$2:$C$80)) -> #N/A | BA38: =+IF(S38=0," ",+WORKDAY.INTL(+VLOOKUP(BA$1,POSTE!$B:$G,3,FALSE),+CUM!AC38/+VLOOKUP(BA$1,POSTE!$B:$H,7,FALSE),,CONGÉ!$C$2:$C$80)) -> #N/A | BB38: =+IF(T38=0," ",+WORKDAY.INTL(+VLOOKUP(BB$1,POSTE!$B:$G,3,FALSE),+CUM!AD38/+VLOOKUP(BB$1,POSTE!$B:$H,7,FALSE),,CONGÉ!$C$2:$C$80)) -> #N/A | BC38: =+IF(+MIN(AJ38:AZ38)>0,+MIN(AJ38:AZ38)," ") -> #N/A | BD38: =+IF(+MAX(AS38:AZ38)>0,+MAX(AS38:AZ38)," ") -> #N/A | BE38: =+IF($F38="oui",+VLOOKUP($A38,DATA!$A:$AH,DATA!$AH$3,FALSE),0) -> #N/A | BF38: =+BF37+BE38 -> #N/A | BG38: =+IF(BE38>0,+MAX((BH$4:BH37),BD38),"") -> #N/A | BH38: =+IF(BE38>0,+MAX((BH$4:BH37),+WORKDAY.INTL(BG38,+BE38/8,,CONGÉ!$C$2:$C$73)),"") -> #N/A | BI38: =+IF(BE38=0,+IFERROR(+EDATE(BD38,1)," "),+EDATE(BH38,1)) -> #N/A | BJ38: =+AC38+AD38 -> #N/A | BK38: =+TODAY() -> 45754 | BL38: =+(((AC38*POSTE!$H$5)+(CUM!AD38*POSTE!$H$4))/(POSTE!$H$4*POSTE!$H$5*2)) -> #N/A | BM38: =+WORKDAY.INTL(BK38,BL38,,CONGÉ!C$4:C$72) -> #N/A | BN38: =+AU38-BM38 -> #N/A
... A103: =+ROW()-ROW($A$4) -> 99 | B103: {=_xlfn.LET(_xlpm.CORR,IF(DATA!$B$4:$B$104="",IF(DATA!$A$4:$A$104="","--",DATA!$A$4:$A$104),DATA!$B$4:$B$104),_xlpm.Rx,SMALL(_xlpm.CORR,A103),IFERROR(MATCH(_xlpm.Rx,_xlpm.CORR,0),0))} -> 0 | C103: =+VLOOKUP($A103,DATA!$A:$AG,DATA!$E$3,FALSE) -> #N/A | D103: =+VLOOKUP($A103,DATA!$A:$AG,DATA!$D$3,FALSE) -> #N/A | E103: =+VLOOKUP($A103,DATA!$A:$AG,DATA!$G$3,FALSE) -> #N/A | F103: =+VLOOKUP($A103,DATA!$A:$AG,DATA!$O$3,FALSE) -> #N/A | G103: =+IF($F103="oui",+VLOOKUP($A103,DATA!$A:$AG,DATA!$P$3,FALSE),0) -> #N/A | H103: =+IF($F103="oui",+VLOOKUP($A103,DATA!$A:$AG,DATA!$R$3,FALSE),0) -> #N/A | I103: =+IF($F103="oui",+VLOOKUP($A103,DATA!$A:$AG,DATA!$T$3,FALSE),0) -> #N/A | J103: =+IF($F103="oui",+VLOOKUP($A103,DATA!$A:$AG,DATA!$V$3,FALSE),0) -> #N/A | K103: =+IF($F103="oui",+VLOOKUP($A103,DATA!$A:$AG,DATA!$X$3,FALSE),0) -> #N/A | L103: =+IF($F103="oui",+VLOOKUP($A103,DATA!$A:$AG,DATA!$Z$3,FALSE),0) -> #N/A | M103: =+IF($F103="oui",+VLOOKUP($A103,DATA!$A:$AG,DATA!$AB$3,FALSE),0) -> #N/A | N103: =+IF($F103="oui",+VLOOKUP($A103,DATA!$A:$AG,DATA!$AD$3,FALSE),0) -> #N/A | O103: =+IF($F103="oui",+VLOOKUP($A103,DATA!$A:$AG,DATA!$AF$3,FALSE),0) -> #N/A | P103: =SUM(G103:O103) -> #N/A | Q103: =+IF($F103="oui",+VLOOKUP($A103,DATA!$A:$AG,DATA!$Q$3,FALSE),0) -> #N/A | R103: =+IF($F103="oui",+VLOOKUP($A103,DATA!$A:$AG,DATA!$S$3,FALSE),0) -> #N/A | S103: =+IF($F103="oui",+VLOOKUP($A103,DATA!$A:$AG,DATA!$U$3,FALSE),0) -> #N/A | T103: =+IF($F103="oui",+VLOOKUP($A103,DATA!$A:$AG,DATA!$W$3,FALSE),0) -> #N/A | U103: =+IF($F103="oui",+VLOOKUP($A103,DATA!$A:$AG,DATA!$Y$3,FALSE),0) -> #N/A | V103: =+IF($F103="oui",+VLOOKUP($A103,DATA!$A:$AG,DATA!$AA$3,FALSE),0) -> #N/A | W103: =+IF($F103="oui",+VLOOKUP($A103,DATA!$A:$AG,DATA!$AC$3,FALSE),0) -> #N/A | X103: =+IF($F103="oui",+VLOOKUP($A103,DATA!$A:$AG,DATA!$AE$3,FALSE),0) -> #N/A | Y103: =+IF($F103="oui",+VLOOKUP($A103,DATA!$A:$AG,DATA!$AG$3,FALSE),0) -> #N/A | Z103: =SUM(Q103:Y103) -> #N/A | AA103: =+AA102+Q103 -> #N/A | AB103: =+AB102+R103 -> #N/A | AC103: =+AC102+S103 -> #N/A | AD103: =+AD102+T103 -> #N/A | AE103: =+AE102+U103 -> #N/A | AF103: =+AF102+V103 -> #N/A | AG103: =+AG102+W103 -> #N/A | AH103: =+AH102+X103 -> #N/A | AI103: =+AI102+Y103 -> #N/A | AJ103: =+IF(Q103=0," ",+WORKDAY.INTL(+VLOOKUP(AJ$1,POSTE!$B:$G,3,FALSE),+CUM!AA102/+VLOOKUP(AJ$1,POSTE!$B:$H,7,FALSE),,CONGÉ!$C$2:$C$80)) -> #N/A | AK103: =+IF(R103=0," ",+WORKDAY.INTL(+VLOOKUP(AK$1,POSTE!$B:$G,3,FALSE),+CUM!AB102/+VLOOKUP(AK$1,POSTE!$B:$H,7,FALSE),,CONGÉ!$C$2:$C$80)) -> #N/A | AL103: =+IF(S103=0," ",+WORKDAY.INTL(+VLOOKUP(AL$1,POSTE!$B:$G,3,FALSE),+CUM!AC102/+VLOOKUP(AL$1,POSTE!$B:$H,7,FALSE),,CONGÉ!$C$2:$C$80)) -> #N/A | AM103: =+IF(T103=0," ",+WORKDAY.INTL(+VLOOKUP(AM$1,POSTE!$B:$G,3,FALSE),+CUM!AD102/+VLOOKUP(AM$1,POSTE!$B:$H,7,FALSE),,CONGÉ!$C$2:$C$80)) -> #N/A | AN103: =+IF(U103=0," ",+WORKDAY.INTL(+VLOOKUP(AN$1,POSTE!$B:$G,3,FALSE),+CUM!AE102/+VLOOKUP(AN$1,POSTE!$B:$H,7,FALSE),,CONGÉ!$C$2:$C$80)) -> #N/A | AO103: =+IF(V103=0," ",+WORKDAY.INTL(+VLOOKUP(AO$1,POSTE!$B:$G,3,FALSE),+CUM!AF102/+VLOOKUP(AO$1,POSTE!$B:$H,7,FALSE),,CONGÉ!$C$2:$C$80)) -> #N/A | AP103: =+IF(W103=0," ",+WORKDAY.INTL(+VLOOKUP(AP$1,POSTE!$B:$G,3,FALSE),+CUM!AG102/+VLOOKUP(AP$1,POSTE!$B:$H,7,FALSE),,CONGÉ!$C$2:$C$80)) -> #N/A | AQ103: =+IF(X103=0," ",+WORKDAY.INTL(+VLOOKUP(AQ$1,POSTE!$B:$G,3,FALSE),+CUM!AH102/+VLOOKUP(AQ$1,POSTE!$B:$H,7,FALSE),,CONGÉ!$C$2:$C$80)) -> #N/A | AR103: =+IF(Y103=0," ",+WORKDAY.INTL(+VLOOKUP(AR$1,POSTE!$B:$G,3,FALSE),+CUM!AI102/+VLOOKUP(AR$1,POSTE!$B:$H,7,FALSE),,CONGÉ!$C$2:$C$80)) -> #N/A | AS103: =+IF(Q103=0," ",+WORKDAY.INTL(+VLOOKUP(AS$1,POSTE!$B:$G,3,FALSE),+CUM!AA103/+VLOOKUP(AS$1,POSTE!$B:$H,7,FALSE),,CONGÉ!$C$2:$C$80)) -> #N/A | AT103: =+IF(R103=0," ",+WORKDAY.INTL(+VLOOKUP(AT$1,POSTE!$B:$G,3,FALSE),+CUM!AB103/+VLOOKUP(AT$1,POSTE!$B:$H,7,FALSE),,CONGÉ!$C$2:$C$80)) -> #N/A | AU103: =+IF(AND(S103=0,T103=0)," ",+WORKDAY.INTL(+VLOOKUP($AS$1,POSTE!B:J,3,FALSE),+(((AC103*POSTE!$H$5)+(CUM!AD103*POSTE!$H$4))/(POSTE!$H$4*POSTE!$H$5*2)),,CONGÉ!$C$2:$C$80)) -> #N/A | AV103: =+IF(U103=0," ",+WORKDAY.INTL(+VLOOKUP(AV$1,POSTE!$B:$G,3,FALSE),+CUM!AE103/+VLOOKUP(AV$1,POSTE!$B:$H,7,FALSE),,CONGÉ!$C$2:$C$80)) -> #N/A | AW103: =+IF(V103=0," ",+WORKDAY.INTL(+VLOOKUP(AW$1,POSTE!$B:$G,3,FALSE),+CUM!AF103/+VLOOKUP(AW$1,POSTE!$B:$H,7,FALSE),,CONGÉ!$C$2:$C$80)) -> #N/A | AX103: =+IF(W103=0," ",+WORKDAY.INTL(+VLOOKUP(AX$1,POSTE!$B:$G,3,FALSE),+CUM!AG103/+VLOOKUP(AX$1,POSTE!$B:$H,7,FALSE),,CONGÉ!$C$2:$C$80)) -> #N/A | AY103: =+IF(X103=0," ",+WORKDAY.INTL(+VLOOKUP(AY$1,POSTE!$B:$G,3,FALSE),+CUM!AH103/+VLOOKUP(AY$1,POSTE!$B:$H,7,FALSE),,CONGÉ!$C$2:$C$80)) -> #N/A | AZ103: =+IF(Y103=0," ",+WORKDAY.INTL(+VLOOKUP(AZ$1,POSTE!$B:$G,3,FALSE),+CUM!AI103/+VLOOKUP(AZ$1,POSTE!$B:$H,7,FALSE),,CONGÉ!$C$2:$C$80)) -> #N/A | BA103: =+IF(S103=0," ",+WORKDAY.INTL(+VLOOKUP(BA$1,POSTE!$B:$G,3,FALSE),+CUM!AC103/+VLOOKUP(BA$1,POSTE!$B:$H,7,FALSE),,CONGÉ!$C$2:$C$80)) -> #N/A | BB103: =+IF(T103=0," ",+WORKDAY.INTL(+VLOOKUP(BB$1,POSTE!$B:$G,3,FALSE),+CUM!AD103/+VLOOKUP(BB$1,POSTE!$B:$H,7,FALSE),,CONGÉ!$C$2:$C$80)) -> #N/A | BC103: =+IF(+MIN(AJ103:AZ103)>0,+MIN(AJ103:AZ103)," ") -> #N/A | BD103: =+IF(+MAX(AS103:AZ103)>0,+MAX(AS103:AZ103)," ") -> #N/A | BE103: =+IF($F103="oui",+VLOOKUP($A103,DATA!$A:$AH,DATA!$AH$3,FALSE),0) -> #N/A | BF103: =+BF102+BE103 -> #N/A | BG103: =+IF(BE103>0,+MAX((BH$4:BH102),BD103),"") -> #N/A | BH103: =+IF(BE103>0,+MAX((BH$4:BH102),+WORKDAY.INTL(BG103,+BE103/8,,CONGÉ!$C$2:$C$73)),"") -> #N/A | BI103: =+IF(BE103=0,+IFERROR(+EDATE(BD103,1)," "),+EDATE(BH103,1)) -> #N/A | BJ103: =+AC103+AD103 -> #N/A | BK103: =+TODAY() -> 45754 | BL103: =+(((AC103*POSTE!$H$5)+(CUM!AD103*POSTE!$H$4))/(POSTE!$H$4*POSTE!$H$5*2)) -> #N/A | BM103: =+WORKDAY.INTL(BK103,BL103,,CONGÉ!C$4:C$72) -> #N/A | BN103: =+AU103-BM103 -> #N/A
A104: =+ROW()-ROW($A$4) -> 100 | B104: {=_xlfn.LET(_xlpm.CORR,IF(DATA!$B$4:$B$104="",IF(DATA!$A$4:$A$104="","--",DATA!$A$4:$A$104),DATA!$B$4:$B$104),_xlpm.Rx,SMALL(_xlpm.CORR,A104),IFERROR(MATCH(_xlpm.Rx,_xlpm.CORR,0),0))} -> 0 | G104: =SUM(G5:G103) -> #N/A | H104: =SUM(H5:H103) -> #N/A | I104: =SUM(I5:I103) -> #N/A | J104: =SUM(J5:J103) -> #N/A | K104: =SUM(K5:K103) -> #N/A | L104: =SUM(L5:L103) -> #N/A | M104: =SUM(M5:M103) -> #N/A | N104: =SUM(N5:N103) -> #N/A | ... Z104: =SUM(Z5:Z103) -> #N/A
AA105: =+SUM(Q5:Q103) -> #N/A | AB105: =+SUM(R5:R103) -> #N/A | AC105: =+SUM(S5:S103) -> #N/A | AD105: =+SUM(T5:T103) -> #N/A | AE105: =+SUM(U5:U103) -> #N/A | AF105: =+SUM(V5:V103) -> #N/A | AG105: =+SUM(W5:W103) -> #N/A | AH105: =+SUM(X5:X103) -> #N/A | AI105: =+SUM(Y5:Y103) -> #N/A | AJ105: =+MIN(AJ5:AJ103) -> #N/A | AK105: =+MIN(AK5:AK103) -> #N/A | AL105: =+MIN(AL5:AL103) -> #N/A | AM105: =+MIN(AM5:AM103) -> #N/A | AN105: =+MIN(AN5:AN103) -> #N/A | AO105: =+MIN(AO5:AO103) -> #N/A | AP105: =+MIN(AP5:AP103) -> #N/A | AQ105: =+MIN(AQ5:AQ103) -> #N/A | ... BD105: =+MIN(BD5:BD103) -> #N/A | BK105: =+MIN(BK5:BK103) -> 45754 | BM105: =+MIN(BM5:BM103) -> #N/A
AJ106: =+MAX(AJ5:AJ103) -> #N/A | AK106: =+MAX(AK5:AK103) -> #N/A | AL106: =+MAX(AL5:AL103) -> #N/A | AM106: =+MAX(AM5:AM103) -> #N/A | AN106: =+MAX(AN5:AN103) -> #N/A | AO106: =+MAX(AO5:AO103) -> #N/A | AP106: =+MAX(AP5:AP103) -> #N/A | AQ106: =+MAX(AQ5:AQ103) -> #N/A | ... BD106: =+MAX(BD5:BD103) -> #N/A | BK106: =+MAX(BK5:BK103) -> 45754 | BM106: =+MAX(BM5:BM103) -> #N/A

Sheet DATA
A1: PRIORITE | B1: prio corrigée | D1: client | E1: JOB # | F1: Desc. Job | G1: LIVRAISON | H1: FERM. SOUMISSION | I1: RECEPT. COMMANDE | J1: DELAI BT | K1: DELAI ACHATS | L1: DELAI RECEPT MP | M1: MISE EN PROD | N1: DEBUT PROD | O1: PLANIFIÉ | P1: RADIAL (WF + C) | R1: LS | T1: LC | V1: LB | X1: PL+ | Z1: PL- | AB1: 6a15 | AD1: DIVERS | AF1: SOUDURE | AH1: MONTAGE | AI1: TOTAL | AK1: clé
G2: DATE | H2: DATE | I2: DATE | J2: # JOURS | K2: # JOURS | L2: # JOURS | M2: DATE OPTIMAL | N2: DATE | O2: OUI/NON | P2: MARQ | Q2: POIDS | R2: MARQ | S2: POIDS | T2: MARQ | U2: POIDS | V2: MARQ | W2: POIDS | X2: MARQ | Y2: POIDS | Z2: MARQ | AA2: POIDS | AB2: MARQ | AC2: POIDS | AD2: MARQ | AE2: POIDS | AF2: MARQ | AG2: HEURE | AH2: HRE | AI2: MARQ | AJ2: POIDS
A3: Colonne | D3: =+COLUMN() -> 4 | E3: =+COLUMN() -> 5 | F3: =+COLUMN() -> 6 | G3: =+COLUMN() -> 7 | H3: =+COLUMN() -> 8 | I3: =+COLUMN() -> 9 | J3: =+COLUMN() -> 10 | K3: =+COLUMN() -> 11 | ... AH3: =+COLUMN() -> 34
A4: =IF(I4="","",COUNTIF($AK$4:$AK$109,"<="&AK4)) -> 4 | C4: =ROW()-3 -> 1 | D4: Client 1 | E4: Travail 1 | F4: Produit A | G4: 45855 | H4: 45648 | I4: 45660 | J4: 15 | K4: 15 | L4: 30 | M4: =+IF(+ISBLANK(I4)=TRUE," ",+WORKDAY.INTL(I4,+J4+K4+L4,,CONGÉ!$C$2:$C$80)) -> 45744 | O4: OUI | Z4: 5 | AA4: 527 | AH4: 40 | AI4: =P4+R4+T4+V4+X4+Z4+AB4+AD4 -> 5 | AJ4: =Q4+S4+U4+W4+Y4+AA4+AC4+AE4 -> 527 | AK4: =IF(O4="oui",TEXT(IF(TRIM(M4)="",99999,M4),"0")&TEXT(IF(N4="",99999,N4),"|0")&TEXT(ROW(),"|0000"),"z") -> 45744|99999|0004
A5: =IF(I5="","",COUNTIF($AK$4:$AK$109,"<="&AK5)) -> 11 | C5: =ROW()-3 -> 2 | D5: Client 2 | E5: Traail 2 | F5: Produit B | G5: 45843 | H5: 45667 | I5: 45672 | J5: 14 | K5: 14 | L5: 60 | M5: =+IF(+ISBLANK(I5)=TRUE," ",+WORKDAY.INTL(I5,+J5+K5+L5,,CONGÉ!$C$2:$C$80)) -> 45796 | O5: OUI | AF5: 3 | AG5: 120 | AI5: =P5+R5+T5+V5+X5+Z5+AB5+AD5 -> 0 | AJ5: =Q5+S5+U5+W5+Y5+AA5+AC5+AE5 -> 0 | AK5: =IF(O5="oui",TEXT(IF(TRIM(M5)="",99999,M5),"0")&TEXT(IF(N5="",99999,N5),"|0")&TEXT(ROW(),"|0000"),"z") -> 45796|99999|0005
A6: =IF(I6="","",COUNTIF($AK$4:$AK$109,"<="&AK6)) -> 3 | C6: =ROW()-3 -> 3 | D6: Client 3 | E6: Traail 3 | F6: Produit C | G6: 45898 | H6: 45682 | I6: 45703 | J6: 5 | K6: 5 | L6: 15 | M6: =+IF(+ISBLANK(I6)=TRUE," ",+WORKDAY.INTL(I6,+J6+K6+L6,,CONGÉ!$C$2:$C$80)) -> 45737 | N6: 45747 | O6: OUI | P6: 0 | Q6: 0 | R6: 11 | S6: 18233 | T6: 19 | U6: 2999 | V6: 0 | W6: 0 | X6: 3 | Y6: 43 | Z6: 3 | AA6: 16 | AB6: 0 | AC6: 0 | AD6: 0 | AE6: 0 | AF6: 24 | AG6: 50 | AI6: =P6+R6+T6+V6+X6+Z6+AB6+AD6 -> 36 | AJ6: =Q6+S6+U6+W6+Y6+AA6+AC6+AE6 -> 21291 | AK6: =IF(O6="oui",TEXT(IF(TRIM(M6)="",99999,M6),"0")&TEXT(IF(N6="",99999,N6),"|0")&TEXT(ROW(),"|0000"),"z") -> 45737|45747|0006
A7: =IF(I7="","",COUNTIF($AK$4:$AK$109,"<="&AK7)) -> 10 | C7: =ROW()-3 -> 4 | D7: Client 4 | E7: Traail 4 | F7: Produit D | G7: 45898 | H7: 45716 | I7: 45718 | J7: 10 | K7: 10 | L7: 30 | M7: =+IF(+ISBLANK(I7)=TRUE," ",+WORKDAY.INTL(I7,+J7+K7+L7,,CONGÉ!$C$2:$C$80)) -> 45786 | O7: OUI | P7: 0 | Q7: 0 | R7: 10 | S7: 34332 | T7: 32 | U7: 9558 | V7: 1 | W7: 21 | X7: 1 | Y7: 394 | Z7: 1 | AA7: 10 | AF7: 20 | AG7: 150 | AI7: =P7+R7+T7+V7+X7+Z7+AB7+AD7 -> 45 | AJ7: =Q7+S7+U7+W7+Y7+AA7+AC7+AE7 -> 44315 | AK7: =IF(O7="oui",TEXT(IF(TRIM(M7)="",99999,M7),"0")&TEXT(IF(N7="",99999,N7),"|0")&TEXT(ROW(),"|0000"),"z") -> 45786|99999|0007
A8: =IF(I8="","",COUNTIF($AK$4:$AK$109,"<="&AK8)) -> 7 | C8: =ROW()-3 -> 5 | D8: Client 5 | E8: Traail 5 | F8: Produit E | G8: 45814 | H8: 45672 | I8: 45731 | J8: 5 | K8: 5 | L8: 10 | M8: =+IF(+ISBLANK(I8)=TRUE," ",+WORKDAY.INTL(I8,+J8+K8+L8,,CONGÉ!$C$2:$C$80)) -> 45758 | O8: OUI | R8: 10 | S8: 29486 | T8: 138 | U8: 25117 | V8: 107 | W8: 2407 | X8: 109 | Y8: 14719 | Z8: 151 | AA8: 3456 | AB8: 0 | AC8: 0 | AD8: 0 | AE8: 0 | AF8: 56 | AG8: 28 | AH8: 220 | AI8: =P8+R8+T8+V8+X8+Z8+AB8+AD8 -> 515 | AJ8: =Q8+S8+U8+W8+Y8+AA8+AC8+AE8 -> 75185 | AK8: =IF(O8="oui",TEXT(IF(TRIM(M8)="",99999,M8),"0")&TEXT(IF(N8="",99999,N8),"|0")&TEXT(ROW(),"|0000"),"z") -> 45758|99999|0008
A9: =IF(I9="","",COUNTIF($AK$4:$AK$109,"<="&AK9)) -> 5 | C9: =ROW()-3 -> 6 | D9: Client 6 | E9: Traail 6 | F9: Produit F | G9: 45855 | H9: 45726 | I9: 45731 | J9: 2 | K9: 2 | L9: 6 | M9: =+IF(+ISBLANK(I9)=TRUE," ",+WORKDAY.INTL(I9,+J9+K9+L9,,CONGÉ!$C$2:$C$80)) -> 45744 | O9: OUI | P9: 1 | Q9: 402 | R9: 18 | S9: 30336 | T9: 146 | U9: 45185 | V9: 206 | W9: 17577 | X9: 28 | Y9: 3174 | Z9: 136 | AA9: 12246 | AB9: 0 | AC9: 0 | AD9: 21 | AE9: 12160 | AF9: 23 | AG9: 236 | AI9: =P9+R9+T9+V9+X9+Z9+AB9+AD9 -> 556 | AJ9: =Q9+S9+U9+W9+Y9+AA9+AC9+AE9 -> 121080 | AK9: =IF(O9="oui",TEXT(IF(TRIM(M9)="",99999,M9),"0")&TEXT(IF(N9="",99999,N9),"|0")&TEXT(ROW(),"|0000"),"z") -> 45744|99999|0009
A10: =IF(I10="","",COUNTIF($AK$4:$AK$109,"<="&AK10)) -> 1 | C10: =ROW()-3 -> 7 | D10: Client 7 | E10: Traail 7 | F10: Produit G | G10: 45782 | H10: 45636 | I10: 45646 | J10: 2 | K10: 2 | L10: 5 | M10: =+IF(+ISBLANK(I10)=TRUE," ",+WORKDAY.INTL(I10,+J10+K10+L10,,CONGÉ!$C$2:$C$80)) -> 45673 | N10: 45692 | O10: OUI | P10: 7 | Q10: 46958 | R10: 2 | S10: 3672 | T10: 0 | U10: 0 | V10: 0 | W10: 0 | X10: 0 | Y10: 0 | Z10: 0 | AA10: 0 | AB10: 0 | AC10: 0 | AD10: 0 | AE10: 0 | AF10: 5 | AG10: 384 | AI10: =P10+R10+T10+V10+X10+Z10+AB10+AD10 -> 9 | AJ10: =Q10+S10+U10+W10+Y10+AA10+AC10+AE10 -> 50630 | AK10: =IF(O10="oui",TEXT(IF(TRIM(M10)="",99999,M10),"0")&TEXT(IF(N10="",99999,N10),"|0")&TEXT(ROW(),"|0000"),"z") -> 45673|45692|0010
A11: =IF(I11="","",COUNTIF($AK$4:$AK$109,"<="&AK11)) -> 6 | B11: 3.1 | C11: =ROW()-3 -> 8 | D11: Client 8 | E11: Traail 8 | F11: Produit H | G11: 45777 | H11: 45698 | I11: 45703 | J11: 10 | K11: 5 | L11: 15 | M11: =+IF(+ISBLANK(I11)=TRUE," ",+WORKDAY.INTL(I11,+J11+K11+L11,,CONGÉ!$C$2:$C$80)) -> 45744 | O11: OUI | P11: 4 | Q11: 97 | R11: 14 | S11: 4882 | T11: 155 | U11: 21702 | V11: 289 | W11: 8818 | X11: 11 | Y11: 695 | Z11: 90 | AA11: 2116 | AB11: 0 | AC11: 0 | AD11: 3 | AE11: 20 | AF11: 35 | AG11: 19 | AH11: 140 | AI11: =P11+R11+T11+V11+X11+Z11+AB11+AD11 -> 566 | AJ11: =Q11+S11+U11+W11+Y11+AA11+AC11+AE11 -> 38330 | AK11: =IF(O11="oui",TEXT(IF(TRIM(M11)="",99999,M11),"0")&TEXT(IF(N11="",99999,N11),"|0")&TEXT(ROW(),"|0000"),"z") -> 45744|99999|0011
A12: =IF(I12="","",COUNTIF($AK$4:$AK$109,"<="&AK12)) -> 9 | B12: 3.2 | C12: =ROW()-3 -> 9 | D12: Client 9 | E12: Traail 9 | F12: Produit I | G12: 45777 | H12: 45741 | I12: 45744 | J12: 8 | K12: 8 | L12: 12 | M12: =+IF(+ISBLANK(I12)=TRUE," ",+WORKDAY.INTL(I12,+J12+K12+L12,,CONGÉ!$C$2:$C$80)) -> 45784 | O12: OUI | P12: 8 | Q12: 911 | R12: 47 | S12: 9367 | T12: 204 | U12: 21847 | V12: 206 | W12: 4144 | X12: 25 | Y12: 1365 | Z12: 177 | AA12: 2529 | AD12: 2 | AE12: 29 | AF12: 56 | AG12: 37 | AH12: 134.66667 | AI12: =P12+R12+T12+V12+X12+Z12+AB12+AD12 -> 669 | AJ12: =Q12+S12+U12+W12+Y12+AA12+AC12+AE12 -> 40192 | AK12: =IF(O12="oui",TEXT(IF(TRIM(M12)="",99999,M12),"0")&TEXT(IF(N12="",99999,N12),"|0")&TEXT(ROW(),"|0000"),"z") -> 45784|99999|0012
A13: =IF(I13="","",COUNTIF($AK$4:$AK$109,"<="&AK13)) -> 2 | C13: =ROW()-3 -> 10 | D13: Client 10 | E13: Traail 10 | F13: Produit J | G13: 45777 | H13: 45713 | I13: 45716 | J13: 0 | K13: 0 | L13: 2 | M13: =+IF(+ISBLANK(I13)=TRUE," ",+WORKDAY.INTL(I13,+J13+K13+L13,,CONGÉ!$C$2:$C$80)) -> 45720 | N13: 45723 | O13: OUI | P13: 6 | Q13: 77 | R13: 27 | S13: 25939 | T13: 102 | U13: 40115 | V13: 76 | W13: 3466 | X13: 14 | Y13: 2223 | Z13: 75 | AA13: 4177 | AB13: 0 | AC13: 0 | AD13: 0 | AE13: 0 | AF13: 15 | AG13: 23 | AH13: 80 | AI13: =P13+R13+T13+V13+X13+Z13+AB13+AD13 -> 300 | AJ13: =Q13+S13+U13+W13+Y13+AA13+AC13+AE13 -> 75997 | AK13: =IF(O13="oui",TEXT(IF(TRIM(M13)="",99999,M13),"0")&TEXT(IF(N13="",99999,N13),"|0")&TEXT(ROW(),"|0000"),"z") -> 45720|45723|0013
A14: =IF(I14="","",COUNTIF($AK$4:$AK$109,"<="&AK14)) -> 12 | B14: 3.3 | C14: =ROW()-3 -> 11 | D14: Client 11 | E14: Traail 11 | F14: Produit K | G14: 45793 | H14: 45590 | I14: 45626 | J14: 30 | K14: 30 | L14: 90 | M14: =+IF(+ISBLANK(I14)=TRUE," ",+WORKDAY.INTL(I14,+J14+K14+L14,,CONGÉ!$C$2:$C$80)) -> 45853 | O14: OUI | R14: 1 | S14: 1054 | T14: 1 | U14: 130 | X14: 8 | Y14: 3305 | Z14: 0 | AA14: 0 | AB14: 0 | AC14: 0 | AD14: 1 | AE14: 899 | AF14: 1 | AG14: 2 | AI14: =P14+R14+T14+V14+X14+Z14+AB14+AD14 -> 11 | AJ14: =Q14+S14+U14+W14+Y14+AA14+AC14+AE14 -> 5388 | AK14: =IF(O14="oui",TEXT(IF(TRIM(M14)="",99999,M14),"0")&TEXT(IF(N14="",99999,N14),"|0")&TEXT(ROW(),"|0000"),"z") -> 45853|99999|0014
A15: =IF(I15="","",COUNTIF($AK$4:$AK$109,"<="&AK15)) -> 8 | C15: =ROW()-3 -> 12 | D15: Client 12 | E15: Traail 12 | F15: Produit L | G15: 45814 | H15: 45665 | I15: 45672 | J15: 15 | K15: 15 | L15: 45 | M15: =+IF(+ISBLANK(I15)=TRUE," ",+WORKDAY.INTL(I15,+J15+K15+L15,,CONGÉ!$C$2:$C$80)) -> 45777 | O15: OUI | R15: 13 | S15: 59176 | T15: 33 | U15: 19337 | V15: 14 | W15: 1734 | X15: 26 | Y15: 12980 | Z15: 9 | AA15: 607 | AB15: 0 | AC15: 0 | AD15: 2 | AE15: 1505 | AF15: 16 | AG15: 440 | AI15: =P15+R15+T15+V15+X15+Z15+AB15+AD15 -> 97 | AJ15: =Q15+S15+U15+W15+Y15+AA15+AC15+AE15 -> 95339 | AK15: =IF(O15="oui",TEXT(IF(TRIM(M15)="",99999,M15),"0")&TEXT(IF(N15="",99999,N15),"|0")&TEXT(ROW(),"|0000"),"z") -> 45777|99999|0015
A16: =IF(I16="","",COUNTIF($AK$4:$AK$109,"<="&AK16)) | C16: =ROW()-3 -> 13 | M16: =+IF(+ISBLANK(I16)=TRUE," ",+WORKDAY.INTL(I16,+J16+K16+L16,,CONGÉ!$C$2:$C$80)) | AI16: =P16+R16+T16+V16+X16+Z16+AB16+AD16 -> 0 | AJ16: =Q16+S16+U16+W16+Y16+AA16+AC16+AE16 -> 0 | AK16: =IF(O16="oui",TEXT(IF(TRIM(M16)="",99999,M16),"0")&TEXT(IF(N16="",99999,N16),"|0")&TEXT(ROW(),"|0000"),"z") -> z
A17: =IF(I17="","",COUNTIF($AK$4:$AK$109,"<="&AK17)) | C17: =ROW()-3 -> 14 | M17: =+IF(+ISBLANK(I17)=TRUE," ",+WORKDAY.INTL(I17,+J17+K17+L17,,CONGÉ!$C$2:$C$80)) | AI17: =P17+R17+T17+V17+X17+Z17+AB17+AD17 -> 0 | AJ17: =Q17+S17+U17+W17+Y17+AA17+AC17+AE17 -> 0 | AK17: =IF(O17="oui",TEXT(IF(TRIM(M17)="",99999,M17),"0")&TEXT(IF(N17="",99999,N17),"|0")&TEXT(ROW(),"|0000"),"z") -> z
A18: =IF(I18="","",COUNTIF($AK$4:$AK$109,"<="&AK18)) | C18: =ROW()-3 -> 15 | M18: =+IF(+ISBLANK(I18)=TRUE," ",+WORKDAY.INTL(I18,+J18+K18+L18,,CONGÉ!$C$2:$C$80)) | AI18: =P18+R18+T18+V18+X18+Z18+AB18+AD18 -> 0 | AJ18: =Q18+S18+U18+W18+Y18+AA18+AC18+AE18 -> 0 | AK18: =IF(O18="oui",TEXT(IF(TRIM(M18)="",99999,M18),"0")&TEXT(IF(N18="",99999,N18),"|0")&TEXT(ROW(),"|0000"),"z") -> z
A19: =IF(I19="","",COUNTIF($AK$4:$AK$109,"<="&AK19)) | C19: =ROW()-3 -> 16 | M19: =+IF(+ISBLANK(I19)=TRUE," ",+WORKDAY.INTL(I19,+J19+K19+L19,,CONGÉ!$C$2:$C$80)) | AI19: =P19+R19+T19+V19+X19+Z19+AB19+AD19 -> 0 | AJ19: =Q19+S19+U19+W19+Y19+AA19+AC19+AE19 -> 0 | AK19: =IF(O19="oui",TEXT(IF(TRIM(M19)="",99999,M19),"0")&TEXT(IF(N19="",99999,N19),"|0")&TEXT(ROW(),"|0000"),"z") -> z
A20: =IF(I20="","",COUNTIF($AK$4:$AK$109,"<="&AK20)) | C20: =ROW()-3 -> 17 | M20: =+IF(+ISBLANK(I20)=TRUE," ",+WORKDAY.INTL(I20,+J20+K20+L20,,CONGÉ!$C$2:$C$80)) | AI20: =P20+R20+T20+V20+X20+Z20+AB20+AD20 -> 0 | AJ20: =Q20+S20+U20+W20+Y20+AA20+AC20+AE20 -> 0 | AK20: =IF(O20="oui",TEXT(IF(TRIM(M20)="",99999,M20),"0")&TEXT(IF(N20="",99999,N20),"|0")&TEXT(ROW(),"|0000"),"z") -> z
A21: =IF(I21="","",COUNTIF($AK$4:$AK$109,"<="&AK21)) | C21: =ROW()-3 -> 18 | M21: =+IF(+ISBLANK(I21)=TRUE," ",+WORKDAY.INTL(I21,+J21+K21+L21,,CONGÉ!$C$2:$C$80)) | AI21: =P21+R21+T21+V21+X21+Z21+AB21+AD21 -> 0 | AJ21: =Q21+S21+U21+W21+Y21+AA21+AC21+AE21 -> 0 | AK21: =IF(O21="oui",TEXT(IF(TRIM(M21)="",99999,M21),"0")&TEXT(IF(N21="",99999,N21),"|0")&TEXT(ROW(),"|0000"),"z") -> z
A22: =IF(I22="","",COUNTIF($AK$4:$AK$109,"<="&AK22)) | C22: =ROW()-3 -> 19 | M22: =+IF(+ISBLANK(I22)=TRUE," ",+WORKDAY.INTL(I22,+J22+K22+L22,,CONGÉ!$C$2:$C$80)) | AI22: =P22+R22+T22+V22+X22+Z22+AB22+AD22 -> 0 | AJ22: =Q22+S22+U22+W22+Y22+AA22+AC22+AE22 -> 0 | AK22: =IF(O22="oui",TEXT(IF(TRIM(M22)="",99999,M22),"0")&TEXT(IF(N22="",99999,N22),"|0")&TEXT(ROW(),"|0000"),"z") -> z
A23: =IF(I23="","",COUNTIF($AK$4:$AK$109,"<="&AK23)) | C23: =ROW()-3 -> 20 | M23: =+IF(+ISBLANK(I23)=TRUE," ",+WORKDAY.INTL(I23,+J23+K23+L23,,CONGÉ!$C$2:$C$80)) | AI23: =P23+R23+T23+V23+X23+Z23+AB23+AD23 -> 0 | AJ23: =Q23+S23+U23+W23+Y23+AA23+AC23+AE23 -> 0 | AK23: =IF(O23="oui",TEXT(IF(TRIM(M23)="",99999,M23),"0")&TEXT(IF(N23="",99999,N23),"|0")&TEXT(ROW(),"|0000"),"z") -> z
A24: =IF(I24="","",COUNTIF($AK$4:$AK$109,"<="&AK24)) | C24: =ROW()-3 -> 21 | M24: =+IF(+ISBLANK(I24)=TRUE," ",+WORKDAY.INTL(I24,+J24+K24+L24,,CONGÉ!$C$2:$C$80)) | AI24: =P24+R24+T24+V24+X24+Z24+AB24+AD24 -> 0 | AJ24: =Q24+S24+U24+W24+Y24+AA24+AC24+AE24 -> 0 | AK24: =IF(O24="oui",TEXT(IF(TRIM(M24)="",99999,M24),"0")&TEXT(IF(N24="",99999,N24),"|0")&TEXT(ROW(),"|0000"),"z") -> z
A25: =IF(I25="","",COUNTIF($AK$4:$AK$109,"<="&AK25)) | C25: =ROW()-3 -> 22 | M25: =+IF(+ISBLANK(I25)=TRUE," ",+WORKDAY.INTL(I25,+J25+K25+L25,,CONGÉ!$C$2:$C$80)) | AI25: =P25+R25+T25+V25+X25+Z25+AB25+AD25 -> 0 | AJ25: =Q25+S25+U25+W25+Y25+AA25+AC25+AE25 -> 0 | AK25: =IF(O25="oui",TEXT(IF(TRIM(M25)="",99999,M25),"0")&TEXT(IF(N25="",99999,N25),"|0")&TEXT(ROW(),"|0000"),"z") -> z
A26: =IF(I26="","",COUNTIF($AK$4:$AK$109,"<="&AK26)) | C26: =ROW()-3 -> 23 | E26: =RANK(5,A4:A31) -> 8 | M26: =+IF(+ISBLANK(I26)=TRUE," ",+WORKDAY.INTL(I26,+J26+K26+L26,,CONGÉ!$C$2:$C$80)) | AI26: =P26+R26+T26+V26+X26+Z26+AB26+AD26 -> 0 | AJ26: =Q26+S26+U26+W26+Y26+AA26+AC26+AE26 -> 0 | AK26: =IF(O26="oui",TEXT(IF(TRIM(M26)="",99999,M26),"0")&TEXT(IF(N26="",99999,N26),"|0")&TEXT(ROW(),"|0000"),"z") -> z
A27: =IF(I27="","",COUNTIF($AK$4:$AK$109,"<="&AK27)) | C27: =ROW()-3 -> 24 | M27: =+IF(+ISBLANK(I27)=TRUE," ",+WORKDAY.INTL(I27,+J27+K27+L27,,CONGÉ!$C$2:$C$80)) | AI27: =P27+R27+T27+V27+X27+Z27+AB27+AD27 -> 0 | AJ27: =Q27+S27+U27+W27+Y27+AA27+AC27+AE27 -> 0 | AK27: =IF(O27="oui",TEXT(IF(TRIM(M27)="",99999,M27),"0")&TEXT(IF(N27="",99999,N27),"|0")&TEXT(ROW(),"|0000"),"z") -> z
A28: =IF(I28="","",COUNTIF($AK$4:$AK$109,"<="&AK28)) | C28: =ROW()-3 -> 25 | M28: =+IF(+ISBLANK(I28)=TRUE," ",+WORKDAY.INTL(I28,+J28+K28+L28,,CONGÉ!$C$2:$C$80)) | AI28: =P28+R28+T28+V28+X28+Z28+AB28+AD28 -> 0 | AJ28: =Q28+S28+U28+W28+Y28+AA28+AC28+AE28 -> 0 | AK28: =IF(O28="oui",TEXT(IF(TRIM(M28)="",99999,M28),"0")&TEXT(IF(N28="",99999,N28),"|0")&TEXT(ROW(),"|0000"),"z") -> z
A29: =IF(I29="","",COUNTIF($AK$4:$AK$109,"<="&AK29)) | C29: =ROW()-3 -> 26 | M29: =+IF(+ISBLANK(I29)=TRUE," ",+WORKDAY.INTL(I29,+J29+K29+L29,,CONGÉ!$C$2:$C$80)) | AI29: =P29+R29+T29+V29+X29+Z29+AB29+AD29 -> 0 | AJ29: =Q29+S29+U29+W29+Y29+AA29+AC29+AE29 -> 0 | AK29: =IF(O29="oui",TEXT(IF(TRIM(M29)="",99999,M29),"0")&TEXT(IF(N29="",99999,N29),"|0")&TEXT(ROW(),"|0000"),"z") -> z
A30: =IF(I30="","",COUNTIF($AK$4:$AK$109,"<="&AK30)) | C30: =ROW()-3 -> 27 | M30: =+IF(+ISBLANK(I30)=TRUE," ",+WORKDAY.INTL(I30,+J30+K30+L30,,CONGÉ!$C$2:$C$80)) | AI30: =P30+R30+T30+V30+X30+Z30+AB30+AD30 -> 0 | AJ30: =Q30+S30+U30+W30+Y30+AA30+AC30+AE30 -> 0 | AK30: =IF(O30="oui",TEXT(IF(TRIM(M30)="",99999,M30),"0")&TEXT(IF(N30="",99999,N30),"|0")&TEXT(ROW(),"|0000"),"z") -> z
A31: =IF(I31="","",COUNTIF($AK$4:$AK$109,"<="&AK31)) | C31: =ROW()-3 -> 28 | M31: =+IF(+ISBLANK(I31)=TRUE," ",+WORKDAY.INTL(I31,+J31+K31+L31,,CONGÉ!$C$2:$C$80)) | AI31: =P31+R31+T31+V31+X31+Z31+AB31+AD31 -> 0 | AJ31: =Q31+S31+U31+W31+Y31+AA31+AC31+AE31 -> 0 | AK31: =IF(O31="oui",TEXT(IF(TRIM(M31)="",99999,M31),"0")&TEXT(IF(N31="",99999,N31),"|0")&TEXT(ROW(),"|0000"),"z") -> z
A32: =IF(I32="","",COUNTIF($AK$4:$AK$109,"<="&AK32)) | C32: =ROW()-3 -> 29 | M32: =+IF(+ISBLANK(I32)=TRUE," ",+WORKDAY.INTL(I32,+J32+K32+L32,,CONGÉ!$C$2:$C$80)) | AI32: =P32+R32+T32+V32+X32+Z32+AB32+AD32 -> 0 | AJ32: =Q32+S32+U32+W32+Y32+AA32+AC32+AE32 -> 0 | AK32: =IF(O32="oui",TEXT(IF(TRIM(M32)="",99999,M32),"0")&TEXT(IF(N32="",99999,N32),"|0")&TEXT(ROW(),"|0000"),"z") -> z
A33: =IF(I33="","",COUNTIF($AK$4:$AK$109,"<="&AK33)) | C33: =ROW()-3 -> 30 | M33: =+IF(+ISBLANK(I33)=TRUE," ",+WORKDAY.INTL(I33,+J33+K33+L33,,CONGÉ!$C$2:$C$80)) | AI33: =P33+R33+T33+V33+X33+Z33+AB33+AD33 -> 0 | AJ33: =Q33+S33+U33+W33+Y33+AA33+AC33+AE33 -> 0 | AK33: =IF(O33="oui",TEXT(IF(TRIM(M33)="",99999,M33),"0")&TEXT(IF(N33="",99999,N33),"|0")&TEXT(ROW(),"|0000"),"z") -> z
A34: =IF(I34="","",COUNTIF($AK$4:$AK$109,"<="&AK34)) | C34: =ROW()-3 -> 31 | M34: =+IF(+ISBLANK(I34)=TRUE," ",+WORKDAY.INTL(I34,+J34+K34+L34,,CONGÉ!$C$2:$C$80)) | AI34: =P34+R34+T34+V34+X34+Z34+AB34+AD34 -> 0 | AJ34: =Q34+S34+U34+W34+Y34+AA34+AC34+AE34 -> 0 | AK34: =IF(O34="oui",TEXT(IF(TRIM(M34)="",99999,M34),"0")&TEXT(IF(N34="",99999,N34),"|0")&TEXT(ROW(),"|0000"),"z") -> z
A35: =IF(I35="","",COUNTIF($AK$4:$AK$109,"<="&AK35)) | C35: =ROW()-3 -> 32 | M35: =+IF(+ISBLANK(I35)=TRUE," ",+WORKDAY.INTL(I35,+J35+K35+L35,,CONGÉ!$C$2:$C$80)) | AI35: =P35+R35+T35+V35+X35+Z35+AB35+AD35 -> 0 | AJ35: =Q35+S35+U35+W35+Y35+AA35+AC35+AE35 -> 0 | AK35: =IF(O35="oui",TEXT(IF(TRIM(M35)="",99999,M35),"0")&TEXT(IF(N35="",99999,N35),"|0")&TEXT(ROW(),"|0000"),"z") -> z
A36: =IF(I36="","",COUNTIF($AK$4:$AK$109,"<="&AK36)) | C36: =ROW()-3 -> 33 | M36: =+IF(+ISBLANK(I36)=TRUE," ",+WORKDAY.INTL(I36,+J36+K36+L36,,CONGÉ!$C$2:$C$80)) | AI36: =P36+R36+T36+V36+X36+Z36+AB36+AD36 -> 0 | AJ36: =Q36+S36+U36+W36+Y36+AA36+AC36+AE36 -> 0 | AK36: =IF(O36="oui",TEXT(IF(TRIM(M36)="",99999,M36),"0")&TEXT(IF(N36="",99999,N36),"|0")&TEXT(ROW(),"|0000"),"z") -> z
A37: =IF(I37="","",COUNTIF($AK$4:$AK$109,"<="&AK37)) | C37: =ROW()-3 -> 34 | M37: =+IF(+ISBLANK(I37)=TRUE," ",+WORKDAY.INTL(I37,+J37+K37+L37,,CONGÉ!$C$2:$C$80)) | AI37: =P37+R37+T37+V37+X37+Z37+AB37+AD37 -> 0 | AJ37: =Q37+S37+U37+W37+Y37+AA37+AC37+AE37 -> 0 | AK37: =IF(O37="oui",TEXT(IF(TRIM(M37)="",99999,M37),"0")&TEXT(IF(N37="",99999,N37),"|0")&TEXT(ROW(),"|0000"),"z") -> z
A38: =IF(I38="","",COUNTIF($AK$4:$AK$109,"<="&AK38)) | C38: =ROW()-3 -> 35 | M38: =+IF(+ISBLANK(I38)=TRUE," ",+WORKDAY.INTL(I38,+J38+K38+L38,,CONGÉ!$C$2:$C$80)) | AI38: =P38+R38+T38+V38+X38+Z38+AB38+AD38 -> 0 | AJ38: =Q38+S38+U38+W38+Y38+AA38+AC38+AE38 -> 0 | AK38: =IF(O38="oui",TEXT(IF(TRIM(M38)="",99999,M38),"0")&TEXT(IF(N38="",99999,N38),"|0")&TEXT(ROW(),"|0000"),"z") -> z
... A106: =IF(I106="","",COUNTIF($AK$4:$AK$109,"<="&AK106)) | C106: =ROW()-3 -> 103 | M106: =+IF(+ISBLANK(I106)=TRUE," ",+WORKDAY.INTL(I106,+J106+K106+L106,,CONGÉ!$C$2:$C$80)) | AI106: =P106+R106+T106+V106+X106+Z106+AB106+AD106 -> 0 | AJ106: =Q106+S106+U106+W106+Y106+AA106+AC106+AE106 -> 0 | AK106: =IF(O106="oui",TEXT(IF(TRIM(M106)="",99999,M106),"0")&TEXT(IF(N106="",99999,N106),"|0")&TEXT(ROW(),"|0000"),"z") -> z
A107: =IF(I107="","",COUNTIF($AK$4:$AK$109,"<="&AK107)) | C107: =ROW()-3 -> 104 | M107: =+IF(+ISBLANK(I107)=TRUE," ",+WORKDAY.INTL(I107,+J107+K107+L107,,CONGÉ!$C$2:$C$80)) | AK107: =IF(O107="oui",TEXT(IF(TRIM(M107)="",99999,M107),"0")&TEXT(IF(N107="",99999,N107),"|0")&TEXT(ROW(),"|0000"),"z") -> z
A108: =IF(I108="","",COUNTIF($AK$4:$AK$109,"<="&AK108)) | C108: =ROW()-3 -> 105 | M108: =+IF(+ISBLANK(I108)=TRUE," ",+WORKDAY.INTL(I108,+J108+K108+L108,,CONGÉ!$C$2:$C$80)) | AI108: =P108+R108+T108+V108+X108+Z108+AB108+AD108 -> 0 | AJ108: =Q108+S108+U108+W108+Y108+AA108+AC108+AE108 -> 0 | AK108: =IF(O108="oui",TEXT(IF(TRIM(M108)="",99999,M108),"0")&TEXT(IF(N108="",99999,N108),"|0")&TEXT(ROW(),"|0000"),"z") -> z
A109: =IF(I109="","",COUNTIF($AK$4:$AK$109,"<="&AK109)) | C109: =ROW()-3 -> 106 | M109: =+IF(+ISBLANK(I109)=TRUE," ",+WORKDAY.INTL(I109,+J109+K109+L109,,CONGÉ!$C$2:$C$80)) | AI109: =P109+R109+T109+V109+X109+Z109+AB109+AD109 -> 0 | AJ109: =Q109+S109+U109+W109+Y109+AA109+AC109+AE109 -> 0 | AK109: =IF(O109="oui",TEXT(IF(TRIM(M109)="",99999,M109),"0")&TEXT(IF(N109="",99999,N109),"|0")&TEXT(ROW(),"|0000"),"z") -> z
A110: =IF(I110="","",COUNTIF($AK$4:$AK$109,"<="&AK110)) | C110: =ROW()-3 -> 107 | M110: =+IF(+ISBLANK(I110)=TRUE," ",+WORKDAY.INTL(I110,+J110+K110+L110,,CONGÉ!$C$2:$C$80)) | P110: =+SUMIF($O$6:$O$40,"OUI",P22:P109) -> 0 | Q110: =+SUMIF($O$6:$O$40,"OUI",Q22:Q109) -> 0 | R110: =+SUMIF($O$6:$O$40,"OUI",R22:R109) -> 0 | S110: =+SUMIF($O$6:$O$40,"OUI",S22:S109) -> 0 | T110: =+SUMIF($O$6:$O$40,"OUI",T22:T109) -> 0 | U110: =+SUMIF($O$6:$O$40,"OUI",U22:U109) -> 0 | V110: =+SUMIF($O$6:$O$40,"OUI",V22:V109) -> 0 | W110: =+SUMIF($O$6:$O$40,"OUI",W22:W109) -> 0 | ... AG110: =+SUMIF($O$6:$O$40,"OUI",AG22:AG109) -> 0 | AI110: =+SUMIF($O$6:$O$40,"OUI",AI22:AI109) -> 0 | AJ110: =+SUMIF($O$6:$O$40,"OUI",AJ22:AJ109) -> 0
M111: =+IF(+ISBLANK(I111)=TRUE," ",+WORKDAY.INTL(I111,+J111+K111+L111,,CONGÉ!$C$2:$C$80))
M112: =+IF(+ISBLANK(I112)=TRUE," ",+WORKDAY.INTL(I112,+J112+K112+L112,,CONGÉ!$C$2:$C$80))
M113: =+IF(+ISBLANK(I113)=TRUE," ",+WORKDAY.INTL(I113,+J113+K113+L113,,CONGÉ!$C$2:$C$80))
M114: =+IF(+ISBLANK(I114)=TRUE," ",+WORKDAY.INTL(I114,+J114+K114+L114,,CONGÉ!$C$2:$C$80))
F115: {=IF(DATA!$B$4:$B$110="",DATA!$A$4:$A$110,DATA!$B$4:$B$110)} -> 4 | M115: =+IF(+ISBLANK(I115)=TRUE," ",+WORKDAY.INTL(I115,+J115+K115+L115,,CONGÉ!$C$2:$C$80))
F116: 11 | G116: =RANK(10,F115:F133) -> 2 | M116: =+IF(+ISBLANK(I116)=TRUE," ",+WORKDAY.INTL(I116,+J116+K116+L116,,CONGÉ!$C$2:$C$80))
F117: 3 | M117: =+IF(+ISBLANK(I117)=TRUE," ",+WORKDAY.INTL(I117,+J117+K117+L117,,CONGÉ!$C$2:$C$80))
F118: 10 | M118: =+IF(+ISBLANK(I118)=TRUE," ",+WORKDAY.INTL(I118,+J118+K118+L118,,CONGÉ!$C$2:$C$80))
F119: 7 | M119: =+IF(+ISBLANK(I119)=TRUE," ",+WORKDAY.INTL(I119,+J119+K119+L119,,CONGÉ!$C$2:$C$80))
F120: 5 | M120: =+IF(+ISBLANK(I120)=TRUE," ",+WORKDAY.INTL(I120,+J120+K120+L120,,CONGÉ!$C$2:$C$80))
F121: 1 | M121: =+IF(+ISBLANK(I121)=TRUE," ",+WORKDAY.INTL(I121,+J121+K121+L121,,CONGÉ!$C$2:$C$80))
F122: 3.1 | M122: =+IF(+ISBLANK(I122)=TRUE," ",+WORKDAY.INTL(I122,+J122+K122+L122,,CONGÉ!$C$2:$C$80))
F123: 3.2 | M123: =+IF(+ISBLANK(I123)=TRUE," ",+WORKDAY.INTL(I123,+J123+K123+L123,,CONGÉ!$C$2:$C$80))
F124: 2 | M124: =+IF(+ISBLANK(I124)=TRUE," ",+WORKDAY.INTL(I124,+J124+K124+L124,,CONGÉ!$C$2:$C$80))
F125: 3.3 | M125: =+IF(+ISBLANK(I125)=TRUE," ",+WORKDAY.INTL(I125,+J125+K125+L125,,CONGÉ!$C$2:$C$80))
F126: 8 | M126: =+IF(+ISBLANK(I126)=TRUE," ",+WORKDAY.INTL(I126,+J126+K126+L126,,CONGÉ!$C$2:$C$80))
M127: =+IF(+ISBLANK(I127)=TRUE," ",+WORKDAY.INTL(I127,+J127+K127+L127,,CONGÉ!$C$2:$C$80))
M128: =+IF(+ISBLANK(I128)=TRUE," ",+WORKDAY.INTL(I128,+J128+K128+L128,,CONGÉ!$C$2:$C$80))

Sheet LISTE
B1: STATUT JOB | D1: PLANIE JOB
D2: OUI
D3: NON

Sheet TCD DETAIL
B1: FABRIMET | D1: FORECAST DÉTAILLÉ DATE DE FIN DES PROJETS PAR POSTE PRODUCTION FABRIMET
D5: =NOW() -> 45754.873
G6: Marque | H6: =SUMIF(DATA!O22:O97,"OUI",DATA!P22:P97) -> 0 | I6: =SUMIF(DATA!O22:O97,"OUI",DATA!R22:R97) -> 0 | J6: =SUMIF(DATA!O22:O97,"OUI",DATA!T22:T97) -> 0 | K6: =SUMIF(DATA!O22:O97,"OUI",DATA!V22:V97) -> 0 | M6: =SUMIF(DATA!O22:O97,"OUI",DATA!X22:X97) -> 0 | N6: =SUMIF(DATA!O22:O97,"OUI",DATA!Z22:Z97) -> 0 | O6: =SUMIF(DATA!O22:O97,"OUI",DATA!AB22:AB97) -> 0 | P6: =SUMIF(DATA!O22:O97,"OUI",DATA!AD22:AD97) -> 0 | Q6: =SUMIF(DATA!O22:O97,"OUI",DATA!AF22:AF97) -> 0
E7: TOT. MARQUE | F7: TOT. KG | G7: KG | H7: =SUMIF(DATA!O22:O97,"OUI",DATA!Q22:Q97) -> 0 | I7: =SUMIF(DATA!O22:O97,"OUI",DATA!S22:S97) -> 0 | J7: =SUMIF(DATA!O22:O97,"OUI",DATA!U22:U97) -> 0 | K7: =SUMIF(DATA!O22:O97,"OUI",DATA!W22:W97) -> 0 | M7: =SUMIF(DATA!O22:O97,"OUI",DATA!Y22:Y97) -> 0 | N7: =SUMIF(DATA!O22:O97,"OUI",DATA!AA22:AA97) -> 0 | O7: =SUMIF(DATA!O22:O97,"OUI",DATA!AC22:AC97) -> 0 | P7: =SUMIF(DATA!O22:O97,"OUI",DATA!AE22:AE97) -> 0 | Q7: =SUMIF(DATA!O22:O97,"OUI",DATA!AG22:AG97) -> 0 | R7: HEURE | T7: NBRE SEMAINE / AN | U7: 48
B8: PLANIFIÉ | C8: OUI | E8: =SUM(E12:E33) -> 5946 | F8: =SUM(F12:F33) -> 2999236 | G8: Nbre d'Homme / Poste | H8: =POSTE!F2 -> 2 | I8: =POSTE!F3 -> 1.5 | J8: =POSTE!F4 -> 2 | K8: =POSTE!F5 -> 2 | M8: =POSTE!F7 -> 1 | N8: =POSTE!F8 -> 2 | O8: =POSTE!F9 -> 1 | P8: =POSTE!F10 -> 1 | Q8: =POSTE!F11 -> 6 | T8: PRODUCTION ANNUALISÉ | U8: =(H8*H9+I8*I9+J8*J9+K8*K9+M8*M9+N8*N9+O8*O9)*40*U7 -> 8624640 | AB8: KG
G9: KG/HEURE | H9: =POSTE!E2 -> 500 | I9: =POSTE!E3 -> 600 | J9: =POSTE!E4 -> 400 | K9: =POSTE!E5 -> 300 | M9: =POSTE!E7 -> 200 | N9: =POSTE!E8 -> 121 | O9: =POSTE!E9 -> 750 | P9: =POSTE!E10 -> 250 | Q9: =POSTE!E11 -> 1
AC10: TEMPS | AD10: MORT
B11: PRIO | C11: CLIENT | D11: TRAVAIL | E11: TTL MARKS | F11: TTL KG | G11: LIVRAISON | H11: FIN 0851 (WF + C) | I11: FIN LS | J11: FIN LC | K11: FIN LB | L11: FIN MOY LC-LB | M11: FIN PL+ | N11: FIN PL- | O11: FIN 6a15 | P11: FIN DIVERS | Q11: FIN SOUDURE | R11: FIN PRODUCTION | S11: DÉBUT MONTAGE | T11: FIN MONTAGE | U11: FIN EMB. / LIV. | AB11: Délais LIV. | AC11: FAB-LIV | AD11: MORT
B12: 1 | C12: HQ | D12: 830-02-M | E12: 5 | F12: 527 | G12: 45855 | N12: 45742 | R12: 45742 | S12: 45742 | T12: 45749 | U12: 45779 | AB12: =G12-U12 -> 76 | AC12: =U12-L12 -> #VALUE!
B13: 2 | C13: FABRIMET | D13: 797-FAB | E13: 3 | F13: 120 | G13: 45843 | Q13: 45744 | R13: 45744 | U13: 45775 | AB13: =G13-U13 -> 68 | AC13: =U13-L13 -> #VALUE!
B14: 3 | C14: HQ | D14: 797-02-M ZERTECH | E14: 60 | F14: 21341 | G14: 45898 | I14: 45744 | J14: 45742 | L14: 45742 | M14: 45742 | N14: 45742 | Q14: 45747 | R14: 45747 | U14: 45777 | AB14: =G14-U14 -> 121 | AC14: =U14-L14 -> 35
B15: 4 | C15: HQ | D15: 797-04 | E15: 65 | F15: 44465 | G15: 45898 | I15: 45751 | J15: 45743 | K15: 45742 | L15: 45742 | M15: 45742 | N15: 45742 | Q15: 45750 | R15: 45751 | U15: 45781 | AB15: =G15-U15 -> 117 | AC15: =U15-L15 -> 39
B16: 5 | C16: CNP | D16: 975-01-M | E16: 571 | F16: 75213 | G16: 45814 | I16: 45757 | J16: 45749 | K16: 45742 | L16: 45747 | M16: 45755 | N16: 45744 | Q16: 45751 | R16: 45757 | S16: 45757 | T16: 45796 | U16: 45827 | AB16: =G16-U16 -> -13 | AC16: =U16-L16 -> 80
B17: 6 | C17: HQ | D17: 830-01-M ZERTECH | E17: 579 | F17: 121316 | G17: 45855 | H17: 45742 | I17: 45763 | J17: 45758 | K17: 45748 | L17: 45754 | M17: 45757 | N17: 45754 | P17: 45750 | Q17: 45758 | R17: 45763 | U17: 45793 | AB17: =G17-U17 -> 62 | AC17: =U17-L17 -> 39
B18: 7 | C18: HQ | D18: 797-00 | E18: 14 | F18: 51014 | G18: 45782 | H18: 45749 | I18: 45764 | Q18: 45770 | R18: 45770 | U18: 45800 | AB18: =G18-U18 -> -18 | AC18: =U18-L18 -> #VALUE!
B19: 8 | C19: ONCOR | D19: 898-01-M | E19: 601 | F19: 38349 | G19: 45777 | H19: 45749 | I19: 45764 | J19: 45764 | K19: 45750 | L19: 45757 | M19: 45757 | N19: 45755 | P19: 45750 | Q19: 45770 | R19: 45770 | S19: 45796 | T19: 45819 | U19: 45849 | AB19: =G19-U19 -> -72 | AC19: =U19-L19 -> 92
B20: 9 | C20: ONCOR | D20: 898-03-M | E20: 725 | F20: 40229 | G20: 45777 | H20: 45750 | I20: 45768 | J20: 45769 | K20: 45750 | L20: 45761 | M20: 45758 | N20: 45756 | P20: 45750 | Q20: 45771 | R20: 45771 | S20: 45819 | T20: 45845 | U20: 45876 | AB20: =G20-U20 -> -99 | AC20: =U20-L20 -> 115
B21: 10 | C21: ONCOR | D21: 898-04-M | E21: 315 | F21: 76020 | G21: 45777 | H21: 45750 | I21: 45771 | J21: 45778 | K21: 45751 | L21: 45764 | M21: 45762 | N21: 45758 | Q21: 45771 | R21: 45771 | S21: 45845 | T21: 45880 | U21: 45911 | AB21: =G21-U21 -> -134 | AC21: =U21-L21 -> 147
B22: 11 | C22: HQ | D22: 797-05 | E22: 12 | F22: 5390 | G22: 45793 | I22: 45771 | J22: 45778 | L22: 45764 | M22: 45764 | P22: 45750 | Q22: 45771 | R22: 45771 | U22: 45801 | AB22: =G22-U22 -> -8 | AC22: =U22-L22 -> 37
B23: 12 | C23: CNP | D23: 975-00 | E23: 113 | F23: 95779 | G23: 45814 | I23: 45784 | J23: 45783 | K23: 45751 | L23: 45768 | M23: 45776 | N23: 45761 | P23: 45751 | Q23: 45785 | R23: 45785 | U23: 45816 | AB23: =G23-U23 -> -2 | AC23: =U23-L23 -> 48
B24: 13 | C24: HQ | D24: 830-00 | E24: 83 | F24: 747999 | G24: 45855 | H24: 45814 | I24: 45785 | J24: 45784 | K24: 45751 | L24: 45769 | M24: 45776 | N24: 45761 | O24: 45825 | Q24: 45821 | R24: 45825 | U24: 45855 | AB24: =G24-U24 -> 0 | AC24: =U24-L24 -> 86
B25: 14 | C25: HQ | D25: 830-03 | E25: 316 | F25: 501360 | G25: 45855 | H25: 45817 | J25: 45841 | K25: 45796 | L25: 45818 | M25: 45796 | N25: 45811 | Q25: 45842 | R25: 45842 | U25: 45873 | AB25: =G25-U25 -> -18 | AC25: =U25-L25 -> 55 | AD25: =S25-R25 -> #VALUE!
B26: 15 | C26: CNP | D26: 979-00 | E26: 269 | F26: 258599 | G26: 45870 | I26: 45805 | J26: 45883 | K26: 45810 | L26: 45835 | M26: 45798 | N26: 45819 | Q26: 45845 | R26: 45845 | U26: 45876 | AB26: =G26-U26 -> -6 | AC26: =U26-L26 -> 41 | AD26: =S26-R26 -> #VALUE!
B27: 16 | C27: HQ | D27: 987-2025 | E27: 90 | F27: 190568 | G27: 45884 | H27: 45831 | I27: 45806 | J27: 45884 | L27: 45835 | M27: 45800 | N27: 45820 | O27: 45848 | P27: 45751 | Q27: 45880 | R27: 45880 | U27: 45911 | AB27: =G27-U27 -> -27
B28: 17 | C28: HQ | D28: 987-2025 | E28: 959 | F28: 247306 | G28: 45884 | H28: 45831 | I28: 45814 | J28: 45916 | K28: 45824 | L28: 45881 | M28: 45804 | N28: 45835 | P28: 45751 | Q28: 45883 | R28: 45883 | U28: 45914 | AB28: =G28-U28 -> -30
B29: 19 | C29: HQ | D29: 987-2026 | E29: 61 | F29: 159115 | G29: 46086 | H29: 45841 | I29: 45819 | J29: 45918 | K29: 45824 | L29: 45882 | M29: 45804 | N29: 45835 | O29: 45889 | Q29: 45887 | R29: 45889 | U29: 45920 | AB29: =G29-U29 -> 166
B30: 20 | C30: HQ | D30: 987-2026 | E30: 1105 | F30: 324526 | G30: 46086 | H30: 45841 | I30: 45831 | J30: 45959 | K30: 45842 | L30: 45911 | M30: 45810 | N30: 45847 | O30: 45890 | P30: 45751 | Q30: 45940 | R30: 45940 | U30: 45971 | AB30: =G30-U30 -> 115

Sheet TCD DETAIL CAPACITÉ TOT
B1: FABRIMET | D1: FORECAST DÉTAILLÉ DATE DE FIN DES PROJETS PAR POSTE PRODUCTION FABRIMET CAPACITÉ MAXIMAL
D5: =NOW() -> 45754.873
G6: Marque | H6: =SUMIF(DATA!O22:O97,"OUI",DATA!P22:P97) -> 0 | I6: =SUMIF(DATA!O22:O97,"OUI",DATA!R22:R97) -> 0 | J6: =SUMIF(DATA!O22:O97,"OUI",DATA!T22:T97) -> 0 | K6: =SUMIF(DATA!O22:O97,"OUI",DATA!V22:V97) -> 0 | M6: =SUMIF(DATA!O22:O97,"OUI",DATA!X22:X97) -> 0 | N6: =SUMIF(DATA!O22:O97,"OUI",DATA!Z22:Z97) -> 0 | O6: =SUMIF(DATA!O22:O97,"OUI",DATA!AB22:AB97) -> 0 | P6: =SUMIF(DATA!O22:O97,"OUI",DATA!AD22:AD97) -> 0 | Q6: =SUMIF(DATA!O22:O97,"OUI",DATA!AF22:AF97) -> 0
E7: TOT. MARQUE | F7: TOT. KG | G7: KG | H7: =SUMIF(DATA!O22:O97,"OUI",DATA!Q22:Q97) -> 0 | I7: =SUMIF(DATA!O22:O97,"OUI",DATA!S22:S97) -> 0 | J7: =SUMIF(DATA!O22:O97,"OUI",DATA!U22:U97) -> 0 | K7: =SUMIF(DATA!O22:O97,"OUI",DATA!W22:W97) -> 0 | M7: =SUMIF(DATA!O22:O97,"OUI",DATA!Y22:Y97) -> 0 | N7: =SUMIF(DATA!O22:O97,"OUI",DATA!AA22:AA97) -> 0 | O7: =SUMIF(DATA!O22:O97,"OUI",DATA!AC22:AC97) -> 0 | P7: =SUMIF(DATA!O22:O97,"OUI",DATA!AE22:AE97) -> 0 | Q7: =SUMIF(DATA!O22:O97,"OUI",DATA!AG22:AG97) -> 0 | R7: HEURE | T7: NBRE SEMAINE / AN | U7: 48
B8: PLANIFIÉ | C8: OUI | E8: =SUM(E12:E40) -> 5946 | F8: =SUM(F12:F40) -> 2999236 | G8: Nbre d'Homme / Poste | H8: =POSTE!F2 -> 2 | I8: =POSTE!F3 -> 1.5 | J8: =POSTE!F4 -> 2 | K8: =POSTE!F5 -> 2 | M8: =POSTE!F7 -> 1 | N8: =POSTE!F8 -> 2 | O8: =POSTE!F9 -> 1 | P8: =POSTE!F10 -> 1 | Q8: =POSTE!F11 -> 6 | T8: PRODUCTION ANNUALISÉ | U8: =(H8*H9+I8*I9+J8*J9+K8*K9+M8*M9+N8*N9+O8*O9)*40*U7 -> 8624640 | AB8: KG
G9: KG/HEURE | H9: =POSTE!E2 -> 500 | I9: =POSTE!E3 -> 600 | J9: =POSTE!E4 -> 400 | K9: =POSTE!E5 -> 300 | M9: =POSTE!E7 -> 200 | N9: =POSTE!E8 -> 121 | O9: =POSTE!E9 -> 750 | P9: =POSTE!E10 -> 250 | Q9: =POSTE!E11 -> 1
AC10: TEMPS | AD10: MORT
B11: PRIO | C11: CLIENT | D11: TRAVAIL | E11: TTL MARKS | F11: TTL KG | G11: COMM. CLIENT | H11: FIN 0851 (WF + C) | I11: FIN LS | J11: FIN LC | K11: FIN LB | L11: FIN MOY LC-LB | M11: FIN PL+ | N11: FIN PL- | O11: FIN 6a15 | P11: FIN DIVERS | Q11: FIN SOUDURE | R11: FIN PRODUCTION | S11: DÉBUT MONTAGE | T11: FIN MONTAGE | U11: FIN EMB. / LIV. | AB11: Délais LIV. | AC11: FAB-LIV | AD11: MORT
B12: 1 | C12: HQ | D12: 830-02-M | E12: 5 | F12: 527 | G12: 45855 | AB12: =G12-U12 -> 45855 | AC12: =U12-L12 -> #VALUE!
B13: 2 | C13: FABRIMET | D13: 797-FAB | E13: 3 | F13: 120 | G13: 45843 | AB13: =G13-U13 -> 45843 | AC13: =U13-L13 -> #VALUE!
B14: 3 | C14: HQ | D14: 797-02-M ZERTECH | E14: 60 | F14: 21341 | G14: 45898 | I14: 45744 | J14: 45742 | L14: 45742 | M14: 45742 | N14: 45742 | Q14: 45747 | R14: 45747 | U14: 45777 | AB14: =G14-U14 -> 121 | AC14: =U14-L14 -> 35
B15: 4 | C15: HQ | D15: 797-04 | E15: 65 | F15: 44465 | G15: 45898 | I15: 45751 | J15: 45743 | K15: 45742 | L15: 45742 | M15: 45742 | N15: 45742 | Q15: 45750 | R15: 45751 | U15: 45781 | AB15: =G15-U15 -> 117 | AC15: =U15-L15 -> 39
B16: 5 | C16: CNP | D16: 975-01-M | E16: 571 | F16: 75213 | G16: 45814 | I16: 45757 | J16: 45749 | K16: 45742 | L16: 45747 | M16: 45755 | N16: 45744 | Q16: 45751 | R16: 45757 | S16: 45757 | T16: 45796 | U16: 45827 | AB16: =G16-U16 -> -13 | AC16: =U16-L16 -> 80
B17: 6 | C17: HQ | D17: 830-01-M ZERTECH | E17: 579 | F17: 121316 | G17: 45855 | H17: 45742 | I17: 45763 | J17: 45758 | K17: 45748 | L17: 45754 | M17: 45757 | N17: 45754 | P17: 45750 | Q17: 45758 | R17: 45763 | U17: 45793 | AB17: =G17-U17 -> 62 | AC17: =U17-L17 -> 39
B18: 7 | C18: HQ | D18: 797-00 | E18: 14 | F18: 51014 | G18: 45782 | H18: 45749 | I18: 45764 | AB18: =G18-U18 -> 45782 | AC18: =U18-L18 -> #VALUE!
B19: 8 | C19: ONCOR | D19: 898-01-M | E19: 601 | F19: 38349 | G19: 45777 | H19: 45749 | I19: 45764 | J19: 45764 | K19: 45750 | L19: 45757 | M19: 45757 | N19: 45755 | P19: 45750 | Q19: 45770 | R19: 45770 | S19: 45796 | T19: 45819 | U19: 45849 | AB19: =G19-U19 -> -72 | AC19: =U19-L19 -> 92
B20: 9 | C20: ONCOR | D20: 898-03-M | E20: 725 | F20: 40229 | G20: 45777 | H20: 45750 | I20: 45768 | J20: 45769 | K20: 45750 | L20: 45761 | M20: 45758 | N20: 45756 | P20: 45750 | Q20: 45771 | R20: 45771 | S20: 45819 | T20: 45845 | U20: 45876 | AB20: =G20-U20 -> -99 | AC20: =U20-L20 -> 115
B21: 10 | C21: ONCOR | D21: 898-04-M | E21: 315 | F21: 76020 | G21: 45777 | H21: 45750 | I21: 45771 | J21: 45778 | K21: 45751 | L21: 45764 | M21: 45762 | N21: 45758 | Q21: 45771 | R21: 45771 | S21: 45845 | T21: 45880 | U21: 45911 | AB21: =G21-U21 -> -134 | AC21: =U21-L21 -> 147
B22: 11 | C22: HQ | D22: 797-05 | E22: 12 | F22: 5390 | G22: 45793 | I22: 45771 | J22: 45778 | L22: 45764 | M22: 45764 | P22: 45750 | Q22: 45771 | R22: 45771 | U22: 45801 | AB22: =G22-U22 -> -8 | AC22: =U22-L22 -> 37
B23: 12 | C23: CNP | D23: 975-00 | E23: 113 | F23: 95779 | G23: 45814 | I23: 45784 | J23: 45783 | K23: 45751 | L23: 45768 | M23: 45776 | N23: 45761 | P23: 45751 | Q23: 45785 | R23: 45785 | U23: 45816 | AB23: =G23-U23 -> -2 | AC23: =U23-L23 -> 48
B24: 13 | C24: HQ | D24: 830-00 | E24: 83 | F24: 747999 | G24: 45855 | H24: 45814 | I24: 45785 | J24: 45784 | K24: 45751 | L24: 45769 | M24: 45776 | N24: 45761 | O24: 45825 | Q24: 45821 | R24: 45825 | U24: 45855 | AB24: =G24-U24 -> 0 | AC24: =U24-L24 -> 86
B25: 14 | C25: HQ | D25: 830-03 | E25: 316 | F25: 501360 | G25: 45855 | H25: 45817 | J25: 45841 | K25: 45796 | L25: 45818 | M25: 45796 | N25: 45811 | Q25: 45842 | R25: 45842 | U25: 45873 | AB25: =G25-U25 -> -18 | AC25: =U25-L25 -> 55 | AD25: =S25-R25 -> #VALUE!
B26: 15 | C26: CNP | D26: 979-00 | E26: 269 | F26: 258599 | G26: 45870 | I26: 45805 | J26: 45883 | K26: 45810 | L26: 45835 | M26: 45798 | N26: 45819 | Q26: 45845 | R26: 45845 | U26: 45876 | AB26: =G26-U26 -> -6 | AC26: =U26-L26 -> 41 | AD26: =S26-R26 -> #VALUE!
B27: 16 | C27: HQ | D27: 987-2025 | E27: 90 | F27: 190568 | G27: 45884 | H27: 45831 | I27: 45806 | J27: 45884 | L27: 45835 | M27: 45800 | N27: 45820 | O27: 45848 | P27: 45751 | Q27: 45880 | R27: 45880 | U27: 45911 | AB27: =G27-U27 -> -27 | AC27: =U27-L26 -> 76 | AD27: =S27-R27 -> #VALUE!
B28: 17 | C28: HQ | D28: 987-2025 | E28: 959 | F28: 247306 | G28: 45884 | H28: 45831 | I28: 45814 | J28: 45916 | K28: 45824 | L28: 45881 | M28: 45804 | N28: 45835 | P28: 45751 | Q28: 45883 | R28: 45883 | U28: 45914 | AB28: =G28-U28 -> -30 | AC28: =U28-L27 -> 79 | AD28: =S28-R28 -> #VALUE!
B29: 19 | C29: HQ | D29: 987-2026 | E29: 61 | F29: 159115 | G29: 46086 | H29: 45841 | I29: 45819 | J29: 45918 | K29: 45824 | L29: 45882 | M29: 45804 | N29: 45835 | O29: 45889 | Q29: 45887 | R29: 45889 | U29: 45920 | AB29: =G29-U29 -> 166 | AC29: =U29-L28 -> 39 | AD29: =S29-R29 -> #VALUE!
B30: 20 | C30: HQ | D30: 987-2026 | E30: 1105 | F30: 324526 | G30: 46086 | H30: 45841 | I30: 45831 | J30: 45959 | K30: 45842 | L30: 45911 | M30: 45810 | N30: 45847 | O30: 45890 | P30: 45751 | Q30: 45940 | R30: 45940 | U30: 45971 | AB30: =G30-U30 -> 115 | AC30: =U30-L30 -> 60
AB31: =G31-U31 -> 0 | AC31: =U31-L35 -> 0
AB32: =G32-U32 -> 0 | AC32: =U32-L36 -> 0
