Workbook

Sheet Blad1
A1: 45383 | B1: =ABS(((A1-38259.1165667833)/29.53058885-FLOOR((A1-38259.1165667833)/29.53058885,1)-0.5)*2) -> 0.52513508 | C1: {=_xlfn.XLOOKUP(A1,Feuil2!$D$9:$H$9,Tableau2[[#Headers],[Aïd el-Fitr]:[Mawlid]],"",0)} | D1: =IF(C1<>"",B1,-1) -> -1 | E1: =IF(RANK(B1,$B$1:$B$185,1)<=6,A1,"") | F1: =IF(E1<>"",B1,-1) -> -1
A2: =+A1+1 -> 45384 | B2: =ABS(((A2-38259.1165667833)/29.53058885-FLOOR((A2-38259.1165667833)/29.53058885,1)-0.5)*2) -> 0.4574087 | C2: {=_xlfn.XLOOKUP(A2,Feuil2!$D$9:$H$9,Tableau2[[#Headers],[Aïd el-Fitr]:[Mawlid]],"",0)} | D2: =IF(C2<>"",B2,-1) -> -1 | E2: =IF(RANK(B2,$B$1:$B$185,1)<=6,A2,"") | F2: =IF(E2<>"",B2,-1) -> -1
A3: =+A2+1 -> 45385 | B3: =ABS(((A3-38259.1165667833)/29.53058885-FLOOR((A3-38259.1165667833)/29.53058885,1)-0.5)*2) -> 0.38968231 | C3: {=_xlfn.XLOOKUP(A3,Feuil2!$D$9:$H$9,Tableau2[[#Headers],[Aïd el-Fitr]:[Mawlid]],"",0)} | D3: =IF(C3<>"",B3,-1) -> -1 | E3: =IF(RANK(B3,$B$1:$B$185,1)<=6,A3,"") | F3: =IF(E3<>"",B3,-1) -> -1
A4: =+A3+1 -> 45386 | B4: =ABS(((A4-38259.1165667833)/29.53058885-FLOOR((A4-38259.1165667833)/29.53058885,1)-0.5)*2) -> 0.32195593 | C4: {=_xlfn.XLOOKUP(A4,Feuil2!$D$9:$H$9,Tableau2[[#Headers],[Aïd el-Fitr]:[Mawlid]],"",0)} | D4: =IF(C4<>"",B4,-1) -> -1 | E4: =IF(RANK(B4,$B$1:$B$185,1)<=6,A4,"") | F4: =IF(E4<>"",B4,-1) -> -1
A5: =+A4+1 -> 45387 | B5: =ABS(((A5-38259.1165667833)/29.53058885-FLOOR((A5-38259.1165667833)/29.53058885,1)-0.5)*2) -> 0.25422954 | C5: {=_xlfn.XLOOKUP(A5,Feuil2!$D$9:$H$9,Tableau2[[#Headers],[Aïd el-Fitr]:[Mawlid]],"",0)} | D5: =IF(C5<>"",B5,-1) -> -1 | E5: =IF(RANK(B5,$B$1:$B$185,1)<=6,A5,"") | F5: =IF(E5<>"",B5,-1) -> -1
A6: =+A5+1 -> 45388 | B6: =ABS(((A6-38259.1165667833)/29.53058885-FLOOR((A6-38259.1165667833)/29.53058885,1)-0.5)*2) -> 0.18650316 | C6: {=_xlfn.XLOOKUP(A6,Feuil2!$D$9:$H$9,Tableau2[[#Headers],[Aïd el-Fitr]:[Mawlid]],"",0)} | D6: =IF(C6<>"",B6,-1) -> -1 | E6: =IF(RANK(B6,$B$1:$B$185,1)<=6,A6,"") | F6: =IF(E6<>"",B6,-1) -> -1
A7: =+A6+1 -> 45389 | B7: =ABS(((A7-38259.1165667833)/29.53058885-FLOOR((A7-38259.1165667833)/29.53058885,1)-0.5)*2) -> 0.11877678 | C7: {=_xlfn.XLOOKUP(A7,Feuil2!$D$9:$H$9,Tableau2[[#Headers],[Aïd el-Fitr]:[Mawlid]],"",0)} | D7: =IF(C7<>"",B7,-1) -> -1 | E7: =IF(RANK(B7,$B$1:$B$185,1)<=6,A7,"") | F7: =IF(E7<>"",B7,-1) -> -1
A8: =+A7+1 -> 45390 | B8: =ABS(((A8-38259.1165667833)/29.53058885-FLOOR((A8-38259.1165667833)/29.53058885,1)-0.5)*2) -> 0.051050391 | C8: {=_xlfn.XLOOKUP(A8,Feuil2!$D$9:$H$9,Tableau2[[#Headers],[Aïd el-Fitr]:[Mawlid]],"",0)} | D8: =IF(C8<>"",B8,-1) -> -1 | E8: =IF(RANK(B8,$B$1:$B$185,1)<=6,A8,"") | F8: =IF(E8<>"",B8,-1) -> -1
A9: =+A8+1 -> 45391 | B9: =ABS(((A9-38259.1165667833)/29.53058885-FLOOR((A9-38259.1165667833)/29.53058885,1)-0.5)*2) -> 0.016675993 | C9: {=_xlfn.XLOOKUP(A9,Feuil2!$D$9:$H$9,Tableau2[[#Headers],[Aïd el-Fitr]:[Mawlid]],"",0)} | D9: =IF(C9<>"",B9,-1) -> -1 | E9: =IF(RANK(B9,$B$1:$B$185,1)<=6,A9,"") -> 45391 | F9: =IF(E9<>"",B9,-1) -> 0.016675993
A10: =+A9+1 -> 45392 | B10: =ABS(((A10-38259.1165667833)/29.53058885-FLOOR((A10-38259.1165667833)/29.53058885,1)-0.5)*2) -> 0.084402377 | C10: {=_xlfn.XLOOKUP(A10,Feuil2!$D$9:$H$9,Tableau2[[#Headers],[Aïd el-Fitr]:[Mawlid]],"",0)} -> Aïd el-Fitr | D10: =IF(C10<>"",B10,-1) -> 0.084402377 | E10: =IF(RANK(B10,$B$1:$B$185,1)<=6,A10,"") | F10: =IF(E10<>"",B10,-1) -> -1
A11: =+A10+1 -> 45393 | B11: =ABS(((A11-38259.1165667833)/29.53058885-FLOOR((A11-38259.1165667833)/29.53058885,1)-0.5)*2) -> 0.15212876 | C11: {=_xlfn.XLOOKUP(A11,Feuil2!$D$9:$H$9,Tableau2[[#Headers],[Aïd el-Fitr]:[Mawlid]],"",0)} | D11: =IF(C11<>"",B11,-1) -> -1 | E11: =IF(RANK(B11,$B$1:$B$185,1)<=6,A11,"") | F11: =IF(E11<>"",B11,-1) -> -1
A12: =+A11+1 -> 45394 | B12: =ABS(((A12-38259.1165667833)/29.53058885-FLOOR((A12-38259.1165667833)/29.53058885,1)-0.5)*2) -> 0.21985514 | C12: {=_xlfn.XLOOKUP(A12,Feuil2!$D$9:$H$9,Tableau2[[#Headers],[Aïd el-Fitr]:[Mawlid]],"",0)} | D12: =IF(C12<>"",B12,-1) -> -1 | E12: =IF(RANK(B12,$B$1:$B$185,1)<=6,A12,"") | F12: =IF(E12<>"",B12,-1) -> -1
A13: =+A12+1 -> 45395 | B13: =ABS(((A13-38259.1165667833)/29.53058885-FLOOR((A13-38259.1165667833)/29.53058885,1)-0.5)*2) -> 0.28758153 | C13: {=_xlfn.XLOOKUP(A13,Feuil2!$D$9:$H$9,Tableau2[[#Headers],[Aïd el-Fitr]:[Mawlid]],"",0)} | D13: =IF(C13<>"",B13,-1) -> -1 | E13: =IF(RANK(B13,$B$1:$B$185,1)<=6,A13,"") | F13: =IF(E13<>"",B13,-1) -> -1
... A185: =+A184+1 -> 45567 | B185: =ABS(((A185-38259.1165667833)/29.53058885-FLOOR((A185-38259.1165667833)/29.53058885,1)-0.5)*2) -> 0.063480425 | C185: {=_xlfn.XLOOKUP(A185,Feuil2!$D$9:$H$9,Tableau2[[#Headers],[Aïd el-Fitr]:[Mawlid]],"",0)} | D185: =IF(C185<>"",B185,-1) -> -1 | E185: =IF(RANK(B185,$B$1:$B$185,1)<=6,A185,"") | F185: =IF(E185<>"",B185,-1) -> -1

Sheet Feuil2
C1: 2024 | D1: 45392 | E1: 45459 | F1: 45480 | G1: 45489 | H1: 45551
C8: Année | D8: Aïd el-Fitr | E8: Aïd el-Adha | F8: Moharam | G8: Achoura | H8: Mawlid
C9: 2024 | D9: 45392 | E9: 45459 | F9: 45480 | G9: 45489 | H9: 45551
C10: 2025 | D10: 45747 | E10: 45815 | F10: 45835 | G10: 45844 | H10: 45905
C11: 2026 | D11: 46101 | E11: 46169 | F11: 46186 | G11: 46197 | H11: 46260
B14: Kolom1 | C14: Année | D14: Aïd el-Fitr | E14: Aïd el-Adha | F14: Moharam | G14: Achoura | H14: Mawlid
B15: =Tableau22[[#This Row],[Année]]-$C$1 -> 0 | C15: 2024 | D15: 45392 | E15: =+Tableau22[[#This Row],[Aïd el-Fitr]]+68 -> 45460 | F15: 45480 | G15: =EDATE($H$1,12*$B15)-11*$B15 -> 45551 | H15: =EDATE($H$1,12*$B15)-11*$B15 -> 45551
B16: =Tableau22[[#This Row],[Année]]-$C$1 -> 1 | C16: 2025 | D16: =_xlfn.XLOOKUP(Tableau22[[#This Row],[Année]]-1,Tableau22[Année],Tableau22[Aïd el-Fitr],"?",0)-11 -> 45381 | E16: =+Tableau22[[#This Row],[Aïd el-Fitr]]+68 -> 45449 | F16: 45835 | G16: =EDATE($H$1,12*$B16)-11*$B16 -> 45905 | H16: =EDATE($H$1,12*$B16)-11*$B16 -> 45905
B17: =Tableau22[[#This Row],[Année]]-$C$1 -> 2 | C17: 2026 | D17: =_xlfn.XLOOKUP(Tableau22[[#This Row],[Année]]-1,Tableau22[Année],Tableau22[Aïd el-Fitr],"?",0)-11 -> 45370 | E17: =+Tableau22[[#This Row],[Aïd el-Fitr]]+68 -> 45438 | F17: 46186 | G17: =EDATE($H$1,12*$B17)-11*$B17 -> 46259 | H17: =EDATE($H$1,12*$B17)-11*$B17 -> 46259
