Workbook

Sheet Base
P1: 0.016 | S1: 50 | T1: =S1 -> 50
A3: 1 | B3: =ROUNDDOWN(A3*100,0) -> 100 | C3: =IFERROR(B3*2,"--") -> 200 | D3: =IF(A3="--","--",IF(A3<0.4,1,IF(A3<0.5,0.5,IF(A3<0.6,0.3,0)))) -> 0 | E3: =ROUNDDOWN(D3*$S$1,0) -> 0 | F3: =IFERROR(C3+E3,"--") -> 200 | G3: =F3/$S$1 -> 4 | I3: =A3 -> 1 | J3: =B3 -> 100 | K3: =IFERROR(J3*1,"--") -> 100 | L3: 0 | M3: =ROUNDDOWN(L3*$T$1,0) -> 0 | N3: =K3+M3 -> 100 | O3: =N3/$S$1 -> 2
A4: =ROUND(A3-0.01,2) -> 0.99 | B4: =ROUNDDOWN(A4*100,0) -> 99 | C4: =IFERROR(B4*2,"--") -> 198 | D4: =IF(A4="--","--",IF(A4<0.4,1,IF(A4<0.5,0.5,IF(A4<0.6,0.3,0)))) -> 0 | E4: =ROUNDDOWN(D4*$S$1,0) -> 0 | F4: =IFERROR(C4+E4,"--") -> 198 | G4: =F4/$S$1 -> 3.96 | I4: =A4 -> 0.99 | J4: =B4 -> 99 | K4: =IFERROR(J4*1,"--") -> 99 | L4: 0 | M4: =ROUNDDOWN(L4*$T$1,0) -> 0 | N4: =K4+M4 -> 99 | O4: =N4/$S$1 -> 1.98
A5: =ROUND(A4-0.01,2) -> 0.98 | B5: =ROUNDDOWN(A5*100,0) -> 98 | C5: =IFERROR(B5*2,"--") -> 196 | D5: =IF(A5="--","--",IF(A5<0.4,1,IF(A5<0.5,0.5,IF(A5<0.6,0.3,0)))) -> 0 | E5: =ROUNDDOWN(D5*$S$1,0) -> 0 | F5: =IFERROR(C5+E5,"--") -> 196 | G5: =F5/$S$1 -> 3.92 | I5: =A5 -> 0.98 | J5: =B5 -> 98 | K5: =IFERROR(J5*1,"--") -> 98 | L5: 0 | M5: =ROUNDDOWN(L5*$T$1,0) -> 0 | N5: =K5+M5 -> 98 | O5: =N5/$S$1 -> 1.96
A6: =ROUND(A5-0.01,2) -> 0.97 | B6: =ROUNDDOWN(A6*100,0) -> 97 | C6: =IFERROR(B6*2,"--") -> 194 | D6: =IF(A6="--","--",IF(A6<0.4,1,IF(A6<0.5,0.5,IF(A6<0.6,0.3,0)))) -> 0 | E6: =ROUNDDOWN(D6*$S$1,0) -> 0 | F6: =IFERROR(C6+E6,"--") -> 194 | G6: =F6/$S$1 -> 3.88 | I6: =A6 -> 0.97 | J6: =B6 -> 97 | K6: =IFERROR(J6*1,"--") -> 97 | L6: 0 | M6: =ROUNDDOWN(L6*$T$1,0) -> 0 | N6: =K6+M6 -> 97 | O6: =N6/$S$1 -> 1.94
A7: =ROUND(A6-0.01,2) -> 0.96 | B7: =ROUNDDOWN(A7*100,0) -> 96 | C7: =IFERROR(B7*2,"--") -> 192 | D7: =IF(A7="--","--",IF(A7<0.4,1,IF(A7<0.5,0.5,IF(A7<0.6,0.3,0)))) -> 0 | E7: =ROUNDDOWN(D7*$S$1,0) -> 0 | F7: =IFERROR(C7+E7,"--") -> 192 | G7: =F7/$S$1 -> 3.84 | I7: =A7 -> 0.96 | J7: =B7 -> 96 | K7: =IFERROR(J7*1,"--") -> 96 | L7: 0 | M7: =ROUNDDOWN(L7*$T$1,0) -> 0 | N7: =K7+M7 -> 96 | O7: =N7/$S$1 -> 1.92
A8: =ROUND(A7-0.01,2) -> 0.95 | B8: =ROUNDDOWN(A8*100,0) -> 95 | C8: =IFERROR(B8*2,"--") -> 190 | D8: =IF(A8="--","--",IF(A8<0.4,1,IF(A8<0.5,0.5,IF(A8<0.6,0.3,0)))) -> 0 | E8: =ROUNDDOWN(D8*$S$1,0) -> 0 | F8: =IFERROR(C8+E8,"--") -> 190 | G8: =F8/$S$1 -> 3.8 | I8: =A8 -> 0.95 | J8: =B8 -> 95 | K8: =IFERROR(J8*1,"--") -> 95 | L8: 0 | M8: =ROUNDDOWN(L8*$T$1,0) -> 0 | N8: =K8+M8 -> 95 | O8: =N8/$S$1 -> 1.9
A9: =ROUND(A8-0.01,2) -> 0.94 | B9: =ROUNDDOWN(A9*100,0) -> 94 | C9: =IFERROR(B9*2,"--") -> 188 | D9: =IF(A9="--","--",IF(A9<0.4,1,IF(A9<0.5,0.5,IF(A9<0.6,0.3,0)))) -> 0 | E9: =ROUNDDOWN(D9*$S$1,0) -> 0 | F9: =IFERROR(C9+E9,"--") -> 188 | G9: =F9/$S$1 -> 3.76 | I9: =A9 -> 0.94 | J9: =B9 -> 94 | K9: =IFERROR(J9*1,"--") -> 94 | L9: 0 | M9: =ROUNDDOWN(L9*$T$1,0) -> 0 | N9: =K9+M9 -> 94 | O9: =N9/$S$1 -> 1.88
A10: =ROUND(A9-0.01,2) -> 0.93 | B10: =ROUNDDOWN(A10*100,0) -> 93 | C10: =IFERROR(B10*2,"--") -> 186 | D10: =IF(A10="--","--",IF(A10<0.4,1,IF(A10<0.5,0.5,IF(A10<0.6,0.3,0)))) -> 0 | E10: =ROUNDDOWN(D10*$S$1,0) -> 0 | F10: =IFERROR(C10+E10,"--") -> 186 | G10: =F10/$S$1 -> 3.72 | I10: =A10 -> 0.93 | J10: =B10 -> 93 | K10: =IFERROR(J10*1,"--") -> 93 | L10: 0 | M10: =ROUNDDOWN(L10*$T$1,0) -> 0 | N10: =K10+M10 -> 93 | O10: =N10/$S$1 -> 1.86
A11: =ROUND(A10-0.01,2) -> 0.92 | B11: =ROUNDDOWN(A11*100,0) -> 92 | C11: =IFERROR(B11*2,"--") -> 184 | D11: =IF(A11="--","--",IF(A11<0.4,1,IF(A11<0.5,0.5,IF(A11<0.6,0.3,0)))) -> 0 | E11: =ROUNDDOWN(D11*$S$1,0) -> 0 | F11: =IFERROR(C11+E11,"--") -> 184 | G11: =F11/$S$1 -> 3.68 | I11: =A11 -> 0.92 | J11: =B11 -> 92 | K11: =IFERROR(J11*1,"--") -> 92 | L11: 0 | M11: =ROUNDDOWN(L11*$T$1,0) -> 0 | N11: =K11+M11 -> 92 | O11: =N11/$S$1 -> 1.84
A12: =ROUND(A11-0.01,2) -> 0.91 | B12: =ROUNDDOWN(A12*100,0) -> 91 | C12: =IFERROR(B12*2,"--") -> 182 | D12: =IF(A12="--","--",IF(A12<0.4,1,IF(A12<0.5,0.5,IF(A12<0.6,0.3,0)))) -> 0 | E12: =ROUNDDOWN(D12*$S$1,0) -> 0 | F12: =IFERROR(C12+E12,"--") -> 182 | G12: =F12/$S$1 -> 3.64 | I12: =A12 -> 0.91 | J12: =B12 -> 91 | K12: =IFERROR(J12*1,"--") -> 91 | L12: 0 | M12: =ROUNDDOWN(L12*$T$1,0) -> 0 | N12: =K12+M12 -> 91 | O12: =N12/$S$1 -> 1.82
A13: =ROUND(A12-0.01,2) -> 0.9 | B13: =ROUNDDOWN(A13*100,0) -> 90 | C13: =IFERROR(B13*2,"--") -> 180 | D13: =IF(A13="--","--",IF(A13<0.4,1,IF(A13<0.5,0.5,IF(A13<0.6,0.3,0)))) -> 0 | E13: =ROUNDDOWN(D13*$S$1,0) -> 0 | F13: =IFERROR(C13+E13,"--") -> 180 | G13: =F13/$S$1 -> 3.6 | I13: =A13 -> 0.9 | J13: =B13 -> 90 | K13: =IFERROR(J13*1,"--") -> 90 | L13: 0 | M13: =ROUNDDOWN(L13*$T$1,0) -> 0 | N13: =K13+M13 -> 90 | O13: =N13/$S$1 -> 1.8
A14: =ROUND(A13-0.01,2) -> 0.89 | B14: =ROUNDDOWN(A14*100,0) -> 89 | C14: =IFERROR(B14*2,"--") -> 178 | D14: =IF(A14="--","--",IF(A14<0.4,1,IF(A14<0.5,0.5,IF(A14<0.6,0.3,0)))) -> 0 | E14: =ROUNDDOWN(D14*$S$1,0) -> 0 | F14: =IFERROR(C14+E14,"--") -> 178 | G14: =F14/$S$1 -> 3.56 | I14: =A14 -> 0.89 | J14: =B14 -> 89 | K14: =IFERROR(J14*1,"--") -> 89 | L14: 0 | M14: =ROUNDDOWN(L14*$T$1,0) -> 0 | N14: =K14+M14 -> 89 | O14: =N14/$S$1 -> 1.78
A15: =ROUND(A14-0.01,2) -> 0.88 | B15: =ROUNDDOWN(A15*100,0) -> 88 | C15: =IFERROR(B15*2,"--") -> 176 | D15: =IF(A15="--","--",IF(A15<0.4,1,IF(A15<0.5,0.5,IF(A15<0.6,0.3,0)))) -> 0 | E15: =ROUNDDOWN(D15*$S$1,0) -> 0 | F15: =IFERROR(C15+E15,"--") -> 176 | G15: =F15/$S$1 -> 3.52 | I15: =A15 -> 0.88 | J15: =B15 -> 88 | K15: =IFERROR(J15*1,"--") -> 88 | L15: 0 | M15: =ROUNDDOWN(L15*$T$1,0) -> 0 | N15: =K15+M15 -> 88 | O15: =N15/$S$1 -> 1.76
... A34: =ROUND(A33-0.01,2) -> 0.69 | B34: =ROUNDDOWN(A34*100,0) -> 69 | C34: =IFERROR(B34*2,"--") -> 138 | D34: =IF(A34="--","--",IF(A34<0.4,1,IF(A34<0.5,0.5,IF(A34<0.6,0.3,0)))) -> 0 | E34: =ROUNDDOWN(D34*$S$1,0) -> 0 | F34: =IFERROR(C34+E34,"--") -> 138 | G34: =F34/$S$1 -> 2.76 | I34: =A34 -> 0.69 | J34: =B34 -> 69 | K34: =IFERROR(J34*1,"--") -> 69 | L34: 0.2 | M34: =ROUNDDOWN(L34*$T$1,0) -> 10 | N34: =K34+M34 -> 79 | O34: =N34/$S$1 -> 1.58
A35: =ROUND(A34-0.01,2) -> 0.68 | B35: =ROUNDDOWN(A35*100,0) -> 68 | C35: =IFERROR(B35*2,"--") -> 136 | D35: =IF(A35="--","--",IF(A35<0.4,1,IF(A35<0.5,0.5,IF(A35<0.6,0.3,0)))) -> 0 | E35: =ROUNDDOWN(D35*$S$1,0) -> 0 | F35: =IFERROR(C35+E35,"--") -> 136 | G35: =F35/$S$1 -> 2.72 | I35: =A35 -> 0.68 | J35: =B35 -> 68 | K35: =IFERROR(J35*1,"--") -> 68 | L35: =L34+$P$1 -> 0.216 | M35: =ROUNDDOWN(L35*$T$1,0) -> 10 | N35: =K35+M35 -> 78 | O35: =N35/$S$1 -> 1.56
A36: =ROUND(A35-0.01,2) -> 0.67 | B36: =ROUNDDOWN(A36*100,0) -> 67 | C36: =IFERROR(B36*2,"--") -> 134 | D36: =IF(A36="--","--",IF(A36<0.4,1,IF(A36<0.5,0.5,IF(A36<0.6,0.3,0)))) -> 0 | E36: =ROUNDDOWN(D36*$S$1,0) -> 0 | F36: =IFERROR(C36+E36,"--") -> 134 | G36: =F36/$S$1 -> 2.68 | I36: =A36 -> 0.67 | J36: =B36 -> 67 | K36: =IFERROR(J36*1,"--") -> 67 | L36: =L35+$P$1 -> 0.232 | M36: =ROUNDDOWN(L36*$T$1,0) -> 11 | N36: =K36+M36 -> 78 | O36: =N36/$S$1 -> 1.56
A37: =ROUND(A36-0.01,2) -> 0.66 | B37: =ROUNDDOWN(A37*100,0) -> 66 | C37: =IFERROR(B37*2,"--") -> 132 | D37: =IF(A37="--","--",IF(A37<0.4,1,IF(A37<0.5,0.5,IF(A37<0.6,0.3,0)))) -> 0 | E37: =ROUNDDOWN(D37*$S$1,0) -> 0 | F37: =IFERROR(C37+E37,"--") -> 132 | G37: =F37/$S$1 -> 2.64 | I37: =A37 -> 0.66 | J37: =B37 -> 66 | K37: =IFERROR(J37*1,"--") -> 66 | L37: =L36+$P$1 -> 0.248 | M37: =ROUNDDOWN(L37*$T$1,0) -> 12 | N37: =K37+M37 -> 78 | O37: =N37/$S$1 -> 1.56
A38: =ROUND(A37-0.01,2) -> 0.65 | B38: =ROUNDDOWN(A38*100,0) -> 65 | C38: =IFERROR(B38*2,"--") -> 130 | D38: =IF(A38="--","--",IF(A38<0.4,1,IF(A38<0.5,0.5,IF(A38<0.6,0.3,0)))) -> 0 | E38: =ROUNDDOWN(D38*$S$1,0) -> 0 | F38: =IFERROR(C38+E38,"--") -> 130 | G38: =F38/$S$1 -> 2.6 | I38: =A38 -> 0.65 | J38: =B38 -> 65 | K38: =IFERROR(J38*1,"--") -> 65 | L38: =L37+$P$1 -> 0.264 | M38: =ROUNDDOWN(L38*$T$1,0) -> 13 | N38: =K38+M38 -> 78 | O38: =N38/$S$1 -> 1.56
A39: =ROUND(A38-0.01,2) -> 0.64 | B39: =ROUNDDOWN(A39*100,0) -> 64 | C39: =IFERROR(B39*2,"--") -> 128 | D39: =IF(A39="--","--",IF(A39<0.4,1,IF(A39<0.5,0.5,IF(A39<0.6,0.3,0)))) -> 0 | E39: =ROUNDDOWN(D39*$S$1,0) -> 0 | F39: =IFERROR(C39+E39,"--") -> 128 | G39: =F39/$S$1 -> 2.56 | I39: =A39 -> 0.64 | J39: =B39 -> 64 | K39: =IFERROR(J39*1,"--") -> 64 | L39: =L38+$P$1 -> 0.28 | M39: =ROUNDDOWN(L39*$T$1,0) -> 14 | N39: =K39+M39 -> 78 | O39: =N39/$S$1 -> 1.56
A40: =ROUND(A39-0.01,2) -> 0.63 | B40: =ROUNDDOWN(A40*100,0) -> 63 | C40: =IFERROR(B40*2,"--") -> 126 | D40: =IF(A40="--","--",IF(A40<0.4,1,IF(A40<0.5,0.5,IF(A40<0.6,0.3,0)))) -> 0 | E40: =ROUNDDOWN(D40*$S$1,0) -> 0 | F40: =IFERROR(C40+E40,"--") -> 126 | G40: =F40/$S$1 -> 2.52 | I40: =A40 -> 0.63 | J40: =B40 -> 63 | K40: =IFERROR(J40*1,"--") -> 63 | L40: =L39+$P$1 -> 0.296 | M40: =ROUNDDOWN(L40*$T$1,0) -> 14 | N40: =K40+M40 -> 77 | O40: =N40/$S$1 -> 1.54
A41: =ROUND(A40-0.01,2) -> 0.62 | B41: =ROUNDDOWN(A41*100,0) -> 62 | C41: =IFERROR(B41*2,"--") -> 124 | D41: =IF(A41="--","--",IF(A41<0.4,1,IF(A41<0.5,0.5,IF(A41<0.6,0.3,0)))) -> 0 | E41: =ROUNDDOWN(D41*$S$1,0) -> 0 | F41: =IFERROR(C41+E41,"--") -> 124 | G41: =F41/$S$1 -> 2.48 | I41: =A41 -> 0.62 | J41: =B41 -> 62 | K41: =IFERROR(J41*1,"--") -> 62 | L41: =L40+$P$1 -> 0.312 | M41: =ROUNDDOWN(L41*$T$1,0) -> 15 | N41: =K41+M41 -> 77 | O41: =N41/$S$1 -> 1.54
A42: =ROUND(A41-0.01,2) -> 0.61 | B42: =ROUNDDOWN(A42*100,0) -> 61 | C42: =IFERROR(B42*2,"--") -> 122 | D42: =IF(A42="--","--",IF(A42<0.4,1,IF(A42<0.5,0.5,IF(A42<0.6,0.3,0)))) -> 0 | E42: =ROUNDDOWN(D42*$S$1,0) -> 0 | F42: =IFERROR(C42+E42,"--") -> 122 | G42: =F42/$S$1 -> 2.44 | I42: =A42 -> 0.61 | J42: =B42 -> 61 | K42: =IFERROR(J42*1,"--") -> 61 | L42: =L41+$P$1 -> 0.328 | M42: =ROUNDDOWN(L42*$T$1,0) -> 16 | N42: =K42+M42 -> 77 | O42: =N42/$S$1 -> 1.54
A43: =ROUND(A42-0.01,2) -> 0.6 | B43: =ROUNDDOWN(A43*100,0) -> 60 | C43: =IFERROR(B43*2,"--") -> 120 | D43: =IF(A43="--","--",IF(A43<0.4,1,IF(A43<0.5,0.5,IF(A43<0.6,0.3,0)))) -> 0 | E43: =ROUNDDOWN(D43*$S$1,0) -> 0 | F43: =IFERROR(C43+E43,"--") -> 120 | G43: =F43/$S$1 -> 2.4 | I43: =A43 -> 0.6 | J43: =B43 -> 60 | K43: =IFERROR(J43*1,"--") -> 60 | L43: =L42+$P$1 -> 0.344 | M43: =ROUNDDOWN(L43*$T$1,0) -> 17 | N43: =K43+M43 -> 77 | O43: =N43/$S$1 -> 1.54
A44: =ROUND(A43-0.01,2) -> 0.59 | B44: =ROUNDDOWN(A44*100,0) -> 59 | C44: =IFERROR(B44*2,"--") -> 118 | D44: =IF(A44="--","--",IF(A44<0.4,1,IF(A44<0.5,0.5,IF(A44<0.6,0.3,0)))) -> 0.3 | E44: =ROUNDDOWN(D44*$S$1,0) -> 15 | F44: =IFERROR(C44+E44,"--") -> 133 | G44: =F44/$S$1 -> 2.66 | I44: =A44 -> 0.59 | J44: =B44 -> 59 | K44: =IFERROR(J44*1,"--") -> 59 | L44: =L43+$P$1 -> 0.36 | M44: =ROUNDDOWN(L44*$T$1,0) -> 18 | N44: =K44+M44 -> 77 | O44: =N44/$S$1 -> 1.54
A45: =ROUND(A44-0.01,2) -> 0.58 | B45: =ROUNDDOWN(A45*100,0) -> 58 | C45: =IFERROR(B45*2,"--") -> 116 | D45: =IF(A45="--","--",IF(A45<0.4,1,IF(A45<0.5,0.5,IF(A45<0.6,0.3,0)))) -> 0.3 | E45: =ROUNDDOWN(D45*$S$1,0) -> 15 | F45: =IFERROR(C45+E45,"--") -> 131 | G45: =F45/$S$1 -> 2.62 | I45: =A45 -> 0.58 | J45: =B45 -> 58 | K45: =IFERROR(J45*1,"--") -> 58 | L45: =L44+$P$1 -> 0.376 | M45: =ROUNDDOWN(L45*$T$1,0) -> 18 | N45: =K45+M45 -> 76 | O45: =N45/$S$1 -> 1.52
A46: =ROUND(A45-0.01,2) -> 0.57 | B46: =ROUNDDOWN(A46*100,0) -> 57 | C46: =IFERROR(B46*2,"--") -> 114 | D46: =IF(A46="--","--",IF(A46<0.4,1,IF(A46<0.5,0.5,IF(A46<0.6,0.3,0)))) -> 0.3 | E46: =ROUNDDOWN(D46*$S$1,0) -> 15 | F46: =IFERROR(C46+E46,"--") -> 129 | G46: =F46/$S$1 -> 2.58 | I46: =A46 -> 0.57 | J46: =B46 -> 57 | K46: =IFERROR(J46*1,"--") -> 57 | L46: =L45+$P$1 -> 0.392 | M46: =ROUNDDOWN(L46*$T$1,0) -> 19 | N46: =K46+M46 -> 76 | O46: =N46/$S$1 -> 1.52
... A103: =ROUND(A102-0.01,2) -> 0 | B103: =ROUNDDOWN(A103*100,0) -> 0 | C103: =IFERROR(B103*2,"--") -> 0 | D103: =IF(A103="--","--",IF(A103<0.4,1,IF(A103<0.5,0.5,IF(A103<0.6,0.3,0)))) -> 1 | E103: =ROUNDDOWN(D103*$S$1,0) -> 50 | F103: =IFERROR(C103+E103,"--") -> 50 | G103: =F103/$S$1 -> 1 | I103: =A103 -> 0 | J103: =B103 -> 0 | K103: =IFERROR(J103*1,"--") -> 0 | L103: =L102+$P$1 -> 1.304 | M103: =ROUNDDOWN(L103*$T$1,0) -> 65 | N103: =K103+M103 -> 65 | O103: =N103/$S$1 -> 1.3

Sheet Cible
S1: 50 | T1: =S1 -> 50
A3: 1 | B3: =ROUNDDOWN(A3*100,0) -> 100 | C3: =IFERROR(B3*2,"--") -> 200 | D3: =IF(A3="--","--",IF(A3<0.4,1,IF(A3<0.5,0.5,IF(A3<0.6,0.3,0)))) -> 0 | E3: =ROUNDDOWN(D3*$S$1,0) -> 0 | F3: =IFERROR(C3+E3,"--") -> 200 | G3: =F3/$S$1 -> 4 | I3: =A3 -> 1 | J3: =B3 -> 100 | K3: =IFERROR(J3*1,"--") -> 100 | N3: =K3+M3 -> 100 | O3: =N3/$S$1 -> 2
A4: =ROUND(A3-0.04,2) -> 0.96 | B4: =ROUNDDOWN(A4*100,0) -> 96 | C4: =IFERROR(B4*2,"--") -> 192 | D4: =IF(A4="--","--",IF(A4<0.4,1,IF(A4<0.5,0.5,IF(A4<0.6,0.3,0)))) -> 0 | E4: =ROUNDDOWN(D4*$S$1,0) -> 0 | F4: =IFERROR(C4+E4,"--") -> 192 | G4: =F4/$S$1 -> 3.84 | I4: =A4 -> 0.96 | J4: =B4 -> 96 | K4: =IFERROR(J4*1,"--") -> 96 | N4: =K4+M4 -> 96 | O4: =N4/$S$1 -> 1.92
A5: =ROUND(A4-0.04,2) -> 0.92 | B5: =ROUNDDOWN(A5*100,0) -> 92 | C5: =IFERROR(B5*2,"--") -> 184 | D5: =IF(A5="--","--",IF(A5<0.4,1,IF(A5<0.5,0.5,IF(A5<0.6,0.3,0)))) -> 0 | E5: =ROUNDDOWN(D5*$S$1,0) -> 0 | F5: =IFERROR(C5+E5,"--") -> 184 | G5: =F5/$S$1 -> 3.68 | I5: =A5 -> 0.92 | J5: =B5 -> 92 | K5: =IFERROR(J5*1,"--") -> 92 | N5: =K5+M5 -> 92 | O5: =N5/$S$1 -> 1.84
A6: =ROUND(A5-0.04,2) -> 0.88 | B6: =ROUNDDOWN(A6*100,0) -> 88 | C6: =IFERROR(B6*2,"--") -> 176 | D6: =IF(A6="--","--",IF(A6<0.4,1,IF(A6<0.5,0.5,IF(A6<0.6,0.3,0)))) -> 0 | E6: =ROUNDDOWN(D6*$S$1,0) -> 0 | F6: =IFERROR(C6+E6,"--") -> 176 | G6: =F6/$S$1 -> 3.52 | I6: =A6 -> 0.88 | J6: =B6 -> 88 | K6: =IFERROR(J6*1,"--") -> 88 | N6: =K6+M6 -> 88 | O6: =N6/$S$1 -> 1.76
A7: =ROUND(A6-0.04,2) -> 0.84 | B7: =ROUNDDOWN(A7*100,0) -> 84 | C7: =IFERROR(B7*2,"--") -> 168 | D7: =IF(A7="--","--",IF(A7<0.4,1,IF(A7<0.5,0.5,IF(A7<0.6,0.3,0)))) -> 0 | E7: =ROUNDDOWN(D7*$S$1,0) -> 0 | F7: =IFERROR(C7+E7,"--") -> 168 | G7: =F7/$S$1 -> 3.36 | I7: =A7 -> 0.84 | J7: =B7 -> 84 | K7: =IFERROR(J7*1,"--") -> 84 | N7: =K7+M7 -> 84 | O7: =N7/$S$1 -> 1.68
A8: =ROUND(A7-0.04,2) -> 0.8 | B8: =ROUNDDOWN(A8*100,0) -> 80 | C8: =IFERROR(B8*2,"--") -> 160 | D8: =IF(A8="--","--",IF(A8<0.4,1,IF(A8<0.5,0.5,IF(A8<0.6,0.3,0)))) -> 0 | E8: =ROUNDDOWN(D8*$S$1,0) -> 0 | F8: =IFERROR(C8+E8,"--") -> 160 | G8: =F8/$S$1 -> 3.2 | I8: =A8 -> 0.8 | J8: =B8 -> 80 | K8: =IFERROR(J8*1,"--") -> 80 | N8: =K8+M8 -> 80 | O8: =N8/$S$1 -> 1.6
A9: =ROUND(A8-0.04,2) -> 0.76 | B9: =ROUNDDOWN(A9*100,0) -> 76 | C9: =IFERROR(B9*2,"--") -> 152 | D9: =IF(A9="--","--",IF(A9<0.4,1,IF(A9<0.5,0.5,IF(A9<0.6,0.3,0)))) -> 0 | E9: =ROUNDDOWN(D9*$S$1,0) -> 0 | F9: =IFERROR(C9+E9,"--") -> 152 | G9: =F9/$S$1 -> 3.04 | I9: =A9 -> 0.76 | J9: =B9 -> 76 | K9: =IFERROR(J9*1,"--") -> 76 | N9: =K9+M9 -> 76 | O9: =N9/$S$1 -> 1.52
A10: =ROUND(A9-0.04,2) -> 0.72 | B10: =ROUNDDOWN(A10*100,0) -> 72 | C10: =IFERROR(B10*2,"--") -> 144 | D10: =IF(A10="--","--",IF(A10<0.4,1,IF(A10<0.5,0.5,IF(A10<0.6,0.3,0)))) -> 0 | E10: =ROUNDDOWN(D10*$S$1,0) -> 0 | F10: =IFERROR(C10+E10,"--") -> 144 | G10: =F10/$S$1 -> 2.88 | I10: =A10 -> 0.72 | J10: =B10 -> 72 | K10: =IFERROR(J10*1,"--") -> 72 | N10: =K10+M10 -> 72 | O10: =N10/$S$1 -> 1.44
A11: =ROUND(A10-0.04,2) -> 0.68 | B11: =ROUNDDOWN(A11*100,0) -> 68 | C11: =IFERROR(B11*2,"--") -> 136 | D11: =IF(A11="--","--",IF(A11<0.4,1,IF(A11<0.5,0.5,IF(A11<0.6,0.3,0)))) -> 0 | E11: =ROUNDDOWN(D11*$S$1,0) -> 0 | F11: =IFERROR(C11+E11,"--") -> 136 | G11: =F11/$S$1 -> 2.72 | I11: =A11 -> 0.68 | J11: =B11 -> 68 | K11: =IFERROR(J11*1,"--") -> 68 | L11: =VLOOKUP(I11,Base!$I$3:$L$103,4,FALSE) -> 0.216 | M11: =INDEX(Base!$I$3:$L$103,MATCH(I11,Base!$I$3:$I$103,0),4) -> 0.216 | N11: =K11+M11 -> 68.216 | O11: =N11/$S$1 -> 1.36432
A12: =ROUND(A11-0.04,2) -> 0.64 | B12: =ROUNDDOWN(A12*100,0) -> 64 | C12: =IFERROR(B12*2,"--") -> 128 | D12: =IF(A12="--","--",IF(A12<0.4,1,IF(A12<0.5,0.5,IF(A12<0.6,0.3,0)))) -> 0 | E12: =ROUNDDOWN(D12*$S$1,0) -> 0 | F12: =IFERROR(C12+E12,"--") -> 128 | G12: =F12/$S$1 -> 2.56 | I12: =A12 -> 0.64 | J12: =B12 -> 64 | K12: =IFERROR(J12*1,"--") -> 64 | L12: =VLOOKUP(I12,Base!$I$3:$L$103,4,FALSE) -> 0.28 | M12: =INDEX(Base!$I$3:$L$103,MATCH(I12,Base!$I$3:$I$103,0),4) -> 0.28 | N12: =K12+M12 -> 64.28 | O12: =N12/$S$1 -> 1.2856
A13: =ROUND(A12-0.04,2) -> 0.6 | B13: =ROUNDDOWN(A13*100,0) -> 60 | C13: =IFERROR(B13*2,"--") -> 120 | D13: =IF(A13="--","--",IF(A13<0.4,1,IF(A13<0.5,0.5,IF(A13<0.6,0.3,0)))) -> 0 | E13: =ROUNDDOWN(D13*$S$1,0) -> 0 | F13: =IFERROR(C13+E13,"--") -> 120 | G13: =F13/$S$1 -> 2.4 | I13: =A13 -> 0.6 | J13: =B13 -> 60 | K13: =IFERROR(J13*1,"--") -> 60 | L13: =VLOOKUP(I13,Base!$I$3:$L$103,4,FALSE) -> 0.344 | M13: =INDEX(Base!$I$3:$L$103,MATCH(I13,Base!$I$3:$I$103,0),4) -> 0.344 | N13: =K13+M13 -> 60.344 | O13: =N13/$S$1 -> 1.20688
A14: =ROUND(A13-0.04,2) -> 0.56 | B14: =ROUNDDOWN(A14*100,0) -> 56 | C14: =IFERROR(B14*2,"--") -> 112 | D14: =IF(A14="--","--",IF(A14<0.4,1,IF(A14<0.5,0.5,IF(A14<0.6,0.3,0)))) -> 0.3 | E14: =ROUNDDOWN(D14*$S$1,0) -> 15 | F14: =IFERROR(C14+E14,"--") -> 127 | G14: =F14/$S$1 -> 2.54 | I14: =A14 -> 0.56 | J14: =B14 -> 56 | K14: =IFERROR(J14*1,"--") -> 56 | L14: =VLOOKUP(I14,Base!$I$3:$L$103,4,FALSE) -> 0.408 | M14: =INDEX(Base!$I$3:$L$103,MATCH(I14,Base!$I$3:$I$103,0),4) -> 0.408 | N14: =K14+M14 -> 56.408 | O14: =N14/$S$1 -> 1.12816
A15: =ROUND(A14-0.04,2) -> 0.52 | B15: =ROUNDDOWN(A15*100,0) -> 52 | C15: =IFERROR(B15*2,"--") -> 104 | D15: =IF(A15="--","--",IF(A15<0.4,1,IF(A15<0.5,0.5,IF(A15<0.6,0.3,0)))) -> 0.3 | E15: =ROUNDDOWN(D15*$S$1,0) -> 15 | F15: =IFERROR(C15+E15,"--") -> 119 | G15: =F15/$S$1 -> 2.38 | I15: =A15 -> 0.52 | J15: =B15 -> 52 | K15: =IFERROR(J15*1,"--") -> 52 | L15: =VLOOKUP(I15,Base!$I$3:$L$103,4,FALSE) -> 0.472 | M15: =INDEX(Base!$I$3:$L$103,MATCH(I15,Base!$I$3:$I$103,0),4) -> 0.472 | N15: =K15+M15 -> 52.472 | O15: =N15/$S$1 -> 1.04944
A16: =ROUND(A15-0.04,2) -> 0.48 | B16: =ROUNDDOWN(A16*100,0) -> 48 | C16: =IFERROR(B16*2,"--") -> 96 | D16: =IF(A16="--","--",IF(A16<0.4,1,IF(A16<0.5,0.5,IF(A16<0.6,0.3,0)))) -> 0.5 | E16: =ROUNDDOWN(D16*$S$1,0) -> 25 | F16: =IFERROR(C16+E16,"--") -> 121 | G16: =F16/$S$1 -> 2.42 | I16: =A16 -> 0.48 | J16: =B16 -> 48 | K16: =IFERROR(J16*1,"--") -> 48 | L16: =VLOOKUP(I16,Base!$I$3:$L$103,4,FALSE) -> 0.536 | M16: =INDEX(Base!$I$3:$L$103,MATCH(I16,Base!$I$3:$I$103,0),4) -> 0.536 | N16: =K16+M16 -> 48.536 | O16: =N16/$S$1 -> 0.97072
A17: =ROUND(A16-0.04,2) -> 0.44 | B17: =ROUNDDOWN(A17*100,0) -> 44 | C17: =IFERROR(B17*2,"--") -> 88 | D17: =IF(A17="--","--",IF(A17<0.4,1,IF(A17<0.5,0.5,IF(A17<0.6,0.3,0)))) -> 0.5 | E17: =ROUNDDOWN(D17*$S$1,0) -> 25 | F17: =IFERROR(C17+E17,"--") -> 113 | G17: =F17/$S$1 -> 2.26 | I17: =A17 -> 0.44 | J17: =B17 -> 44 | K17: =IFERROR(J17*1,"--") -> 44 | L17: =VLOOKUP(I17,Base!$I$3:$L$103,4,FALSE) -> 0.6 | M17: =INDEX(Base!$I$3:$L$103,MATCH(I17,Base!$I$3:$I$103,0),4) -> 0.6 | N17: =K17+M17 -> 44.6 | O17: =N17/$S$1 -> 0.892
A18: =ROUND(A17-0.04,2) -> 0.4 | B18: =ROUNDDOWN(A18*100,0) -> 40 | C18: =IFERROR(B18*2,"--") -> 80 | D18: =IF(A18="--","--",IF(A18<0.4,1,IF(A18<0.5,0.5,IF(A18<0.6,0.3,0)))) -> 0.5 | E18: =ROUNDDOWN(D18*$S$1,0) -> 25 | F18: =IFERROR(C18+E18,"--") -> 105 | G18: =F18/$S$1 -> 2.1 | I18: =A18 -> 0.4 | J18: =B18 -> 40 | K18: =IFERROR(J18*1,"--") -> 40 | L18: =VLOOKUP(I18,Base!$I$3:$L$103,4,FALSE) -> 0.664 | M18: =INDEX(Base!$I$3:$L$103,MATCH(I18,Base!$I$3:$I$103,0),4) -> 0.664 | N18: =K18+M18 -> 40.664 | O18: =N18/$S$1 -> 0.81328
A19: =ROUND(A18-0.04,2) -> 0.36 | B19: =ROUNDDOWN(A19*100,0) -> 36 | C19: =IFERROR(B19*2,"--") -> 72 | D19: =IF(A19="--","--",IF(A19<0.4,1,IF(A19<0.5,0.5,IF(A19<0.6,0.3,0)))) -> 1 | E19: =ROUNDDOWN(D19*$S$1,0) -> 50 | F19: =IFERROR(C19+E19,"--") -> 122 | G19: =F19/$S$1 -> 2.44 | I19: =A19 -> 0.36 | J19: =B19 -> 36 | K19: =IFERROR(J19*1,"--") -> 36 | L19: =VLOOKUP(I19,Base!$I$3:$L$103,4,FALSE) -> 0.728 | M19: =INDEX(Base!$I$3:$L$103,MATCH(I19,Base!$I$3:$I$103,0),4) -> 0.728 | N19: =K19+M19 -> 36.728 | O19: =N19/$S$1 -> 0.73456
A20: =ROUND(A19-0.04,2) -> 0.32 | B20: =ROUNDDOWN(A20*100,0) -> 32 | C20: =IFERROR(B20*2,"--") -> 64 | D20: =IF(A20="--","--",IF(A20<0.4,1,IF(A20<0.5,0.5,IF(A20<0.6,0.3,0)))) -> 1 | E20: =ROUNDDOWN(D20*$S$1,0) -> 50 | F20: =IFERROR(C20+E20,"--") -> 114 | G20: =F20/$S$1 -> 2.28 | I20: =A20 -> 0.32 | J20: =B20 -> 32 | K20: =IFERROR(J20*1,"--") -> 32 | L20: =VLOOKUP(I20,Base!$I$3:$L$103,4,FALSE) -> 0.792 | M20: =INDEX(Base!$I$3:$L$103,MATCH(I20,Base!$I$3:$I$103,0),4) -> 0.792 | N20: =K20+M20 -> 32.792 | O20: =N20/$S$1 -> 0.65584
A21: =ROUND(A20-0.04,2) -> 0.28 | B21: =ROUNDDOWN(A21*100,0) -> 28 | C21: =IFERROR(B21*2,"--") -> 56 | D21: =IF(A21="--","--",IF(A21<0.4,1,IF(A21<0.5,0.5,IF(A21<0.6,0.3,0)))) -> 1 | E21: =ROUNDDOWN(D21*$S$1,0) -> 50 | F21: =IFERROR(C21+E21,"--") -> 106 | G21: =F21/$S$1 -> 2.12 | I21: =A21 -> 0.28 | J21: =B21 -> 28 | K21: =IFERROR(J21*1,"--") -> 28 | L21: =VLOOKUP(I21,Base!$I$3:$L$103,4,FALSE) -> 0.856 | M21: =INDEX(Base!$I$3:$L$103,MATCH(I21,Base!$I$3:$I$103,0),4) -> 0.856 | N21: =K21+M21 -> 28.856 | O21: =N21/$S$1 -> 0.57712
A22: =ROUND(A21-0.04,2) -> 0.24 | B22: =ROUNDDOWN(A22*100,0) -> 24 | C22: =IFERROR(B22*2,"--") -> 48 | D22: =IF(A22="--","--",IF(A22<0.4,1,IF(A22<0.5,0.5,IF(A22<0.6,0.3,0)))) -> 1 | E22: =ROUNDDOWN(D22*$S$1,0) -> 50 | F22: =IFERROR(C22+E22,"--") -> 98 | G22: =F22/$S$1 -> 1.96 | I22: =A22 -> 0.24 | J22: =B22 -> 24 | K22: =IFERROR(J22*1,"--") -> 24 | L22: =VLOOKUP(I22,Base!$I$3:$L$103,4,FALSE) -> 0.92 | M22: =INDEX(Base!$I$3:$L$103,MATCH(I22,Base!$I$3:$I$103,0),4) -> 0.92 | N22: =K22+M22 -> 24.92 | O22: =N22/$S$1 -> 0.4984
... A28: =ROUND(A27-0.04,2) -> 0 | B28: =ROUNDDOWN(A28*100,0) -> 0 | C28: =IFERROR(B28*2,"--") -> 0 | D28: =IF(A28="--","--",IF(A28<0.4,1,IF(A28<0.5,0.5,IF(A28<0.6,0.3,0)))) -> 1 | E28: =ROUNDDOWN(D28*$S$1,0) -> 50 | F28: =IFERROR(C28+E28,"--") -> 50 | G28: =F28/$S$1 -> 1 | I28: =A28 -> 0 | J28: =B28 -> 0 | K28: =IFERROR(J28*1,"--") -> 0 | L28: =VLOOKUP(I28,Base!$I$3:$L$103,4,FALSE) -> 1.304 | M28: =INDEX(Base!$I$3:$L$103,MATCH(I28,Base!$I$3:$I$103,0),4) -> 1.304 | N28: =K28+M28 -> 1.304 | O28: =N28/$S$1 -> 0.02608
