Workbook
Name Always: #REF!
Name Always: #REF!
Name Always: #REF!
Name Always: #REF!
Name Always: #REF!
Name Always: #REF!
Name Always: #REF!
Name Always: CALCULS!#REF!
Name Always: #REF!
Name Always: #REF!
Name AS: #REF!
Name auc: #REF!
Name Aucun: #REF!
Name Aucun: #REF!
Name Aucun: #REF!
Name Aucun: #REF!
Name Aucun: #REF!
Name Aucun: #REF!
Name Aucun: #REF!
Name Aucun: CALCULS!#REF!
Name Aucun: #REF!
Name Aucun: #REF!
Name Audit: #REF!
Name Audit: #REF!
Name back: #REF!
Name Bleu: #REF!
Name Bleu: #REF!
Name Bleu: #REF!
Name Bleu: #REF!
Name Bleu: #REF!
Name Bleu: #REF!
Name Bleu: #REF!
Name Bleu: CALCULS!$L$6
Name Bleu: #REF!
Name Bleu: #REF!
Name Blue: #REF!
Name Blue: #REF!
Name Blue: #REF!
Name Blue: #REF!
Name Blue: #REF!
Name Blue: #REF!
Name Blue: #REF!
Name Blue: #REF!
Name Blue: #REF!
Name boutique: #REF!
Name Complet: #REF!
Name Complet: #REF!
Name Complet: #REF!
Name Complet: #REF!
Name Complet: #REF!
Name Complet: #REF!
Name Complet: #REF!
Name Complet: CALCULS!$C$181
Name Complet: #REF!
Name Complet: #REF!
Name ComplianceList: #REF!
Name compliant?: #REF!
Name Compta: #REF!
Name Compta: #REF!
Name compte: #REF!

Sheet CALCULS
B1: /!\ ne pas modifier la structure | J1: ponderation | K1: =SUM(K3:K571) -> 0
B2: Cycle | C2: Sous-cycle 1 | E2: # question | F2: Réponses Audit | G2: Note du Audit | H2: Note max du Audit si N/A | I2: Note max si pas de N/A | K2: # réponse incomplète | L2: Liste 1 | M2: Liste 2 | N2: Liste 3 | O2: Liste 4 | P2: Yes | Q2: Liste2 | R2: Liste 5 | S2: Liste 6 | U2: Poids question | V2: # réponse incomplète | X2: SCORING VF
B3: PEOPLE PLANNING | C3: =IF(SCORE!$C$36="VF","People Planning","People Planning") -> People Planning | E3: 1 | F3: =VLOOKUP(E3,INDIRECT("'"&$B3&"'!F:J"),5,) -> Yes | G3: =IF(F3=$L$5,"X",IF(OR(F3=$L$3,F3=$M$3,$N$3),H3,IF(OR(F3=$L$4,F3=$M$6,F3=$N$6),0,IF(OR(F3=$M$4,F3=$N$4),H3*0.67,IF(OR(F3=$M$5,F3=$N$5),H3*0.34))))) -> 1.1235955 | H3: =+IF(F3="N/A",0,I3) -> 1.1235955 | I3: 1.1235955 | K3: =IF(F3=Non_répondu,1,0) -> 0 | L3: Yes | M3: Always | N3: Always | O3: N/A | P3: No | Q3: Liste4 | R3: VF | S3: Yes | T3: PEOPLE PLANNING | U3: =SUMIF(B:B,T3,H:H) -> 8 | V3: =SUM(K3:K9) -> 0 | X3: PEOPLE PLANNING
B4: PEOPLE PLANNING | C4: =IF(SCORE!$C$36="VF","People Planning","People Planning") -> People Planning | E4: 2 | F4: =VLOOKUP(E4,INDIRECT("'"&$B4&"'!F:J"),5,) -> No | G4: =IF(F4=$L$5,"X",IF(OR(F4=$L$3,F4=$M$3,$N$3),H4,IF(OR(F4=$L$4,F4=$M$6,F4=$N$6),0,IF(OR(F4=$M$4,F4=$N$4),H4*0.67,IF(OR(F4=$M$5,F4=$N$5),H4*0.34))))) -> 0 | H4: =+IF(F4="N/A",0,I4) -> 1.1235955 | I4: 1.1235955 | K4: =IF(F4=Non_répondu,1,0) -> 0 | L4: No | M4: Regularly | N4: Regularly | O4: Not answered | P4: Not answered | Q4: Liste2 | R4: VA | S4: No | T4: PAYROLL | U4: =SUMIF(B:B,T4,H:H) -> 10 | V4: =SUM(K10:K18) -> 0 | X4: PEOPLE PLANNING
B5: PEOPLE PLANNING | C5: =IF(SCORE!$C$36="VF","People Planning","People Planning") -> People Planning | E5: 3 | F5: =VLOOKUP(E5,INDIRECT("'"&$B5&"'!F:J"),5,) -> Yes | G5: =IF(F5=$L$5,"X",IF(OR(F5=$L$3,F5=$M$3,$N$3),H5,IF(OR(F5=$L$4,F5=$M$6,F5=$N$6),0,IF(OR(F5=$M$4,F5=$N$4),H5*0.67,IF(OR(F5=$M$5,F5=$N$5),H5*0.34))))) -> 1.1235955 | H5: =+IF(F5="N/A",0,I5) -> 1.1235955 | I5: 1.1235955 | K5: =IF(F5=Non_répondu,1,0) -> 0 | L5: Not answered | M5: Rarely | N5: Rarely | S5: N/A | T5: RECRUITMENT AND SELECTION | U5: =SUMIF(B:B,T5,H:H) -> 17 | V5: =SUM(K19:K33) -> 0 | X5: PEOPLE PLANNING
B6: PEOPLE PLANNING | C6: =IF(SCORE!$C$36="VF","People Planning","People Planning") -> People Planning | E6: 4 | F6: =VLOOKUP(E6,INDIRECT("'"&$B6&"'!F:J"),5,) -> Yes | G6: =IF(F6=$L$5,"X",IF(OR(F6=$L$3,F6=$M$3,$N$3),H6,IF(OR(F6=$L$4,F6=$M$6,F6=$N$6),0,IF(OR(F6=$M$4,F6=$N$4),H6*0.67,IF(OR(F6=$M$5,F6=$N$5),H6*0.34))))) -> 1.1235955 | H6: =+IF(F6="N/A",0,I6) -> 1.1235955 | I6: 1.1235955 | K6: =IF(F6=Non_répondu,1,0) -> 0 | M6: Never | N6: Never | S6: Not answered | T6: REWARD AND PERFORMANCE | U6: =SUMIF(B:B,T6,H:H) -> 12 | V6: =SUM(K34:K44) -> 0 | X6: PEOPLE PLANNING
B7: PEOPLE PLANNING | C7: =IF(SCORE!$C$36="VF","People Planning","People Planning") -> People Planning | E7: 5 | F7: =VLOOKUP(E7,INDIRECT("'"&$B7&"'!F:J"),5,) -> Yes | G7: =IF(F7=$L$5,"X",IF(OR(F7=$L$3,F7=$M$3,$N$3),H7,IF(OR(F7=$L$4,F7=$M$6,F7=$N$6),0,IF(OR(F7=$M$4,F7=$N$4),H7*0.67,IF(OR(F7=$M$5,F7=$N$5),H7*0.34))))) -> 1.1235955 | H7: =+IF(F7="N/A",0,I7) -> 1.1235955 | I7: 1.1235955 | K7: =IF(F7=Non_répondu,1,0) -> 0 | M7: Not answered | N7: N/A | T7: HR POLICIES AND ADMINISTRATION | U7: =SUMIF(B:B,T7,H:H) -> 17 | V7: =SUM(K45:K59) -> 0 | X7: PEOPLE PLANNING
B8: PEOPLE PLANNING | C8: =IF(SCORE!$C$36="VF","People Planning","People Planning") -> People Planning | E8: 6 | F8: =VLOOKUP(E8,INDIRECT("'"&$B8&"'!F:J"),5,) -> Yes | G8: =IF(F8=$L$5,"X",IF(OR(F8=$L$3,F8=$M$3,$N$3),H8,IF(OR(F8=$L$4,F8=$M$6,F8=$N$6),0,IF(OR(F8=$M$4,F8=$N$4),H8*0.67,IF(OR(F8=$M$5,F8=$N$5),H8*0.34))))) -> 1.1235955 | H8: =+IF(F8="N/A",0,I8) -> 1.1235955 | I8: 1.1235955 | K8: =IF(F8=Non_répondu,1,0) -> 0 | N8: Not answered | T8: ENGAGEMENT AND RECOGNITION | U8: =SUMIF(B:B,T8,H:H) -> 12 | V8: =SUM(K60:K70) -> 0 | X8: PEOPLE PLANNING
B9: PEOPLE PLANNING | C9: =IF(SCORE!$C$36="VF","People Planning","People Planning") -> People Planning | E9: 7 | F9: =VLOOKUP(E9,INDIRECT("'"&$B9&"'!F:J"),5,) -> Yes | G9: =IF(F9=$L$5,"X",IF(OR(F9=$L$3,F9=$M$3,$N$3),H9,IF(OR(F9=$L$4,F9=$M$6,F9=$N$6),0,IF(OR(F9=$M$4,F9=$N$4),H9*0.67,IF(OR(F9=$M$5,F9=$N$5),H9*0.34))))) -> 1.258427 | H9: =+IF(F9="N/A",0,I9) -> 1.258427 | I9: 1.258427 | K9: =IF(F9=Non_répondu,1,0) -> 0 | O9: ALWAYS - REGULARLY - RARELY - NEVER | T9: WELFARE HEALTH AND SAFETY | U9: =SUMIF(B:B,T9,H:H) -> 19 | V9: =SUM(K71:K87) -> 0 | X9: PEOPLE PLANNING
B10: PAYROLL | C10: =IF(SCORE!$C$36="VF","Paie","Payroll") -> Payroll | E10: 8 | F10: =VLOOKUP(E10,INDIRECT("'"&$B10&"'!F:J"),5,) -> No | G10: =IF(F10=$L$5,"X",IF(OR(F10=$L$3,F10=$M$3,$N$3),H10,IF(OR(F10=$L$4,F10=$M$6,F10=$N$6),0,IF(OR(F10=$M$4,F10=$N$4),H10*0.67,IF(OR(F10=$M$5,F10=$N$5),H10*0.34))))) -> 0 | H10: =+IF(F10="N/A",0,I10) -> 1.1235955 | I10: 1.1235955 | K10: =IF(F10=Non_répondu,1,0) -> 0 | T10: LEARNING AND DEVELOPMENT | U10: =SUMIF(B:B,T10,H:H) -> 5 | V10: =SUM(K88:K91) -> 0 | X10: PAYROLL
B11: PAYROLL | C11: =IF(SCORE!$C$36="VF","Paie","Payroll") -> Payroll | E11: 9 | F11: =VLOOKUP(E11,INDIRECT("'"&$B11&"'!F:J"),5,) -> Yes | G11: =IF(F11=$L$5,"X",IF(OR(F11=$L$3,F11=$M$3,$N$3),H11,IF(OR(F11=$L$4,F11=$M$6,F11=$N$6),0,IF(OR(F11=$M$4,F11=$N$4),H11*0.67,IF(OR(F11=$M$5,F11=$N$5),H11*0.34))))) -> 1.1235955 | H11: =+IF(F11="N/A",0,I11) -> 1.1235955 | I11: 1.1235955 | K11: =IF(F11=Non_répondu,1,0) -> 0 | X11: PAYROLL
B12: PAYROLL | C12: =IF(SCORE!$C$36="VF","Paie","Payroll") -> Payroll | E12: 10 | F12: =VLOOKUP(E12,INDIRECT("'"&$B12&"'!F:J"),5,) -> Yes | G12: =IF(F12=$L$5,"X",IF(OR(F12=$L$3,F12=$M$3,$N$3),H12,IF(OR(F12=$L$4,F12=$M$6,F12=$N$6),0,IF(OR(F12=$M$4,F12=$N$4),H12*0.67,IF(OR(F12=$M$5,F12=$N$5),H12*0.34))))) -> 1.1235955 | H12: =+IF(F12="N/A",0,I12) -> 1.1235955 | I12: 1.1235955 | K12: =IF(F12=Non_répondu,1,0) -> 0 | X12: PAYROLL
B13: PAYROLL | C13: =IF(SCORE!$C$36="VF","Paie","Payroll") -> Payroll | E13: 11 | F13: =VLOOKUP(E13,INDIRECT("'"&$B13&"'!F:J"),5,) -> Yes | G13: =IF(F13=$L$5,"X",IF(OR(F13=$L$3,F13=$M$3,$N$3),H13,IF(OR(F13=$L$4,F13=$M$6,F13=$N$6),0,IF(OR(F13=$M$4,F13=$N$4),H13*0.67,IF(OR(F13=$M$5,F13=$N$5),H13*0.34))))) -> 1.1235955 | H13: =+IF(F13="N/A",0,I13) -> 1.1235955 | I13: 1.1235955 | K13: =IF(F13=Non_répondu,1,0) -> 0 | X13: PAYROLL
B14: PAYROLL | C14: =IF(SCORE!$C$36="VF","Paie","Payroll") -> Payroll | E14: 12 | F14: =VLOOKUP(E14,INDIRECT("'"&$B14&"'!F:J"),5,) -> Yes | G14: =IF(F14=$L$5,"X",IF(OR(F14=$L$3,F14=$M$3,$N$3),H14,IF(OR(F14=$L$4,F14=$M$6,F14=$N$6),0,IF(OR(F14=$M$4,F14=$N$4),H14*0.67,IF(OR(F14=$M$5,F14=$N$5),H14*0.34))))) -> 1.1235955 | H14: =+IF(F14="N/A",0,I14) -> 1.1235955 | I14: 1.1235955 | K14: =IF(F14=Non_répondu,1,0) -> 0 | X14: PAYROLL
B15: PAYROLL | C15: =IF(SCORE!$C$36="VF","Paie","Payroll") -> Payroll | E15: 13 | F15: =VLOOKUP(E15,INDIRECT("'"&$B15&"'!F:J"),5,) -> Yes | G15: =IF(F15=$L$5,"X",IF(OR(F15=$L$3,F15=$M$3,$N$3),H15,IF(OR(F15=$L$4,F15=$M$6,F15=$N$6),0,IF(OR(F15=$M$4,F15=$N$4),H15*0.67,IF(OR(F15=$M$5,F15=$N$5),H15*0.34))))) -> 1.1235955 | H15: =+IF(F15="N/A",0,I15) -> 1.1235955 | I15: 1.1235955 | K15: =IF(F15=Non_répondu,1,0) -> 0 | X15: PAYROLL
B16: PAYROLL | C16: =IF(SCORE!$C$36="VF","Paie","Payroll") -> Payroll | E16: 14 | F16: =VLOOKUP(E16,INDIRECT("'"&$B16&"'!F:J"),5,) -> Yes | G16: =IF(F16=$L$5,"X",IF(OR(F16=$L$3,F16=$M$3,$N$3),H16,IF(OR(F16=$L$4,F16=$M$6,F16=$N$6),0,IF(OR(F16=$M$4,F16=$N$4),H16*0.67,IF(OR(F16=$M$5,F16=$N$5),H16*0.34))))) -> 1.1235955 | H16: =+IF(F16="N/A",0,I16) -> 1.1235955 | I16: 1.1235955 | K16: =IF(F16=Non_répondu,1,0) -> 0 | X16: PAYROLL
B17: PAYROLL | C17: =IF(SCORE!$C$36="VF","Paie","Payroll") -> Payroll | E17: 15 | F17: =VLOOKUP(E17,INDIRECT("'"&$B17&"'!F:J"),5,) -> Rarely | G17: =IF(F17=$L$5,"X",IF(OR(F17=$L$3,F17=$M$3,$N$3),H17,IF(OR(F17=$L$4,F17=$M$6,F17=$N$6),0,IF(OR(F17=$M$4,F17=$N$4),H17*0.67,IF(OR(F17=$M$5,F17=$N$5),H17*0.34))))) -> 0.38202247 | H17: =+IF(F17="N/A",0,I17) -> 1.1235955 | I17: 1.1235955 | K17: =IF(F17=Non_répondu,1,0) -> 0 | X17: PAYROLL
B18: PAYROLL | C18: =IF(SCORE!$C$36="VF","Paie","Payroll") -> Payroll | E18: 16 | F18: =VLOOKUP(E18,INDIRECT("'"&$B18&"'!F:J"),5,) -> No | G18: =IF(F18=$L$5,"X",IF(OR(F18=$L$3,F18=$M$3,$N$3),H18,IF(OR(F18=$L$4,F18=$M$6,F18=$N$6),0,IF(OR(F18=$M$4,F18=$N$4),H18*0.67,IF(OR(F18=$M$5,F18=$N$5),H18*0.34))))) -> 0 | H18: =+IF(F18="N/A",0,I18) -> 1.011236 | I18: 1.011236 | K18: =IF(F18=Non_répondu,1,0) -> 0 | X18: PAYROLL
B19: RECRUITMENT AND SELECTION | C19: =IF(SCORE!$C$36="VF","Recruitment and Selection","Recruitment and Selection") -> Recruitment and Selection | E19: 17 | F19: =VLOOKUP(E19,INDIRECT("'"&$B19&"'!F:J"),5,) -> Yes | G19: =IF(F19=$L$5,"X",IF(OR(F19=$L$3,F19=$M$3,$N$3),H19,IF(OR(F19=$L$4,F19=$M$6,F19=$N$6),0,IF(OR(F19=$M$4,F19=$N$4),H19*0.67,IF(OR(F19=$M$5,F19=$N$5),H19*0.34))))) -> 1.1235955 | H19: =+IF(F19="N/A",0,I19) -> 1.1235955 | I19: 1.1235955 | K19: =IF(F19=Non_répondu,1,0) -> 0 | X19: RECRUITMENT AND SELECTION
B20: RECRUITMENT AND SELECTION | C20: =IF(SCORE!$C$36="VF","Recruitment and Selection","Recruitment and Selection") -> Recruitment and Selection | E20: 18 | F20: =VLOOKUP(E20,INDIRECT("'"&$B20&"'!F:J"),5,) -> Regularly | G20: =IF(F20=$L$5,"X",IF(OR(F20=$L$3,F20=$M$3,$N$3),H20,IF(OR(F20=$L$4,F20=$M$6,F20=$N$6),0,IF(OR(F20=$M$4,F20=$N$4),H20*0.67,IF(OR(F20=$M$5,F20=$N$5),H20*0.34))))) -> 0.75280899 | H20: =+IF(F20="N/A",0,I20) -> 1.1235955 | I20: 1.1235955 | K20: =IF(F20=Non_répondu,1,0) -> 0 | X20: RECRUITMENT AND SELECTION
B21: RECRUITMENT AND SELECTION | C21: =IF(SCORE!$C$36="VF","Recruitment and Selection","Recruitment and Selection") -> Recruitment and Selection | E21: 19 | F21: =VLOOKUP(E21,INDIRECT("'"&$B21&"'!F:J"),5,) -> Always | G21: =IF(F21=$L$5,"X",IF(OR(F21=$L$3,F21=$M$3,$N$3),H21,IF(OR(F21=$L$4,F21=$M$6,F21=$N$6),0,IF(OR(F21=$M$4,F21=$N$4),H21*0.67,IF(OR(F21=$M$5,F21=$N$5),H21*0.34))))) -> 1.1235955 | H21: =+IF(F21="N/A",0,I21) -> 1.1235955 | I21: 1.1235955 | K21: =IF(F21=Non_répondu,1,0) -> 0 | X21: RECRUITMENT AND SELECTION
B22: RECRUITMENT AND SELECTION | C22: =IF(SCORE!$C$36="VF","Recruitment and Selection","Recruitment and Selection") -> Recruitment and Selection | E22: 20 | F22: =VLOOKUP(E22,INDIRECT("'"&$B22&"'!F:J"),5,) -> No | G22: =IF(F22=$L$5,"X",IF(OR(F22=$L$3,F22=$M$3,$N$3),H22,IF(OR(F22=$L$4,F22=$M$6,F22=$N$6),0,IF(OR(F22=$M$4,F22=$N$4),H22*0.67,IF(OR(F22=$M$5,F22=$N$5),H22*0.34))))) -> 0 | H22: =+IF(F22="N/A",0,I22) -> 1.1235955 | I22: 1.1235955 | K22: =IF(F22=Non_répondu,1,0) -> 0 | X22: RECRUITMENT AND SELECTION
B23: RECRUITMENT AND SELECTION | C23: =IF(SCORE!$C$36="VF","Recruitment and Selection","Recruitment and Selection") -> Recruitment and Selection | E23: 21 | F23: =VLOOKUP(E23,INDIRECT("'"&$B23&"'!F:J"),5,) -> Yes | G23: =IF(F23=$L$5,"X",IF(OR(F23=$L$3,F23=$M$3,$N$3),H23,IF(OR(F23=$L$4,F23=$M$6,F23=$N$6),0,IF(OR(F23=$M$4,F23=$N$4),H23*0.67,IF(OR(F23=$M$5,F23=$N$5),H23*0.34))))) -> 1.1235955 | H23: =+IF(F23="N/A",0,I23) -> 1.1235955 | I23: 1.1235955 | K23: =IF(F23=Non_répondu,1,0) -> 0 | X23: RECRUITMENT AND SELECTION
B24: RECRUITMENT AND SELECTION | C24: =IF(SCORE!$C$36="VF","Recruitment and Selection","Recruitment and Selection") -> Recruitment and Selection | E24: 22 | F24: =VLOOKUP(E24,INDIRECT("'"&$B24&"'!F:J"),5,) -> Yes | G24: =IF(F24=$L$5,"X",IF(OR(F24=$L$3,F24=$M$3,$N$3),H24,IF(OR(F24=$L$4,F24=$M$6,F24=$N$6),0,IF(OR(F24=$M$4,F24=$N$4),H24*0.67,IF(OR(F24=$M$5,F24=$N$5),H24*0.34))))) -> 1.1235955 | H24: =+IF(F24="N/A",0,I24) -> 1.1235955 | I24: 1.1235955 | K24: =IF(F24=Non_répondu,1,0) -> 0 | X24: RECRUITMENT AND SELECTION
B25: RECRUITMENT AND SELECTION | C25: =IF(SCORE!$C$36="VF","Recruitment and Selection","Recruitment and Selection") -> Recruitment and Selection | E25: 23 | F25: =VLOOKUP(E25,INDIRECT("'"&$B25&"'!F:J"),5,) -> Always | G25: =IF(F25=$L$5,"X",IF(OR(F25=$L$3,F25=$M$3,$N$3),H25,IF(OR(F25=$L$4,F25=$M$6,F25=$N$6),0,IF(OR(F25=$M$4,F25=$N$4),H25*0.67,IF(OR(F25=$M$5,F25=$N$5),H25*0.34))))) -> 1.1235955 | H25: =+IF(F25="N/A",0,I25) -> 1.1235955 | I25: 1.1235955 | K25: =IF(F25=Non_répondu,1,0) -> 0 | X25: RECRUITMENT AND SELECTION
B26: RECRUITMENT AND SELECTION | C26: =IF(SCORE!$C$36="VF","Recruitment and Selection","Recruitment and Selection") -> Recruitment and Selection | E26: 24 | F26: =VLOOKUP(E26,INDIRECT("'"&$B26&"'!F:J"),5,) -> No | G26: =IF(F26=$L$5,"X",IF(OR(F26=$L$3,F26=$M$3,$N$3),H26,IF(OR(F26=$L$4,F26=$M$6,F26=$N$6),0,IF(OR(F26=$M$4,F26=$N$4),H26*0.67,IF(OR(F26=$M$5,F26=$N$5),H26*0.34))))) -> 0 | H26: =+IF(F26="N/A",0,I26) -> 1.1235955 | I26: 1.1235955 | K26: =IF(F26=Non_répondu,1,0) -> 0 | X26: RECRUITMENT AND SELECTION
B27: RECRUITMENT AND SELECTION | C27: =IF(SCORE!$C$36="VF","Recruitment and Selection","Recruitment and Selection") -> Recruitment and Selection | E27: 25 | F27: =VLOOKUP(E27,INDIRECT("'"&$B27&"'!F:J"),5,) -> No | G27: =IF(F27=$L$5,"X",IF(OR(F27=$L$3,F27=$M$3,$N$3),H27,IF(OR(F27=$L$4,F27=$M$6,F27=$N$6),0,IF(OR(F27=$M$4,F27=$N$4),H27*0.67,IF(OR(F27=$M$5,F27=$N$5),H27*0.34))))) -> 0 | H27: =+IF(F27="N/A",0,I27) -> 1.1235955 | I27: 1.1235955 | K27: =IF(F27=Non_répondu,1,0) -> 0 | X27: RECRUITMENT AND SELECTION
B28: RECRUITMENT AND SELECTION | C28: =IF(SCORE!$C$36="VF","Recruitment and Selection","Recruitment and Selection") -> Recruitment and Selection | E28: 26 | F28: =VLOOKUP(E28,INDIRECT("'"&$B28&"'!F:J"),5,) -> Regularly | G28: =IF(F28=$L$5,"X",IF(OR(F28=$L$3,F28=$M$3,$N$3),H28,IF(OR(F28=$L$4,F28=$M$6,F28=$N$6),0,IF(OR(F28=$M$4,F28=$N$4),H28*0.67,IF(OR(F28=$M$5,F28=$N$5),H28*0.34))))) -> 0.75280899 | H28: =+IF(F28="N/A",0,I28) -> 1.1235955 | I28: 1.1235955 | K28: =IF(F28=Non_répondu,1,0) -> 0 | X28: RECRUITMENT AND SELECTION
B29: RECRUITMENT AND SELECTION | C29: =IF(SCORE!$C$36="VF","Recruitment and Selection","Recruitment and Selection") -> Recruitment and Selection | E29: 27 | F29: =VLOOKUP(E29,INDIRECT("'"&$B29&"'!F:J"),5,) -> Regularly | G29: =IF(F29=$L$5,"X",IF(OR(F29=$L$3,F29=$M$3,$N$3),H29,IF(OR(F29=$L$4,F29=$M$6,F29=$N$6),0,IF(OR(F29=$M$4,F29=$N$4),H29*0.67,IF(OR(F29=$M$5,F29=$N$5),H29*0.34))))) -> 0.75280899 | H29: =+IF(F29="N/A",0,I29) -> 1.1235955 | I29: 1.1235955 | K29: =IF(F29=Non_répondu,1,0) -> 0 | X29: RECRUITMENT AND SELECTION
B30: RECRUITMENT AND SELECTION | C30: =IF(SCORE!$C$36="VF","Recruitment and Selection","Recruitment and Selection") -> Recruitment and Selection | E30: 28 | F30: =VLOOKUP(E30,INDIRECT("'"&$B30&"'!F:J"),5,) -> Always | G30: =IF(F30=$L$5,"X",IF(OR(F30=$L$3,F30=$M$3,$N$3),H30,IF(OR(F30=$L$4,F30=$M$6,F30=$N$6),0,IF(OR(F30=$M$4,F30=$N$4),H30*0.67,IF(OR(F30=$M$5,F30=$N$5),H30*0.34))))) -> 1.1235955 | H30: =+IF(F30="N/A",0,I30) -> 1.1235955 | I30: 1.1235955 | K30: =IF(F30=Non_répondu,1,0) -> 0 | X30: RECRUITMENT AND SELECTION
... B33: RECRUITMENT AND SELECTION | C33: =IF(SCORE!$C$36="VF","Recruitment and Selection","Recruitment and Selection") -> Recruitment and Selection | E33: 31 | F33: =VLOOKUP(E33,INDIRECT("'"&$B33&"'!F:J"),5,) -> Regularly | G33: =IF(F33=$L$5,"X",IF(OR(F33=$L$3,F33=$M$3,$N$3),H33,IF(OR(F33=$L$4,F33=$M$6,F33=$N$6),0,IF(OR(F33=$M$4,F33=$N$4),H33*0.67,IF(OR(F33=$M$5,F33=$N$5),H33*0.34))))) -> 0.85067416 | H33: =+IF(F33="N/A",0,I33) -> 1.2696629 | I33: 1.2696629 | K33: =IF(F33=Non_répondu,1,0) -> 0 | X33: RECRUITMENT AND SELECTION
B34: REWARD AND PERFORMANCE | C34: =IF(SCORE!$C$36="VF","Reward","Reward") -> Reward | E34: 32 | F34: =VLOOKUP(E34,INDIRECT("'"&$B34&"'!F:J"),5,) -> Rarely | G34: =IF(F34=$L$5,"X",IF(OR(F34=$L$3,F34=$M$3,$N$3),H34,IF(OR(F34=$L$4,F34=$M$6,F34=$N$6),0,IF(OR(F34=$M$4,F34=$N$4),H34*0.67,IF(OR(F34=$M$5,F34=$N$5),H34*0.34))))) -> 0.38202247 | H34: =+IF(F34="N/A",0,I34) -> 1.1235955 | I34: 1.1235955 | K34: =IF(F34=Non_répondu,1,0) -> 0 | X34: REWARD AND PERFORMANCE
B35: REWARD AND PERFORMANCE | C35: =IF(SCORE!$C$36="VF","Reward","Reward") -> Reward | E35: 33 | F35: =VLOOKUP(E35,INDIRECT("'"&$B35&"'!F:J"),5,) -> No | G35: =IF(F35=$L$5,"X",IF(OR(F35=$L$3,F35=$M$3,$N$3),H35,IF(OR(F35=$L$4,F35=$M$6,F35=$N$6),0,IF(OR(F35=$M$4,F35=$N$4),H35*0.67,IF(OR(F35=$M$5,F35=$N$5),H35*0.34))))) -> 0 | H35: =+IF(F35="N/A",0,I35) -> 1.1235955 | I35: 1.1235955 | K35: =IF(F35=Non_répondu,1,0) -> 0 | X35: REWARD AND PERFORMANCE
B36: REWARD AND PERFORMANCE | C36: =IF(SCORE!$C$36="VF","Reward","Reward") -> Reward | E36: 34 | F36: =VLOOKUP(E36,INDIRECT("'"&$B36&"'!F:J"),5,) -> Yes | G36: =IF(F36=$L$5,"X",IF(OR(F36=$L$3,F36=$M$3,$N$3),H36,IF(OR(F36=$L$4,F36=$M$6,F36=$N$6),0,IF(OR(F36=$M$4,F36=$N$4),H36*0.67,IF(OR(F36=$M$5,F36=$N$5),H36*0.34))))) -> 1.1235955 | H36: =+IF(F36="N/A",0,I36) -> 1.1235955 | I36: 1.1235955 | K36: =IF(F36=Non_répondu,1,0) -> 0 | X36: REWARD AND PERFORMANCE
B37: REWARD AND PERFORMANCE | C37: =IF(SCORE!$C$36="VF","Reward","Reward") -> Reward | E37: 35 | F37: =VLOOKUP(E37,INDIRECT("'"&$B37&"'!F:J"),5,) -> Yes | G37: =IF(F37=$L$5,"X",IF(OR(F37=$L$3,F37=$M$3,$N$3),H37,IF(OR(F37=$L$4,F37=$M$6,F37=$N$6),0,IF(OR(F37=$M$4,F37=$N$4),H37*0.67,IF(OR(F37=$M$5,F37=$N$5),H37*0.34))))) -> 1.1235955 | H37: =+IF(F37="N/A",0,I37) -> 1.1235955 | I37: 1.1235955 | K37: =IF(F37=Non_répondu,1,0) -> 0 | X37: REWARD AND PERFORMANCE
B38: REWARD AND PERFORMANCE | C38: =IF(SCORE!$C$36="VF","Reward","Reward") -> Reward | E38: 36 | F38: =VLOOKUP(E38,INDIRECT("'"&$B38&"'!F:J"),5,) -> No | G38: =IF(F38=$L$5,"X",IF(OR(F38=$L$3,F38=$M$3,$N$3),H38,IF(OR(F38=$L$4,F38=$M$6,F38=$N$6),0,IF(OR(F38=$M$4,F38=$N$4),H38*0.67,IF(OR(F38=$M$5,F38=$N$5),H38*0.34))))) -> 0 | H38: =+IF(F38="N/A",0,I38) -> 1.1235955 | I38: 1.1235955 | K38: =IF(F38=Non_répondu,1,0) -> 0 | X38: REWARD AND PERFORMANCE
B39: REWARD AND PERFORMANCE | C39: =IF(SCORE!$C$36="VF","Reward","Reward") -> Reward | E39: 37 | F39: =VLOOKUP(E39,INDIRECT("'"&$B39&"'!F:J"),5,) -> No | G39: =IF(F39=$L$5,"X",IF(OR(F39=$L$3,F39=$M$3,$N$3),H39,IF(OR(F39=$L$4,F39=$M$6,F39=$N$6),0,IF(OR(F39=$M$4,F39=$N$4),H39*0.67,IF(OR(F39=$M$5,F39=$N$5),H39*0.34))))) -> 0 | H39: =+IF(F39="N/A",0,I39) -> 1.1235955 | I39: 1.1235955 | K39: =IF(F39=Non_répondu,1,0) -> 0 | X39: REWARD AND PERFORMANCE
B40: REWARD AND PERFORMANCE | C40: =IF(SCORE!$C$36="VF","Reward","Reward") -> Reward | E40: 38 | F40: =VLOOKUP(E40,INDIRECT("'"&$B40&"'!F:J"),5,) -> Yes | G40: =IF(F40=$L$5,"X",IF(OR(F40=$L$3,F40=$M$3,$N$3),H40,IF(OR(F40=$L$4,F40=$M$6,F40=$N$6),0,IF(OR(F40=$M$4,F40=$N$4),H40*0.67,IF(OR(F40=$M$5,F40=$N$5),H40*0.34))))) -> 1.1235955 | H40: =+IF(F40="N/A",0,I40) -> 1.1235955 | I40: 1.1235955 | K40: =IF(F40=Non_répondu,1,0) -> 0 | X40: REWARD AND PERFORMANCE
B41: REWARD AND PERFORMANCE | C41: =IF(SCORE!$C$36="VF","Performance and Talent Management","Performance and Talent Management") -> Performance and Talent Management | E41: 39 | F41: =VLOOKUP(E41,INDIRECT("'"&$B41&"'!F:J"),5,) -> No | G41: =IF(F41=$L$5,"X",IF(OR(F41=$L$3,F41=$M$3,$N$3),H41,IF(OR(F41=$L$4,F41=$M$6,F41=$N$6),0,IF(OR(F41=$M$4,F41=$N$4),H41*0.67,IF(OR(F41=$M$5,F41=$N$5),H41*0.34))))) -> 0 | H41: =+IF(F41="N/A",0,I41) -> 1.1235955 | I41: 1.1235955 | K41: =IF(F41=Non_répondu,1,0) -> 0 | X41: REWARD AND PERFORMANCE
B42: REWARD AND PERFORMANCE | C42: =IF(SCORE!$C$36="VF","Performance and Talent Management","Performance and Talent Management") -> Performance and Talent Management | E42: 40 | F42: =VLOOKUP(E42,INDIRECT("'"&$B42&"'!F:J"),5,) -> Yes | G42: =IF(F42=$L$5,"X",IF(OR(F42=$L$3,F42=$M$3,$N$3),H42,IF(OR(F42=$L$4,F42=$M$6,F42=$N$6),0,IF(OR(F42=$M$4,F42=$N$4),H42*0.67,IF(OR(F42=$M$5,F42=$N$5),H42*0.34))))) -> 1.0037453 | H42: =+IF(F42="N/A",0,I42) -> 1.0037453 | I42: 1.0037453 | K42: =IF(F42=Non_répondu,1,0) -> 0 | X42: REWARD AND PERFORMANCE
...

Sheet Instructions
A1: HR Operational Review Process
A3: Aim
A4: The HR Operational Review is an annual internal review carried out by Corporate Human Resources to ensure all properties are complying with our Corporate HR standards
A5: The document can be used for internal self-audits recommended to be undertaken twice yearly to ensure continuous improvement and compliance
A6: The review gives a score to check compliance with the minimum standards required of our HR departments to assist in identifying areas of compliance and gaps that need attention
A7: Through this process of internal audits, HR related risk to the business should be reduced
A8: The review is also an opportnuity for Corporate HR to see new initiatives and to share best practice amongst the HR Teams across Aman
A10: Responsibilities
A11: It is the responsability of each property Head of HR and General Managers to ensure compliance to the HR standards and that any subsequent actions are completed to deadlines
A13: Instructions for the Compliance Worksheet
A14: The HR Operations Reviewer (Usually Corporate HR)
A15: 1 Complete the Property Data Information
... A55: Business Priority refers to the average urgency of the issues highlighted

Sheet Summary Score
B4: HR Operational Review - Summary
B6: Review Details
B7: Property
B8: Dates of Review
B9: Project Leader
B10: Compliance Reviewer
B11: Report distribution
B13: Compliance Summary
B14: No. of Items | C14: Status | F14: Compliance Score
C15: Compliant | D15: Non-compliant | E15: Not applicable
B16: 97 | C16: #VALUE! | D16: #VALUE! | E16: #VALUE! | F16: =SUM(C16/(97-E16)) -> #VALUE!
B18: Business Priority Summary - Refers to the urgency of the issues highlighted
B19: No. of Items | C19: Priority Rating for Actionable Items
C20: 1 | D20: 2 | E20: 3 | F20: 4 | G20: None
B21: 97 | C21: #VALUE! | D21: #VALUE! | E21: #VALUE! | F21: #VALUE! | G21: #VALUE!
C23: 1 = Needs immediate attention and correction
C24: 2 = Must be corrected as a matter of priority
C25: 3 = Requires action planning and implementation in the medium term (max 6 months)
C26: 4 = Requires action planning and implementation in the longer term (max 12 months)
B28: Key Areas of Attention

Sheet PEOPLE PLANNING
G1: TOTAL VENTES HERBERGEMENT
J4: =IF(CALCULS!$V$3>0,"Incomplete questionnaire",SCORE!$E$12) -> 0.85955056 | L4: Evidence Sought | N4: Recommendation | P4: Management Action Plan | R4: Responsible Party | T4: Due Date | V4: Status Update
D5: I. People Planning
D7: Item | G7: Requirement | J7: Compliance
D9: 1 | F9: 1 | G9: The Global People Strategy is being used as a basis for the local HR Strategy and links to the business strategy to ensure the right people are in the right roles, at the right salaries to grow the business/revenue in the way desired | J9: Yes | L9: 1. Cite People Strategy 2. What are the key HR priorities in the next 3-6 months? 3. What are the key threats/concerns for HR within your property?
D11: =+D9+1 -> 2 | F11: 2 | G11: An approved budgeted manning guide is used as the basis for all hiring approvals | J11: No | L11: Check evidence of current manning guide
D13: =+D11+1 -> 3 | F13: 3 | G13: Overall Property Payroll is in line with budget for month and Year-to-Date | J13: Yes | L13: Evidence of payroll budget v actual for the month and YTD. Detail justification if over budget
D15: =D13+1 -> 4 | F15: 4 | G15: HR/L&D P&L expenses have been budgeted according to Corporate HR Budget Guidelines and a monthly check of actual V budget is evident | J15: Yes | L15: 1. Check HR P&L against Corporate Budget Guidelines. 2. Check for evidence of budget control through report of actual v budget
D17: =++D15+1 -> 5 | F17: 5 | G17: Localization manning strategy & budget is in place to drive employment of nationals (if applicable) | J17: Yes | L17: Understand localization legislation and any restrictions on visa quotas Understand the strategy on recruiting, training and retaining locals (in countries relying mostly on expat populations)
D19: =++D17+1 -> 6 | F19: 6 | G19: Hours of work are being recorded and follow contract/ local employment legislation/policy. Break times are being taken in line with legislation | I19: NEW | J19: Yes | L19: 1. Cite how working time is recorded (manual timesheet/Time & Attendance system) 2. Check 5 different departments Time & Attendance/timesheets for evidence of hours being inline with contract/law.i.e. contracted hours/days Vs the timesheet 3. Cite how HODs manage colleague breaks
D21: =+D19+1 -> 7 | F21: 7 | G21: Overtime is being pre-approved and time is given back or paid out when accrued according to policy and/or local legislation | J21: Yes | L21: 1. Check policy on overtime/lieu time and how this is accrued and recorded. 2. Understand the local legislation on overtime and cross-reference to the employment contract (if mentioned) 3. Cite evidence to check how this is tracked and managed to ensure balances are not high (over 10 lieu days owing is considered high)

Sheet PAYROLL
G1: TOTAL TRESORERIE
J4: =IF(CALCULS!$V$4>0,"Incomplete questionnaire",SCORE!$E$14) -> 0.71235955 | L4: Evidence Sought | N4: Recommendation | P4: Management Action Plan | R4: Responsible Party | T4: Due Date | V4: Status Update
D5: I. Payroll
D7: Item | G7: Requirement | J7: Compliance
D9: Payroll Process
D11: 8 | F11: 8 | G11: All colleagues are registered in the Payroll System & are being paid on time. Payroll is signed off by HR/FC/GM - segregation exists. | J11: No | L11: 1. Cite the payroll process - manual/computerized payroll system, is payroll outsourced, who is authorized to input data, segregation of duties between HR and Finance, how is monthly payroll checked i.e. comparison to previous month 2. Confirm who is the authorized signatory on the final payroll prior to payment
D13: =+D11+1 -> 9 | F13: 9 | G13: Colleagues receive payslips after each salary payment | J13: Yes | L13: 1. Confirm process for payslips. 2. Are any annual checks in place to require in-person signing of payslips to ensure no ghost employees exist
D15: Payroll Accuracy
D17: =+D13+1 -> 10 | F17: 10 | G17: Colleague gross pay is entered correctly in the payroll system as per contract | J17: Yes | L17: Select 15 random files to check gross salary payroll entry V HR Record (contract/addendum/pay rise letter)
D19: Payroll Changes
D21: =+D17+1 -> 11 | F21: 11 | G21: Status change requests carry correct approvals and contract/addendum is provided with contractual changes (promotion, salary change, etc.) | J21: Yes | L21: 1. Check 10 colleagues who received a status change in the last 6 months (or all, whichever is less) for status change form with correct signatures 2. Check an addendum or new contract was issued to the colleague to reflect the change
D23: =+D21+1 -> 12 | F23: 12 | G23: Colleagues are correctly compensated for service charge/gratuity/tips accordance with local policy and employment legislation | J23: Yes | L23: 1. Cite the SOP/Policy for collecting and distributing Service Charge/Gratuity/Tips to colleagues 2. Check the last payroll report for evidence of service charge payment to colleagues
D25: =+D23+1 -> 13 | F25: 13 | G25: Any changes to colleague bank details are requested by the colleague via a form or through a secure employee self service portal on a HR system | J25: Yes | L25: Cite process for any changes to colleague bank details. Requests should not be accepted via email or text message as they could be from a false email address
D27: Leave Management
D29: =+D25+1 -> 14 | F29: 14 | G29: There is a clear procedure for requesting, tracking, and approving different leave types | I29: NEW | J29: Yes | L29: 1. Cite leave procedure - how are leave requests made, approved by and tracked. 2. How is this communicated to payroll
D31: Vacation Management
D33: =+D29+1 -> 15 | F33: 15 | G33: Pro-active management of annual leave balances is carried out. Communications to HODs are sent at least twice per year to ensure balances are well managed and not too high | J33: Rarely | L33: Check communication to management team giving an overview of department leave balances and look for evidence of control for colleagues with more than 20 accrued vacation days (or reasons for exceptions if more).
D35: Sick Leave Management
D37: =+D33+1 -> 16 | F37: 16 | G37: There is a clear procedure in line with local Legislation for recording and tracking sickness | J37: No | L37: 1. Understand the local Legislation on sick Leave and any contractual entitlements. 2. Cite procedure for tracking absence and communication to payroll for any required payroll adjustments 3. Cite if Return to Work interviews are used where necessary to support Colleague wellbeing and care

Sheet RECRUITMENT AND SELECTION
G1: TOTAL DEBITEURS
J4: =IF(CALCULS!$V$5>0,"Incomplete questionnaire",SCORE!$E$16) -> 0.64554527 | L4: Evidence Sought | N4: Recommendation | P4: Management Action Plan | R4: Responsible Party | T4: Due Date | V4: Status Update
D5: I. Recruitment and Selection
D7: Item | G7: Requirement | J7: Compliance
D9: Workforce approvals
D11: 17 | F11: 17 | G11: All vacancies have the required approvals to recruit via an approved Request for Hire form/Job Requisition | J11: Yes | L11: 1. Cite the job requisition approval process and who signs - for budgeted and non-budgeted roles 2.Check files of 10 colleagues recently hired over last 6 months (or all colleagues hired in last 6 months, whichever is less) for the approved form & required signatures
D13: Job Descriptions
D15: =+D11+1 -> 18 | F15: 18 | G15: Accurate job descriptions exist for each job role and are signed by the incumbent with their Contract of Employment and placed on the colleague file | J15: Regularly | L15: Check files of 10 colleagues recently hired over last 6 months (or all colleagues hired in last 6 months, whichever is less) for the signed job description
D17: Advertising Vacancies
D19: =+D15+1 -> 19 | F19: 19 | G19: Vacancies are advertised internally prior to offering the role | J19: Always | L19: 1. Cite the process for advertising jobs internally 2. Check 2 examples of internal job postings
D21: =+D19+1 -> 20 | F21: 20 | G21: Jobs are posted via iCIMS - Aman's Applicant Tracking System | J21: No | L21: 1. Confirm iCIMS is used. If it is not, give the reason why 2. Cite the other job portals or advertising methods used
D23: =+D21+1 -> 21 | F23: 21 | G23: Job adverts adhere to the Company Job Advert Template, sound appealing; use creative, yet on brand language to set apart from competitors. Abbreviations and discriminatory language is not used | J23: Yes | L23: Check 3 recent job adverts examples
D25: Registration and Recruitment Agencies
D27: =+D23+1 -> 22 | F27: 22 | G27: Recruitment Agencies that are used have got agreed terms of business | J27: Yes | L27: 1. Detail the use of recruitment agencies 2. Review the percentage fee/rebate terms of any Recruitment Agencies used in the last 12 months
D29: Handling Applications
D31: =+D27+1 -> 23 | F31: 23 | G31: All applicants are screened in a timely manner and applicants responded to within a maximum of 14 days and within 5 days for internal applicants | J31: Always | L31: 1. Cite screening process HR follows 2. Check iCIMS for response times to candidates for 2 different job adverts posted in the last quarter
D33: =+D31+1 -> 24 | F33: 24 | G33: Interviews are conducted by the relevant managers as per the HR Guidelines | J33: No | L33: 1. Cite the interview process and who is involved in the interviews. 2. Check for evidence of interviewers in the case of new manager appointments within the last 6 months
D35: =+D33+1 -> 25 | F35: 25 | G35: Hiring managers and HR responsible for recruitment and selection have been trained in interview skills | J35: No | L35: Cite process HR follows to ensure hiring managers are sufficiently skilled in interviewing
D37: Assessment Standards
D39: =+D35+1 -> 26 | F39: 26 | G39: Interview notes are on file | J39: Regularly | L39: Check files of 10 colleagues recently hired over last 6 months (or all colleagues hired in last 6 months, whichever is less) for the interview evaluation form
D41: Reference and Background Checks
D43: =+D39+1 -> 27 | F43: 27 | G43: All external appointments have been reference checked with at least 1 recent reference for below Assistant Manager level and 2 for Assistant Manager and above level. | I43: NEW | J43: Regularly | L43: 1. Cite local Legislation on data privacy and reference checking. 2. Check files of 10 colleagues recently hired over last 6 months (or all colleagues hired in last 6 months, whichever is less) to confirm references have been taken
D45: =+D43+1 -> 28 | F45: 28 | G45: Background reference checks are completed for all Senior Leadership hires and at risk roles as per the Aman Background Check policy | I45: NEW | J45: Always | L45: Check the files of recent hires (since April 2024) for Senior Leadership hires and other roles as per local law for results of the Background check
D47: Employment Contracts
D49: =+D45+1 -> 29 | F49: 29 | G49: FT / PT / Casual employment contracts are official company contracts that comply with local legislation and have been issued to all colleagues. Confirm when the last revision of the employment contract took place by the local Lawyer | J49: No | L49: 1. Compare contract templates V key legislation including annual leave entitlement, probation period, notice period, salary and benefits. 2. Cite when the last formal contract review took place by a local Lawyer. 3. Check 10 colleague files employed over the last 6 months to check the Contracts are on file and signed by an authorized signatory and the employee
D51: Onboard and Induct
D53: =+D49+1 -> 30 | F53: 30 | G53: HR follows an onboarding checklist to ensure new joiners receive a consistent, smooth onboarding giving a good first impression | I53: NEW | J53: Always | L53: Cite the onboarding checklist/process for new joiners and who is responsible for ensuring it is completed
D55: =+D53+1 -> 31 | F55: 31 | G55: New joiners are issued with a "Welcome Pack" containing relevant information | I55: NEW | J55: Regularly | L55: 1. Confirm contents of basic "welcome pack" contains at a minimum: Colleague Handbook, job description (if not issued with contract), department/first week's induction plan, Code of Business Conduct and Ethics. 2. Confirm the welcome pack looks appealing and is aligned to Company brand image | N55: 11

Sheet REWARD AND PERFORMANCE
G1: TOTAL VENTES RESTAURATION
J4: =IF(CALCULS!$V$6>0,"Incomplete questionnaire",SCORE!$E$18) -> 0.48002497 | L4: Evidence Sought | N4: Recommendation | P4: Management Action Plan | R4: Responsible Party | T4: Due Date | V4: Status Update
D5: I. Reward
D7: Item | G7: Requirement | J7: Compliance
D9: Manage Salary Scales
D11: =+'RECRUITMENT AND SELECTION'!D55+1 -> 32 | F11: 32 | G11: Salary scales exist and positions are paid consistently according to the salary scale | J11: Rarely | L11: 1. Cite salary band strategy 2. Confirm if positions paid at a starting rate or dependent upon experience/grade etc. is this aligned to legislation or custom & practice
D13: Benchmarking salaries
D15: =+D11+1 -> 33 | F15: 33 | G15: Salaries are benchmarked every 12 months with local competitors to ensure competitive pay and inline with the market | J15: No | L15: 1. Cite how the Property currently undertakes local benchmarking of salaries 2. Cite the property strategy for paying competitively - i.e. pay at 50th percentile of the salary benchmark 3. Cite how the salary survey results are used to align salaries that are behind the market rate
D17: Salary Increases
D19: =+D15+1 -> 34 | F19: 34 | G19: Annual salary increases are given each year | J19: Yes | L19: 1. Cite the process followed for budgeting annual salary increases 2. Cite the process followed for granting the annual increases and the approval process followed 3. Cite how the increases are communicated to colleagues i.e. letter on colleague file
D21: Benefit Grid
D23: =+D19+1 -> 35 | F23: 35 | G23: Colleague benefits are clearly documented and reviewed annually to check competitive and appealing to attract and retain colleagues | J23: Yes | L23: 1. Cite how Benefits are documented and communicated to colleague i.e. Benefits Grid or a benefit leaflet 2. Cite how HR benchmarks benefits against competitors and uses the findings to enhance the benefits on offer
D25: Manage Incentives
D27: =+D23+1 -> 36 | F27: 36 | G27: Any local property bonus schemes are aligned with strategic business objectives and a policy/SOP exists detailing authorization of pay-out, scheme structure and payment. | J27: No | L27: 1. Understand local bonus/incentive schemes in place and cite the applicable SOP - 2. Detail how the scheme is communicated to eligible colleagues 3. For any applicable 13th month salary, detail who is eligible and if there are any targets to meet, or if it is mandatory and not target-related
D29: Manage Insurance Benefits
D31: =+D27+1 -> 37 | F31: 37 | G31: Medical & Life insurance is in place as appropriate to local employment legislation/Company standard for expats and local colleagues | J31: No | L31: 1. Cite local practice and actual medical/healthcare benefits offered for local and expats - Expats is normally private medical cover - to confirm 2. Cite if life insurance policy exists for colleagues at hotel (sometimes this is offered as an additional benefit or covered under local legislation)
D33: Retirement Benefits
D35: =+D31+1 -> 38 | F35: 38 | G35: All colleagues are enrolled in the national pension scheme/or any end of service benefit scheme in accordance with local employment legislation (if applicable). | J35: Yes | L35: 1. Cite pension entitlement as per local regulations - does this apply to locals and expats 2. Cite if any additional, enhanced Retirement plan exists in addition to any statutory requirement 3. For any countries with an end of service gratuity, confirm with payroll/finance that accruals are made for the payout of the gratuity
D37: II. Performance and Talent Management
D39: Manage Probations
D41: =+D35+1 -> 39 | F41: 39 | G41: During probationary period, in line with local Legislation, colleagues receive a formal performance review, which provides a basis on whether to confirm employment. | J41: No | L41: 1. Understand length of probation period and the probation review process and compare to Contract/Handbook 2. Cite probation review form that is used 3. Check 10 colleague files who have completed probation in last 6 months (or all, whichever is less) for formal review at end of probationary period
D43: Performance Reviews (appraisals)
D45: =+D41+1 -> 40 | F45: 40 | G45: Annual Performance Reviews (appraisals) are conducted and documented at least every 12 months for all Colleagues | J45: Yes | L45: 1. Cite process for annual performance reviews for all grades 2. Cite the annual performance review form 3. Check 10 colleagues from at least 3 different departments (10 in total) for completed annual review form
D47: Managing Development
D49: =+D45+1 -> 41 | F49: 41 | G49: Colleagues have an individual development plan as a result of the annual performance review | J49: No | L49: 1. Check 5 completed performance reviews for evidence of an individual development plan 2. Cite process of gathering/following up on identified development needs
D51: Succession Planning
D53: =+D49+1 -> 42 | F53: 42 | G53: Future reviews will include succession planning and talent reviews | J53: Yes | L53: Not applicable for 2024 / Answer NA

Sheet ENGAGEMENT AND RECOGNITION
G1: TOTAL GESTION DU PERSONNEL
J4: =IF(CALCULS!$V$8>0,"Incomplete questionnaire",SCORE!$E$24) -> 0.42915106 | L4: Evidence Sought | N4: Recommendation | P4: Management Action Plan | R4: Responsible Party | T4: Due Date | V4: Status Update
D5: I. Colleague Engagement and Communications
D7: Item | G7: Requirement | J7: Compliance
D9: Communication - All Colleague Meetings
D11: =+'HR POLICIES AND ADMINISTRATION'!D65+1 -> 58 | F11: 58 | G11: All-colleague Meetings (Townhalls) are held on property by the GM for all colleagues to attend at least twice per year | J11: No | L11: Check for scheduled meetings or evidence of the meetings taking place
D13: Team Meetings
D15: =+D11+1 -> 59 | F15: 59 | G15: Regular team meetings are held on property - morning briefings, departmental, Management, ExCom | I15: NEW | J15: Regularly | L15: Check for evidence that team meetings are happening on property
D17: Feedback meetings - Coffee Chats
D19: =+D15+1 -> 60 | F19: 60 | G19: Regular meetings with colleagues of different levels are held on a more informal basis such as coffee chats or a breakfast gathering where colleagues can bring ideas and suggestions and actions are taken if necessary (usually held by the GM/HRM) | J19: Regularly | L19: Check minutes of 3 previous meetings and evidence of action taken
D21: Communication - Appointment / promotion announcements
D23: =+D19+1 -> 61 | F23: 61 | G23: Appointments and promotions of Colleagues are communicated to the property and via Viva Engage | J23: Rarely | L23: 1. Cite announcement of last 5 appointments / promotions communications 2. Cite announcements of leadership moves via Viva Engage
D26: Our Voice Colleague Engagement Survey
D28: =+D23+1 -> 62 | F28: 62 | G28: High level results of the Our Voice survey have been communicated to colleagues. Action plan templates are collated and regular progress updates are given to the GM/Regional Corporate HRD | J28: No | L28: 1. Cite latest Engagement score. 2. Discuss how results were communicated to colleagues. 3. Review of 5 sample department action plans and evidence of actions being taken
D30: Communication - Communication Initiatives
D32: =+D28+1 -> 63 | F32: 63 | G32: Notice boards are positioned in high use areas and are well maintained with up to date information including colleague recognition. Other channels of communications used to deliver key messages to the teams in line with the HR Guidelines | J32: Rarely | L32: 1. Check 5 notice boards from various departments 2. Cite other internal methods of communication to colleagues/teams
D34: Communication - The Core Values
D36: =+D32+1 -> 64 | F36: 64 | G36: Aman Purpose and Values posters and property posters are displayed prominently around the colleague back of house areas | J36: Yes | L36: Check minimum of 3 back of house areas for evidence of posters
D38: Colleague social events
D40: =+D36+1 -> 65 | F40: 65 | G40: An annual colleague party is held and a social events calendar is in place for colleagues | J40: Regularly | L40: 1. Confirm an annual colleague party is held 2. Cite the social calendar and note the types of events on offer
D42: II. Colleague Recognition
D44: Colleague of The Month/Quarter/Year
D46: =+D40+1 -> 66 | F46: 66 | G46: Colleague of the Month or Quarter and Colleague of the Year celebrations are hosted periodically and appropriate recognition is given | J46: Yes | L46: 1. Confirm Colleague of the Month/Quarter process is in place and what the reward is/who is eligible/nomination process 2. Detail process for awarding Colleague of the Year and the award given
D48: Long Service Awards
D50: =+D46+1 -> 67 | F50: 67 | G50: Long service awards are in place and appropriate tokens/gifts are presented in line with the HR Guidelines | J50: No | L50: Confirm LSA is in place, at which milestone intervals and the reward given
D52: Celebrations
D54: =+D50+1 -> 68 | F54: 68 | G54: Special events are celebrated e.g. national days, individual and team successes, birthdays, birth of babies etc. | I54: NEW | J54: No | L54: Cite at least 5 examples of activities

Sheet HR POLICIES AND ADMINISTRATION
G1: TOTAL ACHATS / STOCKS
J4: =IF(CALCULS!$V$7>0,"Incomplete questionnaire",SCORE!$E$21) -> 0.58228685 | L4: Evidence Sought | N4: Recommendation | P4: Management Action Plan | R4: Responsible Party | T4: Due Date | V4: Status Update
D5: I. HR Policies
D7: Item | G7: Requirement | J7: Compliance
D11: =+'REWARD AND PERFORMANCE'!D53+1 -> 43 | F11: 43 | G11: Colleague handbook exists and is issued to and acknowledged by new joiners | J11: No | L11: 1. Cite colleague handbook, checking it is aligned to brand and contains key information relating to HR policies and working at the property 2. Check for evidence of this being issued - for example, signed acknowledgement on the colleague file 3. Confirm when the handbook was last reviewed from a legal perspective
D13: Disciplinary
D15: =+D11+1 -> 44 | F15: 44 | G15: Disciplinary Policy and Process exists, meets local legislation and has been communicated to colleagues | J15: Yes | L15: 1. Cite Disciplinary policy and procedure and confirm this is in line with local legislation and aligns to the Aman Group Disciplinary Policy 2. Confirm when/via which channel the P&P is issued to colleagues 3. Managers who carry out disciplinaries are competent and trained to carry them out fairly and consistently 4. Confirm how disciplinary action is tracked
D17: Grievance
D19: =+D15+1 -> 45 | F19: 45 | G19: Grievance Policy and Process exists, meets local legislation and has been communicated to colleagues | J19: Yes | L19: 1. Cite Grievance policy and procedure and confirm this is in line with local legislation and aligns to the Aman Group Grievance Policy 2. Confirm when/via which channel the P&P is issued to colleagues 3. Managers who carry out grievance meetings and investigations are competent and trained to carry them out confidentially 4. Confirm how grievance issues are tracked
D21: Speak Up
D23: =+D19+1 -> 46 | F23: 46 | G23: Speak Up Ethics reporting has been communicated to colleagues and Speak Up posters are visible in the colleague areas | J23: No | L23: 1. Cite the Speak Up posters in colleague areas 2. Confirm how the Speak Up procedure is communicated to colleagues
D25: Code of Conduct & Ethics
D27: =+D23+1 -> 47 | F27: 47 | G27: All colleagues are issued with the Aman Code of Conduct and an acknowledgement is signed by each colleague | J27: Yes | L27: 1. Cite the most recent version of the Code of Conduct 2. Confirm how this is issued to colleagues 3. Check 10 colleague files for signed Code of Conduct declaration 4. Confirm how any declared conflicts of interest are tracked and handled
D30: Anti-bullying & Harassment Policy
D32: =+D27+1 -> 48 | F32: 48 | G32: Anti-bullying & Harassment Policy has been communicated to colleagues | J32: No | L32: Cite Policy and how this is communicated
D34: II. HR Administration
D36: Employee Relations
D38: =+D32+1 -> 49 | F38: 49 | G38: Unionization/Works Council (if applicable) exists within an agreement and there is mostly an amicable relationship with the Resort | J38: Yes | L38: Cite Union/Works Council Agreement. Understand the experience of the HRM in handling Union activity and solicitation of new members
D40: Employment of relatives and Personal Relationships
D42: =+D38+1 -> 50 | F42: 50 | G42: Relatives and Personal Relationships at the Property have been declared and no conflict of interest exists | J42: Rarely | L42: 1. Confirm if any relatives or personal Relationships exist in the property 2. Cite how these have been declared and permitted 3. Confirm that no conflict exists (according to the HR Guidelines)
D44: Manage Colleague Files
D46: =+D42+1 -> 51 | F46: 51 | G46: Colleague files are securely maintained and contain the following documentation: 1. Request for Hire Form 2. Job Application Form/CV 3. Interview notes 4. References 5. Photocopy of industry related/educational certificates (if applicable) 6. Signed Appointment letter/Contract of Employment 7. Signed Job Description 8. Medical declaration 9. Emergency contacts and personal information (bank account etc.) 10. Expression of wishes form (Beneficiary Form) 11. Signed Colleague Handbook Acknowledgement Form 12. Signed Code of Business Code of Conduct acknowledgement form 13. Photocopy of National ID / Passport plus Visa (if applicable) 14. Re-designation letter and Status Change Form if any 15. Promotion letter and Status Change Form if any 16. Disciplinary letter if any 17. Performance Review form if any | J46: Regularly | L46: 1. Cite how personal & employment details are kept. I.e. HR system/Excel spreadsheet plus paper files. 2. How are files stored and kept secure 3. Check 10 random files to verify contents according to the required documents
D49: =+D46+1 -> 52 | F49: 52 | G49: Colleague files are retained for legally required time period (according to local legislation) | J49: No | L49: 1. Check how files are archived 2. Cite the length of time files are retained for at the property according to the local legislation
D51: Tracking Right to Work
D53: =+D49+1 -> 53 | F53: 53 | G53: An efficient system is in place for tracking right to work, renewals on visa's, work permits, passports, etc. | J53: No | L53: 1. Cite system/process in place to check the identity and right to work of colleagues 2. Check 10 random files for proof of right to work (i.e. ID/Passport) 3. Confirm how visas are tracked to ensure expiry dates are captured and the colleague is requested to provide new ID/Visa
D55: End of Employment
D57: =D53+1 -> 54 | F57: 54 | G57: An end of employment procedure has been established where colleagues who resign or retire do so in writing, giving the correct notice period. HR confirms in writing the resignation acceptance with last working day and any leaving arrangements such as visa cancellation | J57: Yes | L57: 1. Confirm the resignation/retirement process including communication to payroll 2. Check 10 leaver colleague files in last 6 months (or all, whichever is less)for the resignation letter/form from the colleague and the resignation acceptance from HR 3. Cite the end of employment payroll process
D59: =+D57+1 -> 55 | F59: 55 | G59: Clearance procedures are completed via Leaver Clearance Form (including details covering the return of company property, including uniforms, equipment, and written materials, pension, etc.). | J59: Regularly | L59: Check 10 leaver colleague files in last 6 months (or all, whichever is less) for completed clearance form
D61: =+D59+1 -> 56 | F61: 56 | G61: Colleagues voluntarily departing are invited to participate in an exit interview to find out how we can improve our offering and to identify issues | I61: NEW | J61: Always | L61: Obtain evidence of voluntary exit interviews
D63: Track Turnover
D65: =+D61+1 -> 57 | F65: 57 | G65: Employee Turnover is tracked per department and overall total to allow for planning and strategy. Reasons for leaving are tracked and monitored | I65: NEW | J65: Always | L65: Cite the Turnover report

Sheet WELFARE HEALTH AND SAFETY
G1: PREVENTION DES RISQUES
J4: =IF(CALCULS!$V$9>0,"Incomplete questionnaire",SCORE!$E$27) -> 0.60849793 | L4: Evidence Sought | N4: Recommendation | P4: Management Action Plan | R4: Responsible Party | T4: Due Date | V4: Status Update
D5: I. Colleague Welfare & Facilities
D7: Item | G7: Requirement | J7: Compliance
D9: Colleague Restaurant
D11: =+'ENGAGEMENT AND RECOGNITION'!D54+1 -> 69 | F11: 69 | G11: Colleague dining facilities are clean, inviting, well equipped and ventilated. Tables & chairs must be of a good standard | J11: Yes | L11: Visual check and understand if it is in-house or outsourced facility
D13: =+D11+1 -> 70 | F13: 70 | G13: Colleague dining menu considers ethnic mix of work force and is on a cyclical basis to provide variety. Food cost is budgeted appropriately | J13: Regularly | L13: 1. Compare menu against ethnic mix 2. Cite the food cost and who is responsible for managing the food cost
D15: =+D13+1 -> 71 | F15: 71 | G15: Communication tool is in place for colleagues to provide feedback on colleague restaurant food and facilities | I15: NEW | J15: Yes | L15: Cite method to capture feedback on restaurant/facilities
D17: =+D15+1 -> 72 | F17: 72 | G17: Wi-Fi and mobile phone charging is available for colleagues | I17: NEW | J17: Regularly | L17: Cite the Wi-Fi and charging facility
D19: Smoking Area
D21: =+D17+1 -> 73 | F21: 73 | G21: Smoking areas are available and easily accessible by all colleagues and aligned with local legislation | I21: NEW | J21: No | L21: Visual check
D23: Colleague Lockers & Changing Rooms
D25: =+D21+1 -> 74 | F25: 74 | G25: Every colleague has access to a locker or other place to safely secure their personal belongings whilst on shift | J25: No | L25: Visual check. Ensure there are sufficient numbers of lockers for the population
D27: =+D25+1 -> 75 | F27: 75 | G27: Colleague changing rooms are suitable, clean, hygienic welcoming and tidy | J27: Regularly | L27: Visual check including provision of soap, towels/hand dryer, mirrors
D29: Other wellness areas
D31: =+D27+1 -> 76 | F31: 76 | G31: Other facilities for recreation and wellness are available such as Gym, relax room, prayer room | J31: Always | L31: Visual check
D33: Clinic
D35: =+D31+1 -> 77 | F35: 77 | G35: Paramedic clinics are clean, have a private examination room. The clinic is accessible to all colleagues (if applicable) - check local Legislation for on property Dr/Nurse | J35: Yes | L35: Visual check. Understand local Legislation for requirements to have a Dr/Nurse on Property
D37: Colleague facilities - transport
D39: =+D35+1 -> 78 | F39: 78 | G39: Transportation scheduling meets colleague and business needs (if applicable) | I39: NEW | J39: Always | L39: 1. Randomly select 5 colleagues and 5 managers and ask them if bus scheduling meets needs. 2. Review the transportation cost
D41: Colleague accommodation
D43: =+D39+1 -> 79 | F43: 79 | G43: Colleague accommodation (if applicable) is of good quality, cite how many sharing, general satisfaction from colleagues | J43: No | L43: Visual check and give details on number sharing
D45: =+D43+1 -> 80 | F45: 80 | G45: Colleague accommodation cafeteria (if separate from Resort Colleague cafeteria) is clean, inviting and serving quality food | J45: No | L45: Visual check
D47: Uniforms
D49: =+D45+1 -> 81 | F49: 81 | G49: Uniforms are clean, appropriate for the work climate and in good repair | J49: Regularly | L49: Randomly sample 10 different uniforms
D51: II. Health and Safety
D53: Work accidents
D55: =D49+1 -> 82 | F55: 82 | G55: A procedure is in place for reporting work accidents and workers compensation insurance is in place as per local legislation | J55: Yes | L55: 1. Cite procedure for reporting work accidents 2. Check with Finance Director the workers compensation insurance
D57: First Aid
D59: =D55+1 -> 83 | F59: 83 | G59: The required number of qualified first aiders are on shift according to local legislation or best practice and first aid boxes are available in key locations | J59: No | L59: 1. Cite the process for first aid qualifications and how the expiry dates are tracked 2. Confirm the locations of first aid boxes and do a visual check
D60: Company vehicles
D62: =D59+1 -> 84 | F62: 84 | G62: All colleagues with responsibility for driving company or guest vehicles have submitted a valid driving license | J62: Always | L62: Check 5 files of colleagues who drive company/guest vehicles for evidence of a current driving license
D63: Legislative Training
D65: =D62+1 -> 85 | F65: 85 | G65: Legislative and related Health & Safety training has been conducted according to local regulations i.e. safety; fire; hygiene; evacuation; security awareness | J65: Regularly | L65: 1. Cite evidence of sign-off for Legislative Training 2. Cite process of Recording and tracking i.e. expiry of food hygiene cert

Sheet LEARNING AND DEVELOPMENT
G1: IAE
J4: =IF(CALCULS!$V$10>0,"Incomplete questionnaire",SCORE!$E$30) -> 1 | L4: Evidence Sought | N4: Recommendation | P4: Management Action Plan | R4: Responsible Party | T4: Due Date | V4: Status Update
D5: I. Learning and Development
D7: Item | G7: Requirement | J7: Compliance
D9: Orientation
D11: =+'WELFARE HEALTH AND SAFETY'!D65+1 -> 86 | F11: 86 | G11: Company orientation is conducted for all new joiners (within the first month of starting work or on the first day of employment etc?) | J11: Yes | L11: 1. Verify that the last 10 new joiners have attended Company orientation 2. Review content of Orientation; ensure that it includes a introduction to the brand; company purpose and values; our approach / philosophy of service & care; any location specific details; fire and safety trainings
D13: Purpose & Values
D15: =+D11+1 -> 87 | F15: 87 | G15: Purpose, Values & Brand Workshops has been trained to all Colleagues and is being practiced in daily life | J15: Yes | L15: 1. Check that Purpose & Values are being used in daily briefings, understood by Colleagues. 2. Purpose & Values Training Attendance Record checked compared to new joiners in the period
D17: Departmental Orientation
D19: =+D15+1 -> 88 | F19: 88 | G19: New Hires have a departmental orientation plan with on-the job training schedule | I19: NEW | J19: Yes | L19: Cite 3 examples of a departmental orientation plan
D21: Training Calendar
D23: =+D19+1 -> 89 | F23: 89 | G23: A monthly Training & Activity Calendar is available for all Colleagues to enjoy Learning opportunities | I23: NEW | J23: Yes | L23: Cite Training Calendar for the last 3 months

Sheet SCORE
B2: HOTEL NAME XXX
E6: =IF($C$36="VF","TAUX DE CONFORMITE","CONFORMITY RATE") -> CONFORMITY RATE
B7: =IF(($C$36="VF"),(IF($D$9="X","Questionnaire incomplet","")),(IF($D$9="X","Incomplete questionnaire",""))) | C7: =IF($C$36="VF","SCORING MAXIMAL","MAXIMUM SCORE") -> MAXIMUM SCORE | D7: =IF($C$36="VF","SCORING ATTRIBUE","HOTEL SCORE") -> HOTEL SCORE
A9: =IF($C$36="VF","NOTE GLOBALE","TOTAL MARK") -> TOTAL MARK | C9: =+SUM(CALCULS!$H:$H) -> 100 | D9: =IF(COUNTIF(CALCULS!$G:$G,"X")>0,"X",(SUM(CALCULS!$G:$G)-$E$10)) -> 62.344719 | E9: =IF(COUNTIF(CALCULS!$G:$G,"X")>0,"X",D9/C9) -> 0.62344719
A10: =IF($C$36="VF","Points de pénalité","Penality points") -> Penality points | H10: Process | I10: Score
A12: 1. | B12: =IF($C$36="VF","PEOPLE PLANNING","PEOPLE PLANNING") -> PEOPLE PLANNING | C12: =IF(($C$36="VA"),(SUMIF(CALCULS!$B:$B,SCORE!$B12,CALCULS!H:H)),(SUMIF(CALCULS!$X:$X,SCORE!$B12,CALCULS!H:H))) -> 8 | D12: =IF(($C$36="VA"),(SUMIF(CALCULS!$B:$B,SCORE!$B12,CALCULS!G:G)),(SUMIF(CALCULS!$X:$X,SCORE!$B12,CALCULS!G:G))) -> 6.8764045 | E12: =IF(D12=0,0,D12/C12) -> 0.85955056 | H12: {=B12:B30} -> PEOPLE PLANNING | I12: {=E12:E30} -> 0.85955056
A13: 1.1 | B13: =IF($C$36="VF","People Planning","People Planning") -> People Planning | C13: =SUMIF(CALCULS!C:C,SCORE!$B13,CALCULS!H:H) -> 8 | D13: =SUMIF(CALCULS!$C:$C,$B13,CALCULS!G:G) -> 6.8764045 | E13: =IF(D13=0,0,D13/C13) -> 0.85955056 | H13: People Planning | I13: 0.85955056
A14: 2. | B14: =IF(SCORE!$C$36="VF","PAIE","PAYROLL") -> PAYROLL | C14: =IF(($C$36="VA"),(SUMIF(CALCULS!$B:$B,SCORE!$B14,CALCULS!H:H)),(SUMIF(CALCULS!$X:$X,SCORE!$B14,CALCULS!H:H))) -> 10 | D14: =IF(($C$36="VA"),(SUMIF(CALCULS!$B:$B,SCORE!$B14,CALCULS!G:G)),(SUMIF(CALCULS!$X:$X,SCORE!$B14,CALCULS!G:G))) -> 7.1235955 | E14: =IF(D14=0,0,D14/C14) -> 0.71235955 | H14: PAYROLL | I14: 0.71235955
A15: 2.1 | B15: =IF($C$36="VF","pAYROLL","Payroll") -> Payroll | C15: =SUMIF(CALCULS!C:C,SCORE!$B15,CALCULS!H:H) -> 10 | D15: =SUMIF(CALCULS!$C:$C,$B15,CALCULS!G:G) -> 7.1235955 | E15: =IF(D15=0,0,D15/C15) -> 0.71235955 | H15: Payroll | I15: 0.71235955
