Workbook
Name Plage: OFFSET(Feuil1!$B$9,,,COUNTA(Feuil1!$B6:$B997),COUNTA(Feuil1!$6:$6))

Sheet Data
I1: https://www.youtube.com/watch?v=Ts6VefA5Tk0&t=853s
B2: Code | C2: Nom | D2: Prénom | E2: Poste | F2: Département | G2: Unité
B3: E02387 | C3: Emily | D3: Davis | E3: Sr. Manger | F3: IT | G3: Research & Development
B4: E04105 | C4: Theodore | D4: Dinh | E4: Technical Architect | F4: IT | G4: Manufacturing
B5: E02572 | C5: Luna | D5: Sanders | E5: Director | F5: Finance | G5: Speciality Products
B6: E02832 | C6: Penelope | D6: Jordan | E6: Computer Systems Manager | F6: IT | G6: Manufacturing
B7: E01639 | C7: Austin | D7: Vo | E7: Sr. Analyst | F7: Finance | G7: Manufacturing
B8: E00644 | C8: Joshua | D8: Gupta | E8: Account Representative | F8: Sales | G8: Corporate
B9: E01550 | C9: Ruby | D9: Barnes | E9: Manager | F9: IT | G9: Corporate
B10: E04332 | C10: Luke | D10: Martin | E10: Analyst | F10: Finance | G10: Manufacturing
B11: E04533 | C11: Easton | D11: Bailey | E11: Manager | F11: Accounting | G11: Manufacturing
B12: E03838 | C12: Madeline | D12: Walker | E12: Sr. Analyst | F12: Finance | G12: Speciality Products
B13: E00591 | C13: Savannah | D13: Ali | E13: Sr. Manger | F13: Human Resources | G13: Manufacturing
... B1002: E03545 | C1002: Sofia | D1002: Cheng | E1002: Vice President | F1002: Accounting | G1002: Corporate

Sheet Feuil1
B2: Rechercher un salarié
C4: cor | F4: =IF(B9="Pas de correspondance",0,ROWS(_xlfn.ANCHORARRAY(B9))&" résultat(s)") -> 8 résultat(s)
B6: Code | C6: Nom | D6: Prénom | E6: Poste | F6: Département | G6: Unité | I6: séquence | J6: 1 | K6: 2 | L6: 3 | M6: 4 | N6: 5
B7: TRUE | C7: TRUE | D7: TRUE | E7: FALSE | F7: FALSE | G7: TRUE | I7: colonne Feuil1 | J7: {=IFERROR(_xlfn.AGGREGATE(15,6,COLUMN($A$7:$H$7)/($A$7:$H$7=TRUE),J6),"-")} -> 2 | K7: {=IFERROR(_xlfn.AGGREGATE(15,6,COLUMN($A$7:$H$7)/($A$7:$H$7=TRUE),K6),"-")} -> 3 | L7: {=IFERROR(_xlfn.AGGREGATE(15,6,COLUMN($A$7:$H$7)/($A$7:$H$7=TRUE),L6),"-")} -> 4 | M7: {=IFERROR(_xlfn.AGGREGATE(15,6,COLUMN($A$7:$H$7)/($A$7:$H$7=TRUE),M6),"-")} -> 7 | N7: {=IFERROR(_xlfn.AGGREGATE(15,6,COLUMN($A$7:$H$7)/($A$7:$H$7=TRUE),N6),"-")} -> -
B9: {=IFERROR(_xlfn._xlws.FILTER(t_Employe[],ISNUMBER(SEARCH(C4,t_Employe[Nom]&" "&t_Employe[Prénom]))),"Pas de correspondance")} -> E04131 | C9: Cora | D9: Rivera | E9: Sr. Analyst | F9: Marketing | G9: Corporate | I9: colonne t_employe | J9: =IF(ISNUMBER(J7),MATCH(INDEX($A$6:$H$6,,J7),Data!$A$2:$I$2,0)-COLUMN(t_Employe[])+1,"-") -> 1 | K9: =IF(ISNUMBER(K7),MATCH(INDEX($A$6:$H$6,,K7),Data!$A$2:$I$2,0)-COLUMN(t_Employe[])+1,"-") -> 2 | L9: =IF(ISNUMBER(L7),MATCH(INDEX($A$6:$H$6,,L7),Data!$A$2:$I$2,0)-COLUMN(t_Employe[])+1,"-") -> 3 | M9: =IF(ISNUMBER(M7),MATCH(INDEX($A$6:$H$6,,M7),Data!$A$2:$I$2,0)-COLUMN(t_Employe[])+1,"-") -> 6 | N9: =IF(ISNUMBER(N7),MATCH(INDEX($A$6:$H$6,,N7),Data!$A$2:$I$2,0)-COLUMN(t_Employe[])+1,"-") -> -
B10: E03935 | C10: Cora | D10: Jiang | E10: Vice President | F10: IT | G10: Corporate | I10: {=IFERROR(_xlfn.AGGREGATE(15,6,ROW(t_Employe[Nom])/(ISNUMBER(SEARCH($C$4,t_Employe[Nom]&"|"&t_Employe[Prénom]))),ROW()-ROW($I$9))-_xlfn.SINGLE(ROW(t_Employe[]))+1,"-")} -> 119 | J10: {=IF(ISNUMBER($I10)*ISNUMBER(J$9),INDEX(t_Employe[],$I10,J$9),"-")} -> E04131 | K10: {=IF(ISNUMBER($I10)*ISNUMBER(K$9),INDEX(t_Employe[],$I10,K$9),"-")} -> Cora | L10: {=IF(ISNUMBER($I10)*ISNUMBER(L$9),INDEX(t_Employe[],$I10,L$9),"-")} -> Rivera | M10: {=IF(ISNUMBER($I10)*ISNUMBER(M$9),INDEX(t_Employe[],$I10,M$9),"-")} -> Corporate | N10: {=IF(ISNUMBER($I10)*ISNUMBER(N$9),INDEX(t_Employe[],$I10,N$9),"-")} -> -
B11: E03292 | C11: Cora | D11: Evans | E11: Computer Systems Manager | F11: IT | G11: Speciality Products | I11: {=IFERROR(_xlfn.AGGREGATE(15,6,ROW(t_Employe[Nom])/(ISNUMBER(SEARCH($C$4,t_Employe[Nom]&"|"&t_Employe[Prénom]))),ROW()-ROW($I$9))-_xlfn.SINGLE(ROW(t_Employe[]))+1,"-")} -> 244 | J11: {=IF(ISNUMBER($I11)*ISNUMBER(J$9),INDEX(t_Employe[],$I11,J$9),"-")} -> E03935 | K11: {=IF(ISNUMBER($I11)*ISNUMBER(K$9),INDEX(t_Employe[],$I11,K$9),"-")} -> Cora | L11: {=IF(ISNUMBER($I11)*ISNUMBER(L$9),INDEX(t_Employe[],$I11,L$9),"-")} -> Jiang | M11: {=IF(ISNUMBER($I11)*ISNUMBER(M$9),INDEX(t_Employe[],$I11,M$9),"-")} -> Corporate | N11: {=IF(ISNUMBER($I11)*ISNUMBER(N$9),INDEX(t_Employe[],$I11,N$9),"-")} -> -
B12: E00972 | C12: Hazel | D12: Cortez | E12: HRIS Analyst | F12: Human Resources | G12: Research & Development | I12: {=IFERROR(_xlfn.AGGREGATE(15,6,ROW(t_Employe[Nom])/(ISNUMBER(SEARCH($C$4,t_Employe[Nom]&"|"&t_Employe[Prénom]))),ROW()-ROW($I$9))-_xlfn.SINGLE(ROW(t_Employe[]))+1,"-")} -> 324 | J12: {=IF(ISNUMBER($I12)*ISNUMBER(J$9),INDEX(t_Employe[],$I12,J$9),"-")} -> E03292 | K12: {=IF(ISNUMBER($I12)*ISNUMBER(K$9),INDEX(t_Employe[],$I12,K$9),"-")} -> Cora | L12: {=IF(ISNUMBER($I12)*ISNUMBER(L$9),INDEX(t_Employe[],$I12,L$9),"-")} -> Evans | M12: {=IF(ISNUMBER($I12)*ISNUMBER(M$9),INDEX(t_Employe[],$I12,M$9),"-")} -> Speciality Products | N12: {=IF(ISNUMBER($I12)*ISNUMBER(N$9),INDEX(t_Employe[],$I12,N$9),"-")} -> -
B13: E03370 | C13: Ian | D13: Cortez | E13: Analyst II | F13: Marketing | G13: Research & Development | I13: {=IFERROR(_xlfn.AGGREGATE(15,6,ROW(t_Employe[Nom])/(ISNUMBER(SEARCH($C$4,t_Employe[Nom]&"|"&t_Employe[Prénom]))),ROW()-ROW($I$9))-_xlfn.SINGLE(ROW(t_Employe[]))+1,"-")} -> 558 | J13: {=IF(ISNUMBER($I13)*ISNUMBER(J$9),INDEX(t_Employe[],$I13,J$9),"-")} -> E00972 | K13: {=IF(ISNUMBER($I13)*ISNUMBER(K$9),INDEX(t_Employe[],$I13,K$9),"-")} -> Hazel | L13: {=IF(ISNUMBER($I13)*ISNUMBER(L$9),INDEX(t_Employe[],$I13,L$9),"-")} -> Cortez | M13: {=IF(ISNUMBER($I13)*ISNUMBER(M$9),INDEX(t_Employe[],$I13,M$9),"-")} -> Research & Development | N13: {=IF(ISNUMBER($I13)*ISNUMBER(N$9),INDEX(t_Employe[],$I13,N$9),"-")} -> -
B14: E02899 | C14: Joshua | D14: Cortez | E14: Sr. Manger | F14: Finance | G14: Corporate | I14: {=IFERROR(_xlfn.AGGREGATE(15,6,ROW(t_Employe[Nom])/(ISNUMBER(SEARCH($C$4,t_Employe[Nom]&"|"&t_Employe[Prénom]))),ROW()-ROW($I$9))-_xlfn.SINGLE(ROW(t_Employe[]))+1,"-")} -> 581 | J14: {=IF(ISNUMBER($I14)*ISNUMBER(J$9),INDEX(t_Employe[],$I14,J$9),"-")} -> E03370 | K14: {=IF(ISNUMBER($I14)*ISNUMBER(K$9),INDEX(t_Employe[],$I14,K$9),"-")} -> Ian | L14: {=IF(ISNUMBER($I14)*ISNUMBER(L$9),INDEX(t_Employe[],$I14,L$9),"-")} -> Cortez | M14: {=IF(ISNUMBER($I14)*ISNUMBER(M$9),INDEX(t_Employe[],$I14,M$9),"-")} -> Research & Development | N14: {=IF(ISNUMBER($I14)*ISNUMBER(N$9),INDEX(t_Employe[],$I14,N$9),"-")} -> -
B15: E01387 | C15: Cora | D15: Zheng | E15: Director | F15: IT | G15: Manufacturing | I15: {=IFERROR(_xlfn.AGGREGATE(15,6,ROW(t_Employe[Nom])/(ISNUMBER(SEARCH($C$4,t_Employe[Nom]&"|"&t_Employe[Prénom]))),ROW()-ROW($I$9))-_xlfn.SINGLE(ROW(t_Employe[]))+1,"-")} -> 609 | J15: {=IF(ISNUMBER($I15)*ISNUMBER(J$9),INDEX(t_Employe[],$I15,J$9),"-")} -> E02899 | K15: {=IF(ISNUMBER($I15)*ISNUMBER(K$9),INDEX(t_Employe[],$I15,K$9),"-")} -> Joshua | L15: {=IF(ISNUMBER($I15)*ISNUMBER(L$9),INDEX(t_Employe[],$I15,L$9),"-")} -> Cortez | M15: {=IF(ISNUMBER($I15)*ISNUMBER(M$9),INDEX(t_Employe[],$I15,M$9),"-")} -> Corporate | N15: {=IF(ISNUMBER($I15)*ISNUMBER(N$9),INDEX(t_Employe[],$I15,N$9),"-")} -> -
B16: E04542 | C16: Camila | D16: Cortez | E16: Manager | F16: Marketing | G16: Manufacturing | I16: {=IFERROR(_xlfn.AGGREGATE(15,6,ROW(t_Employe[Nom])/(ISNUMBER(SEARCH($C$4,t_Employe[Nom]&"|"&t_Employe[Prénom]))),ROW()-ROW($I$9))-_xlfn.SINGLE(ROW(t_Employe[]))+1,"-")} -> 678 | J16: {=IF(ISNUMBER($I16)*ISNUMBER(J$9),INDEX(t_Employe[],$I16,J$9),"-")} -> E01387 | K16: {=IF(ISNUMBER($I16)*ISNUMBER(K$9),INDEX(t_Employe[],$I16,K$9),"-")} -> Cora | L16: {=IF(ISNUMBER($I16)*ISNUMBER(L$9),INDEX(t_Employe[],$I16,L$9),"-")} -> Zheng | M16: {=IF(ISNUMBER($I16)*ISNUMBER(M$9),INDEX(t_Employe[],$I16,M$9),"-")} -> Manufacturing | N16: {=IF(ISNUMBER($I16)*ISNUMBER(N$9),INDEX(t_Employe[],$I16,N$9),"-")} -> -
I17: {=IFERROR(_xlfn.AGGREGATE(15,6,ROW(t_Employe[Nom])/(ISNUMBER(SEARCH($C$4,t_Employe[Nom]&"|"&t_Employe[Prénom]))),ROW()-ROW($I$9))-_xlfn.SINGLE(ROW(t_Employe[]))+1,"-")} -> 738 | J17: {=IF(ISNUMBER($I17)*ISNUMBER(J$9),INDEX(t_Employe[],$I17,J$9),"-")} -> E04542 | K17: {=IF(ISNUMBER($I17)*ISNUMBER(K$9),INDEX(t_Employe[],$I17,K$9),"-")} -> Camila | L17: {=IF(ISNUMBER($I17)*ISNUMBER(L$9),INDEX(t_Employe[],$I17,L$9),"-")} -> Cortez | M17: {=IF(ISNUMBER($I17)*ISNUMBER(M$9),INDEX(t_Employe[],$I17,M$9),"-")} -> Manufacturing | N17: {=IF(ISNUMBER($I17)*ISNUMBER(N$9),INDEX(t_Employe[],$I17,N$9),"-")} -> -
I18: {=IFERROR(_xlfn.AGGREGATE(15,6,ROW(t_Employe[Nom])/(ISNUMBER(SEARCH($C$4,t_Employe[Nom]&"|"&t_Employe[Prénom]))),ROW()-ROW($I$9))-_xlfn.SINGLE(ROW(t_Employe[]))+1,"-")} -> - | J18: {=IF(ISNUMBER($I18)*ISNUMBER(J$9),INDEX(t_Employe[],$I18,J$9),"-")} -> - | K18: {=IF(ISNUMBER($I18)*ISNUMBER(K$9),INDEX(t_Employe[],$I18,K$9),"-")} -> - | L18: {=IF(ISNUMBER($I18)*ISNUMBER(L$9),INDEX(t_Employe[],$I18,L$9),"-")} -> - | M18: {=IF(ISNUMBER($I18)*ISNUMBER(M$9),INDEX(t_Employe[],$I18,M$9),"-")} -> - | N18: {=IF(ISNUMBER($I18)*ISNUMBER(N$9),INDEX(t_Employe[],$I18,N$9),"-")} -> -
I19: {=IFERROR(_xlfn.AGGREGATE(15,6,ROW(t_Employe[Nom])/(ISNUMBER(SEARCH($C$4,t_Employe[Nom]&"|"&t_Employe[Prénom]))),ROW()-ROW($I$9))-_xlfn.SINGLE(ROW(t_Employe[]))+1,"-")} -> - | J19: {=IF(ISNUMBER($I19)*ISNUMBER(J$9),INDEX(t_Employe[],$I19,J$9),"-")} -> - | K19: {=IF(ISNUMBER($I19)*ISNUMBER(K$9),INDEX(t_Employe[],$I19,K$9),"-")} -> - | L19: {=IF(ISNUMBER($I19)*ISNUMBER(L$9),INDEX(t_Employe[],$I19,L$9),"-")} -> - | M19: {=IF(ISNUMBER($I19)*ISNUMBER(M$9),INDEX(t_Employe[],$I19,M$9),"-")} -> - | N19: {=IF(ISNUMBER($I19)*ISNUMBER(N$9),INDEX(t_Employe[],$I19,N$9),"-")} -> -
I20: {=IFERROR(_xlfn.AGGREGATE(15,6,ROW(t_Employe[Nom])/(ISNUMBER(SEARCH($C$4,t_Employe[Nom]&"|"&t_Employe[Prénom]))),ROW()-ROW($I$9))-_xlfn.SINGLE(ROW(t_Employe[]))+1,"-")} -> - | J20: {=IF(ISNUMBER($I20)*ISNUMBER(J$9),INDEX(t_Employe[],$I20,J$9),"-")} -> - | K20: {=IF(ISNUMBER($I20)*ISNUMBER(K$9),INDEX(t_Employe[],$I20,K$9),"-")} -> - | L20: {=IF(ISNUMBER($I20)*ISNUMBER(L$9),INDEX(t_Employe[],$I20,L$9),"-")} -> - | M20: {=IF(ISNUMBER($I20)*ISNUMBER(M$9),INDEX(t_Employe[],$I20,M$9),"-")} -> - | N20: {=IF(ISNUMBER($I20)*ISNUMBER(N$9),INDEX(t_Employe[],$I20,N$9),"-")} -> -
I21: {=IFERROR(_xlfn.AGGREGATE(15,6,ROW(t_Employe[Nom])/(ISNUMBER(SEARCH($C$4,t_Employe[Nom]&"|"&t_Employe[Prénom]))),ROW()-ROW($I$9))-_xlfn.SINGLE(ROW(t_Employe[]))+1,"-")} -> - | J21: {=IF(ISNUMBER($I21)*ISNUMBER(J$9),INDEX(t_Employe[],$I21,J$9),"-")} -> - | K21: {=IF(ISNUMBER($I21)*ISNUMBER(K$9),INDEX(t_Employe[],$I21,K$9),"-")} -> - | L21: {=IF(ISNUMBER($I21)*ISNUMBER(L$9),INDEX(t_Employe[],$I21,L$9),"-")} -> - | M21: {=IF(ISNUMBER($I21)*ISNUMBER(M$9),INDEX(t_Employe[],$I21,M$9),"-")} -> - | N21: {=IF(ISNUMBER($I21)*ISNUMBER(N$9),INDEX(t_Employe[],$I21,N$9),"-")} -> -
I22: {=IFERROR(_xlfn.AGGREGATE(15,6,ROW(t_Employe[Nom])/(ISNUMBER(SEARCH($C$4,t_Employe[Nom]&"|"&t_Employe[Prénom]))),ROW()-ROW($I$9))-_xlfn.SINGLE(ROW(t_Employe[]))+1,"-")} -> - | J22: {=IF(ISNUMBER($I22)*ISNUMBER(J$9),INDEX(t_Employe[],$I22,J$9),"-")} -> - | K22: {=IF(ISNUMBER($I22)*ISNUMBER(K$9),INDEX(t_Employe[],$I22,K$9),"-")} -> - | L22: {=IF(ISNUMBER($I22)*ISNUMBER(L$9),INDEX(t_Employe[],$I22,L$9),"-")} -> - | M22: {=IF(ISNUMBER($I22)*ISNUMBER(M$9),INDEX(t_Employe[],$I22,M$9),"-")} -> - | N22: {=IF(ISNUMBER($I22)*ISNUMBER(N$9),INDEX(t_Employe[],$I22,N$9),"-")} -> -
I23: {=IFERROR(_xlfn.AGGREGATE(15,6,ROW(t_Employe[Nom])/(ISNUMBER(SEARCH($C$4,t_Employe[Nom]&"|"&t_Employe[Prénom]))),ROW()-ROW($I$9))-_xlfn.SINGLE(ROW(t_Employe[]))+1,"-")} -> - | J23: {=IF(ISNUMBER($I23)*ISNUMBER(J$9),INDEX(t_Employe[],$I23,J$9),"-")} -> - | K23: {=IF(ISNUMBER($I23)*ISNUMBER(K$9),INDEX(t_Employe[],$I23,K$9),"-")} -> - | L23: {=IF(ISNUMBER($I23)*ISNUMBER(L$9),INDEX(t_Employe[],$I23,L$9),"-")} -> - | M23: {=IF(ISNUMBER($I23)*ISNUMBER(M$9),INDEX(t_Employe[],$I23,M$9),"-")} -> - | N23: {=IF(ISNUMBER($I23)*ISNUMBER(N$9),INDEX(t_Employe[],$I23,N$9),"-")} -> -
I24: {=IFERROR(_xlfn.AGGREGATE(15,6,ROW(t_Employe[Nom])/(ISNUMBER(SEARCH($C$4,t_Employe[Nom]&"|"&t_Employe[Prénom]))),ROW()-ROW($I$9))-_xlfn.SINGLE(ROW(t_Employe[]))+1,"-")} -> - | J24: {=IF(ISNUMBER($I24)*ISNUMBER(J$9),INDEX(t_Employe[],$I24,J$9),"-")} -> - | K24: {=IF(ISNUMBER($I24)*ISNUMBER(K$9),INDEX(t_Employe[],$I24,K$9),"-")} -> - | L24: {=IF(ISNUMBER($I24)*ISNUMBER(L$9),INDEX(t_Employe[],$I24,L$9),"-")} -> - | M24: {=IF(ISNUMBER($I24)*ISNUMBER(M$9),INDEX(t_Employe[],$I24,M$9),"-")} -> - | N24: {=IF(ISNUMBER($I24)*ISNUMBER(N$9),INDEX(t_Employe[],$I24,N$9),"-")} -> -
I25: {=IFERROR(_xlfn.AGGREGATE(15,6,ROW(t_Employe[Nom])/(ISNUMBER(SEARCH($C$4,t_Employe[Nom]&"|"&t_Employe[Prénom]))),ROW()-ROW($I$9))-_xlfn.SINGLE(ROW(t_Employe[]))+1,"-")} -> - | J25: {=IF(ISNUMBER($I25)*ISNUMBER(J$9),INDEX(t_Employe[],$I25,J$9),"-")} -> - | K25: {=IF(ISNUMBER($I25)*ISNUMBER(K$9),INDEX(t_Employe[],$I25,K$9),"-")} -> - | L25: {=IF(ISNUMBER($I25)*ISNUMBER(L$9),INDEX(t_Employe[],$I25,L$9),"-")} -> - | M25: {=IF(ISNUMBER($I25)*ISNUMBER(M$9),INDEX(t_Employe[],$I25,M$9),"-")} -> - | N25: {=IF(ISNUMBER($I25)*ISNUMBER(N$9),INDEX(t_Employe[],$I25,N$9),"-")} -> -
I26: {=IFERROR(_xlfn.AGGREGATE(15,6,ROW(t_Employe[Nom])/(ISNUMBER(SEARCH($C$4,t_Employe[Nom]&"|"&t_Employe[Prénom]))),ROW()-ROW($I$9))-_xlfn.SINGLE(ROW(t_Employe[]))+1,"-")} -> - | J26: {=IF(ISNUMBER($I26)*ISNUMBER(J$9),INDEX(t_Employe[],$I26,J$9),"-")} -> - | K26: {=IF(ISNUMBER($I26)*ISNUMBER(K$9),INDEX(t_Employe[],$I26,K$9),"-")} -> - | L26: {=IF(ISNUMBER($I26)*ISNUMBER(L$9),INDEX(t_Employe[],$I26,L$9),"-")} -> - | M26: {=IF(ISNUMBER($I26)*ISNUMBER(M$9),INDEX(t_Employe[],$I26,M$9),"-")} -> - | N26: {=IF(ISNUMBER($I26)*ISNUMBER(N$9),INDEX(t_Employe[],$I26,N$9),"-")} -> -
I27: {=IFERROR(_xlfn.AGGREGATE(15,6,ROW(t_Employe[Nom])/(ISNUMBER(SEARCH($C$4,t_Employe[Nom]&"|"&t_Employe[Prénom]))),ROW()-ROW($I$9))-_xlfn.SINGLE(ROW(t_Employe[]))+1,"-")} -> - | J27: {=IF(ISNUMBER($I27)*ISNUMBER(J$9),INDEX(t_Employe[],$I27,J$9),"-")} -> - | K27: {=IF(ISNUMBER($I27)*ISNUMBER(K$9),INDEX(t_Employe[],$I27,K$9),"-")} -> - | L27: {=IF(ISNUMBER($I27)*ISNUMBER(L$9),INDEX(t_Employe[],$I27,L$9),"-")} -> - | M27: {=IF(ISNUMBER($I27)*ISNUMBER(M$9),INDEX(t_Employe[],$I27,M$9),"-")} -> - | N27: {=IF(ISNUMBER($I27)*ISNUMBER(N$9),INDEX(t_Employe[],$I27,N$9),"-")} -> -
I28: {=IFERROR(_xlfn.AGGREGATE(15,6,ROW(t_Employe[Nom])/(ISNUMBER(SEARCH($C$4,t_Employe[Nom]&"|"&t_Employe[Prénom]))),ROW()-ROW($I$9))-_xlfn.SINGLE(ROW(t_Employe[]))+1,"-")} -> - | J28: {=IF(ISNUMBER($I28)*ISNUMBER(J$9),INDEX(t_Employe[],$I28,J$9),"-")} -> - | K28: {=IF(ISNUMBER($I28)*ISNUMBER(K$9),INDEX(t_Employe[],$I28,K$9),"-")} -> - | L28: {=IF(ISNUMBER($I28)*ISNUMBER(L$9),INDEX(t_Employe[],$I28,L$9),"-")} -> - | M28: {=IF(ISNUMBER($I28)*ISNUMBER(M$9),INDEX(t_Employe[],$I28,M$9),"-")} -> - | N28: {=IF(ISNUMBER($I28)*ISNUMBER(N$9),INDEX(t_Employe[],$I28,N$9),"-")} -> -
... I389: {=IFERROR(_xlfn.AGGREGATE(15,6,ROW(t_Employe[Nom])/(ISNUMBER(SEARCH($C$4,t_Employe[Nom]&"|"&t_Employe[Prénom]))),ROW()-ROW($I$9))-_xlfn.SINGLE(ROW(t_Employe[]))+1,"-")} -> - | J389: {=IF(ISNUMBER($I389)*ISNUMBER(J$9),INDEX(t_Employe[],$I389,J$9),"-")} -> - | K389: {=IF(ISNUMBER($I389)*ISNUMBER(K$9),INDEX(t_Employe[],$I389,K$9),"-")} -> - | L389: {=IF(ISNUMBER($I389)*ISNUMBER(L$9),INDEX(t_Employe[],$I389,L$9),"-")} -> - | M389: {=IF(ISNUMBER($I389)*ISNUMBER(M$9),INDEX(t_Employe[],$I389,M$9),"-")} -> - | N389: {=IF(ISNUMBER($I389)*ISNUMBER(N$9),INDEX(t_Employe[],$I389,N$9),"-")} -> -
