Workbook

Sheet Horaires
B1: Horaires | C1: Pauses | L1: total
A2: 1S | B2: 09h00-14h00 / 18h00-23h00 | C2: 10h00-10h15 / 22h00-22h15 | D2: 09:00 | E2: 14:00 | F2: 18:00 | G2: 23:00 | H2: 10:00 | I2: 10:15 | J2: 22:00 | K2: 22:15 | L2: =+G2-F2+E2-D2 -> 0.41666667 | M2: =+K2-J2+I2-H2 -> 0.020833333 | N2: =+L2-M2 -> 0.39583333
A3: 1C | B3: 09h00-14h00 / 18h00-23h00 | C3: 10h00-10h15 / 22h00-22h15 | D3: 09:00 | E3: 14:00 | F3: 18:00 | G3: 23:00 | H3: 10:00 | I3: 10:15 | J3: 22:00 | K3: 22:15 | L3: =+G3-F3+E3-D3 -> 0.41666667 | M3: =+K3-J3+I3-H3 -> 0.020833333 | N3: =+L3-M3 -> 0.39583333
A4: 2S | B4: 10h00-13h00 / 18h00-00h00 | C4: 11h00-11h15 / 22h15-22h30 | D4: 10:00 | E4: 13:00 | F4: 18:00 | G4: 1 | H4: 11:00 | I4: 11:15 | J4: 22:15 | K4: 22:30 | L4: =+G4-F4+E4-D4 -> 0.375 | M4: =+K4-J4+I4-H4 -> 0.020833333 | N4: =+L4-M4 -> 0.35416667
A5: 2C | B5: 10h00-13h00 / 18h00-00h00 | C5: 11h00-11h15 / 22h15-22h30 | D5: 10:00 | E5: 13:00 | F5: 18:00 | G5: 1 | H5: 11:00 | I5: 11:15 | J5: 22:15 | K5: 22:30 | L5: =+G5-F5+E5-D5 -> 0.375 | M5: =+K5-J5+I5-H5 -> 0.020833333 | N5: =+L5-M5 -> 0.35416667
A6: 3S | B6: 09h00-15h00 | C6: 11h00-11h15 / 14h00-14h15 | D6: 09:00 | E6: 15:00 | H6: 11:00 | I6: 11:15 | J6: 14:00 | K6: 14:15 | L6: =+G6-F6+E6-D6 -> 0.25 | M6: =+K6-J6+I6-H6 -> 0.020833333 | N6: =+L6-M6 -> 0.22916667
A7: 3C | B7: 09h00-15h00 | C7: 11h00-11h15 / 14h00-14h15 | D7: 09:00 | E7: 15:00 | H7: 11:00 | I7: 11:15 | J7: 14:00 | K7: 14:15 | L7: =+G7-F7+E7-D7 -> 0.25 | M7: =+K7-J7+I7-H7 -> 0.020833333 | N7: =+L7-M7 -> 0.22916667
A8: 4S | B8: 18h00-23h00 | C8: 21h45-22h00 | D8: 18:00 | E8: 23:00 | H8: 21:45 | I8: 22:00 | L8: =+G8-F8+E8-D8 -> 0.20833333 | M8: =+K8-J8+I8-H8 -> 0.010416667 | N8: =+L8-M8 -> 0.19791667
A9: 4C | B9: 18h00-23h00 | C9: 21h45-22h00 | D9: 18:00 | E9: 23:00 | H9: 21:45 | I9: 22:00 | L9: =+G9-F9+E9-D9 -> 0.20833333 | M9: =+K9-J9+I9-H9 -> 0.010416667 | N9: =+L9-M9 -> 0.19791667
A10: A | B10: 07h00-16h30 | C10: 11h00-11h30 | D10: 07:00 | E10: 16:30 | H10: 11:00 | I10: 11:30 | L10: =+G10-F10+E10-D10 -> 0.39583333 | M10: =+K10-J10+I10-H10 -> 0.020833333 | N10: =+L10-M10 -> 0.375
A11: T | B11: 10h00-14h00 / 18h00-23h00 | C11: 11h00-11h15 / 22h15-22h30 | D11: 10:00 | E11: 14:00 | F11: 18:00 | G11: 23:00 | H11: 11:00 | I11: 11:15 | J11: 22:15 | K11: 22:30 | L11: =+G11-F11+E11-D11 -> 0.375 | M11: =+K11-J11+I11-H11 -> 0.020833333 | N11: =+L11-M11 -> 0.35416667
A12: P | B12: 11h00-14h00 / 19h00-23h00 | C12: 11h45-12h00 / 22h30-22h45 | D12: 11:00 | E12: 14:00 | F12: 19:00 | G12: 23:00 | H12: 11:45 | I12: 12:00 | J12: 22:30 | K12: 22:45 | L12: =+G12-F12+E12-D12 -> 0.29166667 | M12: =+K12-J12+I12-H12 -> 0.020833333 | N12: =+L12-M12 -> 0.27083333
A13: AA | B13: Arrêt accident
A14: AM | B14: Arrêt maladie
A15: V | B15: Vacances
A16: Secteur Cuisine
A17: Secteur Salle
A18: Secteur Administratif
A19: Secteur Tacos

Sheet Planning Juillet 24
A1: PLANNING JUILLET 2024 – RESTAURANT ET TACOS
B2: =B3 -> 45474 | C2: =C3 -> 45475 | D2: =D3 -> 45476 | E2: =E3 -> 45477 | F2: =F3 -> 45478 | G2: =G3 -> 45479 | H2: =H3 -> 45480 | I2: =I3 -> 45481 | ... P2: =P3 -> 45488
B3: 45474 | C3: 45475 | D3: 45476 | E3: 45477 | F3: 45478 | G3: 45479 | H3: 45480 | I3: 45481 | J3: 45482 | K3: 45483 | L3: 45484 | M3: 45485 | N3: 45486 | O3: 45487 | P3: 45488
A4: Kévin | E4: 1S | F4: 1C | G4: 4S | H4: 4S | L4: 1S | M4: 4C | N4: 4C | O4: 4C | R4: {=SUM(IF($B4:$P4<>"",_xlfn.XLOOKUP($B4:$P4,Horaires!$A$2:$A$12,Horaires!$N$2:$N$12,0,1)))} -> 2.1770833
A5: Loïc | E5: 1C | R5: {=SUM(IF($B5:$P5<>"",_xlfn.XLOOKUP($B5:$P5,Horaires!$A$2:$A$12,Horaires!$N$2:$N$12,0,1)))} -> 0.39583333
A6: Nohan | E6: 2S | R6: {=SUM(IF($B6:$P6<>"",_xlfn.XLOOKUP($B6:$P6,Horaires!$A$2:$A$12,Horaires!$N$2:$N$12,0,1)))} -> 0.35416667
A7: Maxime | E7: 2C | R7: {=SUM(IF($B7:$P7<>"",_xlfn.XLOOKUP($B7:$P7,Horaires!$A$2:$A$12,Horaires!$N$2:$N$12,0,1)))} -> 0.35416667
A8: Sophie | E8: 3S | R8: {=SUM(IF($B8:$P8<>"",_xlfn.XLOOKUP($B8:$P8,Horaires!$A$2:$A$12,Horaires!$N$2:$N$12,0,1)))} -> 0.22916667
A9: Vanessa | E9: 4S | R9: {=SUM(IF($B9:$P9<>"",_xlfn.XLOOKUP($B9:$P9,Horaires!$A$2:$A$12,Horaires!$N$2:$N$12,0,1)))} -> 0.19791667
A10: Vadim | E10: 4C | R10: {=SUM(IF($B10:$P10<>"",_xlfn.XLOOKUP($B10:$P10,Horaires!$A$2:$A$12,Horaires!$N$2:$N$12,0,1)))} -> 0.19791667
A11: Alya | E11: A | R11: {=SUM(IF($B11:$P11<>"",_xlfn.XLOOKUP($B11:$P11,Horaires!$A$2:$A$12,Horaires!$N$2:$N$12,0,1)))} -> 0.375
B13: =B14 -> 45489 | C13: =C14 -> 45490 | D13: =D14 -> 45491 | E13: =E14 -> 45492 | F13: =F14 -> 45493 | G13: =G14 -> 45494 | H13: =H14 -> 45495 | I13: =I14 -> 45496 | ... Q13: =Q14 -> 45504
B14: 45489 | C14: 45490 | D14: 45491 | E14: 45492 | F14: 45493 | G14: 45494 | H14: 45495 | I14: 45496 | J14: 45497 | K14: 45498 | L14: 45499 | M14: 45500 | N14: 45501 | O14: 45502 | P14: 45503 | Q14: 45504
A15: Kévin | D15: 3S | E15: 2S | F15: 1S | G15: 4S | K15: 4S | L15: 4S | M15: 4S | N15: 1C | R15: {=SUM(IF($B15:$P15<>"",_xlfn.XLOOKUP($B15:$P15,Horaires!$A$2:$A$12,Horaires!$N$2:$N$12,0,1)))} -> 2.1666667
A16: Loïc | R16: {=SUM(IF($B16:$P16<>"",_xlfn.XLOOKUP($B16:$P16,Horaires!$A$2:$A$12,Horaires!$N$2:$N$12,0,1)))} -> 0
A17: Nohan | R17: {=SUM(IF($B17:$P17<>"",_xlfn.XLOOKUP($B17:$P17,Horaires!$A$2:$A$12,Horaires!$N$2:$N$12,0,1)))} -> 0
A18: Maxime | R18: {=SUM(IF($B18:$P18<>"",_xlfn.XLOOKUP($B18:$P18,Horaires!$A$2:$A$12,Horaires!$N$2:$N$12,0,1)))} -> 0
A19: Sophie | R19: {=SUM(IF($B19:$P19<>"",_xlfn.XLOOKUP($B19:$P19,Horaires!$A$2:$A$12,Horaires!$N$2:$N$12,0,1)))} -> 0
A20: Vanessa | R20: {=SUM(IF($B20:$P20<>"",_xlfn.XLOOKUP($B20:$P20,Horaires!$A$2:$A$12,Horaires!$N$2:$N$12,0,1)))} -> 0
A21: Vadim | R21: {=SUM(IF($B21:$P21<>"",_xlfn.XLOOKUP($B21:$P21,Horaires!$A$2:$A$12,Horaires!$N$2:$N$12,0,1)))} -> 0
A22: Alya | R22: {=SUM(IF($B22:$P22<>"",_xlfn.XLOOKUP($B22:$P22,Horaires!$A$2:$A$12,Horaires!$N$2:$N$12,0,1)))} -> 0
