Workbook
Name d: Janvier!$O$1
Name f: Janvier!#REF!
Name Fériés: [1]Détails!$B$2:$L$16
Name MesFeries: Détails!$K$2:$K$16

Sheet Détails
A1: 2024 | D1: Contrat | G1: Congés payés | J1: Jours fériés | M1: Heures de nuit | P1: Jours | Q1: Jours ouvrables | R1: Samedi | S1: Dimanche | T1: Week-end | U1: Jours fériés | V1: Jours fériés le week-end
A2: Premier jour de l'année | B2: =DATE(A1,1,1) -> 45292 | D2: Journalier | E2: =E4/E3 -> 0.325 | I2: =NETWORKDAYS.INTL(G2,H2,1,K$2:K$16) -> 0 | J2: Jour de l'an | K2: =DATE(A1,1,1) -> 45292 | M2: 0.875 | O2: Janvier | P2: =DAY(EOMONTH(Janvier!$B$3,0)) -> 31 | Q2: =NETWORKDAYS.INTL(Janvier!$B$3,EOMONTH(Janvier!$B$3,0),,MesFeries) -> 22 | R2: =NETWORKDAYS.INTL(Janvier!$B$3,EOMONTH(Janvier!$B$3,0),"1111101") -> 4 | S2: =NETWORKDAYS.INTL(Janvier!$B$3,EOMONTH(Janvier!$B$3,0),"1111110") -> 4 | T2: =NETWORKDAYS.INTL(Janvier!$B$3,EOMONTH(Janvier!$B$3,0),"1111100") -> 8 | U2: =DAY(EOMONTH(Janvier!$B$3,0))-NETWORKDAYS.INTL(Janvier!$B$3,EOMONTH(Janvier!$B$3,0),"0000000",MesFeries) -> 1 | V2: =NETWORKDAYS.INTL(Janvier!$B$3,EOMONTH(Janvier!$B$3,0),"1111100")-NETWORKDAYS.INTL(Janvier!$B$3,EOMONTH(Janvier!$B$3,0),"1111100",MesFeries) -> 0
A3: Dernier jour de l'année | B3: =DATE(A1,12,31) -> 45657 | D3: Nombre de jour travaillé par semaine | E3: 5 | I3: =NETWORKDAYS.INTL(G3,H3,1,K$2:K$16) -> 0 | J3: Vendredi saint | K3: =K4-2 -> 45380 | M3: 0.25 | O3: Février | P3: =DAY(EOMONTH(Février!$B$3,0)) -> 31 | Q3: =NETWORKDAYS.INTL(Février!$B$3,EOMONTH(Février!$B$3,0),,MesFeries) -> 22 | R3: =NETWORKDAYS.INTL(Février!$B$3,EOMONTH(Février!$B$3,0),"1111101") -> 5 | S3: =NETWORKDAYS.INTL(Février!$B$3,EOMONTH(Février!$B$3,0),"1111110") -> 5 | T3: =NETWORKDAYS.INTL(Février!$B$3,EOMONTH(Février!$B$3,0),"1111100") -> 10 | U3: =DAY(EOMONTH(Février!$B$3,0))-NETWORKDAYS.INTL(Février!$B$3,EOMONTH(Février!$B$3,0),"0000000",MesFeries) -> -1 | V3: =NETWORKDAYS.INTL(Février!$B$3,EOMONTH(Février!$B$3,0),"1111100")-NETWORKDAYS.INTL(Février!$B$3,EOMONTH(Février!$B$3,0),"1111100",MesFeries) -> 0
A4: Nombre de jour dans l'année | B4: =+B3-B2+1 -> 366 | D4: Hedomadaire | E4: 1.625 | I4: =NETWORKDAYS.INTL(G4,H4,1,K$2:K$16) -> 0 | J4: Pâques | K4: =ROUND(DATE(A1,4,MOD(234-11*MOD($A$1,19),30))/7,)*7-6 -> 45382 | O4: Mars | P4: =DAY(EOMONTH(Mars!$B$3,0)) -> 31 | Q4: =NETWORKDAYS.INTL(Mars!$B$3,EOMONTH(Mars!$B$3,0),,MesFeries) -> 22 | R4: =NETWORKDAYS.INTL(Mars!$B$3,EOMONTH(Mars!$B$3,0),"1111101") -> 5 | S4: =NETWORKDAYS.INTL(Mars!$B$3,EOMONTH(Mars!$B$3,0),"1111110") -> 5 | T4: =NETWORKDAYS.INTL(Mars!$B$3,EOMONTH(Mars!$B$3,0),"1111100") -> 10 | U4: =DAY(EOMONTH(Mars!$B$3,0))-NETWORKDAYS.INTL(Mars!$B$3,EOMONTH(Mars!$B$3,0),"0000000",MesFeries) -> -1 | V4: =NETWORKDAYS.INTL(Mars!$B$3,EOMONTH(Mars!$B$3,0),"1111100")-NETWORKDAYS.INTL(Mars!$B$3,EOMONTH(Mars!$B$3,0),"1111100",MesFeries) -> 0
A5: Nombre de jours ouvrés | B5: =NETWORKDAYS.INTL(B2,B3,,MesFeries) -> 250 | D5: Mensuel | E5: =E4*4.33333 -> 7.0416613 | I5: =NETWORKDAYS.INTL(G5,H5,1,K$2:K$16) -> 0 | J5: Lundi de Pâques | K5: =K4+1 -> 45383 | O5: Avril | P5: =DAY(EOMONTH(Avril!$B$3,0)) -> 31 | Q5: =NETWORKDAYS.INTL(Avril!$B$3,EOMONTH(Avril!$B$3,0),,MesFeries) -> 22 | R5: =NETWORKDAYS.INTL(Avril!$B$3,EOMONTH(Avril!$B$3,0),"1111101") -> 5 | S5: =NETWORKDAYS.INTL(Avril!$B$3,EOMONTH(Avril!$B$3,0),"1111110") -> 5 | T5: =NETWORKDAYS.INTL(Avril!$B$3,EOMONTH(Avril!$B$3,0),"1111100") -> 10 | U5: =DAY(EOMONTH(Avril!$B$3,0))-NETWORKDAYS.INTL(Avril!$B$3,EOMONTH(Avril!$B$3,0),"0000000",MesFeries) -> -1 | V5: =NETWORKDAYS.INTL(Avril!$B$3,EOMONTH(Avril!$B$3,0),"1111100")-NETWORKDAYS.INTL(Avril!$B$3,EOMONTH(Avril!$B$3,0),"1111100",MesFeries) -> 0
A6: Nombre de samedi et dimanche | B6: =NETWORKDAYS.INTL(B2,B3,"1111100") -> 104 | D6: Nombre de jour prévu par la convention | E6: 218 | I6: =NETWORKDAYS.INTL(G6,H6,1,K$2:K$16) -> 0 | J6: Fête du travail | K6: =DATE(A1,5,1) -> 45413 | O6: Mai | P6: =DAY(EOMONTH(Mai!$B$3,0)) -> 31 | Q6: =NETWORKDAYS.INTL(Mai!$B$3,EOMONTH(Mai!$B$3,0),,MesFeries) -> 22 | R6: =NETWORKDAYS.INTL(Mai!$B$3,EOMONTH(Mai!$B$3,0),"1111101") -> 5 | S6: =NETWORKDAYS.INTL(Mai!$B$3,EOMONTH(Mai!$B$3,0),"1111110") -> 5 | T6: =NETWORKDAYS.INTL(Mai!$B$3,EOMONTH(Mai!$B$3,0),"1111100") -> 10 | U6: =DAY(EOMONTH(Mai!$B$3,0))-NETWORKDAYS.INTL(Mai!$B$3,EOMONTH(Mai!$B$3,0),"0000000",MesFeries) -> -1 | V6: =NETWORKDAYS.INTL(Mai!$B$3,EOMONTH(Mai!$B$3,0),"1111100")-NETWORKDAYS.INTL(Mai!$B$3,EOMONTH(Mai!$B$3,0),"1111100",MesFeries) -> 0
A7: Nombre de jours fériés en semaine | B7: =NETWORKDAYS.INTL(B2,B3)-NETWORKDAYS.INTL(B2,B3,,MesFeries) -> 12 | D7: Congés annuel | E7: 25 | I7: =NETWORKDAYS.INTL(G7,H7,1,K$2:K$16) -> 0 | J7: Commémoration de la victoire de 1945 | K7: =DATE(A1,5,8) -> 45420 | O7: Juin | P7: =DAY(EOMONTH(Juin!$B$3,0)) -> 31 | Q7: =NETWORKDAYS.INTL(Juin!$B$3,EOMONTH(Juin!$B$3,0),,MesFeries) -> 22 | R7: =NETWORKDAYS.INTL(Juin!$B$3,EOMONTH(Juin!$B$3,0),"1111101") -> 5 | S7: =NETWORKDAYS.INTL(Juin!$B$3,EOMONTH(Juin!$B$3,0),"1111110") -> 5 | T7: =NETWORKDAYS.INTL(Juin!$B$3,EOMONTH(Juin!$B$3,0),"1111100") -> 10 | U7: =DAY(EOMONTH(Juin!$B$3,0))-NETWORKDAYS.INTL(Juin!$B$3,EOMONTH(Juin!$B$3,0),"0000000",MesFeries) -> -1 | V7: =NETWORKDAYS.INTL(Juin!$B$3,EOMONTH(Juin!$B$3,0),"1111100")-NETWORKDAYS.INTL(Juin!$B$3,EOMONTH(Juin!$B$3,0),"1111100",MesFeries) -> 0
A8: Nombre de jours fériés le week-end | B8: =NETWORKDAYS.INTL(B2,B3,"1111100")-NETWORKDAYS.INTL(B2,B3,"1111100",MesFeries) -> 3 | D8: Réduction du temps de travail | E8: =B4-B6-B7-E6-E7 -> 7 | I8: =NETWORKDAYS.INTL(G8,H8,1,K$2:K$16) -> 0 | J8: Ascension | K8: =K4+39 -> 45421 | O8: Juillet | P8: =DAY(EOMONTH(Juillet!$B$3,0)) -> 31 | Q8: =NETWORKDAYS.INTL(Juillet!$B$3,EOMONTH(Juillet!$B$3,0),,MesFeries) -> 22 | R8: =NETWORKDAYS.INTL(Juillet!$B$3,EOMONTH(Juillet!$B$3,0),"1111101") -> 5 | S8: =NETWORKDAYS.INTL(Juillet!$B$3,EOMONTH(Juillet!$B$3,0),"1111110") -> 5 | T8: =NETWORKDAYS.INTL(Juillet!$B$3,EOMONTH(Juillet!$B$3,0),"1111100") -> 10 | U8: =DAY(EOMONTH(Juillet!$B$3,0))-NETWORKDAYS.INTL(Juillet!$B$3,EOMONTH(Juillet!$B$3,0),"0000000",MesFeries) -> -1 | V8: =NETWORKDAYS.INTL(Juillet!$B$3,EOMONTH(Juillet!$B$3,0),"1111100")-NETWORKDAYS.INTL(Juillet!$B$3,EOMONTH(Juillet!$B$3,0),"1111100",MesFeries) -> 0
E9: 1.625 | F9: 1.4583333 | I9: =NETWORKDAYS.INTL(G9,H9,1,K$2:K$16) -> 0 | J9: Pentecôte | K9: =K4+49 -> 45431 | O9: Août | P9: =DAY(EOMONTH(Août!$B$3,0)) -> 31 | Q9: =NETWORKDAYS.INTL(Août!$B$3,EOMONTH(Août!$B$3,0),,MesFeries) -> 22 | R9: =NETWORKDAYS.INTL(Août!$B$3,EOMONTH(Août!$B$3,0),"1111101") -> 5 | S9: =NETWORKDAYS.INTL(Août!$B$3,EOMONTH(Août!$B$3,0),"1111110") -> 5 | T9: =NETWORKDAYS.INTL(Août!$B$3,EOMONTH(Août!$B$3,0),"1111100") -> 10 | U9: =DAY(EOMONTH(Août!$B$3,0))-NETWORKDAYS.INTL(Août!$B$3,EOMONTH(Août!$B$3,0),"0000000",MesFeries) -> -1 | V9: =NETWORKDAYS.INTL(Août!$B$3,EOMONTH(Août!$B$3,0),"1111100")-NETWORKDAYS.INTL(Août!$B$3,EOMONTH(Août!$B$3,0),"1111100",MesFeries) -> 0
A10: Calcul entre deux dates | D10: Journalier sauf vendredi | E10: 0.33333333 | F10: 0.29166667 | I10: =NETWORKDAYS.INTL(G10,H10,1,K$2:K$16) -> 0 | J10: Lundi de Pentecôte | K10: =K9+1 -> 45432 | O10: Septembre | P10: =DAY(EOMONTH(Septembre!$B$3,0)) -> 31 | Q10: =NETWORKDAYS.INTL(Septembre!$B$3,EOMONTH(Septembre!$B$3,0),,MesFeries) -> 22 | R10: =NETWORKDAYS.INTL(Septembre!$B$3,EOMONTH(Septembre!$B$3,0),"1111101") -> 5 | S10: =NETWORKDAYS.INTL(Septembre!$B$3,EOMONTH(Septembre!$B$3,0),"1111110") -> 5 | T10: =NETWORKDAYS.INTL(Septembre!$B$3,EOMONTH(Septembre!$B$3,0),"1111100") -> 10 | U10: =DAY(EOMONTH(Septembre!$B$3,0))-NETWORKDAYS.INTL(Septembre!$B$3,EOMONTH(Septembre!$B$3,0),"0000000",MesFeries) -> -1 | V10: =NETWORKDAYS.INTL(Septembre!$B$3,EOMONTH(Septembre!$B$3,0),"1111100")-NETWORKDAYS.INTL(Septembre!$B$3,EOMONTH(Septembre!$B$3,0),"1111100",MesFeries) -> 0
A11: du | B11: 45413 | D11: journalier Vendredi | E11: 0.29166667 | F11: 0.29166667 | I11: =NETWORKDAYS.INTL(G11,H11,1,K$2:K$16) -> 0 | J11: Fête Nationale | K11: =DATE(A1,7,14) -> 45487 | O11: Octobre | P11: =DAY(EOMONTH(Octobre!$B$3,0)) -> 31 | Q11: =NETWORKDAYS.INTL(Octobre!$B$3,EOMONTH(Octobre!$B$3,0),,MesFeries) -> 22 | R11: =NETWORKDAYS.INTL(Octobre!$B$3,EOMONTH(Octobre!$B$3,0),"1111101") -> 5 | S11: =NETWORKDAYS.INTL(Octobre!$B$3,EOMONTH(Octobre!$B$3,0),"1111110") -> 5 | T11: =NETWORKDAYS.INTL(Octobre!$B$3,EOMONTH(Octobre!$B$3,0),"1111100") -> 10 | U11: =DAY(EOMONTH(Octobre!$B$3,0))-NETWORKDAYS.INTL(Octobre!$B$3,EOMONTH(Octobre!$B$3,0),"0000000",MesFeries) -> -1 | V11: =NETWORKDAYS.INTL(Octobre!$B$3,EOMONTH(Octobre!$B$3,0),"1111100")-NETWORKDAYS.INTL(Octobre!$B$3,EOMONTH(Octobre!$B$3,0),"1111100",MesFeries) -> 0
A12: au | B12: 45432 | J12: Assomption | K12: =DATE($A$1,8,15) -> 45519 | O12: Novembre | P12: =DAY(EOMONTH(Novembre!$B$3,0)) -> 31 | Q12: =NETWORKDAYS.INTL(Novembre!$B$3,EOMONTH(Novembre!$B$3,0),,MesFeries) -> 22 | R12: =NETWORKDAYS.INTL(Novembre!$B$3,EOMONTH(Novembre!$B$3,0),"1111101") -> 5 | S12: =NETWORKDAYS.INTL(Novembre!$B$3,EOMONTH(Novembre!$B$3,0),"1111110") -> 5 | T12: =NETWORKDAYS.INTL(Novembre!$B$3,EOMONTH(Novembre!$B$3,0),"1111100") -> 10 | U12: =DAY(EOMONTH(Novembre!$B$3,0))-NETWORKDAYS.INTL(Novembre!$B$3,EOMONTH(Novembre!$B$3,0),"0000000",MesFeries) -> -1 | V12: =NETWORKDAYS.INTL(Novembre!$B$3,EOMONTH(Novembre!$B$3,0),"1111100")-NETWORKDAYS.INTL(Novembre!$B$3,EOMONTH(Novembre!$B$3,0),"1111100",MesFeries) -> 0
A13: Nombre de jours | B13: =+B12-B11+1 -> 20 | G13: CP N-1 restants au 1er janvier 2024 | J13: Toussaint | K13: =DATE(A1,11,1) -> 45597 | O13: Décembre | P13: =DAY(EOMONTH(Décembre!$B$3,0)) -> 31 | Q13: =NETWORKDAYS.INTL(Décembre!$B$3,EOMONTH(Décembre!$B$3,0),,MesFeries) -> 22 | R13: =NETWORKDAYS.INTL(Décembre!$B$3,EOMONTH(Décembre!$B$3,0),"1111101") -> 5 | S13: =NETWORKDAYS.INTL(Décembre!$B$3,EOMONTH(Décembre!$B$3,0),"1111110") -> 5 | T13: =NETWORKDAYS.INTL(Décembre!$B$3,EOMONTH(Décembre!$B$3,0),"1111100") -> 10 | U13: =DAY(EOMONTH(Décembre!$B$3,0))-NETWORKDAYS.INTL(Décembre!$B$3,EOMONTH(Décembre!$B$3,0),"0000000",MesFeries) -> -1 | V13: =NETWORKDAYS.INTL(Décembre!$B$3,EOMONTH(Décembre!$B$3,0),"1111100")-NETWORKDAYS.INTL(Décembre!$B$3,EOMONTH(Décembre!$B$3,0),"1111100",MesFeries) -> 0
A14: Nombre de jours ouvrés | B14: =NETWORKDAYS.INTL(B11,B12,,MesFeries) -> 10 | G14: CP restants au 1er janvier 2024 | J14: Commémoration de la victoire de 1918 | K14: =DATE(A1,11,11) -> 45607
A15: Nombre de samedi et dimanche | B15: =NETWORKDAYS.INTL(B11,B12,"1111100") -> 6 | G15: CP pris | H15: =SUM(I2:I11) -> 0 | J15: Noël | K15: =DATE(A1,12,25) -> 45651
A16: Nombre de jours fériés en semaine | B16: =NETWORKDAYS.INTL(B11,B12)-NETWORKDAYS.INTL(B11,B12,,MesFeries) -> 4 | G16: CP N-1 restants | J16: Saint-Étienne | K16: =K15+1 -> 45652
A17: Nombre de jours fériés le week-end | B17: =NETWORKDAYS.INTL(B11,B12,"1111100")-NETWORKDAYS.INTL(B11,B12,"1111100",MesFeries) -> 1 | G17: CP restants
A35: =A34+1 -> 1
A36: =A35+1 -> 2
A37: =A36+1 -> 3
A38: =A37+1 -> 4

Sheet Synthèse
B1: Accident de travail | C1: Arrêt maladie | D1: Congé | E1: En poste | F1: Férié | G1: Repos | H1: Heures travaillées | I1: Heures en journée | J1: Heures de nuit
A2: Janvier | B2: =Janvier!#REF! -> #REF! | C2: =Janvier!#REF! -> #REF! | D2: =Janvier!#REF! -> #REF! | E2: =Janvier!#REF! -> #REF! | F2: =Janvier!#REF! -> #REF! | G2: =Janvier!#REF! -> #REF!
A3: Février | B3: =Février!I1 -> 0 | C3: =Février!I2 -> 0 | D3: =Février!#REF! -> #REF! | E3: =Février!#REF! -> #REF! | F3: =Février!#REF! -> #REF! | G3: =Février!#REF! -> #REF!
A4: Mars | B4: =Mars!I1 -> 0 | C4: =Mars!I2 -> 0 | D4: =Mars!I3 -> 0 | E4: =Mars!I4 -> 0 | F4: =Mars!I5 -> 0 | G4: =Mars!I6 -> 0
A5: Avril | B5: =Avril!I1 -> 0 | C5: =Avril!I2 -> 0 | D5: =Avril!I3 -> 0 | E5: =Avril!I4 -> 0 | F5: =Avril!I5 -> 0 | G5: =Avril!I6 -> 0
A6: Mai | B6: =Mai!I1 -> 0 | C6: =Mai!I2 -> 0 | D6: =Mai!I3 -> 0 | E6: =Mai!I4 -> 0 | F6: =Mai!I5 -> 0 | G6: =Mai!I6 -> 0
A7: Juin | B7: =Juin!I1 -> 0 | C7: =Juin!I2 -> 0 | D7: =Juin!I3 -> 0 | E7: =Juin!I4 -> 0 | F7: =Juin!I5 -> 0 | G7: =Juin!I6 -> 0
A8: Juillet | B8: =Juillet!I1 -> 0 | C8: =Juillet!I2 -> 0 | D8: =Juillet!I3 -> 0 | E8: =Juillet!I4 -> 0 | F8: =Juillet!I5 -> 0 | G8: =Juillet!I6 -> 0
A9: Août | B9: =Août!I1 -> 0 | C9: =Août!I2 -> 0 | D9: =Août!I3 -> 0 | E9: =Août!I4 -> 0 | F9: =Août!I5 -> 0 | G9: =Août!I6 -> 0
A10: Septembre | B10: =Septembre!I1 -> 0 | C10: =Septembre!I2 -> 0 | D10: =Septembre!I3 -> 0 | E10: =Septembre!I4 -> 0 | F10: =Septembre!I5 -> 0 | G10: =Septembre!I6 -> 0
A11: Octobre | B11: =Octobre!I1 -> 0 | C11: =Octobre!I2 -> 0 | D11: =Octobre!I3 -> 0 | E11: =Octobre!I4 -> 0 | F11: =Octobre!I5 -> 0 | G11: =Octobre!I6 -> 0
A12: Novembre | B12: =Novembre!I1 -> 0 | C12: =Novembre!I2 -> 0 | D12: =Novembre!I3 -> 0 | E12: =Novembre!I4 -> 0 | F12: =Novembre!I5 -> 0 | G12: =Novembre!I6 -> 0
A13: Décembre | B13: =Décembre!I1 -> 0 | C13: =Décembre!I2 -> 0 | D13: =Décembre!I3 -> 0 | E13: =Décembre!I4 -> 0 | F13: =Décembre!I5 -> 0 | G13: =Décembre!I6 -> 0
A14: Totaux | B14: =SUM(B2:B13) -> #REF! | C14: =SUM(C2:C13) -> #REF! | D14: =SUM(D2:D13) -> #REF! | E14: =SUM(E2:E13) -> #REF! | F14: =SUM(F2:F13) -> #REF! | G14: =SUM(G2:G13) -> #REF!

Sheet Janvier
B1: =SUBTOTAL(102,Tabel1[Date]) -> 31 | D1: =SUBTOTAL(102,Tabel1[Ouverture de poste]) -> 5 | E1: =SUBTOTAL(102,Tabel1[Pause entre 06:00 et 21:00]) -> 5 | F1: =SUBTOTAL(102,Tabel1[Pause entre 21:00 et 06:00]) -> 0 | G1: =SUBTOTAL(102,Tabel1[Fermeture de poste]) -> 5 | H1: =SUBTOTAL(109,Tabel1[Total Heures]) -> 1.625 | I1: =SUBTOTAL(109,Tabel1[Heures de jour]) -> 1.625 | J1: =SUBTOTAL(109,Tabel1[Heures de nuit]) -> 0 | K1: =SUBTOTAL(109,Tabel1[Total semaine]) -> 1.625 | L1: =SUBTOTAL(109,Tabel1[Heures supplémentaires]) -> 2.7755576e-16
A2: Semaine | B2: Date | C2: Ordre | D2: Ouverture de poste | E2: Pause entre 06:00 et 21:00 | F2: Pause entre 21:00 et 06:00 | G2: Fermeture de poste | H2: Total Heures | I2: Heures de jour | J2: Heures de nuit | K2: Total semaine | L2: Heures supplémentaires | M2: Total heures supplémentaires | O2: 1.625 | P2: <<< contrat
A3: =""&WEEKNUM(B3,2) -> 1 | B3: =DATE(Détails!A1,1,1) -> 45292 | D3: 0.33333333 | E3: 0.020833333 | G3: 0.6875 | H3: =IF(OR(D3<>"",G3<>""),MOD(G3-D3-F3-E3,1),"") -> 0.33333333 | I3: =IF($G3>$D3,MEDIAN($G3,Détails!$M$2,Détails!$M$3)-MEDIAN($D3,Détails!$M$2,Détails!$M$3),($G3<$D3)*(Détails!$M$2-Détails!$M$3)+MEDIAN($G3,Détails!$M$3,Détails!$M$2)-MEDIAN($D3,Détails!$M$3,Détails!$M$2))-$E3 -> 0.33333333 | J3: =MOD($G3-$D3,1)-($G3<$D3)*(Détails!$M$2-Détails!$M$3)-MEDIAN($G3,Détails!$M$3,Détails!$M$2)+MEDIAN($D3,Détails!$M$3,Détails!$M$2)-$F3 -> 0 | K3: =IF(OR(WEEKDAY(Tabel1[[#This Row],[Date]],2)=7, DAY(Tabel1[[#This Row],[Date]])=DAY(EOMONTH(Tabel1[[#This Row],[Date]],0))),SUMIF(Tabel1[Semaine],Tabel1[[#This Row],[Semaine]],Tabel1[Total Heures]),0) -> 0 | L3: {=IFERROR(MAX(0,H3-INDEX(Détails!$E$10:$F$11,1+(WEEKDAY(Tabel1[[#This Row],[Date]],2)=5),MATCH($O$2,Détails!$E$9:$F$9,0))),"-")} -> 5.5511151e-17 | M3: =IF(OR(WEEKDAY(Tabel1[[#This Row],[Date]],2)=7, DAY(Tabel1[[#This Row],[Date]])=DAY(EOMONTH(Tabel1[[#This Row],[Date]],0))),SUMIF(Tabel1[Semaine],Tabel1[[#This Row],[Semaine]],Tabel1[Heures supplémentaires]),0) -> 0
A4: =""&WEEKNUM(B4,2) -> 1 | B4: =B3+1 -> 45293 | D4: 0.33333333 | E4: 0.020833333 | G4: 0.6875 | H4: =IF(OR(D4<>"",G4<>""),MOD(G4-D4-F4-E4,1),"") -> 0.33333333 | I4: =IF($G4>$D4,MEDIAN($G4,Détails!$M$2,Détails!$M$3)-MEDIAN($D4,Détails!$M$2,Détails!$M$3),($G4<$D4)*(Détails!$M$2-Détails!$M$3)+MEDIAN($G4,Détails!$M$3,Détails!$M$2)-MEDIAN($D4,Détails!$M$3,Détails!$M$2))-$E4 -> 0.33333333 | J4: =MOD($G4-$D4,1)-($G4<$D4)*(Détails!$M$2-Détails!$M$3)-MEDIAN($G4,Détails!$M$3,Détails!$M$2)+MEDIAN($D4,Détails!$M$3,Détails!$M$2)-$F4 -> 0 | K4: =IF(OR(WEEKDAY(Tabel1[[#This Row],[Date]],2)=7, DAY(Tabel1[[#This Row],[Date]])=DAY(EOMONTH(Tabel1[[#This Row],[Date]],0))),SUMIF(Tabel1[Semaine],Tabel1[[#This Row],[Semaine]],Tabel1[Total Heures]),0) -> 0 | L4: {=IFERROR(MAX(0,H4-INDEX(Détails!$E$10:$F$11,1+(WEEKDAY(Tabel1[[#This Row],[Date]],2)=5),MATCH($O$2,Détails!$E$9:$F$9,0))),"-")} -> 5.5511151e-17 | M4: =IF(OR(WEEKDAY(Tabel1[[#This Row],[Date]],2)=7, DAY(Tabel1[[#This Row],[Date]])=DAY(EOMONTH(Tabel1[[#This Row],[Date]],0))),SUMIF(Tabel1[Semaine],Tabel1[[#This Row],[Semaine]],Tabel1[Heures supplémentaires]),0) -> 0
A5: =""&WEEKNUM(B5,2) -> 1 | B5: =B4+1 -> 45294 | D5: 0.33333333 | E5: 0.020833333 | G5: 0.6875 | H5: =IF(OR(D5<>"",G5<>""),MOD(G5-D5-F5-E5,1),"") -> 0.33333333 | I5: =IF($G5>$D5,MEDIAN($G5,Détails!$M$2,Détails!$M$3)-MEDIAN($D5,Détails!$M$2,Détails!$M$3),($G5<$D5)*(Détails!$M$2-Détails!$M$3)+MEDIAN($G5,Détails!$M$3,Détails!$M$2)-MEDIAN($D5,Détails!$M$3,Détails!$M$2))-$E5 -> 0.33333333 | J5: =MOD($G5-$D5,1)-($G5<$D5)*(Détails!$M$2-Détails!$M$3)-MEDIAN($G5,Détails!$M$3,Détails!$M$2)+MEDIAN($D5,Détails!$M$3,Détails!$M$2)-$F5 -> 0 | K5: =IF(OR(WEEKDAY(Tabel1[[#This Row],[Date]],2)=7, DAY(Tabel1[[#This Row],[Date]])=DAY(EOMONTH(Tabel1[[#This Row],[Date]],0))),SUMIF(Tabel1[Semaine],Tabel1[[#This Row],[Semaine]],Tabel1[Total Heures]),0) -> 0 | L5: {=IFERROR(MAX(0,H5-INDEX(Détails!$E$10:$F$11,1+(WEEKDAY(Tabel1[[#This Row],[Date]],2)=5),MATCH($O$2,Détails!$E$9:$F$9,0))),"-")} -> 5.5511151e-17 | M5: =IF(OR(WEEKDAY(Tabel1[[#This Row],[Date]],2)=7, DAY(Tabel1[[#This Row],[Date]])=DAY(EOMONTH(Tabel1[[#This Row],[Date]],0))),SUMIF(Tabel1[Semaine],Tabel1[[#This Row],[Semaine]],Tabel1[Heures supplémentaires]),0) -> 0
A6: =""&WEEKNUM(B6,2) -> 1 | B6: =B5+1 -> 45295 | D6: 0.33333333 | E6: 0.020833333 | G6: 0.6875 | H6: =IF(OR(D6<>"",G6<>""),MOD(G6-D6-F6-E6,1),"") -> 0.33333333 | I6: =IF($G6>$D6,MEDIAN($G6,Détails!$M$2,Détails!$M$3)-MEDIAN($D6,Détails!$M$2,Détails!$M$3),($G6<$D6)*(Détails!$M$2-Détails!$M$3)+MEDIAN($G6,Détails!$M$3,Détails!$M$2)-MEDIAN($D6,Détails!$M$3,Détails!$M$2))-$E6 -> 0.33333333 | J6: =MOD($G6-$D6,1)-($G6<$D6)*(Détails!$M$2-Détails!$M$3)-MEDIAN($G6,Détails!$M$3,Détails!$M$2)+MEDIAN($D6,Détails!$M$3,Détails!$M$2)-$F6 -> 0 | K6: =IF(OR(WEEKDAY(Tabel1[[#This Row],[Date]],2)=7, DAY(Tabel1[[#This Row],[Date]])=DAY(EOMONTH(Tabel1[[#This Row],[Date]],0))),SUMIF(Tabel1[Semaine],Tabel1[[#This Row],[Semaine]],Tabel1[Total Heures]),0) -> 0 | L6: {=IFERROR(MAX(0,H6-INDEX(Détails!$E$10:$F$11,1+(WEEKDAY(Tabel1[[#This Row],[Date]],2)=5),MATCH($O$2,Détails!$E$9:$F$9,0))),"-")} -> 5.5511151e-17 | M6: =IF(OR(WEEKDAY(Tabel1[[#This Row],[Date]],2)=7, DAY(Tabel1[[#This Row],[Date]])=DAY(EOMONTH(Tabel1[[#This Row],[Date]],0))),SUMIF(Tabel1[Semaine],Tabel1[[#This Row],[Semaine]],Tabel1[Heures supplémentaires]),0) -> 0
A7: =""&WEEKNUM(B7,2) -> 1 | B7: =B6+1 -> 45296 | D7: 0.33333333 | E7: 0.020833333 | G7: 0.64583333 | H7: =IF(OR(D7<>"",G7<>""),MOD(G7-D7-F7-E7,1),"") -> 0.29166667 | I7: =IF($G7>$D7,MEDIAN($G7,Détails!$M$2,Détails!$M$3)-MEDIAN($D7,Détails!$M$2,Détails!$M$3),($G7<$D7)*(Détails!$M$2-Détails!$M$3)+MEDIAN($G7,Détails!$M$3,Détails!$M$2)-MEDIAN($D7,Détails!$M$3,Détails!$M$2))-$E7 -> 0.29166667 | J7: =MOD($G7-$D7,1)-($G7<$D7)*(Détails!$M$2-Détails!$M$3)-MEDIAN($G7,Détails!$M$3,Détails!$M$2)+MEDIAN($D7,Détails!$M$3,Détails!$M$2)-$F7 -> 0 | K7: =IF(OR(WEEKDAY(Tabel1[[#This Row],[Date]],2)=7, DAY(Tabel1[[#This Row],[Date]])=DAY(EOMONTH(Tabel1[[#This Row],[Date]],0))),SUMIF(Tabel1[Semaine],Tabel1[[#This Row],[Semaine]],Tabel1[Total Heures]),0) -> 0 | L7: {=IFERROR(MAX(0,H7-INDEX(Détails!$E$10:$F$11,1+(WEEKDAY(Tabel1[[#This Row],[Date]],2)=5),MATCH($O$2,Détails!$E$9:$F$9,0))),"-")} -> 5.5511151e-17 | M7: =IF(OR(WEEKDAY(Tabel1[[#This Row],[Date]],2)=7, DAY(Tabel1[[#This Row],[Date]])=DAY(EOMONTH(Tabel1[[#This Row],[Date]],0))),SUMIF(Tabel1[Semaine],Tabel1[[#This Row],[Semaine]],Tabel1[Heures supplémentaires]),0) -> 0 | P7: =MATCH($O$2,Détails!$E$9:$F$9,0) -> 1
A8: =""&WEEKNUM(B8,2) -> 1 | B8: =B7+1 -> 45297 | H8: =IF(OR(D8<>"",G8<>""),MOD(G8-D8-F8-E8,1),"") | I8: =IF($G8>$D8,MEDIAN($G8,Détails!$M$2,Détails!$M$3)-MEDIAN($D8,Détails!$M$2,Détails!$M$3),($G8<$D8)*(Détails!$M$2-Détails!$M$3)+MEDIAN($G8,Détails!$M$3,Détails!$M$2)-MEDIAN($D8,Détails!$M$3,Détails!$M$2))-$E8 -> 0 | J8: =MOD($G8-$D8,1)-($G8<$D8)*(Détails!$M$2-Détails!$M$3)-MEDIAN($G8,Détails!$M$3,Détails!$M$2)+MEDIAN($D8,Détails!$M$3,Détails!$M$2)-$F8 -> 0 | K8: =IF(OR(WEEKDAY(Tabel1[[#This Row],[Date]],2)=7, DAY(Tabel1[[#This Row],[Date]])=DAY(EOMONTH(Tabel1[[#This Row],[Date]],0))),SUMIF(Tabel1[Semaine],Tabel1[[#This Row],[Semaine]],Tabel1[Total Heures]),0) -> 0 | L8: {=IFERROR(MAX(0,H8-INDEX(Détails!$E$10:$F$11,1+(WEEKDAY(Tabel1[[#This Row],[Date]],2)=5),MATCH($O$2,Détails!$E$9:$F$9,0))),"-")} -> - | M8: =IF(OR(WEEKDAY(Tabel1[[#This Row],[Date]],2)=7, DAY(Tabel1[[#This Row],[Date]])=DAY(EOMONTH(Tabel1[[#This Row],[Date]],0))),SUMIF(Tabel1[Semaine],Tabel1[[#This Row],[Semaine]],Tabel1[Heures supplémentaires]),0) -> 0
A9: =""&WEEKNUM(B9,2) -> 1 | B9: =B8+1 -> 45298 | H9: =IF(OR(D9<>"",G9<>""),MOD(G9-D9-F9-E9,1),"") | I9: =IF($G9>$D9,MEDIAN($G9,Détails!$M$2,Détails!$M$3)-MEDIAN($D9,Détails!$M$2,Détails!$M$3),($G9<$D9)*(Détails!$M$2-Détails!$M$3)+MEDIAN($G9,Détails!$M$3,Détails!$M$2)-MEDIAN($D9,Détails!$M$3,Détails!$M$2))-$E9 -> 0 | J9: =MOD($G9-$D9,1)-($G9<$D9)*(Détails!$M$2-Détails!$M$3)-MEDIAN($G9,Détails!$M$3,Détails!$M$2)+MEDIAN($D9,Détails!$M$3,Détails!$M$2)-$F9 -> 0 | K9: =IF(OR(WEEKDAY(Tabel1[[#This Row],[Date]],2)=7, DAY(Tabel1[[#This Row],[Date]])=DAY(EOMONTH(Tabel1[[#This Row],[Date]],0))),SUMIF(Tabel1[Semaine],Tabel1[[#This Row],[Semaine]],Tabel1[Total Heures]),0) -> 1.625 | L9: {=IFERROR(MAX(0,H9-INDEX(Détails!$E$10:$F$11,1+(WEEKDAY(Tabel1[[#This Row],[Date]],2)=5),MATCH($O$2,Détails!$E$9:$F$9,0))),"-")} -> - | M9: =IF(OR(WEEKDAY(Tabel1[[#This Row],[Date]],2)=7, DAY(Tabel1[[#This Row],[Date]])=DAY(EOMONTH(Tabel1[[#This Row],[Date]],0))),SUMIF(Tabel1[Semaine],Tabel1[[#This Row],[Semaine]],Tabel1[Heures supplémentaires]),0) -> 2.7755576e-16
A10: =""&WEEKNUM(B10,2) -> 2 | B10: =B9+1 -> 45299 | H10: =IF(OR(D10<>"",G10<>""),MOD(G10-D10-F10-E10,1),"") | I10: =IF($G10>$D10,MEDIAN($G10,Détails!$M$2,Détails!$M$3)-MEDIAN($D10,Détails!$M$2,Détails!$M$3),($G10<$D10)*(Détails!$M$2-Détails!$M$3)+MEDIAN($G10,Détails!$M$3,Détails!$M$2)-MEDIAN($D10,Détails!$M$3,Détails!$M$2))-$E10 -> 0 | J10: =MOD($G10-$D10,1)-($G10<$D10)*(Détails!$M$2-Détails!$M$3)-MEDIAN($G10,Détails!$M$3,Détails!$M$2)+MEDIAN($D10,Détails!$M$3,Détails!$M$2)-$F10 -> 0 | K10: =IF(OR(WEEKDAY(Tabel1[[#This Row],[Date]],2)=7, DAY(Tabel1[[#This Row],[Date]])=DAY(EOMONTH(Tabel1[[#This Row],[Date]],0))),SUMIF(Tabel1[Semaine],Tabel1[[#This Row],[Semaine]],Tabel1[Total Heures]),0) -> 0 | L10: {=IFERROR(MAX(0,H10-INDEX(Détails!$E$10:$F$11,1+(WEEKDAY(Tabel1[[#This Row],[Date]],2)=5),MATCH($O$2,Détails!$E$9:$F$9,0))),"-")} -> - | M10: =IF(OR(WEEKDAY(Tabel1[[#This Row],[Date]],2)=7, DAY(Tabel1[[#This Row],[Date]])=DAY(EOMONTH(Tabel1[[#This Row],[Date]],0))),SUMIF(Tabel1[Semaine],Tabel1[[#This Row],[Semaine]],Tabel1[Heures supplémentaires]),0) -> 0
A11: =""&WEEKNUM(B11,2) -> 2 | B11: =B10+1 -> 45300 | H11: =IF(OR(D11<>"",G11<>""),MOD(G11-D11-F11-E11,1),"") | I11: =IF($G11>$D11,MEDIAN($G11,Détails!$M$2,Détails!$M$3)-MEDIAN($D11,Détails!$M$2,Détails!$M$3),($G11<$D11)*(Détails!$M$2-Détails!$M$3)+MEDIAN($G11,Détails!$M$3,Détails!$M$2)-MEDIAN($D11,Détails!$M$3,Détails!$M$2))-$E11 -> 0 | J11: =MOD($G11-$D11,1)-($G11<$D11)*(Détails!$M$2-Détails!$M$3)-MEDIAN($G11,Détails!$M$3,Détails!$M$2)+MEDIAN($D11,Détails!$M$3,Détails!$M$2)-$F11 -> 0 | K11: =IF(OR(WEEKDAY(Tabel1[[#This Row],[Date]],2)=7, DAY(Tabel1[[#This Row],[Date]])=DAY(EOMONTH(Tabel1[[#This Row],[Date]],0))),SUMIF(Tabel1[Semaine],Tabel1[[#This Row],[Semaine]],Tabel1[Total Heures]),0) -> 0 | L11: {=IFERROR(MAX(0,H11-INDEX(Détails!$E$10:$F$11,1+(WEEKDAY(Tabel1[[#This Row],[Date]],2)=5),MATCH($O$2,Détails!$E$9:$F$9,0))),"-")} -> - | M11: =IF(OR(WEEKDAY(Tabel1[[#This Row],[Date]],2)=7, DAY(Tabel1[[#This Row],[Date]])=DAY(EOMONTH(Tabel1[[#This Row],[Date]],0))),SUMIF(Tabel1[Semaine],Tabel1[[#This Row],[Semaine]],Tabel1[Heures supplémentaires]),0) -> 0
A12: =""&WEEKNUM(B12,2) -> 2 | B12: =B11+1 -> 45301 | H12: =IF(OR(D12<>"",G12<>""),MOD(G12-D12-F12-E12,1),"") | I12: =IF($G12>$D12,MEDIAN($G12,Détails!$M$2,Détails!$M$3)-MEDIAN($D12,Détails!$M$2,Détails!$M$3),($G12<$D12)*(Détails!$M$2-Détails!$M$3)+MEDIAN($G12,Détails!$M$3,Détails!$M$2)-MEDIAN($D12,Détails!$M$3,Détails!$M$2))-$E12 -> 0 | J12: =MOD($G12-$D12,1)-($G12<$D12)*(Détails!$M$2-Détails!$M$3)-MEDIAN($G12,Détails!$M$3,Détails!$M$2)+MEDIAN($D12,Détails!$M$3,Détails!$M$2)-$F12 -> 0 | K12: =IF(OR(WEEKDAY(Tabel1[[#This Row],[Date]],2)=7, DAY(Tabel1[[#This Row],[Date]])=DAY(EOMONTH(Tabel1[[#This Row],[Date]],0))),SUMIF(Tabel1[Semaine],Tabel1[[#This Row],[Semaine]],Tabel1[Total Heures]),0) -> 0 | L12: {=IFERROR(MAX(0,H12-INDEX(Détails!$E$10:$F$11,1+(WEEKDAY(Tabel1[[#This Row],[Date]],2)=5),MATCH($O$2,Détails!$E$9:$F$9,0))),"-")} -> - | M12: =IF(OR(WEEKDAY(Tabel1[[#This Row],[Date]],2)=7, DAY(Tabel1[[#This Row],[Date]])=DAY(EOMONTH(Tabel1[[#This Row],[Date]],0))),SUMIF(Tabel1[Semaine],Tabel1[[#This Row],[Semaine]],Tabel1[Heures supplémentaires]),0) -> 0
A13: =""&WEEKNUM(B13,2) -> 2 | B13: =B12+1 -> 45302 | H13: =IF(OR(D13<>"",G13<>""),MOD(G13-D13-F13-E13,1),"") | I13: =IF($G13>$D13,MEDIAN($G13,Détails!$M$2,Détails!$M$3)-MEDIAN($D13,Détails!$M$2,Détails!$M$3),($G13<$D13)*(Détails!$M$2-Détails!$M$3)+MEDIAN($G13,Détails!$M$3,Détails!$M$2)-MEDIAN($D13,Détails!$M$3,Détails!$M$2))-$E13 -> 0 | J13: =MOD($G13-$D13,1)-($G13<$D13)*(Détails!$M$2-Détails!$M$3)-MEDIAN($G13,Détails!$M$3,Détails!$M$2)+MEDIAN($D13,Détails!$M$3,Détails!$M$2)-$F13 -> 0 | K13: =IF(OR(WEEKDAY(Tabel1[[#This Row],[Date]],2)=7, DAY(Tabel1[[#This Row],[Date]])=DAY(EOMONTH(Tabel1[[#This Row],[Date]],0))),SUMIF(Tabel1[Semaine],Tabel1[[#This Row],[Semaine]],Tabel1[Total Heures]),0) -> 0 | L13: {=IFERROR(MAX(0,H13-INDEX(Détails!$E$10:$F$11,1+(WEEKDAY(Tabel1[[#This Row],[Date]],2)=5),MATCH($O$2,Détails!$E$9:$F$9,0))),"-")} -> - | M13: =IF(OR(WEEKDAY(Tabel1[[#This Row],[Date]],2)=7, DAY(Tabel1[[#This Row],[Date]])=DAY(EOMONTH(Tabel1[[#This Row],[Date]],0))),SUMIF(Tabel1[Semaine],Tabel1[[#This Row],[Semaine]],Tabel1[Heures supplémentaires]),0) -> 0
A14: =""&WEEKNUM(B14,2) -> 2 | B14: =B13+1 -> 45303 | H14: =IF(OR(D14<>"",G14<>""),MOD(G14-D14-F14-E14,1),"") | I14: =IF($G14>$D14,MEDIAN($G14,Détails!$M$2,Détails!$M$3)-MEDIAN($D14,Détails!$M$2,Détails!$M$3),($G14<$D14)*(Détails!$M$2-Détails!$M$3)+MEDIAN($G14,Détails!$M$3,Détails!$M$2)-MEDIAN($D14,Détails!$M$3,Détails!$M$2))-$E14 -> 0 | J14: =MOD($G14-$D14,1)-($G14<$D14)*(Détails!$M$2-Détails!$M$3)-MEDIAN($G14,Détails!$M$3,Détails!$M$2)+MEDIAN($D14,Détails!$M$3,Détails!$M$2)-$F14 -> 0 | K14: =IF(OR(WEEKDAY(Tabel1[[#This Row],[Date]],2)=7, DAY(Tabel1[[#This Row],[Date]])=DAY(EOMONTH(Tabel1[[#This Row],[Date]],0))),SUMIF(Tabel1[Semaine],Tabel1[[#This Row],[Semaine]],Tabel1[Total Heures]),0) -> 0 | L14: {=IFERROR(MAX(0,H14-INDEX(Détails!$E$10:$F$11,1+(WEEKDAY(Tabel1[[#This Row],[Date]],2)=5),MATCH($O$2,Détails!$E$9:$F$9,0))),"-")} -> - | M14: =IF(OR(WEEKDAY(Tabel1[[#This Row],[Date]],2)=7, DAY(Tabel1[[#This Row],[Date]])=DAY(EOMONTH(Tabel1[[#This Row],[Date]],0))),SUMIF(Tabel1[Semaine],Tabel1[[#This Row],[Semaine]],Tabel1[Heures supplémentaires]),0) -> 0
A15: =""&WEEKNUM(B15,2) -> 2 | B15: =B14+1 -> 45304 | H15: =IF(OR(D15<>"",G15<>""),MOD(G15-D15-F15-E15,1),"") | I15: =IF($G15>$D15,MEDIAN($G15,Détails!$M$2,Détails!$M$3)-MEDIAN($D15,Détails!$M$2,Détails!$M$3),($G15<$D15)*(Détails!$M$2-Détails!$M$3)+MEDIAN($G15,Détails!$M$3,Détails!$M$2)-MEDIAN($D15,Détails!$M$3,Détails!$M$2))-$E15 -> 0 | J15: =MOD($G15-$D15,1)-($G15<$D15)*(Détails!$M$2-Détails!$M$3)-MEDIAN($G15,Détails!$M$3,Détails!$M$2)+MEDIAN($D15,Détails!$M$3,Détails!$M$2)-$F15 -> 0 | K15: =IF(OR(WEEKDAY(Tabel1[[#This Row],[Date]],2)=7, DAY(Tabel1[[#This Row],[Date]])=DAY(EOMONTH(Tabel1[[#This Row],[Date]],0))),SUMIF(Tabel1[Semaine],Tabel1[[#This Row],[Semaine]],Tabel1[Total Heures]),0) -> 0 | L15: {=IFERROR(MAX(0,H15-INDEX(Détails!$E$10:$F$11,1+(WEEKDAY(Tabel1[[#This Row],[Date]],2)=5),MATCH($O$2,Détails!$E$9:$F$9,0))),"-")} -> - | M15: =IF(OR(WEEKDAY(Tabel1[[#This Row],[Date]],2)=7, DAY(Tabel1[[#This Row],[Date]])=DAY(EOMONTH(Tabel1[[#This Row],[Date]],0))),SUMIF(Tabel1[Semaine],Tabel1[[#This Row],[Semaine]],Tabel1[Heures supplémentaires]),0) -> 0
A16: =""&WEEKNUM(B16,2) -> 2 | B16: =B15+1 -> 45305 | H16: =IF(OR(D16<>"",G16<>""),MOD(G16-D16-F16-E16,1),"") | I16: =IF($G16>$D16,MEDIAN($G16,Détails!$M$2,Détails!$M$3)-MEDIAN($D16,Détails!$M$2,Détails!$M$3),($G16<$D16)*(Détails!$M$2-Détails!$M$3)+MEDIAN($G16,Détails!$M$3,Détails!$M$2)-MEDIAN($D16,Détails!$M$3,Détails!$M$2))-$E16 -> 0 | J16: =MOD($G16-$D16,1)-($G16<$D16)*(Détails!$M$2-Détails!$M$3)-MEDIAN($G16,Détails!$M$3,Détails!$M$2)+MEDIAN($D16,Détails!$M$3,Détails!$M$2)-$F16 -> 0 | K16: =IF(OR(WEEKDAY(Tabel1[[#This Row],[Date]],2)=7, DAY(Tabel1[[#This Row],[Date]])=DAY(EOMONTH(Tabel1[[#This Row],[Date]],0))),SUMIF(Tabel1[Semaine],Tabel1[[#This Row],[Semaine]],Tabel1[Total Heures]),0) -> 0 | L16: {=IFERROR(MAX(0,H16-INDEX(Détails!$E$10:$F$11,1+(WEEKDAY(Tabel1[[#This Row],[Date]],2)=5),MATCH($O$2,Détails!$E$9:$F$9,0))),"-")} -> - | M16: =IF(OR(WEEKDAY(Tabel1[[#This Row],[Date]],2)=7, DAY(Tabel1[[#This Row],[Date]])=DAY(EOMONTH(Tabel1[[#This Row],[Date]],0))),SUMIF(Tabel1[Semaine],Tabel1[[#This Row],[Semaine]],Tabel1[Heures supplémentaires]),0) -> 0
A17: =""&WEEKNUM(B17,2) -> 3 | B17: =B16+1 -> 45306 | H17: =IF(OR(D17<>"",G17<>""),MOD(G17-D17-F17-E17,1),"") | I17: =IF($G17>$D17,MEDIAN($G17,Détails!$M$2,Détails!$M$3)-MEDIAN($D17,Détails!$M$2,Détails!$M$3),($G17<$D17)*(Détails!$M$2-Détails!$M$3)+MEDIAN($G17,Détails!$M$3,Détails!$M$2)-MEDIAN($D17,Détails!$M$3,Détails!$M$2))-$E17 -> 0 | J17: =MOD($G17-$D17,1)-($G17<$D17)*(Détails!$M$2-Détails!$M$3)-MEDIAN($G17,Détails!$M$3,Détails!$M$2)+MEDIAN($D17,Détails!$M$3,Détails!$M$2)-$F17 -> 0 | K17: =IF(OR(WEEKDAY(Tabel1[[#This Row],[Date]],2)=7, DAY(Tabel1[[#This Row],[Date]])=DAY(EOMONTH(Tabel1[[#This Row],[Date]],0))),SUMIF(Tabel1[Semaine],Tabel1[[#This Row],[Semaine]],Tabel1[Total Heures]),0) -> 0 | L17: {=IFERROR(MAX(0,H17-INDEX(Détails!$E$10:$F$11,1+(WEEKDAY(Tabel1[[#This Row],[Date]],2)=5),MATCH($O$2,Détails!$E$9:$F$9,0))),"-")} -> - | M17: =IF(OR(WEEKDAY(Tabel1[[#This Row],[Date]],2)=7, DAY(Tabel1[[#This Row],[Date]])=DAY(EOMONTH(Tabel1[[#This Row],[Date]],0))),SUMIF(Tabel1[Semaine],Tabel1[[#This Row],[Semaine]],Tabel1[Heures supplémentaires]),0) -> 0
A18: =""&WEEKNUM(B18,2) -> 3 | B18: =B17+1 -> 45307 | H18: =IF(OR(D18<>"",G18<>""),MOD(G18-D18-F18-E18,1),"") | I18: =IF($G18>$D18,MEDIAN($G18,Détails!$M$2,Détails!$M$3)-MEDIAN($D18,Détails!$M$2,Détails!$M$3),($G18<$D18)*(Détails!$M$2-Détails!$M$3)+MEDIAN($G18,Détails!$M$3,Détails!$M$2)-MEDIAN($D18,Détails!$M$3,Détails!$M$2))-$E18 -> 0 | J18: =MOD($G18-$D18,1)-($G18<$D18)*(Détails!$M$2-Détails!$M$3)-MEDIAN($G18,Détails!$M$3,Détails!$M$2)+MEDIAN($D18,Détails!$M$3,Détails!$M$2)-$F18 -> 0 | K18: =IF(OR(WEEKDAY(Tabel1[[#This Row],[Date]],2)=7, DAY(Tabel1[[#This Row],[Date]])=DAY(EOMONTH(Tabel1[[#This Row],[Date]],0))),SUMIF(Tabel1[Semaine],Tabel1[[#This Row],[Semaine]],Tabel1[Total Heures]),0) -> 0 | L18: {=IFERROR(MAX(0,H18-INDEX(Détails!$E$10:$F$11,1+(WEEKDAY(Tabel1[[#This Row],[Date]],2)=5),MATCH($O$2,Détails!$E$9:$F$9,0))),"-")} -> - | M18: =IF(OR(WEEKDAY(Tabel1[[#This Row],[Date]],2)=7, DAY(Tabel1[[#This Row],[Date]])=DAY(EOMONTH(Tabel1[[#This Row],[Date]],0))),SUMIF(Tabel1[Semaine],Tabel1[[#This Row],[Semaine]],Tabel1[Heures supplémentaires]),0) -> 0
A19: =""&WEEKNUM(B19,2) -> 3 | B19: =B18+1 -> 45308 | H19: =IF(OR(D19<>"",G19<>""),MOD(G19-D19-F19-E19,1),"") | I19: =IF($G19>$D19,MEDIAN($G19,Détails!$M$2,Détails!$M$3)-MEDIAN($D19,Détails!$M$2,Détails!$M$3),($G19<$D19)*(Détails!$M$2-Détails!$M$3)+MEDIAN($G19,Détails!$M$3,Détails!$M$2)-MEDIAN($D19,Détails!$M$3,Détails!$M$2))-$E19 -> 0 | J19: =MOD($G19-$D19,1)-($G19<$D19)*(Détails!$M$2-Détails!$M$3)-MEDIAN($G19,Détails!$M$3,Détails!$M$2)+MEDIAN($D19,Détails!$M$3,Détails!$M$2)-$F19 -> 0 | K19: =IF(OR(WEEKDAY(Tabel1[[#This Row],[Date]],2)=7, DAY(Tabel1[[#This Row],[Date]])=DAY(EOMONTH(Tabel1[[#This Row],[Date]],0))),SUMIF(Tabel1[Semaine],Tabel1[[#This Row],[Semaine]],Tabel1[Total Heures]),0) -> 0 | L19: {=IFERROR(MAX(0,H19-INDEX(Détails!$E$10:$F$11,1+(WEEKDAY(Tabel1[[#This Row],[Date]],2)=5),MATCH($O$2,Détails!$E$9:$F$9,0))),"-")} -> - | M19: =IF(OR(WEEKDAY(Tabel1[[#This Row],[Date]],2)=7, DAY(Tabel1[[#This Row],[Date]])=DAY(EOMONTH(Tabel1[[#This Row],[Date]],0))),SUMIF(Tabel1[Semaine],Tabel1[[#This Row],[Semaine]],Tabel1[Heures supplémentaires]),0) -> 0
... A33: =""&WEEKNUM(B33,2) -> 5 | B33: =B32+1 -> 45322 | H33: =IF(OR(D33<>"",G33<>""),MOD(G33-D33-F33-E33,1),"") | I33: =IF($G33>$D33,MEDIAN($G33,Détails!$M$2,Détails!$M$3)-MEDIAN($D33,Détails!$M$2,Détails!$M$3),($G33<$D33)*(Détails!$M$2-Détails!$M$3)+MEDIAN($G33,Détails!$M$3,Détails!$M$2)-MEDIAN($D33,Détails!$M$3,Détails!$M$2))-$E33 -> 0 | J33: =MOD($G33-$D33,1)-($G33<$D33)*(Détails!$M$2-Détails!$M$3)-MEDIAN($G33,Détails!$M$3,Détails!$M$2)+MEDIAN($D33,Détails!$M$3,Détails!$M$2)-$F33 -> 0 | K33: =IF(OR(WEEKDAY(Tabel1[[#This Row],[Date]],2)=7, DAY(Tabel1[[#This Row],[Date]])=DAY(EOMONTH(Tabel1[[#This Row],[Date]],0))),SUMIF(Tabel1[Semaine],Tabel1[[#This Row],[Semaine]],Tabel1[Total Heures]),0) -> 0 | L33: {=IFERROR(MAX(0,H33-INDEX(Détails!$E$10:$F$11,1+(WEEKDAY(Tabel1[[#This Row],[Date]],2)=5),MATCH($O$2,Détails!$E$9:$F$9,0))),"-")} -> - | M33: =IF(OR(WEEKDAY(Tabel1[[#This Row],[Date]],2)=7, DAY(Tabel1[[#This Row],[Date]])=DAY(EOMONTH(Tabel1[[#This Row],[Date]],0))),SUMIF(Tabel1[Semaine],Tabel1[[#This Row],[Semaine]],Tabel1[Heures supplémentaires]),0) -> 0

Sheet Février

Sheet Mars

Sheet Avril

Sheet Mai

Sheet Juin

Sheet Juillet

Sheet Août

Sheet Septembre

Sheet Octobre

Sheet Novembre

Sheet Décembre
