Workbook

Sheet Détails
A1: 1 | B1: Jours fériés | E1: Contrat
A2: 2024 | B2: Jour de l'an | C2: =DATE($A$1+2023,1,1) -> 45292 | E2: Journalier | F2: =F4/F3 -> 0.325
A3: =A2+1 -> 2025 | B3: Vendredi saint | C3: =C4-2 -> 45380 | E3: Nombre de jour travaillé | F3: 5
A4: =A3+1 -> 2026 | B4: Pâques | C4: =ROUND(DATE($A$1+2023,4,MOD(234-11*MOD($A$1+2023,19),30))/7,)*7-6 -> 45382 | E4: Hedomadaire | F4: 1.625
A5: =A4+1 -> 2027 | B5: Lundi de Pâques | C5: =C4+1 -> 45383 | E5: Mensuel | F5: =F4*4.33333 -> 7.0416613
A6: =A5+1 -> 2028 | B6: Fête du travail | C6: =DATE($A$1+2023,5,1) -> 45413
A7: =A6+1 -> 2029 | B7: Commémoration de la victoire de 1945 | C7: =DATE($A$1+2023,5,8) -> 45420 | E7: Congés N-1
A8: =A7+1 -> 2030 | B8: Ascension | C8: =C4+39 -> 45421 | E8: Congés
A9: =A8+1 -> 2031 | B9: Pentecôte | C9: =C4+49 -> 45431 | E9: RTT N-1
A10: =A9+1 -> 2032 | B10: Lundi de Pentecôte | C10: =C9+1 -> 45432 | E10: RTT
A11: =A10+1 -> 2033 | B11: Fête Nationale | C11: =DATE($A$1+2023,7,14) -> 45487 | E11: RCN N-1
A12: =A11+1 -> 2034 | B12: Assomption | C12: =DATE($A$1+2023,8,15) -> 45519 | E12: RCN
A13: =A12+1 -> 2035 | B13: Toussaint | C13: =DATE($A$1+2023,11,1) -> 45597
A14: =A13+1 -> 2036 | B14: Commémoration de la victoire de 1918 | C14: =DATE($A$1+2023,11,11) -> 45607
A15: =A14+1 -> 2037 | B15: Noël | C15: =DATE($A$1+2023,12,25) -> 45651
A16: =A15+1 -> 2038 | B16: Saint-Étienne | C16: =C15+1 -> 45652
A17: =A16+1 -> 2039
A18: =A17+1 -> 2040
A19: =A18+1 -> 2041
A20: =A19+1 -> 2042
A21: =A20+1 -> 2043
A22: =A21+1 -> 2044
A23: =A22+1 -> 2045
A24: =A23+1 -> 2046
A25: =A24+1 -> 2047
A26: =A25+1 -> 2048
A27: =A26+1 -> 2049
A28: =A27+1 -> 2050
... A38: =A37+1 -> 2060

Sheet Synthèse
B1: Accident de travail | C1: Arrêt maladie | D1: Congé | E1: En poste | F1: Férié | G1: Repos | H1: Heures en journée | I1: Heures de nuit
A2: Janvier | B2: =Janvier!J1 -> 0 | C2: =Janvier!M2 -> 7 jours | D2: =Janvier!#REF! -> #REF! | E2: =Janvier!#REF! -> #REF! | F2: =Janvier!#REF! -> #REF! | G2: =Janvier!#REF! -> #REF!
A3: Février | B3: =Février!I1 -> 0 | C3: =Février!I2 -> 0 | D3: =Février!#REF! -> #REF! | E3: =Février!#REF! -> #REF! | F3: =Février!#REF! -> #REF! | G3: =Février!#REF! -> #REF!
A4: Mars | B4: =Mars!I1 -> 0 | C4: =Mars!I2 -> 0 | D4: =Mars!I3 -> 0 | E4: =Mars!I4 -> 0 | F4: =Mars!I5 -> 0 | G4: =Mars!I6 -> 0
A5: Avril | B5: =Avril!I1 -> 0 | C5: =Avril!I2 -> 0 | D5: =Avril!I3 -> 0 | E5: =Avril!I4 -> 0 | F5: =Avril!I5 -> 0 | G5: =Avril!I6 -> 0
A6: Mai | B6: =Mai!I1 -> 0 | C6: =Mai!I2 -> 0 | D6: =Mai!I3 -> 0 | E6: =Mai!I4 -> 0 | F6: =Mai!I5 -> 0 | G6: =Mai!I6 -> 0
A7: Juin | B7: =Juin!I1 -> 0 | C7: =Juin!I2 -> 0 | D7: =Juin!I3 -> 0 | E7: =Juin!I4 -> 0 | F7: =Juin!I5 -> 0 | G7: =Juin!I6 -> 0
A8: Juillet | B8: =Juillet!I1 -> 0 | C8: =Juillet!I2 -> 0 | D8: =Juillet!I3 -> 0 | E8: =Juillet!I4 -> 0 | F8: =Juillet!I5 -> 0 | G8: =Juillet!I6 -> 0
A9: Août | B9: =Août!I1 -> 0 | C9: =Août!I2 -> 0 | D9: =Août!I3 -> 0 | E9: =Août!I4 -> 0 | F9: =Août!I5 -> 0 | G9: =Août!I6 -> 0
A10: Septembre | B10: =Septembre!I1 -> 0 | C10: =Septembre!I2 -> 0 | D10: =Septembre!I3 -> 0 | E10: =Septembre!I4 -> 0 | F10: =Septembre!I5 -> 0 | G10: =Septembre!I6 -> 0
A11: Octobre | B11: =Octobre!I1 -> 0 | C11: =Octobre!I2 -> 0 | D11: =Octobre!I3 -> 0 | E11: =Octobre!I4 -> 0 | F11: =Octobre!I5 -> 0 | G11: =Octobre!I6 -> 0
A12: Novembre | B12: =Novembre!I1 -> 0 | C12: =Novembre!I2 -> 0 | D12: =Novembre!I3 -> 0 | E12: =Novembre!I4 -> 0 | F12: =Novembre!I5 -> 0 | G12: =Novembre!I6 -> 0
A13: Décembre | B13: =Décembre!I1 -> 0 | C13: =Décembre!I2 -> 0 | D13: =Décembre!I3 -> 0 | E13: =Décembre!I4 -> 0 | F13: =Décembre!I5 -> 0 | G13: =Décembre!I6 -> 0
A14: Totaux | B14: =SUM(B2:B13) -> 0 | C14: =SUM(C2:C13) -> 0 | D14: =SUM(D2:D13) -> #REF! | E14: =SUM(E2:E13) -> #REF! | F14: =SUM(F2:F13) -> #REF! | G14: =SUM(G2:G13) -> #REF!

Sheet Janvier
A1: 1 | N1: =SUM(N3:N33) -> 3.25 | O1: =SUM(O3:O33) -> 3.25 | P1: =SUM(P3:P33) -> 3.25 | Q1: =SUM(Q3:Q33) -> 3.25
A2: Date | B2: Semaine | C2: Ordre | D2: Ouverture de poste | E2: Pause | F2: Fermeture de poste | G2: -999999999 | H2: Heures de jour | I2: Heures de nuit | J2: Total semaine | K2: Heures supplémentaires | M2: 7 jours | N2: lundi | O2: dernier | P2: premier | Q2: vendredi > jeudi
A3: =DATE(Détails!A1+2023,A1,1) -> 45292 | B3: =""&WEEKNUM(A3,21) -> 1 | C3: Férié | D3: 0.33333333 | E3: 0.041666667 | F3: 0.69791667 | G3: =MOD(F3-D3-E3,1) -> 0.32291667 | J3: =IF(WEEKDAY(A3,2)=7,SUM(OFFSET(G3,-MIN(6,ROW()-3),,MIN(7,ROW()-2),)),0) -> 0 | M3: =SUM(OFFSET(G3,-MIN(6,ROW()-3),,MIN(7,ROW()-2),)) -> 0.32291667 | N3: =IF(WEEKDAY($A3,2)=1,SUM(OFFSET($G3,,,MIN(7,EOMONTH($A3,0)+1-$A3),)),"-") -> 1.625 | O3: =IF($A3=EOMONTH($A3,0),SUM(OFFSET($G3,-DAY($A3)+1,,DAY($A3),)),"-") -> - | P3: =IF(DAY($A3)=1,SUM(OFFSET($G3,,,DAY(EOMONTH($A3,0)),)),"-") -> 3.25 | Q3: =IF(WEEKDAY($A3,2)=5,SUM(OFFSET($G3,,,MIN(7,EOMONTH($A3,0)+1-$A3),)),IF(DAY($A3)=1,SUM(OFFSET($G3,,,WORKDAY.INTL($A3-1,1,"1111011")-$A3,)),"-")) -> 1.3645833
A4: =A3+1 -> 45293 | B4: =""&WEEKNUM(A4,21) -> 1 | C4: En poste | D4: 0.32291667 | E4: 0.034722222 | F4: 0.77430556 | G4: =MOD(F4-D4-E4,1) -> 0.41666667 | J4: =IF(WEEKDAY(A4,2)=7,SUM(OFFSET(G4,-MIN(6,ROW()-3),,MIN(7,ROW()-2),)),0) -> 0 | M4: =SUM(OFFSET(G4,-MIN(6,ROW()-3),,MIN(7,ROW()-2),)) -> 0.73958333 | N4: =IF(WEEKDAY($A4,2)=1,SUM(OFFSET($G4,,,MIN(7,EOMONTH($A4,0)+1-$A4),)),"-") -> - | O4: =IF($A4=EOMONTH($A4,0),SUM(OFFSET($G4,-DAY($A4)+1,,DAY($A4),)),"-") -> - | P4: =IF(DAY($A4)=1,SUM(OFFSET($G4,,,DAY(EOMONTH($A4,0)),)),"-") -> - | Q4: =IF(WEEKDAY($A4,2)=5,SUM(OFFSET($G4,,,MIN(7,EOMONTH($A4,0)+1-$A4),)),IF(DAY($A4)=1,SUM(OFFSET($G4,,,WORKDAY.INTL($A4-1,1,"1111011")-$A4,)),"-")) -> -
A5: =A4+1 -> 45294 | B5: =""&WEEKNUM(A5,21) -> 1 | C5: En poste | D5: 0.32638889 | E5: 0.020833333 | F5: 0.65972222 | G5: =MOD(F5-D5-E5,1) -> 0.3125 | J5: =IF(WEEKDAY(A5,2)=7,SUM(OFFSET(G5,-MIN(6,ROW()-3),,MIN(7,ROW()-2),)),0) -> 0 | M5: =SUM(OFFSET(G5,-MIN(6,ROW()-3),,MIN(7,ROW()-2),)) -> 1.0520833 | N5: =IF(WEEKDAY($A5,2)=1,SUM(OFFSET($G5,,,MIN(7,EOMONTH($A5,0)+1-$A5),)),"-") -> - | O5: =IF($A5=EOMONTH($A5,0),SUM(OFFSET($G5,-DAY($A5)+1,,DAY($A5),)),"-") -> - | P5: =IF(DAY($A5)=1,SUM(OFFSET($G5,,,DAY(EOMONTH($A5,0)),)),"-") -> - | Q5: =IF(WEEKDAY($A5,2)=5,SUM(OFFSET($G5,,,MIN(7,EOMONTH($A5,0)+1-$A5),)),IF(DAY($A5)=1,SUM(OFFSET($G5,,,WORKDAY.INTL($A5-1,1,"1111011")-$A5,)),"-")) -> -
A6: =A5+1 -> 45295 | B6: =""&WEEKNUM(A6,21) -> 1 | C6: En poste | D6: 0.33333333 | E6: 0.020833333 | F6: 0.66666667 | G6: =MOD(F6-D6-E6,1) -> 0.3125 | J6: =IF(WEEKDAY(A6,2)=7,SUM(OFFSET(G6,-MIN(6,ROW()-3),,MIN(7,ROW()-2),)),0) -> 0 | M6: =SUM(OFFSET(G6,-MIN(6,ROW()-3),,MIN(7,ROW()-2),)) -> 1.3645833 | N6: =IF(WEEKDAY($A6,2)=1,SUM(OFFSET($G6,,,MIN(7,EOMONTH($A6,0)+1-$A6),)),"-") -> - | O6: =IF($A6=EOMONTH($A6,0),SUM(OFFSET($G6,-DAY($A6)+1,,DAY($A6),)),"-") -> - | P6: =IF(DAY($A6)=1,SUM(OFFSET($G6,,,DAY(EOMONTH($A6,0)),)),"-") -> - | Q6: =IF(WEEKDAY($A6,2)=5,SUM(OFFSET($G6,,,MIN(7,EOMONTH($A6,0)+1-$A6),)),IF(DAY($A6)=1,SUM(OFFSET($G6,,,WORKDAY.INTL($A6-1,1,"1111011")-$A6,)),"-")) -> -
A7: =A6+1 -> 45296 | B7: =""&WEEKNUM(A7,21) -> 1 | C7: En poste | D7: 0.33333333 | F7: 0.59375 | G7: =MOD(F7-D7-E7,1) -> 0.26041667 | J7: =IF(WEEKDAY(A7,2)=7,SUM(OFFSET(G7,-MIN(6,ROW()-3),,MIN(7,ROW()-2),)),0) -> 0 | M7: =SUM(OFFSET(G7,-MIN(6,ROW()-3),,MIN(7,ROW()-2),)) -> 1.625 | N7: =IF(WEEKDAY($A7,2)=1,SUM(OFFSET($G7,,,MIN(7,EOMONTH($A7,0)+1-$A7),)),"-") -> - | O7: =IF($A7=EOMONTH($A7,0),SUM(OFFSET($G7,-DAY($A7)+1,,DAY($A7),)),"-") -> - | P7: =IF(DAY($A7)=1,SUM(OFFSET($G7,,,DAY(EOMONTH($A7,0)),)),"-") -> - | Q7: =IF(WEEKDAY($A7,2)=5,SUM(OFFSET($G7,,,MIN(7,EOMONTH($A7,0)+1-$A7),)),IF(DAY($A7)=1,SUM(OFFSET($G7,,,WORKDAY.INTL($A7-1,1,"1111011")-$A7,)),"-")) -> 1.625
A8: =A7+1 -> 45297 | B8: =""&WEEKNUM(A8,21) -> 1 | C8: Repos | J8: =IF(WEEKDAY(A8,2)=7,SUM(OFFSET(G8,-MIN(6,ROW()-3),,MIN(7,ROW()-2),)),0) -> 0 | M8: =SUM(OFFSET(G8,-MIN(6,ROW()-3),,MIN(7,ROW()-2),)) -> 1.625 | N8: =IF(WEEKDAY($A8,2)=1,SUM(OFFSET($G8,,,MIN(7,EOMONTH($A8,0)+1-$A8),)),"-") -> - | O8: =IF($A8=EOMONTH($A8,0),SUM(OFFSET($G8,-DAY($A8)+1,,DAY($A8),)),"-") -> - | P8: =IF(DAY($A8)=1,SUM(OFFSET($G8,,,DAY(EOMONTH($A8,0)),)),"-") -> - | Q8: =IF(WEEKDAY($A8,2)=5,SUM(OFFSET($G8,,,MIN(7,EOMONTH($A8,0)+1-$A8),)),IF(DAY($A8)=1,SUM(OFFSET($G8,,,WORKDAY.INTL($A8-1,1,"1111011")-$A8,)),"-")) -> -
A9: =A8+1 -> 45298 | B9: =""&WEEKNUM(A9,21) -> 1 | C9: Repos | J9: =IF(WEEKDAY(A9,2)=7,SUM(OFFSET(G9,-MIN(6,ROW()-3),,MIN(7,ROW()-2),)),0) -> 1.625 | M9: =SUM(OFFSET(G9,-MIN(6,ROW()-3),,MIN(7,ROW()-2),)) -> 1.625 | N9: =IF(WEEKDAY($A9,2)=1,SUM(OFFSET($G9,,,MIN(7,EOMONTH($A9,0)+1-$A9),)),"-") -> - | O9: =IF($A9=EOMONTH($A9,0),SUM(OFFSET($G9,-DAY($A9)+1,,DAY($A9),)),"-") -> - | P9: =IF(DAY($A9)=1,SUM(OFFSET($G9,,,DAY(EOMONTH($A9,0)),)),"-") -> - | Q9: =IF(WEEKDAY($A9,2)=5,SUM(OFFSET($G9,,,MIN(7,EOMONTH($A9,0)+1-$A9),)),IF(DAY($A9)=1,SUM(OFFSET($G9,,,WORKDAY.INTL($A9-1,1,"1111011")-$A9,)),"-")) -> -
A10: =A9+1 -> 45299 | B10: =""&WEEKNUM(A10,21) -> 2 | D10: 0.33333333 | E10: 0.041666667 | F10: 0.69791667 | G10: =MOD(F10-D10-E10,1) -> 0.32291667 | J10: =IF(WEEKDAY(A10,2)=7,SUM(OFFSET(G10,-MIN(6,ROW()-3),,MIN(7,ROW()-2),)),0) -> 0 | M10: =SUM(OFFSET(G10,-MIN(6,ROW()-3),,MIN(7,ROW()-2),)) -> 1.625 | N10: =IF(WEEKDAY($A10,2)=1,SUM(OFFSET($G10,,,MIN(7,EOMONTH($A10,0)+1-$A10),)),"-") -> 1.625 | O10: =IF($A10=EOMONTH($A10,0),SUM(OFFSET($G10,-DAY($A10)+1,,DAY($A10),)),"-") -> - | P10: =IF(DAY($A10)=1,SUM(OFFSET($G10,,,DAY(EOMONTH($A10,0)),)),"-") -> - | Q10: =IF(WEEKDAY($A10,2)=5,SUM(OFFSET($G10,,,MIN(7,EOMONTH($A10,0)+1-$A10),)),IF(DAY($A10)=1,SUM(OFFSET($G10,,,WORKDAY.INTL($A10-1,1,"1111011")-$A10,)),"-")) -> -
A11: =A10+1 -> 45300 | B11: =""&WEEKNUM(A11,21) -> 2 | D11: 0.32291667 | E11: 0.034722222 | F11: 0.77430556 | G11: =MOD(F11-D11-E11,1) -> 0.41666667 | J11: =IF(WEEKDAY(A11,2)=7,SUM(OFFSET(G11,-MIN(6,ROW()-3),,MIN(7,ROW()-2),)),0) -> 0 | M11: =SUM(OFFSET(G11,-MIN(6,ROW()-3),,MIN(7,ROW()-2),)) -> 1.625 | N11: =IF(WEEKDAY($A11,2)=1,SUM(OFFSET($G11,,,MIN(7,EOMONTH($A11,0)+1-$A11),)),"-") -> - | O11: =IF($A11=EOMONTH($A11,0),SUM(OFFSET($G11,-DAY($A11)+1,,DAY($A11),)),"-") -> - | P11: =IF(DAY($A11)=1,SUM(OFFSET($G11,,,DAY(EOMONTH($A11,0)),)),"-") -> - | Q11: =IF(WEEKDAY($A11,2)=5,SUM(OFFSET($G11,,,MIN(7,EOMONTH($A11,0)+1-$A11),)),IF(DAY($A11)=1,SUM(OFFSET($G11,,,WORKDAY.INTL($A11-1,1,"1111011")-$A11,)),"-")) -> -
A12: =A11+1 -> 45301 | B12: =""&WEEKNUM(A12,21) -> 2 | D12: 0.32638889 | E12: 0.020833333 | F12: 0.65972222 | G12: =MOD(F12-D12-E12,1) -> 0.3125 | J12: =IF(WEEKDAY(A12,2)=7,SUM(OFFSET(G12,-MIN(6,ROW()-3),,MIN(7,ROW()-2),)),0) -> 0 | M12: =SUM(OFFSET(G12,-MIN(6,ROW()-3),,MIN(7,ROW()-2),)) -> 1.625 | N12: =IF(WEEKDAY($A12,2)=1,SUM(OFFSET($G12,,,MIN(7,EOMONTH($A12,0)+1-$A12),)),"-") -> - | O12: =IF($A12=EOMONTH($A12,0),SUM(OFFSET($G12,-DAY($A12)+1,,DAY($A12),)),"-") -> - | P12: =IF(DAY($A12)=1,SUM(OFFSET($G12,,,DAY(EOMONTH($A12,0)),)),"-") -> - | Q12: =IF(WEEKDAY($A12,2)=5,SUM(OFFSET($G12,,,MIN(7,EOMONTH($A12,0)+1-$A12),)),IF(DAY($A12)=1,SUM(OFFSET($G12,,,WORKDAY.INTL($A12-1,1,"1111011")-$A12,)),"-")) -> -
A13: =A12+1 -> 45302 | B13: =""&WEEKNUM(A13,21) -> 2 | D13: 0.33333333 | E13: 0.020833333 | F13: 0.66666667 | G13: =MOD(F13-D13-E13,1) -> 0.3125 | J13: =IF(WEEKDAY(A13,2)=7,SUM(OFFSET(G13,-MIN(6,ROW()-3),,MIN(7,ROW()-2),)),0) -> 0 | M13: =SUM(OFFSET(G13,-MIN(6,ROW()-3),,MIN(7,ROW()-2),)) -> 1.625 | N13: =IF(WEEKDAY($A13,2)=1,SUM(OFFSET($G13,,,MIN(7,EOMONTH($A13,0)+1-$A13),)),"-") -> - | O13: =IF($A13=EOMONTH($A13,0),SUM(OFFSET($G13,-DAY($A13)+1,,DAY($A13),)),"-") -> - | P13: =IF(DAY($A13)=1,SUM(OFFSET($G13,,,DAY(EOMONTH($A13,0)),)),"-") -> - | Q13: =IF(WEEKDAY($A13,2)=5,SUM(OFFSET($G13,,,MIN(7,EOMONTH($A13,0)+1-$A13),)),IF(DAY($A13)=1,SUM(OFFSET($G13,,,WORKDAY.INTL($A13-1,1,"1111011")-$A13,)),"-")) -> -
A14: =A13+1 -> 45303 | B14: =""&WEEKNUM(A14,21) -> 2 | D14: 0.33333333 | F14: 0.59375 | G14: =MOD(F14-D14-E14,1) -> 0.26041667 | J14: =IF(WEEKDAY(A14,2)=7,SUM(OFFSET(G14,-MIN(6,ROW()-3),,MIN(7,ROW()-2),)),0) -> 0 | M14: =SUM(OFFSET(G14,-MIN(6,ROW()-3),,MIN(7,ROW()-2),)) -> 1.625 | N14: =IF(WEEKDAY($A14,2)=1,SUM(OFFSET($G14,,,MIN(7,EOMONTH($A14,0)+1-$A14),)),"-") -> - | O14: =IF($A14=EOMONTH($A14,0),SUM(OFFSET($G14,-DAY($A14)+1,,DAY($A14),)),"-") -> - | P14: =IF(DAY($A14)=1,SUM(OFFSET($G14,,,DAY(EOMONTH($A14,0)),)),"-") -> - | Q14: =IF(WEEKDAY($A14,2)=5,SUM(OFFSET($G14,,,MIN(7,EOMONTH($A14,0)+1-$A14),)),IF(DAY($A14)=1,SUM(OFFSET($G14,,,WORKDAY.INTL($A14-1,1,"1111011")-$A14,)),"-")) -> 0.26041667
A15: =A14+1 -> 45304 | B15: =""&WEEKNUM(A15,21) -> 2 | C15: Repos | J15: =IF(WEEKDAY(A15,2)=7,SUM(OFFSET(G15,-MIN(6,ROW()-3),,MIN(7,ROW()-2),)),0) -> 0 | M15: =SUM(OFFSET(G15,-MIN(6,ROW()-3),,MIN(7,ROW()-2),)) -> 1.625 | N15: =IF(WEEKDAY($A15,2)=1,SUM(OFFSET($G15,,,MIN(7,EOMONTH($A15,0)+1-$A15),)),"-") -> - | O15: =IF($A15=EOMONTH($A15,0),SUM(OFFSET($G15,-DAY($A15)+1,,DAY($A15),)),"-") -> - | P15: =IF(DAY($A15)=1,SUM(OFFSET($G15,,,DAY(EOMONTH($A15,0)),)),"-") -> - | Q15: =IF(WEEKDAY($A15,2)=5,SUM(OFFSET($G15,,,MIN(7,EOMONTH($A15,0)+1-$A15),)),IF(DAY($A15)=1,SUM(OFFSET($G15,,,WORKDAY.INTL($A15-1,1,"1111011")-$A15,)),"-")) -> -
A16: =A15+1 -> 45305 | B16: =""&WEEKNUM(A16,21) -> 2 | C16: Repos | J16: =IF(WEEKDAY(A16,2)=7,SUM(OFFSET(G16,-MIN(6,ROW()-3),,MIN(7,ROW()-2),)),0) -> 1.625 | M16: =SUM(OFFSET(G16,-MIN(6,ROW()-3),,MIN(7,ROW()-2),)) -> 1.625 | N16: =IF(WEEKDAY($A16,2)=1,SUM(OFFSET($G16,,,MIN(7,EOMONTH($A16,0)+1-$A16),)),"-") -> - | O16: =IF($A16=EOMONTH($A16,0),SUM(OFFSET($G16,-DAY($A16)+1,,DAY($A16),)),"-") -> - | P16: =IF(DAY($A16)=1,SUM(OFFSET($G16,,,DAY(EOMONTH($A16,0)),)),"-") -> - | Q16: =IF(WEEKDAY($A16,2)=5,SUM(OFFSET($G16,,,MIN(7,EOMONTH($A16,0)+1-$A16),)),IF(DAY($A16)=1,SUM(OFFSET($G16,,,WORKDAY.INTL($A16-1,1,"1111011")-$A16,)),"-")) -> -
A17: =A16+1 -> 45306 | B17: =""&WEEKNUM(A17,21) -> 3 | C17: Arrêt maladie | J17: =IF(WEEKDAY(A17,2)=7,SUM(OFFSET(G17,-MIN(6,ROW()-3),,MIN(7,ROW()-2),)),0) -> 0 | M17: =SUM(OFFSET(G17,-MIN(6,ROW()-3),,MIN(7,ROW()-2),)) -> 1.3020833 | N17: =IF(WEEKDAY($A17,2)=1,SUM(OFFSET($G17,,,MIN(7,EOMONTH($A17,0)+1-$A17),)),"-") -> 0 | O17: =IF($A17=EOMONTH($A17,0),SUM(OFFSET($G17,-DAY($A17)+1,,DAY($A17),)),"-") -> - | P17: =IF(DAY($A17)=1,SUM(OFFSET($G17,,,DAY(EOMONTH($A17,0)),)),"-") -> - | Q17: =IF(WEEKDAY($A17,2)=5,SUM(OFFSET($G17,,,MIN(7,EOMONTH($A17,0)+1-$A17),)),IF(DAY($A17)=1,SUM(OFFSET($G17,,,WORKDAY.INTL($A17-1,1,"1111011")-$A17,)),"-")) -> -
A18: =A17+1 -> 45307 | B18: =""&WEEKNUM(A18,21) -> 3 | C18: Arrêt maladie | J18: =IF(WEEKDAY(A18,2)=7,SUM(OFFSET(G18,-MIN(6,ROW()-3),,MIN(7,ROW()-2),)),0) -> 0 | M18: =SUM(OFFSET(G18,-MIN(6,ROW()-3),,MIN(7,ROW()-2),)) -> 0.88541667 | N18: =IF(WEEKDAY($A18,2)=1,SUM(OFFSET($G18,,,MIN(7,EOMONTH($A18,0)+1-$A18),)),"-") -> - | O18: =IF($A18=EOMONTH($A18,0),SUM(OFFSET($G18,-DAY($A18)+1,,DAY($A18),)),"-") -> - | P18: =IF(DAY($A18)=1,SUM(OFFSET($G18,,,DAY(EOMONTH($A18,0)),)),"-") -> - | Q18: =IF(WEEKDAY($A18,2)=5,SUM(OFFSET($G18,,,MIN(7,EOMONTH($A18,0)+1-$A18),)),IF(DAY($A18)=1,SUM(OFFSET($G18,,,WORKDAY.INTL($A18-1,1,"1111011")-$A18,)),"-")) -> -
A19: =A18+1 -> 45308 | B19: =""&WEEKNUM(A19,21) -> 3 | C19: Congé | J19: =IF(WEEKDAY(A19,2)=7,SUM(OFFSET(G19,-MIN(6,ROW()-3),,MIN(7,ROW()-2),)),0) -> 0 | M19: =SUM(OFFSET(G19,-MIN(6,ROW()-3),,MIN(7,ROW()-2),)) -> 0.57291667 | N19: =IF(WEEKDAY($A19,2)=1,SUM(OFFSET($G19,,,MIN(7,EOMONTH($A19,0)+1-$A19),)),"-") -> - | O19: =IF($A19=EOMONTH($A19,0),SUM(OFFSET($G19,-DAY($A19)+1,,DAY($A19),)),"-") -> - | P19: =IF(DAY($A19)=1,SUM(OFFSET($G19,,,DAY(EOMONTH($A19,0)),)),"-") -> - | Q19: =IF(WEEKDAY($A19,2)=5,SUM(OFFSET($G19,,,MIN(7,EOMONTH($A19,0)+1-$A19),)),IF(DAY($A19)=1,SUM(OFFSET($G19,,,WORKDAY.INTL($A19-1,1,"1111011")-$A19,)),"-")) -> -
A20: =A19+1 -> 45309 | B20: =""&WEEKNUM(A20,21) -> 3 | J20: =IF(WEEKDAY(A20,2)=7,SUM(OFFSET(G20,-MIN(6,ROW()-3),,MIN(7,ROW()-2),)),0) -> 0 | M20: =SUM(OFFSET(G20,-MIN(6,ROW()-3),,MIN(7,ROW()-2),)) -> 0.26041667 | N20: =IF(WEEKDAY($A20,2)=1,SUM(OFFSET($G20,,,MIN(7,EOMONTH($A20,0)+1-$A20),)),"-") -> - | O20: =IF($A20=EOMONTH($A20,0),SUM(OFFSET($G20,-DAY($A20)+1,,DAY($A20),)),"-") -> - | P20: =IF(DAY($A20)=1,SUM(OFFSET($G20,,,DAY(EOMONTH($A20,0)),)),"-") -> - | Q20: =IF(WEEKDAY($A20,2)=5,SUM(OFFSET($G20,,,MIN(7,EOMONTH($A20,0)+1-$A20),)),IF(DAY($A20)=1,SUM(OFFSET($G20,,,WORKDAY.INTL($A20-1,1,"1111011")-$A20,)),"-")) -> -
A21: =A20+1 -> 45310 | B21: =""&WEEKNUM(A21,21) -> 3 | J21: =IF(WEEKDAY(A21,2)=7,SUM(OFFSET(G21,-MIN(6,ROW()-3),,MIN(7,ROW()-2),)),0) -> 0 | M21: =SUM(OFFSET(G21,-MIN(6,ROW()-3),,MIN(7,ROW()-2),)) -> 0 | N21: =IF(WEEKDAY($A21,2)=1,SUM(OFFSET($G21,,,MIN(7,EOMONTH($A21,0)+1-$A21),)),"-") -> - | O21: =IF($A21=EOMONTH($A21,0),SUM(OFFSET($G21,-DAY($A21)+1,,DAY($A21),)),"-") -> - | P21: =IF(DAY($A21)=1,SUM(OFFSET($G21,,,DAY(EOMONTH($A21,0)),)),"-") -> - | Q21: =IF(WEEKDAY($A21,2)=5,SUM(OFFSET($G21,,,MIN(7,EOMONTH($A21,0)+1-$A21),)),IF(DAY($A21)=1,SUM(OFFSET($G21,,,WORKDAY.INTL($A21-1,1,"1111011")-$A21,)),"-")) -> 0
A22: =A21+1 -> 45311 | B22: =""&WEEKNUM(A22,21) -> 3 | J22: =IF(WEEKDAY(A22,2)=7,SUM(OFFSET(G22,-MIN(6,ROW()-3),,MIN(7,ROW()-2),)),0) -> 0 | M22: =SUM(OFFSET(G22,-MIN(6,ROW()-3),,MIN(7,ROW()-2),)) -> 0 | N22: =IF(WEEKDAY($A22,2)=1,SUM(OFFSET($G22,,,MIN(7,EOMONTH($A22,0)+1-$A22),)),"-") -> - | O22: =IF($A22=EOMONTH($A22,0),SUM(OFFSET($G22,-DAY($A22)+1,,DAY($A22),)),"-") -> - | P22: =IF(DAY($A22)=1,SUM(OFFSET($G22,,,DAY(EOMONTH($A22,0)),)),"-") -> - | Q22: =IF(WEEKDAY($A22,2)=5,SUM(OFFSET($G22,,,MIN(7,EOMONTH($A22,0)+1-$A22),)),IF(DAY($A22)=1,SUM(OFFSET($G22,,,WORKDAY.INTL($A22-1,1,"1111011")-$A22,)),"-")) -> -
A23: =A22+1 -> 45312 | B23: =""&WEEKNUM(A23,21) -> 3 | J23: =IF(WEEKDAY(A23,2)=7,SUM(OFFSET(G23,-MIN(6,ROW()-3),,MIN(7,ROW()-2),)),0) -> 0 | M23: =SUM(OFFSET(G23,-MIN(6,ROW()-3),,MIN(7,ROW()-2),)) -> 0 | N23: =IF(WEEKDAY($A23,2)=1,SUM(OFFSET($G23,,,MIN(7,EOMONTH($A23,0)+1-$A23),)),"-") -> - | O23: =IF($A23=EOMONTH($A23,0),SUM(OFFSET($G23,-DAY($A23)+1,,DAY($A23),)),"-") -> - | P23: =IF(DAY($A23)=1,SUM(OFFSET($G23,,,DAY(EOMONTH($A23,0)),)),"-") -> - | Q23: =IF(WEEKDAY($A23,2)=5,SUM(OFFSET($G23,,,MIN(7,EOMONTH($A23,0)+1-$A23),)),IF(DAY($A23)=1,SUM(OFFSET($G23,,,WORKDAY.INTL($A23-1,1,"1111011")-$A23,)),"-")) -> -
A24: =A23+1 -> 45313 | B24: =""&WEEKNUM(A24,21) -> 4 | J24: =IF(WEEKDAY(A24,2)=7,SUM(OFFSET(G24,-MIN(6,ROW()-3),,MIN(7,ROW()-2),)),0) -> 0 | M24: =SUM(OFFSET(G24,-MIN(6,ROW()-3),,MIN(7,ROW()-2),)) -> 0 | N24: =IF(WEEKDAY($A24,2)=1,SUM(OFFSET($G24,,,MIN(7,EOMONTH($A24,0)+1-$A24),)),"-") -> 0 | O24: =IF($A24=EOMONTH($A24,0),SUM(OFFSET($G24,-DAY($A24)+1,,DAY($A24),)),"-") -> - | P24: =IF(DAY($A24)=1,SUM(OFFSET($G24,,,DAY(EOMONTH($A24,0)),)),"-") -> - | Q24: =IF(WEEKDAY($A24,2)=5,SUM(OFFSET($G24,,,MIN(7,EOMONTH($A24,0)+1-$A24),)),IF(DAY($A24)=1,SUM(OFFSET($G24,,,WORKDAY.INTL($A24-1,1,"1111011")-$A24,)),"-")) -> -
A25: =A24+1 -> 45314 | B25: =""&WEEKNUM(A25,21) -> 4 | J25: =IF(WEEKDAY(A25,2)=7,SUM(OFFSET(G25,-MIN(6,ROW()-3),,MIN(7,ROW()-2),)),0) -> 0 | M25: =SUM(OFFSET(G25,-MIN(6,ROW()-3),,MIN(7,ROW()-2),)) -> 0 | N25: =IF(WEEKDAY($A25,2)=1,SUM(OFFSET($G25,,,MIN(7,EOMONTH($A25,0)+1-$A25),)),"-") -> - | O25: =IF($A25=EOMONTH($A25,0),SUM(OFFSET($G25,-DAY($A25)+1,,DAY($A25),)),"-") -> - | P25: =IF(DAY($A25)=1,SUM(OFFSET($G25,,,DAY(EOMONTH($A25,0)),)),"-") -> - | Q25: =IF(WEEKDAY($A25,2)=5,SUM(OFFSET($G25,,,MIN(7,EOMONTH($A25,0)+1-$A25),)),IF(DAY($A25)=1,SUM(OFFSET($G25,,,WORKDAY.INTL($A25-1,1,"1111011")-$A25,)),"-")) -> -
A26: =A25+1 -> 45315 | B26: =""&WEEKNUM(A26,21) -> 4 | J26: =IF(WEEKDAY(A26,2)=7,SUM(OFFSET(G26,-MIN(6,ROW()-3),,MIN(7,ROW()-2),)),0) -> 0 | M26: =SUM(OFFSET(G26,-MIN(6,ROW()-3),,MIN(7,ROW()-2),)) -> 0 | N26: =IF(WEEKDAY($A26,2)=1,SUM(OFFSET($G26,,,MIN(7,EOMONTH($A26,0)+1-$A26),)),"-") -> - | O26: =IF($A26=EOMONTH($A26,0),SUM(OFFSET($G26,-DAY($A26)+1,,DAY($A26),)),"-") -> - | P26: =IF(DAY($A26)=1,SUM(OFFSET($G26,,,DAY(EOMONTH($A26,0)),)),"-") -> - | Q26: =IF(WEEKDAY($A26,2)=5,SUM(OFFSET($G26,,,MIN(7,EOMONTH($A26,0)+1-$A26),)),IF(DAY($A26)=1,SUM(OFFSET($G26,,,WORKDAY.INTL($A26-1,1,"1111011")-$A26,)),"-")) -> -
A27: =A26+1 -> 45316 | B27: =""&WEEKNUM(A27,21) -> 4 | J27: =IF(WEEKDAY(A27,2)=7,SUM(OFFSET(G27,-MIN(6,ROW()-3),,MIN(7,ROW()-2),)),0) -> 0 | M27: =SUM(OFFSET(G27,-MIN(6,ROW()-3),,MIN(7,ROW()-2),)) -> 0 | N27: =IF(WEEKDAY($A27,2)=1,SUM(OFFSET($G27,,,MIN(7,EOMONTH($A27,0)+1-$A27),)),"-") -> - | O27: =IF($A27=EOMONTH($A27,0),SUM(OFFSET($G27,-DAY($A27)+1,,DAY($A27),)),"-") -> - | P27: =IF(DAY($A27)=1,SUM(OFFSET($G27,,,DAY(EOMONTH($A27,0)),)),"-") -> - | Q27: =IF(WEEKDAY($A27,2)=5,SUM(OFFSET($G27,,,MIN(7,EOMONTH($A27,0)+1-$A27),)),IF(DAY($A27)=1,SUM(OFFSET($G27,,,WORKDAY.INTL($A27-1,1,"1111011")-$A27,)),"-")) -> -
A28: =A27+1 -> 45317 | B28: =""&WEEKNUM(A28,21) -> 4 | J28: =IF(WEEKDAY(A28,2)=7,SUM(OFFSET(G28,-MIN(6,ROW()-3),,MIN(7,ROW()-2),)),0) -> 0 | M28: =SUM(OFFSET(G28,-MIN(6,ROW()-3),,MIN(7,ROW()-2),)) -> 0 | N28: =IF(WEEKDAY($A28,2)=1,SUM(OFFSET($G28,,,MIN(7,EOMONTH($A28,0)+1-$A28),)),"-") -> - | O28: =IF($A28=EOMONTH($A28,0),SUM(OFFSET($G28,-DAY($A28)+1,,DAY($A28),)),"-") -> - | P28: =IF(DAY($A28)=1,SUM(OFFSET($G28,,,DAY(EOMONTH($A28,0)),)),"-") -> - | Q28: =IF(WEEKDAY($A28,2)=5,SUM(OFFSET($G28,,,MIN(7,EOMONTH($A28,0)+1-$A28),)),IF(DAY($A28)=1,SUM(OFFSET($G28,,,WORKDAY.INTL($A28-1,1,"1111011")-$A28,)),"-")) -> 0
A29: =A28+1 -> 45318 | B29: =""&WEEKNUM(A29,21) -> 4 | J29: =IF(WEEKDAY(A29,2)=7,SUM(OFFSET(G29,-MIN(6,ROW()-3),,MIN(7,ROW()-2),)),0) -> 0 | M29: =SUM(OFFSET(G29,-MIN(6,ROW()-3),,MIN(7,ROW()-2),)) -> 0 | N29: =IF(WEEKDAY($A29,2)=1,SUM(OFFSET($G29,,,MIN(7,EOMONTH($A29,0)+1-$A29),)),"-") -> - | O29: =IF($A29=EOMONTH($A29,0),SUM(OFFSET($G29,-DAY($A29)+1,,DAY($A29),)),"-") -> - | P29: =IF(DAY($A29)=1,SUM(OFFSET($G29,,,DAY(EOMONTH($A29,0)),)),"-") -> - | Q29: =IF(WEEKDAY($A29,2)=5,SUM(OFFSET($G29,,,MIN(7,EOMONTH($A29,0)+1-$A29),)),IF(DAY($A29)=1,SUM(OFFSET($G29,,,WORKDAY.INTL($A29-1,1,"1111011")-$A29,)),"-")) -> -
A30: =A29+1 -> 45319 | B30: =""&WEEKNUM(A30,21) -> 4 | J30: =IF(WEEKDAY(A30,2)=7,SUM(OFFSET(G30,-MIN(6,ROW()-3),,MIN(7,ROW()-2),)),0) -> 0 | M30: =SUM(OFFSET(G30,-MIN(6,ROW()-3),,MIN(7,ROW()-2),)) -> 0 | N30: =IF(WEEKDAY($A30,2)=1,SUM(OFFSET($G30,,,MIN(7,EOMONTH($A30,0)+1-$A30),)),"-") -> - | O30: =IF($A30=EOMONTH($A30,0),SUM(OFFSET($G30,-DAY($A30)+1,,DAY($A30),)),"-") -> - | P30: =IF(DAY($A30)=1,SUM(OFFSET($G30,,,DAY(EOMONTH($A30,0)),)),"-") -> - | Q30: =IF(WEEKDAY($A30,2)=5,SUM(OFFSET($G30,,,MIN(7,EOMONTH($A30,0)+1-$A30),)),IF(DAY($A30)=1,SUM(OFFSET($G30,,,WORKDAY.INTL($A30-1,1,"1111011")-$A30,)),"-")) -> -
A31: =A30+1 -> 45320 | B31: =""&WEEKNUM(A31,21) -> 5 | J31: =IF(WEEKDAY(A31,2)=7,SUM(OFFSET(G31,-MIN(6,ROW()-3),,MIN(7,ROW()-2),)),0) -> 0 | M31: =SUM(OFFSET(G31,-MIN(6,ROW()-3),,MIN(7,ROW()-2),)) -> 0 | N31: =IF(WEEKDAY($A31,2)=1,SUM(OFFSET($G31,,,MIN(7,EOMONTH($A31,0)+1-$A31),)),"-") -> 0 | O31: =IF($A31=EOMONTH($A31,0),SUM(OFFSET($G31,-DAY($A31)+1,,DAY($A31),)),"-") -> - | P31: =IF(DAY($A31)=1,SUM(OFFSET($G31,,,DAY(EOMONTH($A31,0)),)),"-") -> - | Q31: =IF(WEEKDAY($A31,2)=5,SUM(OFFSET($G31,,,MIN(7,EOMONTH($A31,0)+1-$A31),)),IF(DAY($A31)=1,SUM(OFFSET($G31,,,WORKDAY.INTL($A31-1,1,"1111011")-$A31,)),"-")) -> -
... A33: =A32+1 -> 45322 | B33: =""&WEEKNUM(A33,21) -> 5 | J33: =IF(WEEKDAY(A33,2)=7,SUM(OFFSET(G33,-MIN(6,ROW()-3),,MIN(7,ROW()-2),)),0) -> 0 | M33: =SUM(OFFSET(G33,-MIN(6,ROW()-3),,MIN(7,ROW()-2),)) -> 0 | N33: =IF(WEEKDAY($A33,2)=1,SUM(OFFSET($G33,,,MIN(7,EOMONTH($A33,0)+1-$A33),)),"-") -> - | O33: =IF($A33=EOMONTH($A33,0),SUM(OFFSET($G33,-DAY($A33)+1,,DAY($A33),)),"-") -> 3.25 | P33: =IF(DAY($A33)=1,SUM(OFFSET($G33,,,DAY(EOMONTH($A33,0)),)),"-") -> - | Q33: =IF(WEEKDAY($A33,2)=5,SUM(OFFSET($G33,,,MIN(7,EOMONTH($A33,0)+1-$A33),)),IF(DAY($A33)=1,SUM(OFFSET($G33,,,WORKDAY.INTL($A33-1,1,"1111011")-$A33,)),"-")) -> -
G34: -999999

Sheet Février

Sheet Mars

Sheet Avril

Sheet Mai

Sheet Juin

Sheet Juillet

Sheet Août

Sheet Septembre

Sheet Octobre

Sheet Novembre

Sheet Décembre
