Workbook

Sheet Blad1
A1: Calcul heures de travail
B4: A définir une fois pour toutes :
B5: Date de début du calendrier : | C5: 45170
B6: Date de fin du calendrier : | C6: 45657 | L6: =DAY(#REF!)&"-"&MONTH(#REF!) -> #REF! | M6: =DAY(#REF!)&"-"&MONTH(#REF!) -> #REF! | N6: =DAY(#REF!)&"-"&MONTH(#REF!) -> #REF! | O6: =DAY(#REF!)&"-"&MONTH(#REF!) -> #REF! | P6: =DAY(#REF!)&"-"&MONTH(#REF!) -> #REF! | Q6: =DAY(#REF!)&"-"&MONTH(#REF!) -> #REF! | R6: =DAY(#REF!)&"-"&MONTH(#REF!) -> #REF! | S6: =DAY(#REF!)&"-"&MONTH(#REF!) -> #REF! | ... X6: =DAY(#REF!)&"-"&MONTH(#REF!) -> #REF!
I7: automatique
E8: Temps de travail matin | G8: Temps de travail après-midi
C9: ISO semaine | D9: date | E9: Heure début | F9: Heure fin | G9: Heure début2 | H9: Heure fin3 | I9: Total heures travaillées par jour | J9: Cumul heures travaillées semaine
C10: =YEAR(D10-WEEKDAY(D10,2)+4)&TEXT( _xlfn.ISOWEEKNUM(D10),"-00") -> 2023-35 | D10: =IF(ROW()-ROW(Tabel1[[#Headers],[date]])=1,C5,D9+1) -> 45170 | I10: =IF(COUNT(Tabel1[[#This Row],[Heure début]:[Heure fin]])=2,Tabel1[[#This Row],[Heure fin]]-Tabel1[[#This Row],[Heure début]],0)+IF(COUNT(Tabel1[[#This Row],[Heure début2]:[Heure fin3]])=2,Tabel1[[#This Row],[Heure fin3]]-Tabel1[[#This Row],[Heure début2]],0) -> 0 | J10: =IF(WEEKDAY(Tabel1[[#This Row],[date]],2)=7,SUMIF(Tabel1[ISO semaine],Tabel1[[#This Row],[ISO semaine]],Tabel1[Total heures travaillées par jour]),"")
C11: =YEAR(D11-WEEKDAY(D11,2)+4)&TEXT( _xlfn.ISOWEEKNUM(D11),"-00") -> 2023-35 | D11: =IF(ROW()-ROW(Tabel1[[#Headers],[date]])=1,C6,D10+1) -> 45171 | I11: =IF(COUNT(Tabel1[[#This Row],[Heure début]:[Heure fin]])=2,Tabel1[[#This Row],[Heure fin]]-Tabel1[[#This Row],[Heure début]],0)+IF(COUNT(Tabel1[[#This Row],[Heure début2]:[Heure fin3]])=2,Tabel1[[#This Row],[Heure fin3]]-Tabel1[[#This Row],[Heure début2]],0) -> 0 | J11: =IF(WEEKDAY(Tabel1[[#This Row],[date]],2)=7,SUMIF(Tabel1[ISO semaine],Tabel1[[#This Row],[ISO semaine]],Tabel1[Total heures travaillées par jour]),"")
C12: =YEAR(D12-WEEKDAY(D12,2)+4)&TEXT( _xlfn.ISOWEEKNUM(D12),"-00") -> 2023-35 | D12: =IF(ROW()-ROW(Tabel1[[#Headers],[date]])=1,D7,D11+1) -> 45172 | I12: =IF(COUNT(Tabel1[[#This Row],[Heure début]:[Heure fin]])=2,Tabel1[[#This Row],[Heure fin]]-Tabel1[[#This Row],[Heure début]],0)+IF(COUNT(Tabel1[[#This Row],[Heure début2]:[Heure fin3]])=2,Tabel1[[#This Row],[Heure fin3]]-Tabel1[[#This Row],[Heure début2]],0) -> 0 | J12: =IF(WEEKDAY(Tabel1[[#This Row],[date]],2)=7,SUMIF(Tabel1[ISO semaine],Tabel1[[#This Row],[ISO semaine]],Tabel1[Total heures travaillées par jour]),"") -> 0
C13: =YEAR(D13-WEEKDAY(D13,2)+4)&TEXT( _xlfn.ISOWEEKNUM(D13),"-00") -> 2023-36 | D13: =IF(ROW()-ROW(Tabel1[[#Headers],[date]])=1,D8,D12+1) -> 45173 | E13: 0.33333333 | F13: 0.5 | G13: 0.5625 | H13: 0.70833333 | I13: =IF(COUNT(Tabel1[[#This Row],[Heure début]:[Heure fin]])=2,Tabel1[[#This Row],[Heure fin]]-Tabel1[[#This Row],[Heure début]],0)+IF(COUNT(Tabel1[[#This Row],[Heure début2]:[Heure fin3]])=2,Tabel1[[#This Row],[Heure fin3]]-Tabel1[[#This Row],[Heure début2]],0) -> 0.3125 | J13: =IF(WEEKDAY(Tabel1[[#This Row],[date]],2)=7,SUMIF(Tabel1[ISO semaine],Tabel1[[#This Row],[ISO semaine]],Tabel1[Total heures travaillées par jour]),"")
C14: =YEAR(D14-WEEKDAY(D14,2)+4)&TEXT( _xlfn.ISOWEEKNUM(D14),"-00") -> 2023-36 | D14: =IF(ROW()-ROW(Tabel1[[#Headers],[date]])=1,D9,D13+1) -> 45174 | E14: 0.33333333 | F14: 0.5 | G14: 0.5625 | H14: 0.70833333 | I14: =IF(COUNT(Tabel1[[#This Row],[Heure début]:[Heure fin]])=2,Tabel1[[#This Row],[Heure fin]]-Tabel1[[#This Row],[Heure début]],0)+IF(COUNT(Tabel1[[#This Row],[Heure début2]:[Heure fin3]])=2,Tabel1[[#This Row],[Heure fin3]]-Tabel1[[#This Row],[Heure début2]],0) -> 0.3125 | J14: =IF(WEEKDAY(Tabel1[[#This Row],[date]],2)=7,SUMIF(Tabel1[ISO semaine],Tabel1[[#This Row],[ISO semaine]],Tabel1[Total heures travaillées par jour]),"")
C15: =YEAR(D15-WEEKDAY(D15,2)+4)&TEXT( _xlfn.ISOWEEKNUM(D15),"-00") -> 2023-36 | D15: =IF(ROW()-ROW(Tabel1[[#Headers],[date]])=1,D10,D14+1) -> 45175 | I15: =IF(COUNT(Tabel1[[#This Row],[Heure début]:[Heure fin]])=2,Tabel1[[#This Row],[Heure fin]]-Tabel1[[#This Row],[Heure début]],0)+IF(COUNT(Tabel1[[#This Row],[Heure début2]:[Heure fin3]])=2,Tabel1[[#This Row],[Heure fin3]]-Tabel1[[#This Row],[Heure début2]],0) -> 0 | J15: =IF(WEEKDAY(Tabel1[[#This Row],[date]],2)=7,SUMIF(Tabel1[ISO semaine],Tabel1[[#This Row],[ISO semaine]],Tabel1[Total heures travaillées par jour]),"")
C16: =YEAR(D16-WEEKDAY(D16,2)+4)&TEXT( _xlfn.ISOWEEKNUM(D16),"-00") -> 2023-36 | D16: =IF(ROW()-ROW(Tabel1[[#Headers],[date]])=1,D11,D15+1) -> 45176 | I16: =IF(COUNT(Tabel1[[#This Row],[Heure début]:[Heure fin]])=2,Tabel1[[#This Row],[Heure fin]]-Tabel1[[#This Row],[Heure début]],0)+IF(COUNT(Tabel1[[#This Row],[Heure début2]:[Heure fin3]])=2,Tabel1[[#This Row],[Heure fin3]]-Tabel1[[#This Row],[Heure début2]],0) -> 0 | J16: =IF(WEEKDAY(Tabel1[[#This Row],[date]],2)=7,SUMIF(Tabel1[ISO semaine],Tabel1[[#This Row],[ISO semaine]],Tabel1[Total heures travaillées par jour]),"")
C17: =YEAR(D17-WEEKDAY(D17,2)+4)&TEXT( _xlfn.ISOWEEKNUM(D17),"-00") -> 2023-36 | D17: =IF(ROW()-ROW(Tabel1[[#Headers],[date]])=1,D12,D16+1) -> 45177 | I17: =IF(COUNT(Tabel1[[#This Row],[Heure début]:[Heure fin]])=2,Tabel1[[#This Row],[Heure fin]]-Tabel1[[#This Row],[Heure début]],0)+IF(COUNT(Tabel1[[#This Row],[Heure début2]:[Heure fin3]])=2,Tabel1[[#This Row],[Heure fin3]]-Tabel1[[#This Row],[Heure début2]],0) -> 0 | J17: =IF(WEEKDAY(Tabel1[[#This Row],[date]],2)=7,SUMIF(Tabel1[ISO semaine],Tabel1[[#This Row],[ISO semaine]],Tabel1[Total heures travaillées par jour]),"")
C18: =YEAR(D18-WEEKDAY(D18,2)+4)&TEXT( _xlfn.ISOWEEKNUM(D18),"-00") -> 2023-36 | D18: =IF(ROW()-ROW(Tabel1[[#Headers],[date]])=1,D13,D17+1) -> 45178 | I18: =IF(COUNT(Tabel1[[#This Row],[Heure début]:[Heure fin]])=2,Tabel1[[#This Row],[Heure fin]]-Tabel1[[#This Row],[Heure début]],0)+IF(COUNT(Tabel1[[#This Row],[Heure début2]:[Heure fin3]])=2,Tabel1[[#This Row],[Heure fin3]]-Tabel1[[#This Row],[Heure début2]],0) -> 0 | J18: =IF(WEEKDAY(Tabel1[[#This Row],[date]],2)=7,SUMIF(Tabel1[ISO semaine],Tabel1[[#This Row],[ISO semaine]],Tabel1[Total heures travaillées par jour]),"")
C19: =YEAR(D19-WEEKDAY(D19,2)+4)&TEXT( _xlfn.ISOWEEKNUM(D19),"-00") -> 2023-36 | D19: =IF(ROW()-ROW(Tabel1[[#Headers],[date]])=1,D14,D18+1) -> 45179 | I19: =IF(COUNT(Tabel1[[#This Row],[Heure début]:[Heure fin]])=2,Tabel1[[#This Row],[Heure fin]]-Tabel1[[#This Row],[Heure début]],0)+IF(COUNT(Tabel1[[#This Row],[Heure début2]:[Heure fin3]])=2,Tabel1[[#This Row],[Heure fin3]]-Tabel1[[#This Row],[Heure début2]],0) -> 0 | J19: =IF(WEEKDAY(Tabel1[[#This Row],[date]],2)=7,SUMIF(Tabel1[ISO semaine],Tabel1[[#This Row],[ISO semaine]],Tabel1[Total heures travaillées par jour]),"") -> 0.625
C20: =YEAR(D20-WEEKDAY(D20,2)+4)&TEXT( _xlfn.ISOWEEKNUM(D20),"-00") -> 2023-37 | D20: =IF(ROW()-ROW(Tabel1[[#Headers],[date]])=1,D15,D19+1) -> 45180 | I20: =IF(COUNT(Tabel1[[#This Row],[Heure début]:[Heure fin]])=2,Tabel1[[#This Row],[Heure fin]]-Tabel1[[#This Row],[Heure début]],0)+IF(COUNT(Tabel1[[#This Row],[Heure début2]:[Heure fin3]])=2,Tabel1[[#This Row],[Heure fin3]]-Tabel1[[#This Row],[Heure début2]],0) -> 0 | J20: =IF(WEEKDAY(Tabel1[[#This Row],[date]],2)=7,SUMIF(Tabel1[ISO semaine],Tabel1[[#This Row],[ISO semaine]],Tabel1[Total heures travaillées par jour]),"")
C21: =YEAR(D21-WEEKDAY(D21,2)+4)&TEXT( _xlfn.ISOWEEKNUM(D21),"-00") -> 2023-37 | D21: =IF(ROW()-ROW(Tabel1[[#Headers],[date]])=1,D16,D20+1) -> 45181 | I21: =IF(COUNT(Tabel1[[#This Row],[Heure début]:[Heure fin]])=2,Tabel1[[#This Row],[Heure fin]]-Tabel1[[#This Row],[Heure début]],0)+IF(COUNT(Tabel1[[#This Row],[Heure début2]:[Heure fin3]])=2,Tabel1[[#This Row],[Heure fin3]]-Tabel1[[#This Row],[Heure début2]],0) -> 0 | J21: =IF(WEEKDAY(Tabel1[[#This Row],[date]],2)=7,SUMIF(Tabel1[ISO semaine],Tabel1[[#This Row],[ISO semaine]],Tabel1[Total heures travaillées par jour]),"")
C22: =YEAR(D22-WEEKDAY(D22,2)+4)&TEXT( _xlfn.ISOWEEKNUM(D22),"-00") -> 2023-37 | D22: =IF(ROW()-ROW(Tabel1[[#Headers],[date]])=1,D17,D21+1) -> 45182 | I22: =IF(COUNT(Tabel1[[#This Row],[Heure début]:[Heure fin]])=2,Tabel1[[#This Row],[Heure fin]]-Tabel1[[#This Row],[Heure début]],0)+IF(COUNT(Tabel1[[#This Row],[Heure début2]:[Heure fin3]])=2,Tabel1[[#This Row],[Heure fin3]]-Tabel1[[#This Row],[Heure début2]],0) -> 0 | J22: =IF(WEEKDAY(Tabel1[[#This Row],[date]],2)=7,SUMIF(Tabel1[ISO semaine],Tabel1[[#This Row],[ISO semaine]],Tabel1[Total heures travaillées par jour]),"")
C23: =YEAR(D23-WEEKDAY(D23,2)+4)&TEXT( _xlfn.ISOWEEKNUM(D23),"-00") -> 2023-37 | D23: =IF(ROW()-ROW(Tabel1[[#Headers],[date]])=1,D18,D22+1) -> 45183 | I23: =IF(COUNT(Tabel1[[#This Row],[Heure début]:[Heure fin]])=2,Tabel1[[#This Row],[Heure fin]]-Tabel1[[#This Row],[Heure début]],0)+IF(COUNT(Tabel1[[#This Row],[Heure début2]:[Heure fin3]])=2,Tabel1[[#This Row],[Heure fin3]]-Tabel1[[#This Row],[Heure début2]],0) -> 0 | J23: =IF(WEEKDAY(Tabel1[[#This Row],[date]],2)=7,SUMIF(Tabel1[ISO semaine],Tabel1[[#This Row],[ISO semaine]],Tabel1[Total heures travaillées par jour]),"")
C24: =YEAR(D24-WEEKDAY(D24,2)+4)&TEXT( _xlfn.ISOWEEKNUM(D24),"-00") -> 2023-37 | D24: =IF(ROW()-ROW(Tabel1[[#Headers],[date]])=1,D19,D23+1) -> 45184 | I24: =IF(COUNT(Tabel1[[#This Row],[Heure début]:[Heure fin]])=2,Tabel1[[#This Row],[Heure fin]]-Tabel1[[#This Row],[Heure début]],0)+IF(COUNT(Tabel1[[#This Row],[Heure début2]:[Heure fin3]])=2,Tabel1[[#This Row],[Heure fin3]]-Tabel1[[#This Row],[Heure début2]],0) -> 0 | J24: =IF(WEEKDAY(Tabel1[[#This Row],[date]],2)=7,SUMIF(Tabel1[ISO semaine],Tabel1[[#This Row],[ISO semaine]],Tabel1[Total heures travaillées par jour]),"")
C25: =YEAR(D25-WEEKDAY(D25,2)+4)&TEXT( _xlfn.ISOWEEKNUM(D25),"-00") -> 2023-37 | D25: =IF(ROW()-ROW(Tabel1[[#Headers],[date]])=1,D20,D24+1) -> 45185 | I25: =IF(COUNT(Tabel1[[#This Row],[Heure début]:[Heure fin]])=2,Tabel1[[#This Row],[Heure fin]]-Tabel1[[#This Row],[Heure début]],0)+IF(COUNT(Tabel1[[#This Row],[Heure début2]:[Heure fin3]])=2,Tabel1[[#This Row],[Heure fin3]]-Tabel1[[#This Row],[Heure début2]],0) -> 0 | J25: =IF(WEEKDAY(Tabel1[[#This Row],[date]],2)=7,SUMIF(Tabel1[ISO semaine],Tabel1[[#This Row],[ISO semaine]],Tabel1[Total heures travaillées par jour]),"")
C26: =YEAR(D26-WEEKDAY(D26,2)+4)&TEXT( _xlfn.ISOWEEKNUM(D26),"-00") -> 2023-37 | D26: =IF(ROW()-ROW(Tabel1[[#Headers],[date]])=1,D21,D25+1) -> 45186 | I26: =IF(COUNT(Tabel1[[#This Row],[Heure début]:[Heure fin]])=2,Tabel1[[#This Row],[Heure fin]]-Tabel1[[#This Row],[Heure début]],0)+IF(COUNT(Tabel1[[#This Row],[Heure début2]:[Heure fin3]])=2,Tabel1[[#This Row],[Heure fin3]]-Tabel1[[#This Row],[Heure début2]],0) -> 0 | J26: =IF(WEEKDAY(Tabel1[[#This Row],[date]],2)=7,SUMIF(Tabel1[ISO semaine],Tabel1[[#This Row],[ISO semaine]],Tabel1[Total heures travaillées par jour]),"") -> 0
... C497: =YEAR(D497-WEEKDAY(D497,2)+4)&TEXT( _xlfn.ISOWEEKNUM(D497),"-00") -> 2025-01 | D497: =IF(ROW()-ROW(Tabel1[[#Headers],[date]])=1,D492,D496+1) -> 45657 | I497: =IF(COUNT(Tabel1[[#This Row],[Heure début]:[Heure fin]])=2,Tabel1[[#This Row],[Heure fin]]-Tabel1[[#This Row],[Heure début]],0)+IF(COUNT(Tabel1[[#This Row],[Heure début2]:[Heure fin3]])=2,Tabel1[[#This Row],[Heure fin3]]-Tabel1[[#This Row],[Heure début2]],0) -> 0 | J497: =IF(WEEKDAY(Tabel1[[#This Row],[date]],2)=7,SUMIF(Tabel1[ISO semaine],Tabel1[[#This Row],[ISO semaine]],Tabel1[Total heures travaillées par jour]),"")

Sheet TCD
I1: Formules 365
I2: semaine | J2: dimanche | K2: heures
B3: Somme des heures travaillées par jour | D3: Jaren (date) | I3: {=INDEX(_xlfn._xlws.FILTER(Tabel1[],(Tabel1[Cumul heures travaillées semaine]>0)*(Tabel1[Cumul heures travaillées semaine]<>"")),_xlfn.SEQUENCE(COUNTIF(Tabel1[Cumul heures travaillées semaine],">0")),TRANSPOSE({1;2;8}))} -> 2023-36 | J3: 45179 | K3: 0.625
B4: Kwartalen (date) | C4: Maanden (date) | D4: 2023 | E4: 2024 | F4: Grand Total
B5: Kwrt1 | C5: jan | E5: 0 | F5: 0
C6: feb | E6: 0 | F6: 0
C7: mrt | E7: 0 | F7: 0
B8: Total Kwrt1 | E8: 0 | F8: 0
B10: Kwrt2 | C10: apr | E10: 0 | F10: 0
C11: mei | E11: 0 | F11: 0
C12: jun | E12: 0 | F12: 0
B13: Total Kwrt2 | E13: 0 | F13: 0
B15: Kwrt3 | C15: jul | E15: 0 | F15: 0
C16: aug | E16: 0 | F16: 0
C17: sep | D17: 0.625 | E17: 0 | F17: 0.625
B18: Total Kwrt3 | D18: 0.625 | E18: 0 | F18: 0.625
B20: Kwrt4 | C20: okt | D20: 0 | E20: 0 | F20: 0
C21: nov | D21: 0 | E21: 0 | F21: 0
C22: dec | D22: 0 | E22: 0 | F22: 0
B23: Total Kwrt4 | D23: 0 | E23: 0 | F23: 0
B25: Grand Total | D25: 0.625 | E25: 0 | F25: 0.625

Sheet Détails
A1: 1 | B1: Jours fériés | E1: Contrat
A2: 2024 | B2: Jour de l'an | C2: =DATE($A$1+2023,1,1) -> 45292 | E2: Journalier | F2: =F3/5 -> 0.325
A3: =A2+1 -> 2025 | B3: Vendredi saint | C3: =C4-2 -> 45380 | E3: Hedomadaire | F3: 1.625
A4: =A3+1 -> 2026 | B4: Pâques | C4: =ROUND(DATE($A$1+2023,4,MOD(234-11*MOD($A$1+2023,19),30))/7,)*7-6 -> 45382 | E4: Mensuel | F4: 74.458333
A5: =A4+1 -> 2027 | B5: Lundi de Pâques | C5: =C4+1 -> 45383
A6: =A5+1 -> 2028 | B6: Fête du travail | C6: =DATE($A$1+2023,5,1) -> 45413
A7: =A6+1 -> 2029 | B7: Commémoration de la victoire de 1945 | C7: =DATE($A$1+2023,5,8) -> 45420
A8: =A7+1 -> 2030 | B8: Ascension | C8: =C4+39 -> 45421
A9: =A8+1 -> 2031 | B9: Pentecôte | C9: =C4+49 -> 45431
A10: =A9+1 -> 2032 | B10: Lundi de Pentecôte | C10: =C9+1 -> 45432
A11: =A10+1 -> 2033 | B11: Fête Nationale | C11: =DATE($A$1+2023,7,14) -> 45487
A12: =A11+1 -> 2034 | B12: Assomption | C12: =DATE($A$1+2023,8,15) -> 45519
A13: =A12+1 -> 2035 | B13: Toussaint | C13: =DATE($A$1+2023,11,1) -> 45597
A14: =A13+1 -> 2036 | B14: Commémoration de la victoire de 1918 | C14: =DATE($A$1+2023,11,11) -> 45607
A15: =A14+1 -> 2037 | B15: Noël | C15: =DATE($A$1+2023,12,25) -> 45651
A16: =A15+1 -> 2038 | B16: Saint-Étienne | C16: =C15+1 -> 45652
A17: =A16+1 -> 2039
A18: =A17+1 -> 2040
A19: =A18+1 -> 2041
A20: =A19+1 -> 2042
A21: =A20+1 -> 2043
A22: =A21+1 -> 2044
A23: =A22+1 -> 2045
A24: =A23+1 -> 2046
A25: =A24+1 -> 2047
A26: =A25+1 -> 2048
A27: =A26+1 -> 2049
A28: =A27+1 -> 2050
... A38: =A37+1 -> 2060

Sheet Synthèse
B1: En poste | C1: Arrêt maladie | D1: Accident de travail | E1: Congé | F1: Férié | G1: Repos | H1: Heures en journée | I1: Heures de nuit
A2: Janvier | B2: =Janvier!I1 -> 0 | C2: =Janvier!L2 -> 0 | D2: =Janvier!#REF! -> #REF! | E2: =Janvier!#REF! -> #REF! | F2: =Janvier!#REF! -> #REF! | G2: =Janvier!#REF! -> #REF!
A3: Février | B3: =Février!I1 -> 0 | C3: =Février!I2 -> 0 | D3: =Février!#REF! -> #REF! | E3: =Février!#REF! -> #REF! | F3: =Février!#REF! -> #REF! | G3: =Février!#REF! -> #REF!
A4: Mars | B4: =Mars!I1 -> 0 | C4: =Mars!I2 -> 0 | D4: =Mars!I3 -> 0 | E4: =Mars!I4 -> 0 | F4: =Mars!I5 -> 0 | G4: =Mars!I6 -> 0
A5: Avril | B5: =Avril!I1 -> 0 | C5: =Avril!I2 -> 0 | D5: =Avril!I3 -> 0 | E5: =Avril!I4 -> 0 | F5: =Avril!I5 -> 0 | G5: =Avril!I6 -> 0
A6: Mai | B6: =Mai!I1 -> 0 | C6: =Mai!I2 -> 0 | D6: =Mai!I3 -> 0 | E6: =Mai!I4 -> 0 | F6: =Mai!I5 -> 0 | G6: =Mai!I6 -> 0
A7: Juin | B7: =Juin!I1 -> 0 | C7: =Juin!I2 -> 0 | D7: =Juin!I3 -> 0 | E7: =Juin!I4 -> 0 | F7: =Juin!I5 -> 0 | G7: =Juin!I6 -> 0
A8: Juillet | B8: =Juillet!I1 -> 0 | C8: =Juillet!I2 -> 0 | D8: =Juillet!I3 -> 0 | E8: =Juillet!I4 -> 0 | F8: =Juillet!I5 -> 0 | G8: =Juillet!I6 -> 0
A9: Août | B9: =Août!I1 -> 0 | C9: =Août!I2 -> 0 | D9: =Août!I3 -> 0 | E9: =Août!I4 -> 0 | F9: =Août!I5 -> 0 | G9: =Août!I6 -> 0
A10: Septembre | B10: =Septembre!I1 -> 0 | C10: =Septembre!I2 -> 0 | D10: =Septembre!I3 -> 0 | E10: =Septembre!I4 -> 0 | F10: =Septembre!I5 -> 0 | G10: =Septembre!I6 -> 0
A11: Octobre | B11: =Octobre!I1 -> 0 | C11: =Octobre!I2 -> 0 | D11: =Octobre!I3 -> 0 | E11: =Octobre!I4 -> 0 | F11: =Octobre!I5 -> 0 | G11: =Octobre!I6 -> 0
A12: Novembre | B12: =Novembre!I1 -> 0 | C12: =Novembre!I2 -> 0 | D12: =Novembre!I3 -> 0 | E12: =Novembre!I4 -> 0 | F12: =Novembre!I5 -> 0 | G12: =Novembre!I6 -> 0
A13: Décembre | B13: =Décembre!I1 -> 0 | C13: =Décembre!I2 -> 0 | D13: =Décembre!I3 -> 0 | E13: =Décembre!I4 -> 0 | F13: =Décembre!I5 -> 0 | G13: =Décembre!I6 -> 0
A14: Totaux | B14: =SUM(B2:B13) -> 0 | C14: =SUM(C2:C13) -> 0 | D14: =SUM(D2:D13) -> #REF! | E14: =SUM(E2:E13) -> #REF! | F14: =SUM(F2:F13) -> #REF! | G14: =SUM(G2:G13) -> #REF!

Sheet Janvier
A1: 1
A2: Date | B2: Ordre | C2: Ouverture de poste | D2: Pause | E2: Fermeture de poste | F2: Total | G2: Heures de jour | H2: Heures de nuit | I2: Total semaine | J2: Heures supplémentaires
A3: =DATE(Détails!A1+2023,A1,1) -> 45292 | C3: 0.33333333 | D3: 0.041666667 | E3: 0.69791667 | F3: =MOD(E3-C3-D3,1) -> 0.32291667
A4: =A3+1 -> 45293 | C4: 0.32291667 | D4: 0.034722222 | E4: 0.77083333 | F4: =MOD(E4-C4-D4,1) -> 0.41319444
A5: =A4+1 -> 45294 | C5: 0.33333333 | D5: 0.020833333 | E5: 0.66666667 | F5: =MOD(E5-C5-D5,1) -> 0.3125
A6: =A5+1 -> 45295 | C6: 0.33333333 | D6: 0.020833333 | E6: 0.66666667 | F6: =MOD(E6-C6-D6,1) -> 0.3125
A7: =A6+1 -> 45296 | C7: 0.33333333 | E7: 0.59722222 | F7: =MOD(E7-C7-D7,1) -> 0.26388889
A8: =A7+1 -> 45297 | F8: =SUM(F3:F7) -> 1.625
A9: =A8+1 -> 45298
A10: =A9+1 -> 45299
A11: =A10+1 -> 45300
A12: =A11+1 -> 45301
A13: =A12+1 -> 45302
A14: =A13+1 -> 45303
A15: =A14+1 -> 45304
A16: =A15+1 -> 45305
A17: =A16+1 -> 45306
A18: =A17+1 -> 45307
A19: =A18+1 -> 45308
A20: =A19+1 -> 45309
... A33: =A32+1 -> 45322

Sheet Février

Sheet Mars

Sheet Avril

Sheet Mai

Sheet Juin

Sheet Juillet

Sheet Août

Sheet Septembre

Sheet Octobre

Sheet Novembre

Sheet Décembre
