Workbook

Sheet Données
A1: ANNEE | B1: MOIS | C1: SEMAINE | D1: JOUR DEBUT | E1: JOUR FIN | F1: HEURE DEBUT | G1: HEURE FIN | H1: Statut | J1: SITES | K1: NOM | L1: Prénom | M1: =K1 & " " & L1 -> NOM Prénom
A2: 2023 | B2: JANVIER | C2: 1 | D2: =IF(AND('Planning Hebdo'!A1<>"",'Planning Hebdo'!A3<>""),'Planning Hebdo'!A3*7+DATE('Planning Hebdo'!A1,1,1)-WEEKDAY(DATE('Planning Hebdo'!A1,1,1))-5,"") -> 45404 | E2: =IF(AND('Planning Hebdo'!A1<>"",'Planning Hebdo'!A3<>""),'Planning Hebdo'!A3*7+DATE('Planning Hebdo'!A1,1,1)-WEEKDAY(DATE('Planning Hebdo'!A1,1,1))-5,"") -> 45404 | F2: 0 | G2: 0 | H2: Remplacé | I2: R | J2: Z | K2: X | L2: X | M2: =K2 & " " & L2 -> X X
A3: 2024 | B3: FÉVRIER | C3: 2 | D3: =IF(D2<>"",D2+1,"") -> 45405 | E3: =IF(E2<>"",E2+1,"") -> 45405 | F3: 0.020833333 | G3: 0.020833333 | H3: Pas Venu | I3: PV | J3: W | K3: Y | L3: Y | M3: =K3 & " " & L3 -> Y Y
A4: 2025 | B4: MARS | C4: 3 | D4: =IF(D2<>"",D2+2,"") -> 45406 | E4: =IF(E2<>"",E2+2,"") -> 45406 | F4: 0.041666667 | G4: 0.041666667 | H4: SSIAP | I4: SP
A5: 2026 | B5: AVRIL | C5: 4 | D5: =IF(D2<>"",D2+3,"") -> 45407 | E5: =IF(E2<>"",E2+3,"") -> 45407 | F5: 0.0625 | G5: 0.0625 | H5: Maître Chien | I5: MC
A6: 2027 | B6: MAI | C6: 5 | D6: =IF(D2<>"",D2+4,"") -> 45408 | E6: =IF(E2<>"",E2+4,"") -> 45408 | F6: 0.083333333 | G6: 0.083333333
A7: 2028 | B7: JUIN | C7: 6 | D7: =IF(D2<>"",D2+5,"") -> 45409 | E7: =IF(E2<>"",E2+5,"") -> 45409 | F7: 0.10416667 | G7: 0.10416667
A8: 2029 | B8: JUILLET | C8: 7 | D8: =IF(D2<>"",D2+6,"") -> 45410 | E8: =IF(E2<>"",E2+6,"") -> 45410 | F8: 0.125 | G8: 0.125
A9: 2030 | B9: AOÛT | C9: 8 | D9: =IF(D3<>"",D3+6,"") -> 45411 | E9: =IF(E3<>"",E3+6,"") -> 45411 | F9: 0.14583333 | G9: 0.14583333
A10: 2031 | B10: SEPTEMBRE | C10: 9 | F10: 0.16666667 | G10: 0.16666667
A11: 2032 | B11: OCTOBRE | C11: 10 | F11: 0.1875 | G11: 0.1875
A12: 2033 | B12: NOVEMBRE | C12: 11 | F12: 0.20833333 | G12: 0.20833333
A13: 2034 | B13: DÉCEMBRE | C13: 12 | F13: 0.22916667 | G13: 0.22916667
A14: 2035 | C14: 13 | F14: 0.25 | G14: 0.25
A15: 2036 | C15: 14 | F15: 0.27083333 | G15: 0.27083333
A16: 2037 | C16: 15 | F16: 0.29166667 | G16: 0.29166667
A17: 2038 | C17: 16 | F17: 0.3125 | G17: 0.3125
A18: 2039 | C18: 17 | F18: 0.33333333 | G18: 0.33333333
A19: 2040 | C19: 18 | F19: 0.35416667 | G19: 0.35416667
C20: 19 | F20: 0.375 | G20: 0.375
C21: 20 | F21: 0.39583333 | G21: 0.39583333
C22: 21 | F22: 0.41666667 | G22: 0.41666667
C23: 22 | F23: 0.4375 | G23: 0.4375
C24: 23 | F24: 0.45833333 | G24: 0.45833333
C25: 24 | F25: 0.47916667 | G25: 0.47916667
C26: 25 | F26: 0.5 | G26: 0.5
C27: 26 | F27: 0.52083333 | G27: 0.52083333
C28: 27 | F28: 0.54166667 | G28: 0.54166667
C29: 28 | F29: 0.5625 | G29: 0.5625
C30: 29 | F30: 0.58333333 | G30: 0.58333333
C31: 30 | F31: 0.60416667 | G31: 0.60416667
... C50: 49 | F50: 1 | G50: 1
C51: 50
C52: 51
C53: 52
M127: =K127 & " " & L127
M128: =K128 & " " & L128
M129: =K129 & " " & L129
M130: =K130 & " " & L130
M131: =K131 & " " & L131
M132: =K132 & " " & L132
M133: =K133 & " " & L133
M134: =K134 & " " & L134
M135: =K135 & " " & L135
M136: =K136 & " " & L136
M137: =K137 & " " & L137
M138: =K138 & " " & L138
... M164: =K164 & " " & L164

Sheet Planning Hebdo
A1: 2024
A2: =TEXT(DATE(A1,1,3)-WEEKDAY(DATE(A1,1,3))-5+7*A3,"mmmm") -> april
A3: 17 | D3: ="Semaine du " & TEXT(Données!D2,"[$-40C]jjjj j mmmm ") & " au " & TEXT(Données!D8,"[$-40C]jjjj j mmmm ") -> Semaine du 2024 24 avril au 2024 24 avril | H3: HEURES PRESTEES | N3: SOCIAL
D4: Prise de poste | F4: Fin de poste
A5: SITE | B5: AGENT | C5: STT | D5: JOUR | E5: HEURE | F5: HEURE | G5: JOUR | H5: HJ | I5: HN | J5: HJD | K5: HND | L5: HD | M5: Total | N5: DPAE | O5: CDD | P5: BS | Q5: AE | R5: STC | S5: CW
A6: Z | B6: X X | D6: 45409 | E6: 0 | F6: 0.20833333 | G6: 45410 | H6: =M6-(L6+I6) -> 0 | I6: =IF(OR(E6="",F6=""),"",(MOD(F6-E6,1)-IF(F6>E6,MAX(0,MIN(F6,21/24)-MAX(E6,6/24)),MAX(0,21/24-MAX(E6,6/24))+MAX(0,MIN(F6,21/24)-6/24))))-K6 -> 0 | J6: =IF(G6=Données!$E$8,IF(F6-Données!$G$14>0,F6-Données!$G$14,0),0)+IF(D6=Données!$D$8,Données!$F$44-E6,0) -> 0 | K6: =MOD(L6-J6,1) -> 0.20833333 | L6: =(WEEKDAY(D6)=1)*(1-E6)+(WEEKDAY(G6)=1)*F6+INT((G6-D6-(WEEKDAY(D6)=1))/7)+(WEEKDAY(G6-(WEEKDAY(G6)=1))<(WEEKDAY(D6))) -> 0.20833333 | M6: =MOD(F6-E6,1) -> 0.20833333
A7: W | B7: Y Y | D7: 45410 | E7: 0 | F7: 0.20833333 | G7: 45410 | H7: =M7-(L7+I7) -> 0.125 | I7: =IF(OR(E7="",F7=""),"",(MOD(F7-E7,1)-IF(F7>E7,MAX(0,MIN(F7,21/24)-MAX(E7,6/24)),MAX(0,21/24-MAX(E7,6/24))+MAX(0,MIN(F7,21/24)-6/24))))-K7 -> -0.125 | J7: =IF(G7=Données!$E$8,IF(F7-Données!$G$14>0,F7-Données!$G$14,0),0)+IF(D7=Données!$D$8,Données!$F$44-E7,0) -> 0.875 | K7: =MOD(L7-J7,1) -> 0.33333333 | L7: =(WEEKDAY(D7)=1)*(1-E7)+(WEEKDAY(G7)=1)*F7+INT((G7-D7-(WEEKDAY(D7)=1))/7)+(WEEKDAY(G7-(WEEKDAY(G7)=1))<(WEEKDAY(D7))) -> 0.20833333 | M7: =MOD(F7-E7,1) -> 0.20833333
D8: 45404 | E8: 0 | F8: 0.45833333 | H8: =M8-(L8+I8) -> 6487.2083 | I8: =IF(OR(E8="",F8=""),"",(MOD(F8-E8,1)-IF(F8>E8,MAX(0,MIN(F8,21/24)-MAX(E8,6/24)),MAX(0,21/24-MAX(E8,6/24))+MAX(0,MIN(F8,21/24)-6/24))))-K8 -> 0.25 | J8: =IF(G8=Données!$E$8,IF(F8-Données!$G$14>0,F8-Données!$G$14,0),0)+IF(D8=Données!$D$8,Données!$F$44-E8,0) -> 0 | K8: =MOD(L8-J8,1) -> 0 | L8: =(WEEKDAY(D8)=1)*(1-E8)+(WEEKDAY(G8)=1)*F8+INT((G8-D8-(WEEKDAY(D8)=1))/7)+(WEEKDAY(G8-(WEEKDAY(G8)=1))<(WEEKDAY(D8))) -> -6487 | M8: =MOD(F8-E8,1) -> 0.45833333
D9: 45409 | E9: 0 | F9: 0.45833333 | H9: =M9-(L9+I9) -> 6487.2083 | I9: =IF(OR(E9="",F9=""),"",(MOD(F9-E9,1)-IF(F9>E9,MAX(0,MIN(F9,21/24)-MAX(E9,6/24)),MAX(0,21/24-MAX(E9,6/24))+MAX(0,MIN(F9,21/24)-6/24))))-K9 -> 0.25 | J9: =IF(G9=Données!$E$8,IF(F9-Données!$G$14>0,F9-Données!$G$14,0),0)+IF(D9=Données!$D$8,Données!$F$44-E9,0) -> 0 | K9: =MOD(L9-J9,1) -> 0 | L9: =(WEEKDAY(D9)=1)*(1-E9)+(WEEKDAY(G9)=1)*F9+INT((G9-D9-(WEEKDAY(D9)=1))/7)+(WEEKDAY(G9-(WEEKDAY(G9)=1))<(WEEKDAY(D9))) -> -6487 | M9: =MOD(F9-E9,1) -> 0.45833333
D10: 45410 | E10: 0 | F10: 0.45833333 | H10: =M10-(L10+I10) -> 6487.3333 | I10: =IF(OR(E10="",F10=""),"",(MOD(F10-E10,1)-IF(F10>E10,MAX(0,MIN(F10,21/24)-MAX(E10,6/24)),MAX(0,21/24-MAX(E10,6/24))+MAX(0,MIN(F10,21/24)-6/24))))-K10 -> 0.125 | J10: =IF(G10=Données!$E$8,IF(F10-Données!$G$14>0,F10-Données!$G$14,0),0)+IF(D10=Données!$D$8,Données!$F$44-E10,0) -> 0.875 | K10: =MOD(L10-J10,1) -> 0.125 | L10: =(WEEKDAY(D10)=1)*(1-E10)+(WEEKDAY(G10)=1)*F10+INT((G10-D10-(WEEKDAY(D10)=1))/7)+(WEEKDAY(G10-(WEEKDAY(G10)=1))<(WEEKDAY(D10))) -> -6487 | M10: =MOD(F10-E10,1) -> 0.45833333
H11: =M11-(L11+I11) -> #VALUE! | I11: =IF(OR(E11="",F11=""),"",(MOD(F11-E11,1)-IF(F11>E11,MAX(0,MIN(F11,21/24)-MAX(E11,6/24)),MAX(0,21/24-MAX(E11,6/24))+MAX(0,MIN(F11,21/24)-6/24))))-K11 -> #VALUE! | J11: =IF(G11=Données!$E$8,IF(F11-Données!$G$14>0,F11-Données!$G$14,0),0)+IF(D11=Données!$D$8,Données!$F$44-E11,0) -> 0 | K11: =MOD(L11-J11,1) -> 0 | L11: =(WEEKDAY(D11)=1)*(1-E11)+(WEEKDAY(G11)=1)*F11+INT((G11-D11-(WEEKDAY(D11)=1))/7)+(WEEKDAY(G11-(WEEKDAY(G11)=1))<(WEEKDAY(D11))) -> 0 | M11: =MOD(F11-E11,1) -> 0
H12: =M12-(L12+I12) -> #VALUE! | I12: =IF(OR(E12="",F12=""),"",(MOD(F12-E12,1)-IF(F12>E12,MAX(0,MIN(F12,21/24)-MAX(E12,6/24)),MAX(0,21/24-MAX(E12,6/24))+MAX(0,MIN(F12,21/24)-6/24))))-K12 -> #VALUE! | J12: =IF(G12=Données!$E$8,IF(F12-Données!$G$14>0,F12-Données!$G$14,0),0)+IF(D12=Données!$D$8,Données!$F$44-E12,0) -> 0 | K12: =MOD(L12-J12,1) -> 0 | L12: =(WEEKDAY(D12)=1)*(1-E12)+(WEEKDAY(G12)=1)*F12+INT((G12-D12-(WEEKDAY(D12)=1))/7)+(WEEKDAY(G12-(WEEKDAY(G12)=1))<(WEEKDAY(D12))) -> 0 | M12: =MOD(F12-E12,1) -> 0
H13: =M13-(L13+I13) -> #VALUE! | I13: =IF(OR(E13="",F13=""),"",(MOD(F13-E13,1)-IF(F13>E13,MAX(0,MIN(F13,21/24)-MAX(E13,6/24)),MAX(0,21/24-MAX(E13,6/24))+MAX(0,MIN(F13,21/24)-6/24))))-K13 -> #VALUE! | J13: =IF(G13=Données!$E$8,IF(F13-Données!$G$14>0,F13-Données!$G$14,0),0)+IF(D13=Données!$D$8,Données!$F$44-E13,0) -> 0 | K13: =MOD(L13-J13,1) -> 0 | L13: =(WEEKDAY(D13)=1)*(1-E13)+(WEEKDAY(G13)=1)*F13+INT((G13-D13-(WEEKDAY(D13)=1))/7)+(WEEKDAY(G13-(WEEKDAY(G13)=1))<(WEEKDAY(D13))) -> 0 | M13: =MOD(F13-E13,1) -> 0
H14: =M14-(L14+I14) -> #VALUE! | I14: =IF(OR(E14="",F14=""),"",(MOD(F14-E14,1)-IF(F14>E14,MAX(0,MIN(F14,21/24)-MAX(E14,6/24)),MAX(0,21/24-MAX(E14,6/24))+MAX(0,MIN(F14,21/24)-6/24))))-K14 -> #VALUE! | J14: =IF(G14=Données!$E$8,IF(F14-Données!$G$14>0,F14-Données!$G$14,0),0)+IF(D14=Données!$D$8,Données!$F$44-E14,0) -> 0 | K14: =MOD(L14-J14,1) -> 0 | L14: =(WEEKDAY(D14)=1)*(1-E14)+(WEEKDAY(G14)=1)*F14+INT((G14-D14-(WEEKDAY(D14)=1))/7)+(WEEKDAY(G14-(WEEKDAY(G14)=1))<(WEEKDAY(D14))) -> 0 | M14: =MOD(F14-E14,1) -> 0
H15: =M15-(L15+I15) -> #VALUE! | I15: =IF(OR(E15="",F15=""),"",(MOD(F15-E15,1)-IF(F15>E15,MAX(0,MIN(F15,21/24)-MAX(E15,6/24)),MAX(0,21/24-MAX(E15,6/24))+MAX(0,MIN(F15,21/24)-6/24))))-K15 -> #VALUE! | J15: =IF(G15=Données!$E$8,IF(F15-Données!$G$14>0,F15-Données!$G$14,0),0)+IF(D15=Données!$D$8,Données!$F$44-E15,0) -> 0 | K15: =MOD(L15-J15,1) -> 0 | L15: =(WEEKDAY(D15)=1)*(1-E15)+(WEEKDAY(G15)=1)*F15+INT((G15-D15-(WEEKDAY(D15)=1))/7)+(WEEKDAY(G15-(WEEKDAY(G15)=1))<(WEEKDAY(D15))) -> 0 | M15: =MOD(F15-E15,1) -> 0
H16: =M16-(L16+I16) -> #VALUE! | I16: =IF(OR(E16="",F16=""),"",(MOD(F16-E16,1)-IF(F16>E16,MAX(0,MIN(F16,21/24)-MAX(E16,6/24)),MAX(0,21/24-MAX(E16,6/24))+MAX(0,MIN(F16,21/24)-6/24))))-K16 -> #VALUE! | J16: =IF(G16=Données!$E$8,IF(F16-Données!$G$14>0,F16-Données!$G$14,0),0)+IF(D16=Données!$D$8,Données!$F$44-E16,0) -> 0 | K16: =MOD(L16-J16,1) -> 0 | L16: =(WEEKDAY(D16)=1)*(1-E16)+(WEEKDAY(G16)=1)*F16+INT((G16-D16-(WEEKDAY(D16)=1))/7)+(WEEKDAY(G16-(WEEKDAY(G16)=1))<(WEEKDAY(D16))) -> 0 | M16: =MOD(F16-E16,1) -> 0
H17: =M17-(L17+I17) -> #VALUE! | I17: =IF(OR(E17="",F17=""),"",(MOD(F17-E17,1)-IF(F17>E17,MAX(0,MIN(F17,21/24)-MAX(E17,6/24)),MAX(0,21/24-MAX(E17,6/24))+MAX(0,MIN(F17,21/24)-6/24))))-K17 -> #VALUE! | J17: =IF(G17=Données!$E$8,IF(F17-Données!$G$14>0,F17-Données!$G$14,0),0)+IF(D17=Données!$D$8,Données!$F$44-E17,0) -> 0 | K17: =MOD(L17-J17,1) -> 0 | L17: =(WEEKDAY(D17)=1)*(1-E17)+(WEEKDAY(G17)=1)*F17+INT((G17-D17-(WEEKDAY(D17)=1))/7)+(WEEKDAY(G17-(WEEKDAY(G17)=1))<(WEEKDAY(D17))) -> 0 | M17: =MOD(F17-E17,1) -> 0
H18: =M18-(L18+I18) -> #VALUE! | I18: =IF(OR(E18="",F18=""),"",(MOD(F18-E18,1)-IF(F18>E18,MAX(0,MIN(F18,21/24)-MAX(E18,6/24)),MAX(0,21/24-MAX(E18,6/24))+MAX(0,MIN(F18,21/24)-6/24))))-K18 -> #VALUE! | J18: =IF(G18=Données!$E$8,IF(F18-Données!$G$14>0,F18-Données!$G$14,0),0)+IF(D18=Données!$D$8,Données!$F$44-E18,0) -> 0 | K18: =MOD(L18-J18,1) -> 0 | L18: =(WEEKDAY(D18)=1)*(1-E18)+(WEEKDAY(G18)=1)*F18+INT((G18-D18-(WEEKDAY(D18)=1))/7)+(WEEKDAY(G18-(WEEKDAY(G18)=1))<(WEEKDAY(D18))) -> 0 | M18: =MOD(F18-E18,1) -> 0
H19: =M19-(L19+I19) -> #VALUE! | I19: =IF(OR(E19="",F19=""),"",(MOD(F19-E19,1)-IF(F19>E19,MAX(0,MIN(F19,21/24)-MAX(E19,6/24)),MAX(0,21/24-MAX(E19,6/24))+MAX(0,MIN(F19,21/24)-6/24))))-K19 -> #VALUE! | J19: =IF(G19=Données!$E$8,IF(F19-Données!$G$14>0,F19-Données!$G$14,0),0)+IF(D19=Données!$D$8,Données!$F$44-E19,0) -> 0 | K19: =MOD(L19-J19,1) -> 0 | L19: =(WEEKDAY(D19)=1)*(1-E19)+(WEEKDAY(G19)=1)*F19+INT((G19-D19-(WEEKDAY(D19)=1))/7)+(WEEKDAY(G19-(WEEKDAY(G19)=1))<(WEEKDAY(D19))) -> 0 | M19: =MOD(F19-E19,1) -> 0
H20: =M20-(L20+I20) -> #VALUE! | I20: =IF(OR(E20="",F20=""),"",(MOD(F20-E20,1)-IF(F20>E20,MAX(0,MIN(F20,21/24)-MAX(E20,6/24)),MAX(0,21/24-MAX(E20,6/24))+MAX(0,MIN(F20,21/24)-6/24))))-K20 -> #VALUE! | J20: =IF(G20=Données!$E$8,IF(F20-Données!$G$14>0,F20-Données!$G$14,0),0)+IF(D20=Données!$D$8,Données!$F$44-E20,0) -> 0 | K20: =MOD(L20-J20,1) -> 0 | L20: =(WEEKDAY(D20)=1)*(1-E20)+(WEEKDAY(G20)=1)*F20+INT((G20-D20-(WEEKDAY(D20)=1))/7)+(WEEKDAY(G20-(WEEKDAY(G20)=1))<(WEEKDAY(D20))) -> 0 | M20: =MOD(F20-E20,1) -> 0
H21: =M21-(L21+I21) -> #VALUE! | I21: =IF(OR(E21="",F21=""),"",(MOD(F21-E21,1)-IF(F21>E21,MAX(0,MIN(F21,21/24)-MAX(E21,6/24)),MAX(0,21/24-MAX(E21,6/24))+MAX(0,MIN(F21,21/24)-6/24))))-K21 -> #VALUE! | J21: =IF(G21=Données!$E$8,IF(F21-Données!$G$14>0,F21-Données!$G$14,0),0)+IF(D21=Données!$D$8,Données!$F$44-E21,0) -> 0 | K21: =MOD(L21-J21,1) -> 0 | L21: =(WEEKDAY(D21)=1)*(1-E21)+(WEEKDAY(G21)=1)*F21+INT((G21-D21-(WEEKDAY(D21)=1))/7)+(WEEKDAY(G21-(WEEKDAY(G21)=1))<(WEEKDAY(D21))) -> 0 | M21: =MOD(F21-E21,1) -> 0
H22: =M22-(L22+I22) -> #VALUE! | I22: =IF(OR(E22="",F22=""),"",(MOD(F22-E22,1)-IF(F22>E22,MAX(0,MIN(F22,21/24)-MAX(E22,6/24)),MAX(0,21/24-MAX(E22,6/24))+MAX(0,MIN(F22,21/24)-6/24))))-K22 -> #VALUE! | J22: =IF(G22=Données!$E$8,IF(F22-Données!$G$14>0,F22-Données!$G$14,0),0)+IF(D22=Données!$D$8,Données!$F$44-E22,0) -> 0 | K22: =MOD(L22-J22,1) -> 0 | L22: =(WEEKDAY(D22)=1)*(1-E22)+(WEEKDAY(G22)=1)*F22+INT((G22-D22-(WEEKDAY(D22)=1))/7)+(WEEKDAY(G22-(WEEKDAY(G22)=1))<(WEEKDAY(D22))) -> 0 | M22: =MOD(F22-E22,1) -> 0
... H70: =M70-(L70+I70) -> #VALUE! | I70: =IF(OR(E70="",F70=""),"",(MOD(F70-E70,1)-IF(F70>E70,MAX(0,MIN(F70,21/24)-MAX(E70,6/24)),MAX(0,21/24-MAX(E70,6/24))+MAX(0,MIN(F70,21/24)-6/24))))-K70 -> #VALUE! | J70: =IF(G70=Données!$E$8,IF(F70-Données!$G$14>0,F70-Données!$G$14,0),0)+IF(D70=Données!$D$8,Données!$F$44-E70,0) -> 0 | K70: =MOD(L70-J70,1) -> 0 | L70: =(WEEKDAY(D70)=1)*(1-E70)+(WEEKDAY(G70)=1)*F70+INT((G70-D70-(WEEKDAY(D70)=1))/7)+(WEEKDAY(G70-(WEEKDAY(G70)=1))<(WEEKDAY(D70))) -> 0 | M70: =MOD(F70-E70,1) -> 0
M71: =SUM(M6:M70) -> 1.7916667

Sheet 15 au 21 avril
A1: 2024
A2: =TEXT(DATE(A1,1,3)-WEEKDAY(DATE(A1,1,3))-5+7*A3,"mmmm") -> april
A3: 16 | D3: ="Semaine du " & TEXT(Données!D2,"[$-40C]jjjj j mmmm ") & " au " & TEXT(Données!D8,"[$-40C]jjjj j mmmm ") -> Semaine du 2024 24 avril au 2024 24 avril | H3: HEURES PRESTEES | N3: SOCIAL
D4: Prise de poste | F4: Fin de poste
A5: SITE | B5: AGENT | C5: STT | D5: JOUR | E5: HEURE | F5: HEURE | G5: JOUR | H5: HJ | I5: HN | J5: HJD | K5: HND | L5: HD | M5: Total | N5: DPAE | O5: CDD | P5: BS | Q5: AE | R5: STC | S5: CW | T5: Dimanche suivant
A6: Z | B6: X X | D6: 45402 | E6: 0.22916667 | F6: 0.20833333 | G6: 45403 | H6: =M6-(L6+I6) -> 0.625 | I6: =IF(OR(E6="",F6=""),"",(MOD(F6-E6,1)-IF(F6>E6,MAX(0,MIN(F6,21/24)-MAX(E6,6/24)),MAX(0,21/24-MAX(E6,6/24))+MAX(0,MIN(F6,21/24)-6/24))))-K6 -> 0.14583333 | J6: =IF(COUNT(E6:F6)=2,MAX(0,MIN(T6+21/24,D6+F6+(F6<E6))-MAX(T6+6/24,D6+E6)),"-") -> 0 | K6: =IF(COUNT(E6:F6)=2,MROUND(+L6-J6,1/48),"-") -> 0.20833333 | L6: =IF(COUNT(E6:F6)=2,MAX(0,MIN(T6+1,D6+F6+(F6<E6))-MAX(T6,D6+E6)),"-") -> 0.20833333 | M6: =MOD(F6-E6,1) -> 0.97916667 | T6: =IF(D6>0,WORKDAY.INTL(D6-1,1,"1111110"),"-") -> 45403
A7: W | B7: Y Y | D7: 45403 | E7: 0.29166667 | F7: 0.20833333 | G7: 45403 | H7: =M7-(L7+I7) -> -2.4256153e-12 | I7: =IF(OR(E7="",F7=""),"",(MOD(F7-E7,1)-IF(F7>E7,MAX(0,MIN(F7,21/24)-MAX(E7,6/24)),MAX(0,21/24-MAX(E7,6/24))+MAX(0,MIN(F7,21/24)-6/24))))-K7 -> 0.20833333 | J7: =IF(COUNT(E7:F7)=2,MAX(0,MIN(T7+21/24,D7+F7+(F7<E7))-MAX(T7+6/24,D7+E7)),"-") -> 0.58333333 | K7: =IF(COUNT(E7:F7)=2,MROUND(+L7-J7,1/48),"-") -> 0.125 | L7: =IF(COUNT(E7:F7)=2,MAX(0,MIN(T7+1,D7+F7+(F7<E7))-MAX(T7,D7+E7)),"-") -> 0.70833333 | M7: =MOD(F7-E7,1) -> 0.91666667 | T7: =IF(D7>0,WORKDAY.INTL(D7-1,1,"1111110"),"-") -> 45403
D8: 45404 | E8: 0.16666667 | F8: 0.14583333 | H8: =M8-(L8+I8) -> 0.625 | I8: =IF(OR(E8="",F8=""),"",(MOD(F8-E8,1)-IF(F8>E8,MAX(0,MIN(F8,21/24)-MAX(E8,6/24)),MAX(0,21/24-MAX(E8,6/24))+MAX(0,MIN(F8,21/24)-6/24))))-K8 -> 0.35416667 | J8: =IF(COUNT(E8:F8)=2,MAX(0,MIN(T8+21/24,D8+F8+(F8<E8))-MAX(T8+6/24,D8+E8)),"-") -> 0 | K8: =IF(COUNT(E8:F8)=2,MROUND(+L8-J8,1/48),"-") -> 0 | L8: =IF(COUNT(E8:F8)=2,MAX(0,MIN(T8+1,D8+F8+(F8<E8))-MAX(T8,D8+E8)),"-") -> 0 | M8: =MOD(F8-E8,1) -> 0.97916667 | T8: =IF(D8>0,WORKDAY.INTL(D8-1,1,"1111110"),"-") -> 45410
D9: 45405 | E9: 0.16666667 | F9: 0.14583333 | H9: =M9-(L9+I9) -> 0.625 | I9: =IF(OR(E9="",F9=""),"",(MOD(F9-E9,1)-IF(F9>E9,MAX(0,MIN(F9,21/24)-MAX(E9,6/24)),MAX(0,21/24-MAX(E9,6/24))+MAX(0,MIN(F9,21/24)-6/24))))-K9 -> 0.35416667 | J9: =IF(COUNT(E9:F9)=2,MAX(0,MIN(T9+21/24,D9+F9+(F9<E9))-MAX(T9+6/24,D9+E9)),"-") -> 0 | K9: =IF(COUNT(E9:F9)=2,MROUND(+L9-J9,1/48),"-") -> 0 | L9: =IF(COUNT(E9:F9)=2,MAX(0,MIN(T9+1,D9+F9+(F9<E9))-MAX(T9,D9+E9)),"-") -> 0 | M9: =MOD(F9-E9,1) -> 0.97916667 | T9: =IF(D9>0,WORKDAY.INTL(D9-1,1,"1111110"),"-") -> 45410
D10: 45406 | E10: 0.16666667 | F10: 0.14583333 | H10: =M10-(L10+I10) -> 0.625 | I10: =IF(OR(E10="",F10=""),"",(MOD(F10-E10,1)-IF(F10>E10,MAX(0,MIN(F10,21/24)-MAX(E10,6/24)),MAX(0,21/24-MAX(E10,6/24))+MAX(0,MIN(F10,21/24)-6/24))))-K10 -> 0.35416667 | J10: =IF(COUNT(E10:F10)=2,MAX(0,MIN(T10+21/24,D10+F10+(F10<E10))-MAX(T10+6/24,D10+E10)),"-") -> 0 | K10: =IF(COUNT(E10:F10)=2,MROUND(+L10-J10,1/48),"-") -> 0 | L10: =IF(COUNT(E10:F10)=2,MAX(0,MIN(T10+1,D10+F10+(F10<E10))-MAX(T10,D10+E10)),"-") -> 0 | M10: =MOD(F10-E10,1) -> 0.97916667 | T10: =IF(D10>0,WORKDAY.INTL(D10-1,1,"1111110"),"-") -> 45410
D11: 45407 | E11: 0.16666667 | F11: 0.14583333 | H11: =M11-(L11+I11) -> 0.625 | I11: =IF(OR(E11="",F11=""),"",(MOD(F11-E11,1)-IF(F11>E11,MAX(0,MIN(F11,21/24)-MAX(E11,6/24)),MAX(0,21/24-MAX(E11,6/24))+MAX(0,MIN(F11,21/24)-6/24))))-K11 -> 0.35416667 | J11: =IF(COUNT(E11:F11)=2,MAX(0,MIN(T11+21/24,D11+F11+(F11<E11))-MAX(T11+6/24,D11+E11)),"-") -> 0 | K11: =IF(COUNT(E11:F11)=2,MROUND(+L11-J11,1/48),"-") -> 0 | L11: =IF(COUNT(E11:F11)=2,MAX(0,MIN(T11+1,D11+F11+(F11<E11))-MAX(T11,D11+E11)),"-") -> 0 | M11: =MOD(F11-E11,1) -> 0.97916667 | T11: =IF(D11>0,WORKDAY.INTL(D11-1,1,"1111110"),"-") -> 45410
D12: 45408 | E12: 0.16666667 | F12: 0.14583333 | H12: =M12-(L12+I12) -> 0.625 | I12: =IF(OR(E12="",F12=""),"",(MOD(F12-E12,1)-IF(F12>E12,MAX(0,MIN(F12,21/24)-MAX(E12,6/24)),MAX(0,21/24-MAX(E12,6/24))+MAX(0,MIN(F12,21/24)-6/24))))-K12 -> 0.35416667 | J12: =IF(COUNT(E12:F12)=2,MAX(0,MIN(T12+21/24,D12+F12+(F12<E12))-MAX(T12+6/24,D12+E12)),"-") -> 0 | K12: =IF(COUNT(E12:F12)=2,MROUND(+L12-J12,1/48),"-") -> 0 | L12: =IF(COUNT(E12:F12)=2,MAX(0,MIN(T12+1,D12+F12+(F12<E12))-MAX(T12,D12+E12)),"-") -> 0 | M12: =MOD(F12-E12,1) -> 0.97916667 | T12: =IF(D12>0,WORKDAY.INTL(D12-1,1,"1111110"),"-") -> 45410
D13: 45409 | E13: 0.16666667 | F13: 0.14583333 | H13: =M13-(L13+I13) -> 0.625 | I13: =IF(OR(E13="",F13=""),"",(MOD(F13-E13,1)-IF(F13>E13,MAX(0,MIN(F13,21/24)-MAX(E13,6/24)),MAX(0,21/24-MAX(E13,6/24))+MAX(0,MIN(F13,21/24)-6/24))))-K13 -> 0.20833333 | J13: =IF(COUNT(E13:F13)=2,MAX(0,MIN(T13+21/24,D13+F13+(F13<E13))-MAX(T13+6/24,D13+E13)),"-") -> 0 | K13: =IF(COUNT(E13:F13)=2,MROUND(+L13-J13,1/48),"-") -> 0.14583333 | L13: =IF(COUNT(E13:F13)=2,MAX(0,MIN(T13+1,D13+F13+(F13<E13))-MAX(T13,D13+E13)),"-") -> 0.14583333 | M13: =MOD(F13-E13,1) -> 0.97916667 | T13: =IF(D13>0,WORKDAY.INTL(D13-1,1,"1111110"),"-") -> 45410
D14: 45410 | E14: 0.16666667 | F14: 0.14583333 | H14: =M14-(L14+I14) -> -2.4253932e-12 | I14: =IF(OR(E14="",F14=""),"",(MOD(F14-E14,1)-IF(F14>E14,MAX(0,MIN(F14,21/24)-MAX(E14,6/24)),MAX(0,21/24-MAX(E14,6/24))+MAX(0,MIN(F14,21/24)-6/24))))-K14 -> 0.14583333 | J14: =IF(COUNT(E14:F14)=2,MAX(0,MIN(T14+21/24,D14+F14+(F14<E14))-MAX(T14+6/24,D14+E14)),"-") -> 0.625 | K14: =IF(COUNT(E14:F14)=2,MROUND(+L14-J14,1/48),"-") -> 0.20833333 | L14: =IF(COUNT(E14:F14)=2,MAX(0,MIN(T14+1,D14+F14+(F14<E14))-MAX(T14,D14+E14)),"-") -> 0.83333333 | M14: =MOD(F14-E14,1) -> 0.97916667 | T14: =IF(D14>0,WORKDAY.INTL(D14-1,1,"1111110"),"-") -> 45410
D15: 45411 | E15: 0.16666667 | F15: 0.14583333 | H15: =M15-(L15+I15) -> 0.625 | I15: =IF(OR(E15="",F15=""),"",(MOD(F15-E15,1)-IF(F15>E15,MAX(0,MIN(F15,21/24)-MAX(E15,6/24)),MAX(0,21/24-MAX(E15,6/24))+MAX(0,MIN(F15,21/24)-6/24))))-K15 -> 0.35416667 | J15: =IF(COUNT(E15:F15)=2,MAX(0,MIN(T15+21/24,D15+F15+(F15<E15))-MAX(T15+6/24,D15+E15)),"-") -> 0 | K15: =IF(COUNT(E15:F15)=2,MROUND(+L15-J15,1/48),"-") -> 0 | L15: =IF(COUNT(E15:F15)=2,MAX(0,MIN(T15+1,D15+F15+(F15<E15))-MAX(T15,D15+E15)),"-") -> 0 | M15: =MOD(F15-E15,1) -> 0.97916667 | T15: =IF(D15>0,WORKDAY.INTL(D15-1,1,"1111110"),"-") -> 45417
D16: 45412 | E16: 0.16666667 | F16: 0.14583333 | H16: =M16-(L16+I16) -> 0.625 | I16: =IF(OR(E16="",F16=""),"",(MOD(F16-E16,1)-IF(F16>E16,MAX(0,MIN(F16,21/24)-MAX(E16,6/24)),MAX(0,21/24-MAX(E16,6/24))+MAX(0,MIN(F16,21/24)-6/24))))-K16 -> 0.35416667 | J16: =IF(COUNT(E16:F16)=2,MAX(0,MIN(T16+21/24,D16+F16+(F16<E16))-MAX(T16+6/24,D16+E16)),"-") -> 0 | K16: =IF(COUNT(E16:F16)=2,MROUND(+L16-J16,1/48),"-") -> 0 | L16: =IF(COUNT(E16:F16)=2,MAX(0,MIN(T16+1,D16+F16+(F16<E16))-MAX(T16,D16+E16)),"-") -> 0 | M16: =MOD(F16-E16,1) -> 0.97916667 | T16: =IF(D16>0,WORKDAY.INTL(D16-1,1,"1111110"),"-") -> 45417
D17: 45413 | E17: 0.16666667 | F17: 0.14583333 | H17: =M17-(L17+I17) -> 0.625 | I17: =IF(OR(E17="",F17=""),"",(MOD(F17-E17,1)-IF(F17>E17,MAX(0,MIN(F17,21/24)-MAX(E17,6/24)),MAX(0,21/24-MAX(E17,6/24))+MAX(0,MIN(F17,21/24)-6/24))))-K17 -> 0.35416667 | J17: =IF(COUNT(E17:F17)=2,MAX(0,MIN(T17+21/24,D17+F17+(F17<E17))-MAX(T17+6/24,D17+E17)),"-") -> 0 | K17: =IF(COUNT(E17:F17)=2,MROUND(+L17-J17,1/48),"-") -> 0 | L17: =IF(COUNT(E17:F17)=2,MAX(0,MIN(T17+1,D17+F17+(F17<E17))-MAX(T17,D17+E17)),"-") -> 0 | M17: =MOD(F17-E17,1) -> 0.97916667 | T17: =IF(D17>0,WORKDAY.INTL(D17-1,1,"1111110"),"-") -> 45417
H18: =M18-(L18+I18) -> #VALUE! | I18: =IF(OR(E18="",F18=""),"",(MOD(F18-E18,1)-IF(F18>E18,MAX(0,MIN(F18,21/24)-MAX(E18,6/24)),MAX(0,21/24-MAX(E18,6/24))+MAX(0,MIN(F18,21/24)-6/24))))-K18 -> #VALUE! | J18: =IF(COUNT(E18:F18)=2,MAX(0,MIN(T18+21/24,D18+F18+(F18<E18))-MAX(T18+6/24,D18+E18)),"-") -> - | K18: =IF(COUNT(E18:F18)=2,MROUND(+L18-J18,1/48),"-") -> - | L18: =IF(COUNT(E18:F18)=2,MAX(0,MIN(T18+1,D18+F18+(F18<E18))-MAX(T18,D18+E18)),"-") -> - | M18: =MOD(F18-E18,1) -> 0 | T18: =IF(D18>0,WORKDAY.INTL(D18-1,1,"1111110"),"-") -> -
D19: 45410 | E19: 0.041666667 | F19: 0.95833333 | H19: =M19-(L19+I19) -> -4.8510085e-12 | I19: =IF(OR(E19="",F19=""),"",(MOD(F19-E19,1)-IF(F19>E19,MAX(0,MIN(F19,21/24)-MAX(E19,6/24)),MAX(0,21/24-MAX(E19,6/24))+MAX(0,MIN(F19,21/24)-6/24))))-K19 -> 0 | J19: =IF(COUNT(E19:F19)=2,MAX(0,MIN(T19+21/24,D19+F19+(F19<E19))-MAX(T19+6/24,D19+E19)),"-") -> 0.625 | K19: =IF(COUNT(E19:F19)=2,MROUND(+L19-J19,1/48),"-") -> 0.29166667 | L19: =IF(COUNT(E19:F19)=2,MAX(0,MIN(T19+1,D19+F19+(F19<E19))-MAX(T19,D19+E19)),"-") -> 0.91666667 | M19: =MOD(F19-E19,1) -> 0.91666667 | T19: =IF(D19>0,WORKDAY.INTL(D19-1,1,"1111110"),"-") -> 45410
H20: =M20-(L20+I20) -> #VALUE! | I20: =IF(OR(E20="",F20=""),"",(MOD(F20-E20,1)-IF(F20>E20,MAX(0,MIN(F20,21/24)-MAX(E20,6/24)),MAX(0,21/24-MAX(E20,6/24))+MAX(0,MIN(F20,21/24)-6/24))))-K20 -> #VALUE! | J20: =IF(COUNT(E20:F20)=2,MAX(0,MIN(T20+21/24,D20+F20+(F20<E20))-MAX(T20+6/24,D20+E20)),"-") -> - | K20: =IF(COUNT(E20:F20)=2,MROUND(+L20-J20,1/48),"-") -> - | L20: =IF(COUNT(E20:F20)=2,MAX(0,MIN(T20+1,D20+F20+(F20<E20))-MAX(T20,D20+E20)),"-") -> - | M20: =MOD(F20-E20,1) -> 0 | T20: =IF(D20>0,WORKDAY.INTL(D20-1,1,"1111110"),"-") -> -
H21: =M21-(L21+I21) -> #VALUE! | I21: =IF(OR(E21="",F21=""),"",(MOD(F21-E21,1)-IF(F21>E21,MAX(0,MIN(F21,21/24)-MAX(E21,6/24)),MAX(0,21/24-MAX(E21,6/24))+MAX(0,MIN(F21,21/24)-6/24))))-K21 -> #VALUE! | J21: =IF(COUNT(E21:F21)=2,MAX(0,MIN(T21+21/24,D21+F21+(F21<E21))-MAX(T21+6/24,D21+E21)),"-") -> - | K21: =IF(COUNT(E21:F21)=2,MROUND(+L21-J21,1/48),"-") -> - | L21: =IF(COUNT(E21:F21)=2,MAX(0,MIN(T21+1,D21+F21+(F21<E21))-MAX(T21,D21+E21)),"-") -> - | M21: =MOD(F21-E21,1) -> 0 | T21: =IF(D21>0,WORKDAY.INTL(D21-1,1,"1111110"),"-") -> -
H22: =M22-(L22+I22) -> #VALUE! | I22: =IF(OR(E22="",F22=""),"",(MOD(F22-E22,1)-IF(F22>E22,MAX(0,MIN(F22,21/24)-MAX(E22,6/24)),MAX(0,21/24-MAX(E22,6/24))+MAX(0,MIN(F22,21/24)-6/24))))-K22 -> #VALUE! | J22: =IF(COUNT(E22:F22)=2,MAX(0,MIN(T22+21/24,D22+F22+(F22<E22))-MAX(T22+6/24,D22+E22)),"-") -> - | K22: =IF(COUNT(E22:F22)=2,MROUND(+L22-J22,1/48),"-") -> - | L22: =IF(COUNT(E22:F22)=2,MAX(0,MIN(T22+1,D22+F22+(F22<E22))-MAX(T22,D22+E22)),"-") -> - | M22: =MOD(F22-E22,1) -> 0 | T22: =IF(D22>0,WORKDAY.INTL(D22-1,1,"1111110"),"-") -> -
H23: =M23-(L23+I23) -> #VALUE! | I23: =IF(OR(E23="",F23=""),"",(MOD(F23-E23,1)-IF(F23>E23,MAX(0,MIN(F23,21/24)-MAX(E23,6/24)),MAX(0,21/24-MAX(E23,6/24))+MAX(0,MIN(F23,21/24)-6/24))))-K23 -> #VALUE! | J23: =IF(COUNT(E23:F23)=2,MAX(0,MIN(T23+21/24,D23+F23+(F23<E23))-MAX(T23+6/24,D23+E23)),"-") -> - | K23: =IF(COUNT(E23:F23)=2,MROUND(+L23-J23,1/48),"-") -> - | L23: =IF(COUNT(E23:F23)=2,MAX(0,MIN(T23+1,D23+F23+(F23<E23))-MAX(T23,D23+E23)),"-") -> - | M23: =MOD(F23-E23,1) -> 0 | T23: =IF(D23>0,WORKDAY.INTL(D23-1,1,"1111110"),"-") -> -
H24: =M24-(L24+I24) -> #VALUE! | I24: =IF(OR(E24="",F24=""),"",(MOD(F24-E24,1)-IF(F24>E24,MAX(0,MIN(F24,21/24)-MAX(E24,6/24)),MAX(0,21/24-MAX(E24,6/24))+MAX(0,MIN(F24,21/24)-6/24))))-K24 -> #VALUE! | J24: =IF(COUNT(E24:F24)=2,MAX(0,MIN(T24+21/24,D24+F24+(F24<E24))-MAX(T24+6/24,D24+E24)),"-") -> - | K24: =IF(COUNT(E24:F24)=2,MROUND(+L24-J24,1/48),"-") -> - | L24: =IF(COUNT(E24:F24)=2,MAX(0,MIN(T24+1,D24+F24+(F24<E24))-MAX(T24,D24+E24)),"-") -> - | M24: =MOD(F24-E24,1) -> 0 | T24: =IF(D24>0,WORKDAY.INTL(D24-1,1,"1111110"),"-") -> -
H25: =M25-(L25+I25) -> #VALUE! | I25: =IF(OR(E25="",F25=""),"",(MOD(F25-E25,1)-IF(F25>E25,MAX(0,MIN(F25,21/24)-MAX(E25,6/24)),MAX(0,21/24-MAX(E25,6/24))+MAX(0,MIN(F25,21/24)-6/24))))-K25 -> #VALUE! | J25: =IF(COUNT(E25:F25)=2,MAX(0,MIN(T25+21/24,D25+F25+(F25<E25))-MAX(T25+6/24,D25+E25)),"-") -> - | K25: =IF(COUNT(E25:F25)=2,MROUND(+L25-J25,1/48),"-") -> - | L25: =IF(COUNT(E25:F25)=2,MAX(0,MIN(T25+1,D25+F25+(F25<E25))-MAX(T25,D25+E25)),"-") -> - | M25: =MOD(F25-E25,1) -> 0 | T25: =IF(D25>0,WORKDAY.INTL(D25-1,1,"1111110"),"-") -> -
H26: =M26-(L26+I26) -> #VALUE! | I26: =IF(OR(E26="",F26=""),"",(MOD(F26-E26,1)-IF(F26>E26,MAX(0,MIN(F26,21/24)-MAX(E26,6/24)),MAX(0,21/24-MAX(E26,6/24))+MAX(0,MIN(F26,21/24)-6/24))))-K26 -> #VALUE! | J26: =IF(COUNT(E26:F26)=2,MAX(0,MIN(T26+21/24,D26+F26+(F26<E26))-MAX(T26+6/24,D26+E26)),"-") -> - | K26: =IF(COUNT(E26:F26)=2,MROUND(+L26-J26,1/48),"-") -> - | L26: =IF(COUNT(E26:F26)=2,MAX(0,MIN(T26+1,D26+F26+(F26<E26))-MAX(T26,D26+E26)),"-") -> - | M26: =MOD(F26-E26,1) -> 0 | T26: =IF(D26>0,WORKDAY.INTL(D26-1,1,"1111110"),"-") -> -
H27: =M27-(L27+I27) -> #VALUE! | I27: =IF(OR(E27="",F27=""),"",(MOD(F27-E27,1)-IF(F27>E27,MAX(0,MIN(F27,21/24)-MAX(E27,6/24)),MAX(0,21/24-MAX(E27,6/24))+MAX(0,MIN(F27,21/24)-6/24))))-K27 -> #VALUE! | J27: =IF(COUNT(E27:F27)=2,MAX(0,MIN(T27+21/24,D27+F27+(F27<E27))-MAX(T27+6/24,D27+E27)),"-") -> - | K27: =IF(COUNT(E27:F27)=2,MROUND(+L27-J27,1/48),"-") -> - | L27: =IF(COUNT(E27:F27)=2,MAX(0,MIN(T27+1,D27+F27+(F27<E27))-MAX(T27,D27+E27)),"-") -> - | M27: =MOD(F27-E27,1) -> 0 | T27: =IF(D27>0,WORKDAY.INTL(D27-1,1,"1111110"),"-") -> -
H28: =M28-(L28+I28) -> #VALUE! | I28: =IF(OR(E28="",F28=""),"",(MOD(F28-E28,1)-IF(F28>E28,MAX(0,MIN(F28,21/24)-MAX(E28,6/24)),MAX(0,21/24-MAX(E28,6/24))+MAX(0,MIN(F28,21/24)-6/24))))-K28 -> #VALUE! | J28: =IF(COUNT(E28:F28)=2,MAX(0,MIN(T28+21/24,D28+F28+(F28<E28))-MAX(T28+6/24,D28+E28)),"-") -> - | K28: =IF(COUNT(E28:F28)=2,MROUND(+L28-J28,1/48),"-") -> - | L28: =IF(COUNT(E28:F28)=2,MAX(0,MIN(T28+1,D28+F28+(F28<E28))-MAX(T28,D28+E28)),"-") -> - | M28: =MOD(F28-E28,1) -> 0 | T28: =IF(D28>0,WORKDAY.INTL(D28-1,1,"1111110"),"-") -> -
H29: =M29-(L29+I29) -> #VALUE! | I29: =IF(OR(E29="",F29=""),"",(MOD(F29-E29,1)-IF(F29>E29,MAX(0,MIN(F29,21/24)-MAX(E29,6/24)),MAX(0,21/24-MAX(E29,6/24))+MAX(0,MIN(F29,21/24)-6/24))))-K29 -> #VALUE! | J29: =IF(COUNT(E29:F29)=2,MAX(0,MIN(T29+21/24,D29+F29+(F29<E29))-MAX(T29+6/24,D29+E29)),"-") -> - | K29: =IF(COUNT(E29:F29)=2,MROUND(+L29-J29,1/48),"-") -> - | L29: =IF(COUNT(E29:F29)=2,MAX(0,MIN(T29+1,D29+F29+(F29<E29))-MAX(T29,D29+E29)),"-") -> - | M29: =MOD(F29-E29,1) -> 0 | T29: =IF(D29>0,WORKDAY.INTL(D29-1,1,"1111110"),"-") -> -
H30: =M30-(L30+I30) -> #VALUE! | I30: =IF(OR(E30="",F30=""),"",(MOD(F30-E30,1)-IF(F30>E30,MAX(0,MIN(F30,21/24)-MAX(E30,6/24)),MAX(0,21/24-MAX(E30,6/24))+MAX(0,MIN(F30,21/24)-6/24))))-K30 -> #VALUE! | J30: =IF(COUNT(E30:F30)=2,MAX(0,MIN(T30+21/24,D30+F30+(F30<E30))-MAX(T30+6/24,D30+E30)),"-") -> - | K30: =IF(COUNT(E30:F30)=2,MROUND(+L30-J30,1/48),"-") -> - | L30: =IF(COUNT(E30:F30)=2,MAX(0,MIN(T30+1,D30+F30+(F30<E30))-MAX(T30,D30+E30)),"-") -> - | M30: =MOD(F30-E30,1) -> 0 | T30: =IF(D30>0,WORKDAY.INTL(D30-1,1,"1111110"),"-") -> -
H31: =M31-(L31+I31) -> #VALUE! | I31: =IF(OR(E31="",F31=""),"",(MOD(F31-E31,1)-IF(F31>E31,MAX(0,MIN(F31,21/24)-MAX(E31,6/24)),MAX(0,21/24-MAX(E31,6/24))+MAX(0,MIN(F31,21/24)-6/24))))-K31 -> #VALUE! | J31: =IF(COUNT(E31:F31)=2,MAX(0,MIN(T31+21/24,D31+F31+(F31<E31))-MAX(T31+6/24,D31+E31)),"-") -> - | K31: =IF(COUNT(E31:F31)=2,MROUND(+L31-J31,1/48),"-") -> - | L31: =IF(COUNT(E31:F31)=2,MAX(0,MIN(T31+1,D31+F31+(F31<E31))-MAX(T31,D31+E31)),"-") -> - | M31: =MOD(F31-E31,1) -> 0 | T31: =IF(D31>0,WORKDAY.INTL(D31-1,1,"1111110"),"-") -> -
... H70: =M70-(L70+I70) -> #VALUE! | I70: =IF(OR(E70="",F70=""),"",(MOD(F70-E70,1)-IF(F70>E70,MAX(0,MIN(F70,21/24)-MAX(E70,6/24)),MAX(0,21/24-MAX(E70,6/24))+MAX(0,MIN(F70,21/24)-6/24))))-K70 -> #VALUE! | J70: =IF(COUNT(E70:F70)=2,MAX(0,MIN(T70+21/24,D70+F70+(F70<E70))-MAX(T70+6/24,D70+E70)),"-") -> - | K70: =IF(COUNT(E70:F70)=2,MROUND(+L70-J70,1/48),"-") -> - | L70: =IF(COUNT(E70:F70)=2,MAX(0,MIN(T70+1,D70+F70+(F70<E70))-MAX(T70,D70+E70)),"-") -> - | M70: =MOD(F70-E70,1) -> 0 | T70: =IF(D70>0,WORKDAY.INTL(D70-1,1,"1111110"),"-") -> -
M71: =SUM(M6:M70) -> 12.604167
