Workbook
Name BDD: OFFSET(BDD!$A$1,,,Nombre,11)
Name ColonneB: OFFSET('base de donnée'!$B$1,,,Dernier,)
Name Dernier: MAX(IF('base de donnée'!$B:$B<>"",ROW('base de donnée'!$B:$B),0))
Name Nombre: COUNTA(ColonneB)
Name Slicer_Client: #N/A
Name Slicer_espèce: #N/A

Sheet Notice
A2: Race | B2: espèce
A3: Prim'holstein | B3: bovins
A4: Montbéliarde | B4: bovins
A5: Normande | B5: bovins
A6: Armoricaine | B6: bovins
A7: Brune des Alpes | B7: bovins
A8: Vosgienne | B8: bovins
A9: Simmental | B9: bovins
A10: Brown Swiss | B10: bovins
A11: Jersiaise | B11: bovins
A12: Red Holstein | B12: bovins
A13: Charolaise | B13: bovins
... A131: Welsh | B131: poneys

Sheet base de donnée
B1: numéro d'ascendance | C1: Client | D1: Nom | E1: race | F1: nombre | G1: prix | H1: date | I1: Statut
B3: 26744447 | C3: ASIKA | D3: LANDWASSER DE MONTAUBAN | E3: Manech Rousse | F3: 11 ani. | G3: 110 euros | H3: 7 Octobre saison 84 | I3: En attente
G4: (10 €/ani.)
B5: 26744446 | C5: ASIKA | D5: AUSSOU DE MONTAUBAN | E5: Manech Noire | F5: 10 ani. | G5: 200 euros | H5: 7 Octobre saison 84 | I5: En attente
G6: (20 €/ani.)
B7: 26743999 | C7: ASIKA | D7: TEXEL 005 DE MONTAUBAN | E7: Texel | F7: 66 ani. | G7: 660 euros | H7: 6 Octobre saison 84 | I7: En attente
G8: (10 €/ani.)
B9: 26743990 | C9: ASIKA | D9: TAMUNOS DE CHAZELLE | E9: Causses du Lot | F9: 11 ani. | G9: 110 euros | H9: 6 Octobre saison 84 | I9: En attente
G10: (10 €/ani.)
B11: 26743989 | C11: ASIKA | D11: MAINE DE MONTAUBAN | E11: Blanche du massif Central | F11: 15 ani. | G11: 150 euros | H11: 6 Octobre saison 84 | I11: En attente
G12: (10 €/ani.)
B13: 26740285 | C13: ASIKA | D13: TOFOI DE CHAZELLE | E13: Rouge de l'Ouest | F13: 7 ani. | G13: 70 euros | H13: 4 Septembre saison 84 | I13: En attente
G14: (10 €/ani.)
B15: 26739317 | C15: ASIKA | D15: FAIMOIDUCUSCUS DE MONTAUB | E15: Aubrac | F15: 19 ani. | G15: 570 euros | H15: 2 Septembre saison 84 | I15: En attente
G16: (30 €/ani.)
B17: 26734676 | C17: ASIKA | D17: LANDWASSER DE MONTAUBAN | E17: Manech Rousse | F17: 7 ani. | G17: 70 euros | H17: 5 Juillet saison 84 | I17: En attente
G18: (10 €/ani.)

Sheet BDD
A1: {=IF(ROW()<=Nombre,_xlfn.AGGREGATE(15,6,ROW(ColonneB)/(ColonneB<>""),ROW())-1,"-")} -> 0 | B1: {=IF(ISNUMBER($A1),OFFSET('base de donnée'!$A$1,$A1,COLUMN()-1,,),"")} -> numéro d'ascendance | C1: {=IF(ISNUMBER($A1),OFFSET('base de donnée'!$A$1,$A1,COLUMN()-1,,),"")} -> Client | D1: {=IF(ISNUMBER($A1),OFFSET('base de donnée'!$A$1,$A1,COLUMN()-1,,),"")} -> Nom | E1: {=IF(ISNUMBER($A1),OFFSET('base de donnée'!$A$1,$A1,COLUMN()-1,,),"")} -> race | F1: {=IF(ISNUMBER($A1),OFFSET('base de donnée'!$A$1,$A1,COLUMN()-1,,),"")} -> nombre | G1: {=IF(ISNUMBER($A1),OFFSET('base de donnée'!$A$1,$A1,COLUMN()-1,,),"")} -> prix | H1: {=IF(ISNUMBER($A1),OFFSET('base de donnée'!$A$1,$A1,COLUMN()-1,,),"")} -> date | I1: {=IF(ISNUMBER($A1),OFFSET('base de donnée'!$A$1,$A1,COLUMN()-1,,),"")} -> Statut | J1: espèce | K1: Nmb | L1: PU | M1: prix | N1: date2
A2: {=IF(ROW()<=Nombre,_xlfn.AGGREGATE(15,6,ROW(ColonneB)/(ColonneB<>""),ROW())-1,"-")} -> 2 | B2: {=IF(ISNUMBER($A2),OFFSET('base de donnée'!$A$1,$A2,COLUMN()-1,,),"")} -> 26744447 | C2: {=IF(ISNUMBER($A2),OFFSET('base de donnée'!$A$1,$A2,COLUMN()-1,,),"")} -> ASIKA | D2: {=IF(ISNUMBER($A2),OFFSET('base de donnée'!$A$1,$A2,COLUMN()-1,,),"")} -> LANDWASSER DE MONTAUBAN | E2: {=IF(ISNUMBER($A2),OFFSET('base de donnée'!$A$1,$A2,COLUMN()-1,,),"")} -> Manech Rousse | F2: {=IF(ISNUMBER($A2),OFFSET('base de donnée'!$A$1,$A2,COLUMN()-1,,),"")} -> 11 ani. | G2: {=IF(ISNUMBER($A2),OFFSET('base de donnée'!$A$1,$A2,COLUMN()-1,,),"")} -> 110 euros | H2: {=IF(ISNUMBER($A2),OFFSET('base de donnée'!$A$1,$A2,COLUMN()-1,,),"")} -> 7 Octobre saison 84 | I2: {=IF(ISNUMBER($A2),OFFSET('base de donnée'!$A$1,$A2,COLUMN()-1,,),"")} -> En attente | J2: =VLOOKUP(" " &MID(E2,2,99),Tabel1[],2,0) -> ovins | K2: =--LEFT(F2,LEN(F2)-5) -> 11
A3: {=IF(ROW()<=Nombre,_xlfn.AGGREGATE(15,6,ROW(ColonneB)/(ColonneB<>""),ROW())-1,"-")} -> 4 | B3: {=IF(ISNUMBER($A3),OFFSET('base de donnée'!$A$1,$A3,COLUMN()-1,,),"")} -> 26744446 | C3: {=IF(ISNUMBER($A3),OFFSET('base de donnée'!$A$1,$A3,COLUMN()-1,,),"")} -> ASIKA | D3: {=IF(ISNUMBER($A3),OFFSET('base de donnée'!$A$1,$A3,COLUMN()-1,,),"")} -> AUSSOU DE MONTAUBAN | E3: {=IF(ISNUMBER($A3),OFFSET('base de donnée'!$A$1,$A3,COLUMN()-1,,),"")} -> Manech Noire | F3: {=IF(ISNUMBER($A3),OFFSET('base de donnée'!$A$1,$A3,COLUMN()-1,,),"")} -> 10 ani. | G3: {=IF(ISNUMBER($A3),OFFSET('base de donnée'!$A$1,$A3,COLUMN()-1,,),"")} -> 200 euros | H3: {=IF(ISNUMBER($A3),OFFSET('base de donnée'!$A$1,$A3,COLUMN()-1,,),"")} -> 7 Octobre saison 84 | I3: {=IF(ISNUMBER($A3),OFFSET('base de donnée'!$A$1,$A3,COLUMN()-1,,),"")} -> En attente | J3: =VLOOKUP(" " &MID(E3,2,99),Tabel1[],2,0) -> ovins | K3: =--LEFT(F3,LEN(F3)-5) -> 10
A4: {=IF(ROW()<=Nombre,_xlfn.AGGREGATE(15,6,ROW(ColonneB)/(ColonneB<>""),ROW())-1,"-")} -> 6 | B4: {=IF(ISNUMBER($A4),OFFSET('base de donnée'!$A$1,$A4,COLUMN()-1,,),"")} -> 26743999 | C4: {=IF(ISNUMBER($A4),OFFSET('base de donnée'!$A$1,$A4,COLUMN()-1,,),"")} -> ASIKA | D4: {=IF(ISNUMBER($A4),OFFSET('base de donnée'!$A$1,$A4,COLUMN()-1,,),"")} -> TEXEL 005 DE MONTAUBAN | E4: {=IF(ISNUMBER($A4),OFFSET('base de donnée'!$A$1,$A4,COLUMN()-1,,),"")} -> Texel | F4: {=IF(ISNUMBER($A4),OFFSET('base de donnée'!$A$1,$A4,COLUMN()-1,,),"")} -> 66 ani. | G4: {=IF(ISNUMBER($A4),OFFSET('base de donnée'!$A$1,$A4,COLUMN()-1,,),"")} -> 660 euros | H4: {=IF(ISNUMBER($A4),OFFSET('base de donnée'!$A$1,$A4,COLUMN()-1,,),"")} -> 6 Octobre saison 84 | I4: {=IF(ISNUMBER($A4),OFFSET('base de donnée'!$A$1,$A4,COLUMN()-1,,),"")} -> En attente | J4: =VLOOKUP(" " &MID(E4,2,99),Tabel1[],2,0) -> ovins | K4: =--LEFT(F4,LEN(F4)-5) -> 66
A5: {=IF(ROW()<=Nombre,_xlfn.AGGREGATE(15,6,ROW(ColonneB)/(ColonneB<>""),ROW())-1,"-")} -> 8 | B5: {=IF(ISNUMBER($A5),OFFSET('base de donnée'!$A$1,$A5,COLUMN()-1,,),"")} -> 26743990 | C5: {=IF(ISNUMBER($A5),OFFSET('base de donnée'!$A$1,$A5,COLUMN()-1,,),"")} -> ASIKA | D5: {=IF(ISNUMBER($A5),OFFSET('base de donnée'!$A$1,$A5,COLUMN()-1,,),"")} -> TAMUNOS DE CHAZELLE | E5: {=IF(ISNUMBER($A5),OFFSET('base de donnée'!$A$1,$A5,COLUMN()-1,,),"")} -> Causses du Lot | F5: {=IF(ISNUMBER($A5),OFFSET('base de donnée'!$A$1,$A5,COLUMN()-1,,),"")} -> 11 ani. | G5: {=IF(ISNUMBER($A5),OFFSET('base de donnée'!$A$1,$A5,COLUMN()-1,,),"")} -> 110 euros | H5: {=IF(ISNUMBER($A5),OFFSET('base de donnée'!$A$1,$A5,COLUMN()-1,,),"")} -> 6 Octobre saison 84 | I5: {=IF(ISNUMBER($A5),OFFSET('base de donnée'!$A$1,$A5,COLUMN()-1,,),"")} -> En attente | J5: =VLOOKUP(" " &MID(E5,2,99),Tabel1[],2,0) -> ovins | K5: =--LEFT(F5,LEN(F5)-5) -> 11
A6: {=IF(ROW()<=Nombre,_xlfn.AGGREGATE(15,6,ROW(ColonneB)/(ColonneB<>""),ROW())-1,"-")} -> 10 | B6: {=IF(ISNUMBER($A6),OFFSET('base de donnée'!$A$1,$A6,COLUMN()-1,,),"")} -> 26743989 | C6: {=IF(ISNUMBER($A6),OFFSET('base de donnée'!$A$1,$A6,COLUMN()-1,,),"")} -> ASIKA | D6: {=IF(ISNUMBER($A6),OFFSET('base de donnée'!$A$1,$A6,COLUMN()-1,,),"")} -> MAINE DE MONTAUBAN | E6: {=IF(ISNUMBER($A6),OFFSET('base de donnée'!$A$1,$A6,COLUMN()-1,,),"")} -> Blanche du massif Central | F6: {=IF(ISNUMBER($A6),OFFSET('base de donnée'!$A$1,$A6,COLUMN()-1,,),"")} -> 15 ani. | G6: {=IF(ISNUMBER($A6),OFFSET('base de donnée'!$A$1,$A6,COLUMN()-1,,),"")} -> 150 euros | H6: {=IF(ISNUMBER($A6),OFFSET('base de donnée'!$A$1,$A6,COLUMN()-1,,),"")} -> 6 Octobre saison 84 | I6: {=IF(ISNUMBER($A6),OFFSET('base de donnée'!$A$1,$A6,COLUMN()-1,,),"")} -> En attente | J6: =VLOOKUP(" " &MID(E6,2,99),Tabel1[],2,0) -> ovins | K6: =--LEFT(F6,LEN(F6)-5) -> 15
A7: {=IF(ROW()<=Nombre,_xlfn.AGGREGATE(15,6,ROW(ColonneB)/(ColonneB<>""),ROW())-1,"-")} -> 12 | B7: {=IF(ISNUMBER($A7),OFFSET('base de donnée'!$A$1,$A7,COLUMN()-1,,),"")} -> 26740285 | C7: {=IF(ISNUMBER($A7),OFFSET('base de donnée'!$A$1,$A7,COLUMN()-1,,),"")} -> ASIKA | D7: {=IF(ISNUMBER($A7),OFFSET('base de donnée'!$A$1,$A7,COLUMN()-1,,),"")} -> TOFOI DE CHAZELLE | E7: {=IF(ISNUMBER($A7),OFFSET('base de donnée'!$A$1,$A7,COLUMN()-1,,),"")} -> Rouge de l'Ouest | F7: {=IF(ISNUMBER($A7),OFFSET('base de donnée'!$A$1,$A7,COLUMN()-1,,),"")} -> 7 ani. | G7: {=IF(ISNUMBER($A7),OFFSET('base de donnée'!$A$1,$A7,COLUMN()-1,,),"")} -> 70 euros | H7: {=IF(ISNUMBER($A7),OFFSET('base de donnée'!$A$1,$A7,COLUMN()-1,,),"")} -> 4 Septembre saison 84 | I7: {=IF(ISNUMBER($A7),OFFSET('base de donnée'!$A$1,$A7,COLUMN()-1,,),"")} -> En attente | J7: =VLOOKUP(" " &MID(E7,2,99),Tabel1[],2,0) -> ovins | K7: =--LEFT(F7,LEN(F7)-5) -> 7
A8: {=IF(ROW()<=Nombre,_xlfn.AGGREGATE(15,6,ROW(ColonneB)/(ColonneB<>""),ROW())-1,"-")} -> 14 | B8: {=IF(ISNUMBER($A8),OFFSET('base de donnée'!$A$1,$A8,COLUMN()-1,,),"")} -> 26739317 | C8: {=IF(ISNUMBER($A8),OFFSET('base de donnée'!$A$1,$A8,COLUMN()-1,,),"")} -> ASIKA | D8: {=IF(ISNUMBER($A8),OFFSET('base de donnée'!$A$1,$A8,COLUMN()-1,,),"")} -> FAIMOIDUCUSCUS DE MONTAUB | E8: {=IF(ISNUMBER($A8),OFFSET('base de donnée'!$A$1,$A8,COLUMN()-1,,),"")} -> Aubrac | F8: {=IF(ISNUMBER($A8),OFFSET('base de donnée'!$A$1,$A8,COLUMN()-1,,),"")} -> 19 ani. | G8: {=IF(ISNUMBER($A8),OFFSET('base de donnée'!$A$1,$A8,COLUMN()-1,,),"")} -> 570 euros | H8: {=IF(ISNUMBER($A8),OFFSET('base de donnée'!$A$1,$A8,COLUMN()-1,,),"")} -> 2 Septembre saison 84 | I8: {=IF(ISNUMBER($A8),OFFSET('base de donnée'!$A$1,$A8,COLUMN()-1,,),"")} -> En attente | J8: =VLOOKUP(" " &MID(E8,2,99),Tabel1[],2,0) -> bovins | K8: =--LEFT(F8,LEN(F8)-5) -> 19
A9: {=IF(ROW()<=Nombre,_xlfn.AGGREGATE(15,6,ROW(ColonneB)/(ColonneB<>""),ROW())-1,"-")} -> 16 | B9: {=IF(ISNUMBER($A9),OFFSET('base de donnée'!$A$1,$A9,COLUMN()-1,,),"")} -> 26734676 | C9: {=IF(ISNUMBER($A9),OFFSET('base de donnée'!$A$1,$A9,COLUMN()-1,,),"")} -> ASIKA | D9: {=IF(ISNUMBER($A9),OFFSET('base de donnée'!$A$1,$A9,COLUMN()-1,,),"")} -> LANDWASSER DE MONTAUBAN | E9: {=IF(ISNUMBER($A9),OFFSET('base de donnée'!$A$1,$A9,COLUMN()-1,,),"")} -> Manech Rousse | F9: {=IF(ISNUMBER($A9),OFFSET('base de donnée'!$A$1,$A9,COLUMN()-1,,),"")} -> 7 ani. | G9: {=IF(ISNUMBER($A9),OFFSET('base de donnée'!$A$1,$A9,COLUMN()-1,,),"")} -> 70 euros | H9: {=IF(ISNUMBER($A9),OFFSET('base de donnée'!$A$1,$A9,COLUMN()-1,,),"")} -> 5 Juillet saison 84 | I9: {=IF(ISNUMBER($A9),OFFSET('base de donnée'!$A$1,$A9,COLUMN()-1,,),"")} -> En attente | J9: =VLOOKUP(" " &MID(E9,2,99),Tabel1[],2,0) -> ovins | K9: =--LEFT(F9,LEN(F9)-5) -> 7
A10: {=IF(ROW()<=Nombre,_xlfn.AGGREGATE(15,6,ROW(ColonneB)/(ColonneB<>""),ROW())-1,"-")} -> - | B10: {=IF(ISNUMBER($A10),OFFSET('base de donnée'!$A$1,$A10,COLUMN()-1,,),"")} | C10: {=IF(ISNUMBER($A10),OFFSET('base de donnée'!$A$1,$A10,COLUMN()-1,,),"")} | D10: {=IF(ISNUMBER($A10),OFFSET('base de donnée'!$A$1,$A10,COLUMN()-1,,),"")} | E10: {=IF(ISNUMBER($A10),OFFSET('base de donnée'!$A$1,$A10,COLUMN()-1,,),"")} | F10: {=IF(ISNUMBER($A10),OFFSET('base de donnée'!$A$1,$A10,COLUMN()-1,,),"")} | G10: {=IF(ISNUMBER($A10),OFFSET('base de donnée'!$A$1,$A10,COLUMN()-1,,),"")} | H10: {=IF(ISNUMBER($A10),OFFSET('base de donnée'!$A$1,$A10,COLUMN()-1,,),"")} | I10: {=IF(ISNUMBER($A10),OFFSET('base de donnée'!$A$1,$A10,COLUMN()-1,,),"")} | J10: =VLOOKUP(" " &MID(E10,2,99),Tabel1[],2,0) -> #N/A | K10: =--LEFT(F10,LEN(F10)-5) -> #VALUE!
A11: {=IF(ROW()<=Nombre,_xlfn.AGGREGATE(15,6,ROW(ColonneB)/(ColonneB<>""),ROW())-1,"-")} -> - | B11: {=IF(ISNUMBER($A11),OFFSET('base de donnée'!$A$1,$A11,COLUMN()-1,,),"")} | C11: {=IF(ISNUMBER($A11),OFFSET('base de donnée'!$A$1,$A11,COLUMN()-1,,),"")} | D11: {=IF(ISNUMBER($A11),OFFSET('base de donnée'!$A$1,$A11,COLUMN()-1,,),"")} | E11: {=IF(ISNUMBER($A11),OFFSET('base de donnée'!$A$1,$A11,COLUMN()-1,,),"")} | F11: {=IF(ISNUMBER($A11),OFFSET('base de donnée'!$A$1,$A11,COLUMN()-1,,),"")} | G11: {=IF(ISNUMBER($A11),OFFSET('base de donnée'!$A$1,$A11,COLUMN()-1,,),"")} | H11: {=IF(ISNUMBER($A11),OFFSET('base de donnée'!$A$1,$A11,COLUMN()-1,,),"")} | I11: {=IF(ISNUMBER($A11),OFFSET('base de donnée'!$A$1,$A11,COLUMN()-1,,),"")} | J11: =VLOOKUP(" " &MID(E11,2,99),Tabel1[],2,0) -> #N/A | K11: =--LEFT(F11,LEN(F11)-5) -> #VALUE!
A12: {=IF(ROW()<=Nombre,_xlfn.AGGREGATE(15,6,ROW(ColonneB)/(ColonneB<>""),ROW())-1,"-")} -> - | B12: {=IF(ISNUMBER($A12),OFFSET('base de donnée'!$A$1,$A12,COLUMN()-1,,),"")} | C12: {=IF(ISNUMBER($A12),OFFSET('base de donnée'!$A$1,$A12,COLUMN()-1,,),"")} | D12: {=IF(ISNUMBER($A12),OFFSET('base de donnée'!$A$1,$A12,COLUMN()-1,,),"")} | E12: {=IF(ISNUMBER($A12),OFFSET('base de donnée'!$A$1,$A12,COLUMN()-1,,),"")} | F12: {=IF(ISNUMBER($A12),OFFSET('base de donnée'!$A$1,$A12,COLUMN()-1,,),"")} | G12: {=IF(ISNUMBER($A12),OFFSET('base de donnée'!$A$1,$A12,COLUMN()-1,,),"")} | H12: {=IF(ISNUMBER($A12),OFFSET('base de donnée'!$A$1,$A12,COLUMN()-1,,),"")} | I12: {=IF(ISNUMBER($A12),OFFSET('base de donnée'!$A$1,$A12,COLUMN()-1,,),"")} | J12: =VLOOKUP(" " &MID(E12,2,99),Tabel1[],2,0) -> #N/A | K12: =--LEFT(F12,LEN(F12)-5) -> #VALUE!
A13: {=IF(ROW()<=Nombre,_xlfn.AGGREGATE(15,6,ROW(ColonneB)/(ColonneB<>""),ROW())-1,"-")} -> - | B13: {=IF(ISNUMBER($A13),OFFSET('base de donnée'!$A$1,$A13,COLUMN()-1,,),"")} | C13: {=IF(ISNUMBER($A13),OFFSET('base de donnée'!$A$1,$A13,COLUMN()-1,,),"")} | D13: {=IF(ISNUMBER($A13),OFFSET('base de donnée'!$A$1,$A13,COLUMN()-1,,),"")} | E13: {=IF(ISNUMBER($A13),OFFSET('base de donnée'!$A$1,$A13,COLUMN()-1,,),"")} | F13: {=IF(ISNUMBER($A13),OFFSET('base de donnée'!$A$1,$A13,COLUMN()-1,,),"")} | G13: {=IF(ISNUMBER($A13),OFFSET('base de donnée'!$A$1,$A13,COLUMN()-1,,),"")} | H13: {=IF(ISNUMBER($A13),OFFSET('base de donnée'!$A$1,$A13,COLUMN()-1,,),"")} | I13: {=IF(ISNUMBER($A13),OFFSET('base de donnée'!$A$1,$A13,COLUMN()-1,,),"")} | J13: =VLOOKUP(" " &MID(E13,2,99),Tabel1[],2,0) -> #N/A | K13: =--LEFT(F13,LEN(F13)-5) -> #VALUE!
A14: {=IF(ROW()<=Nombre,_xlfn.AGGREGATE(15,6,ROW(ColonneB)/(ColonneB<>""),ROW()),"-")} -> - | B14: {=IF(ISNUMBER($A14),OFFSET('base de donnée'!$A$1,$A14,COLUMN()-1,,),"")} | C14: {=IF(ISNUMBER($A14),OFFSET('base de donnée'!$A$1,$A14,COLUMN()-1,,),"")} | D14: {=IF(ISNUMBER($A14),OFFSET('base de donnée'!$A$1,$A14,COLUMN()-1,,),"")} | E14: {=IF(ISNUMBER($A14),OFFSET('base de donnée'!$A$1,$A14,COLUMN()-1,,),"")} | F14: {=IF(ISNUMBER($A14),OFFSET('base de donnée'!$A$1,$A14,COLUMN()-1,,),"")} | G14: {=IF(ISNUMBER($A14),OFFSET('base de donnée'!$A$1,$A14,COLUMN()-1,,),"")} | H14: {=IF(ISNUMBER($A14),OFFSET('base de donnée'!$A$1,$A14,COLUMN()-1,,),"")} | I14: {=IF(ISNUMBER($A14),OFFSET('base de donnée'!$A$1,$A14,COLUMN()-1,,),"")} | J14: =VLOOKUP(" " &MID(E14,2,99),Tabel1[],2,0) -> #N/A | K14: =--LEFT(F14,LEN(F14)-5) -> #VALUE!
A15: {=IF(ROW()<=Nombre,_xlfn.AGGREGATE(15,6,ROW(ColonneB)/(ColonneB<>""),ROW()),"-")} -> - | B15: {=IF(ISNUMBER($A15),OFFSET('base de donnée'!$A$1,$A15,COLUMN()-1,,),"")} | C15: {=IF(ISNUMBER($A15),OFFSET('base de donnée'!$A$1,$A15,COLUMN()-1,,),"")} | D15: {=IF(ISNUMBER($A15),OFFSET('base de donnée'!$A$1,$A15,COLUMN()-1,,),"")} | E15: {=IF(ISNUMBER($A15),OFFSET('base de donnée'!$A$1,$A15,COLUMN()-1,,),"")} | F15: {=IF(ISNUMBER($A15),OFFSET('base de donnée'!$A$1,$A15,COLUMN()-1,,),"")} | G15: {=IF(ISNUMBER($A15),OFFSET('base de donnée'!$A$1,$A15,COLUMN()-1,,),"")} | H15: {=IF(ISNUMBER($A15),OFFSET('base de donnée'!$A$1,$A15,COLUMN()-1,,),"")} | I15: {=IF(ISNUMBER($A15),OFFSET('base de donnée'!$A$1,$A15,COLUMN()-1,,),"")} | J15: =VLOOKUP(" " &MID(E15,2,99),Tabel1[],2,0) -> #N/A | K15: =--LEFT(F15,LEN(F15)-5) -> #VALUE!
A16: {=IF(ROW()<=Nombre,_xlfn.AGGREGATE(15,6,ROW(ColonneB)/(ColonneB<>""),ROW()),"-")} -> - | B16: {=IF(ISNUMBER($A16),OFFSET('base de donnée'!$A$1,$A16,COLUMN()-1,,),"")} | C16: {=IF(ISNUMBER($A16),OFFSET('base de donnée'!$A$1,$A16,COLUMN()-1,,),"")} | D16: {=IF(ISNUMBER($A16),OFFSET('base de donnée'!$A$1,$A16,COLUMN()-1,,),"")} | E16: {=IF(ISNUMBER($A16),OFFSET('base de donnée'!$A$1,$A16,COLUMN()-1,,),"")} | F16: {=IF(ISNUMBER($A16),OFFSET('base de donnée'!$A$1,$A16,COLUMN()-1,,),"")} | G16: {=IF(ISNUMBER($A16),OFFSET('base de donnée'!$A$1,$A16,COLUMN()-1,,),"")} | H16: {=IF(ISNUMBER($A16),OFFSET('base de donnée'!$A$1,$A16,COLUMN()-1,,),"")} | I16: {=IF(ISNUMBER($A16),OFFSET('base de donnée'!$A$1,$A16,COLUMN()-1,,),"")} | J16: =VLOOKUP(" " &MID(E16,2,99),Tabel1[],2,0) -> #N/A | K16: =--LEFT(F16,LEN(F16)-5) -> #VALUE!
A17: {=IF(ROW()<=Nombre,_xlfn.AGGREGATE(15,6,ROW(ColonneB)/(ColonneB<>""),ROW()),"-")} -> - | B17: {=IF(ISNUMBER($A17),OFFSET('base de donnée'!$A$1,$A17,COLUMN()-1,,),"")} | C17: {=IF(ISNUMBER($A17),OFFSET('base de donnée'!$A$1,$A17,COLUMN()-1,,),"")} | D17: {=IF(ISNUMBER($A17),OFFSET('base de donnée'!$A$1,$A17,COLUMN()-1,,),"")} | E17: {=IF(ISNUMBER($A17),OFFSET('base de donnée'!$A$1,$A17,COLUMN()-1,,),"")} | F17: {=IF(ISNUMBER($A17),OFFSET('base de donnée'!$A$1,$A17,COLUMN()-1,,),"")} | G17: {=IF(ISNUMBER($A17),OFFSET('base de donnée'!$A$1,$A17,COLUMN()-1,,),"")} | H17: {=IF(ISNUMBER($A17),OFFSET('base de donnée'!$A$1,$A17,COLUMN()-1,,),"")} | I17: {=IF(ISNUMBER($A17),OFFSET('base de donnée'!$A$1,$A17,COLUMN()-1,,),"")} | J17: =VLOOKUP(" " &MID(E17,2,99),Tabel1[],2,0) -> #N/A | K17: =--LEFT(F17,LEN(F17)-5) -> #VALUE!
A18: {=IF(ROW()<=Nombre,_xlfn.AGGREGATE(15,6,ROW(ColonneB)/(ColonneB<>""),ROW()),"-")} -> - | B18: {=IF(ISNUMBER($A18),OFFSET('base de donnée'!$A$1,$A18,COLUMN()-1,,),"")} | C18: {=IF(ISNUMBER($A18),OFFSET('base de donnée'!$A$1,$A18,COLUMN()-1,,),"")} | D18: {=IF(ISNUMBER($A18),OFFSET('base de donnée'!$A$1,$A18,COLUMN()-1,,),"")} | E18: {=IF(ISNUMBER($A18),OFFSET('base de donnée'!$A$1,$A18,COLUMN()-1,,),"")} | F18: {=IF(ISNUMBER($A18),OFFSET('base de donnée'!$A$1,$A18,COLUMN()-1,,),"")} | G18: {=IF(ISNUMBER($A18),OFFSET('base de donnée'!$A$1,$A18,COLUMN()-1,,),"")} | H18: {=IF(ISNUMBER($A18),OFFSET('base de donnée'!$A$1,$A18,COLUMN()-1,,),"")} | I18: {=IF(ISNUMBER($A18),OFFSET('base de donnée'!$A$1,$A18,COLUMN()-1,,),"")} | J18: =VLOOKUP(" " &MID(E18,2,99),Tabel1[],2,0) -> #N/A | K18: =--LEFT(F18,LEN(F18)-5) -> #VALUE!
A19: {=IF(ROW()<=Nombre,_xlfn.AGGREGATE(15,6,ROW(ColonneB)/(ColonneB<>""),ROW()),"-")} -> - | B19: {=IF(ISNUMBER($A19),OFFSET('base de donnée'!$A$1,$A19,COLUMN()-1,,),"")} | C19: {=IF(ISNUMBER($A19),OFFSET('base de donnée'!$A$1,$A19,COLUMN()-1,,),"")} | D19: {=IF(ISNUMBER($A19),OFFSET('base de donnée'!$A$1,$A19,COLUMN()-1,,),"")} | E19: {=IF(ISNUMBER($A19),OFFSET('base de donnée'!$A$1,$A19,COLUMN()-1,,),"")} | F19: {=IF(ISNUMBER($A19),OFFSET('base de donnée'!$A$1,$A19,COLUMN()-1,,),"")} | G19: {=IF(ISNUMBER($A19),OFFSET('base de donnée'!$A$1,$A19,COLUMN()-1,,),"")} | H19: {=IF(ISNUMBER($A19),OFFSET('base de donnée'!$A$1,$A19,COLUMN()-1,,),"")} | I19: {=IF(ISNUMBER($A19),OFFSET('base de donnée'!$A$1,$A19,COLUMN()-1,,),"")} | J19: =VLOOKUP(" " &MID(E19,2,99),Tabel1[],2,0) -> #N/A | K19: =--LEFT(F19,LEN(F19)-5) -> #VALUE!
A20: {=IF(ROW()<=Nombre,_xlfn.AGGREGATE(15,6,ROW(ColonneB)/(ColonneB<>""),ROW()),"-")} -> - | B20: {=IF(ISNUMBER($A20),OFFSET('base de donnée'!$A$1,$A20,COLUMN()-1,,),"")} | C20: {=IF(ISNUMBER($A20),OFFSET('base de donnée'!$A$1,$A20,COLUMN()-1,,),"")} | D20: {=IF(ISNUMBER($A20),OFFSET('base de donnée'!$A$1,$A20,COLUMN()-1,,),"")} | E20: {=IF(ISNUMBER($A20),OFFSET('base de donnée'!$A$1,$A20,COLUMN()-1,,),"")} | F20: {=IF(ISNUMBER($A20),OFFSET('base de donnée'!$A$1,$A20,COLUMN()-1,,),"")} | G20: {=IF(ISNUMBER($A20),OFFSET('base de donnée'!$A$1,$A20,COLUMN()-1,,),"")} | H20: {=IF(ISNUMBER($A20),OFFSET('base de donnée'!$A$1,$A20,COLUMN()-1,,),"")} | I20: {=IF(ISNUMBER($A20),OFFSET('base de donnée'!$A$1,$A20,COLUMN()-1,,),"")}
K21: =COLUMN() -> 11

Sheet TCD
B1: Som van Nmb | E1: Client
B2: espèce | C2: race | D2: Nom | E2: ASIKA | F2: Grand total
B3: ovins | C3: Blanche du massif Central | D3: MAINE DE MONTAUBAN | E3: 15 | F3: 15
C4: Causses du Lot | D4: TAMUNOS DE CHAZELLE | E4: 11 | F4: 11
C5: Manech Noire | D5: AUSSOU DE MONTAUBAN | E5: 10 | F5: 10
C6: Manech Rousse | D6: LANDWASSER DE MONTAUBAN | E6: 18 | F6: 18
C7: Rouge de l'Ouest | D7: TOFOI DE CHAZELLE | E7: 7 | F7: 7
C8: Texel | D8: TEXEL 005 DE MONTAUBAN | E8: 66 | F8: 66
B9: Total ovins | E9: 127 | F9: 127
B11: bovins | C11: Aubrac | D11: FAIMOIDUCUSCUS DE MONTAUB | E11: 19 | F11: 19
B12: Total bovins | E12: 19 | F12: 19
B14: Grand total | E14: 146 | F14: 146
