Workbook
Name BDD_CHPB: TBL_Bourg[]
Name Slicer_aux: #N/A
Name Slicer_NOM1: #N/A
Name Slicer_Type_d_acte: #N/A

Sheet BDD
A1: m*
A3: COMMUNE | B3: Type d'acte | C3: date | D3: année | E3: Nom 1 | F3: parents 1 | G3: nom 2 | H3: prénom 2 | I3: observations | J3: aux | K3: NOM
A4: SAMONAC | B4: N | C4: 0.52407407 | E4: MICHAUD Françoise | F4: Jacques et Anne CAUSADE | J4: =IFERROR(--(SEARCH(BDD!$A$1,TBL_Bourg[[#This Row],[Nom 1]])=1),0) -> 1 | K4: =LEFT(TBL_Bourg[[#This Row],[Nom 1]],SEARCH(" ",TBL_Bourg[[#This Row],[Nom 1]] & " ")-1) -> MICHAUD
A5: SAMONAC | B5: D | C5: 0.52679398 | E5: BERNARD Guillaume | F5: époux de Jeanne MEYNARD | I5: 43ans | J5: =IFERROR(--(SEARCH(BDD!$A$1,TBL_Bourg[[#This Row],[Nom 1]])=1),0) -> 0 | K5: =LEFT(TBL_Bourg[[#This Row],[Nom 1]],SEARCH(" ",TBL_Bourg[[#This Row],[Nom 1]] & " ")-1) -> BERNARD
A6: BAYON | B6: M | C6: 0.81579861 | E6: DURANT Jean | G6: LATASTE Pétronille | J6: =IFERROR(--(SEARCH(BDD!$A$1,TBL_Bourg[[#This Row],[Nom 1]])=1),0) -> 0 | K6: =LEFT(TBL_Bourg[[#This Row],[Nom 1]],SEARCH(" ",TBL_Bourg[[#This Row],[Nom 1]] & " ")-1) -> DURANT
A7: SAINT CHRISTOLY | B7: M | C7: 48 | E7: ROY Bernard | G7: GOLPHE Magdeleine | J7: =IFERROR(--(SEARCH(BDD!$A$1,TBL_Bourg[[#This Row],[Nom 1]])=1),0) -> 0 | K7: =LEFT(TBL_Bourg[[#This Row],[Nom 1]],SEARCH(" ",TBL_Bourg[[#This Row],[Nom 1]] & " ")-1) -> ROY
A8: SAINT CHRISTOLY | B8: M | C8: 49 | E8: BOURSIER Eloi | G8: BOISMORAND Marie | J8: =IFERROR(--(SEARCH(BDD!$A$1,TBL_Bourg[[#This Row],[Nom 1]])=1),0) -> 0 | K8: =LEFT(TBL_Bourg[[#This Row],[Nom 1]],SEARCH(" ",TBL_Bourg[[#This Row],[Nom 1]] & " ")-1) -> BOURSIER
A9: SAINT CHRISTOLY | B9: M | C9: 52 | E9: PELLETAN Jacques | G9: DAVIAS Marias | J9: =IFERROR(--(SEARCH(BDD!$A$1,TBL_Bourg[[#This Row],[Nom 1]])=1),0) -> 0 | K9: =LEFT(TBL_Bourg[[#This Row],[Nom 1]],SEARCH(" ",TBL_Bourg[[#This Row],[Nom 1]] & " ")-1) -> PELLETAN
A10: SAINT CHRISTOLY | B10: M | C10: 82 | E10: BOUGEASSON Pierre | G10: REDON Marie | J10: =IFERROR(--(SEARCH(BDD!$A$1,TBL_Bourg[[#This Row],[Nom 1]])=1),0) -> 0 | K10: =LEFT(TBL_Bourg[[#This Row],[Nom 1]],SEARCH(" ",TBL_Bourg[[#This Row],[Nom 1]] & " ")-1) -> BOUGEASSON
A11: SAINT CHRISTOLY | B11: M | C11: 107 | E11: RENOUX Ressioty | G11: VOISIN Fernande | J11: =IFERROR(--(SEARCH(BDD!$A$1,TBL_Bourg[[#This Row],[Nom 1]])=1),0) -> 0 | K11: =LEFT(TBL_Bourg[[#This Row],[Nom 1]],SEARCH(" ",TBL_Bourg[[#This Row],[Nom 1]] & " ")-1) -> RENOUX
A12: SAINT CHRISTOLY | B12: M | C12: 129 | E12: DUPIN Jean | G12: DONIRE Catherine | J12: =IFERROR(--(SEARCH(BDD!$A$1,TBL_Bourg[[#This Row],[Nom 1]])=1),0) -> 0 | K12: =LEFT(TBL_Bourg[[#This Row],[Nom 1]],SEARCH(" ",TBL_Bourg[[#This Row],[Nom 1]] & " ")-1) -> DUPIN
A13: SAINT CHRISTOLY | B13: M | C13: 173 | E13: PELLUCHON Alfred | G13: BARONNET Marie | J13: =IFERROR(--(SEARCH(BDD!$A$1,TBL_Bourg[[#This Row],[Nom 1]])=1),0) -> 0 | K13: =LEFT(TBL_Bourg[[#This Row],[Nom 1]],SEARCH(" ",TBL_Bourg[[#This Row],[Nom 1]] & " ")-1) -> PELLUCHON
A14: SAINT CHRISTOLY | B14: M | C14: 234 | E14: ARTIGUE Joseph | G14: FLOBERT Marie | J14: =IFERROR(--(SEARCH(BDD!$A$1,TBL_Bourg[[#This Row],[Nom 1]])=1),0) -> 0 | K14: =LEFT(TBL_Bourg[[#This Row],[Nom 1]],SEARCH(" ",TBL_Bourg[[#This Row],[Nom 1]] & " ")-1) -> ARTIGUE
A15: SAINT CHRISTOLY | B15: M | C15: 242 | E15: PORTRAIT Jean | G15: MENAUD Franþoise | J15: =IFERROR(--(SEARCH(BDD!$A$1,TBL_Bourg[[#This Row],[Nom 1]])=1),0) -> 0 | K15: =LEFT(TBL_Bourg[[#This Row],[Nom 1]],SEARCH(" ",TBL_Bourg[[#This Row],[Nom 1]] & " ")-1) -> PORTRAIT
A16: SAINT CHRISTOLY | B16: M | C16: 258 | E16: CHARLES Marcel | G16: GILBERT Marie | J16: =IFERROR(--(SEARCH(BDD!$A$1,TBL_Bourg[[#This Row],[Nom 1]])=1),0) -> 0 | K16: =LEFT(TBL_Bourg[[#This Row],[Nom 1]],SEARCH(" ",TBL_Bourg[[#This Row],[Nom 1]] & " ")-1) -> CHARLES
A17: SAINT CHRISTOLY | B17: M | C17: 314 | E17: MACHEFER Pierre | G17: MONTALGON Catherine | J17: =IFERROR(--(SEARCH(BDD!$A$1,TBL_Bourg[[#This Row],[Nom 1]])=1),0) -> 1 | K17: =LEFT(TBL_Bourg[[#This Row],[Nom 1]],SEARCH(" ",TBL_Bourg[[#This Row],[Nom 1]] & " ")-1) -> MACHEFER
... A20: SAINT CHRISTOLY | B20: M | C20: 337 | E20: BRAUD Jean | G20: SEBRON Jeanne | J20: =IFERROR(--(SEARCH(BDD!$A$1,TBL_Bourg[[#This Row],[Nom 1]])=1),0) -> 0 | K20: =LEFT(TBL_Bourg[[#This Row],[Nom 1]],SEARCH(" ",TBL_Bourg[[#This Row],[Nom 1]] & " ")-1) -> BRAUD
A21: BAYON | B21: D | C21: 1693 | E21: DORSEMERE | J21: =IFERROR(--(SEARCH(BDD!$A$1,TBL_Bourg[[#This Row],[Nom 1]])=1),0) -> 0 | K21: =LEFT(TBL_Bourg[[#This Row],[Nom 1]],SEARCH(" ",TBL_Bourg[[#This Row],[Nom 1]] & " ")-1) -> DORSEMERE
A22: BAYON | B22: N | C22: 1740 | E22: LATASTE Jean | F22: Martin et Guilhem Marie | J22: =IFERROR(--(SEARCH(BDD!$A$1,TBL_Bourg[[#This Row],[Nom 1]])=1),0) -> 0 | K22: =LEFT(TBL_Bourg[[#This Row],[Nom 1]],SEARCH(" ",TBL_Bourg[[#This Row],[Nom 1]] & " ")-1) -> LATASTE
A23: BOURG/CAMILLAC | B23: N | C23: 1753 | E23: MOTARD Louis | F23: Jean et Morpin Jeanne | J23: =IFERROR(--(SEARCH(BDD!$A$1,TBL_Bourg[[#This Row],[Nom 1]])=1),0) -> 1 | K23: =LEFT(TBL_Bourg[[#This Row],[Nom 1]],SEARCH(" ",TBL_Bourg[[#This Row],[Nom 1]] & " ")-1) -> MOTARD
A24: BAYON | B24: N | C24: 1757 | E24: PETIT Pétronille | F24: (pas de mention) | J24: =IFERROR(--(SEARCH(BDD!$A$1,TBL_Bourg[[#This Row],[Nom 1]])=1),0) -> 0 | K24: =LEFT(TBL_Bourg[[#This Row],[Nom 1]],SEARCH(" ",TBL_Bourg[[#This Row],[Nom 1]] & " ")-1) -> PETIT
A25: BOURG/CAMILLAC | B25: N | C25: 1759 | E25: CANEAU Michel | F25: Jean et Nazereau Jeanne | J25: =IFERROR(--(SEARCH(BDD!$A$1,TBL_Bourg[[#This Row],[Nom 1]])=1),0) -> 0 | K25: =LEFT(TBL_Bourg[[#This Row],[Nom 1]],SEARCH(" ",TBL_Bourg[[#This Row],[Nom 1]] & " ")-1) -> CANEAU
A26: SAMONAC | B26: D | C26: 1769 | E26: DUMENIEU | F26: fille de Jean | I26: enfant | J26: =IFERROR(--(SEARCH(BDD!$A$1,TBL_Bourg[[#This Row],[Nom 1]])=1),0) -> 0 | K26: =LEFT(TBL_Bourg[[#This Row],[Nom 1]],SEARCH(" ",TBL_Bourg[[#This Row],[Nom 1]] & " ")-1) -> DUMENIEU
B27: M | E27: BERNAARD Bernard | J27: =IFERROR(--(SEARCH(BDD!$A$1,TBL_Bourg[[#This Row],[Nom 1]])=1),0) -> 0 | K27: =LEFT(TBL_Bourg[[#This Row],[Nom 1]],SEARCH(" ",TBL_Bourg[[#This Row],[Nom 1]] & " ")-1) -> BERNAARD
