Workbook
Name Année: 'Jours feriés'!$B$19
Name Fériés: 'Jours feriés'!$B$3:$L$15
Name MesMois: 'Jours feriés'!$O$1:$O$12

Sheet Année
A1: 4 | E1: accueil | Q1: Pédiluve | W1: Compteur Bâche
A2: mois | B2: sem | C2: date | E2: fréquentation | F2: conso Générale | G2: Bassin | H2: conso | I2: EF surp | J2: conso | K2: EFS | L2: conso | M2: Eau Adoucie | N2: conso | O2: ECS | P2: conso | Q2: C1 | R2: conso | S2: C2 | T2: conso | U2: C3 | V2: conso | W2: C1 | X2: conso | Y2: C2 | Z2: conso | AA2: C3 | AB2: conso | AC2: total bâche (en L) | AD2: L/baigneur
A3: col01 | B3: col02 | C3: col03 | D3: col04 | E3: col05 | F3: col06 | G3: col07 | H3: col08 | I3: col09 | J3: col10 | K3: col11 | L3: col12 | M3: col13 | N3: col14 | O3: col15 | P3: col16 | Q3: col17 | R3: col18 | S3: col19 | T3: col20 | U3: col21 | V3: col22 | W3: col23 | X3: col24 | Y3: col25 | Z3: col26 | AA3: col27 | AB3: col28 | AC3: col29 | AD3: col30
A4: =MOD(YEAR(C4),100)&"-"&TEXT(MONTH(C4),"00") -> 25-12 | B4: =_xlfn.ISOWEEKNUM(Tabel1[[#This Row],[col03]]) -> 1 | C4: =DATE(Année,1,ROW()-ROW(Tabel1[[#Headers],[col03]])-1) -> 46022 | F4: =IF(WORKDAY.INTL($C4-1,1,11,Fériés)=$C4,H4+J4+L4+N4+P4,"") -> #VALUE! | H4: {=IF(OFFSET(G4,WORKDAY.INTL(C4,1,11,Fériés)-C4,,,)=0, "-", OFFSET(G4,WORKDAY.INTL(C4,1,11,Fériés)-C4,,,)-G4)} -> - | J4: =IF(I6=0,,I6-I4) -> 0 | L4: =IF(K6=0,,K6-K4) -> 0 | N4: =IF(M7=0,,M7-M4) -> 0 | P4: =IF(O6=0,,O6-O4) -> 0 | R4: =IF(Q6=0,,Q6-Q4) -> 0 | T4: =IF(S6=0,,S6-S4) -> 0 | V4: =IF(U6=0,,U6-U4) -> 0 | X4: =IF(W6=0,,W6-W4) -> 0 | Z4: =IF(Y6=0,,Y6-Y4) -> 0 | AB4: =IF(AA6=0,,AA6-AA4) -> 0 | AC4: =(AB4+Z4+X4)*1000 -> 0 | AD4: =IF(AC4=0,,AC4/(E4+E5)) -> 0 | AF4: =COUNTIF(Fériés,C4) -> 0 | AH4: lavage de filtre
A5: =MOD(YEAR(C5),100)&"-"&TEXT(MONTH(C5),"00") -> 26-01 | B5: =_xlfn.ISOWEEKNUM(Tabel1[[#This Row],[col03]]) -> 1 | C5: =DATE(Année,1,ROW()-ROW(Tabel1[[#Headers],[col03]])-1) -> 46023 | F5: =IF(WORKDAY.INTL($C5-1,1,11,Fériés)=$C5,H5+J5+L5+N5+P5,"") | H5: {=IF(OFFSET(G5,WORKDAY.INTL(C5,1,11,Fériés)-C5,,,)=0, "-", OFFSET(G5,WORKDAY.INTL(C5,1,11,Fériés)-C5,,,)-G5)} -> - | AD5: =IF(AC5=0,,AC5/E5) -> 0 | AF5: =COUNTIF(Fériés,C5) -> 1 | AH5: Matiére fécale
A6: =MOD(YEAR(C6),100)&"-"&TEXT(MONTH(C6),"00") -> 26-01 | B6: =_xlfn.ISOWEEKNUM(Tabel1[[#This Row],[col03]]) -> 1 | C6: =DATE(Année,1,ROW()-ROW(Tabel1[[#Headers],[col03]])-1) -> 46024 | F6: =IF(WORKDAY.INTL($C6-1,1,11,Fériés)=$C6,H6+J6+L6+N6+P6,"") -> #VALUE! | H6: {=IF(OFFSET(G6,WORKDAY.INTL(C6,1,11,Fériés)-C6,,,)=0, "-", OFFSET(G6,WORKDAY.INTL(C6,1,11,Fériés)-C6,,,)-G6)} -> - | J6: =IF(I7=0,,I7-I6) -> 0 | L6: =IF(K7=0,,K7-K6) -> 0 | N6: =IF(M7=0,,M7-M6) -> 0 | P6: =IF(O7=0,,O7-O6) -> 0 | R6: =IF(Q7=0,,Q7-Q6) -> 0 | T6: =IF(S7=0,,S7-S6) -> 0 | V6: =IF(U7=0,,U7-U6) -> 0 | X6: =IF(W7=0,,W7-W6) -> 0 | Z6: =IF(Y7=0,,Y7-Y6) -> 0 | AB6: =IF(AA7=0,,AA7-AA6) -> 0 | AC6: =(AB6+Z6+X6)*1000 -> 0 | AD6: =IF(AC6=0,,AC6/E6) -> 0 | AF6: =COUNTIF(Fériés,C6) -> 0 | AH6: vidange
A7: =MOD(YEAR(C7),100)&"-"&TEXT(MONTH(C7),"00") -> 26-01 | B7: =_xlfn.ISOWEEKNUM(Tabel1[[#This Row],[col03]]) -> 1 | C7: =DATE(Année,1,ROW()-ROW(Tabel1[[#Headers],[col03]])-1) -> 46025 | F7: =IF(WORKDAY.INTL($C7-1,1,11,Fériés)=$C7,H7+J7+L7+N7+P7,"") -> #VALUE! | H7: {=IF(OFFSET(G7,WORKDAY.INTL(C7,1,11,Fériés)-C7,,,)=0, "-", OFFSET(G7,WORKDAY.INTL(C7,1,11,Fériés)-C7,,,)-G7)} -> - | J7: =IF(I8=0,,I8-I7) -> 0 | L7: =IF(K8=0,,K8-K7) -> 0 | N7: =IF(M8=0,,M8-M7) -> 0 | P7: =IF(O8=0,,O8-O7) -> 0 | R7: =IF(Q8=0,,Q8-Q7) -> 0 | T7: =IF(S8=0,,S8-S7) -> 0 | V7: =IF(U8=0,,U8-U7) -> 0 | X7: =IF(W8=0,,W8-W7) -> 0 | Z7: =IF(Y8=0,,Y8-Y7) -> 0 | AB7: =IF(AA8=0,,AA8-AA7) -> 0 | AC7: =(AB7+Z7+X7)*1000 -> 0 | AD7: =IF(AC7=0,,AC7/E7) -> 0 | AF7: =COUNTIF(Fériés,C7) -> 0 | AH7: vidange Bâche
A8: =MOD(YEAR(C8),100)&"-"&TEXT(MONTH(C8),"00") -> 26-01 | B8: =_xlfn.ISOWEEKNUM(Tabel1[[#This Row],[col03]]) -> 1 | C8: =DATE(Année,1,ROW()-ROW(Tabel1[[#Headers],[col03]])-1) -> 46026 | F8: =IF(WORKDAY.INTL($C8-1,1,11,Fériés)=$C8,H8+J8+L8+N8+P8,"") | H8: {=IF(OFFSET(G8,WORKDAY.INTL(C8,1,11,Fériés)-C8,,,)=0, "-", OFFSET(G8,WORKDAY.INTL(C8,1,11,Fériés)-C8,,,)-G8)} -> - | J8: =IF(I9=0,,I9-I8) -> 0 | L8: =IF(K9=0,,K9-K8) -> 0 | N8: =IF(M9=0,,M9-M8) -> 0 | P8: =IF(O9=0,,O9-O8) -> 0 | R8: =IF(Q9=0,,Q9-Q8) -> 0 | T8: =IF(S9=0,,S9-S8) -> 0 | V8: =IF(U9=0,,U9-U8) -> 0 | X8: =IF(W9=0,,W9-W8) -> 0 | Z8: =IF(Y9=0,,Y9-Y8) -> 0 | AB8: =IF(AA9=0,,AA9-AA8) -> 0 | AC8: =(AB8+Z8+X8)*1000 -> 0 | AD8: =IF(AC8=0,,AC8/E8) -> 0 | AF8: =COUNTIF(Fériés,C8) -> 0 | AH8: Apport d'eau
A9: =MOD(YEAR(C9),100)&"-"&TEXT(MONTH(C9),"00") -> 26-01 | B9: =_xlfn.ISOWEEKNUM(Tabel1[[#This Row],[col03]]) -> 2 | C9: =DATE(Année,1,ROW()-ROW(Tabel1[[#Headers],[col03]])-1) -> 46027 | F9: =IF(WORKDAY.INTL($C9-1,1,11,Fériés)=$C9,H9+J9+L9+N9+P9,"") -> #VALUE! | H9: {=IF(OFFSET(G9,WORKDAY.INTL(C9,1,11,Fériés)-C9,,,)=0, "-", OFFSET(G9,WORKDAY.INTL(C9,1,11,Fériés)-C9,,,)-G9)} -> - | J9: =IF(I10=0,,I10-I9) -> 0 | L9: =IF(K10=0,,K10-K9) -> 0 | N9: =IF(M10=0,,M10-M9) -> 0 | P9: =IF(O10=0,,O10-O9) -> 0 | R9: =IF(Q10=0,,Q10-Q9) -> 0 | T9: =IF(S10=0,,S10-S9) -> 0 | V9: =IF(U10=0,,U10-U9) -> 0 | X9: =IF(W10=0,,W10-W9) -> 0 | Z9: =IF(Y10=0,,Y10-Y9) -> 0 | AB9: =IF(AA10=0,,AA10-AA9) -> 0 | AC9: =(AB9+Z9+X9)*1000 -> 0 | AD9: =IF(AC9=0,,AC9/E9) -> 0 | AF9: =COUNTIF(Fériés,C9) -> 0
A10: =MOD(YEAR(C10),100)&"-"&TEXT(MONTH(C10),"00") -> 26-01 | B10: =_xlfn.ISOWEEKNUM(Tabel1[[#This Row],[col03]]) -> 2 | C10: =DATE(Année,1,ROW()-ROW(Tabel1[[#Headers],[col03]])-1) -> 46028 | F10: =IF(WORKDAY.INTL($C10-1,1,11,Fériés)=$C10,H10+J10+L10+N10+P10,"") -> #VALUE! | H10: {=IF(OFFSET(G10,WORKDAY.INTL(C10,1,11,Fériés)-C10,,,)=0, "-", OFFSET(G10,WORKDAY.INTL(C10,1,11,Fériés)-C10,,,)-G10)} -> - | J10: =IF(I11=0,,I11-I10) -> 0 | L10: =IF(K11=0,,K11-K10) -> 0 | N10: =IF(M11=0,,M11-M10) -> 0 | P10: =IF(O11=0,,O11-O10) -> 0 | R10: =IF(Q11=0,,Q11-Q10) -> 0 | T10: =IF(S11=0,,S11-S10) -> 0 | V10: =IF(U11=0,,U11-U10) -> 0 | X10: =IF(W11=0,,W11-W10) -> 0 | Z10: =IF(Y11=0,,Y11-Y10) -> 0 | AB10: =IF(AA11=0,,AA11-AA10) -> 0 | AC10: =(AB10+Z10+X10)*1000 -> 0 | AD10: =IF(AC10=0,,AC10/E10) -> 0 | AF10: =COUNTIF(Fériés,C10) -> 0
A11: =MOD(YEAR(C11),100)&"-"&TEXT(MONTH(C11),"00") -> 26-01 | B11: =_xlfn.ISOWEEKNUM(Tabel1[[#This Row],[col03]]) -> 2 | C11: =DATE(Année,1,ROW()-ROW(Tabel1[[#Headers],[col03]])-1) -> 46029 | F11: =IF(WORKDAY.INTL($C11-1,1,11,Fériés)=$C11,H11+J11+L11+N11+P11,"") -> #VALUE! | H11: {=IF(OFFSET(G11,WORKDAY.INTL(C11,1,11,Fériés)-C11,,,)=0, "-", OFFSET(G11,WORKDAY.INTL(C11,1,11,Fériés)-C11,,,)-G11)} -> - | J11: =IF(I12=0,,I12-I11) -> 0 | L11: =IF(K12=0,,K12-K11) -> 0 | N11: =IF(M12=0,,M12-M11) -> 0 | P11: =IF(O12=0,,O12-O11) -> 0 | R11: =IF(Q12=0,,Q12-Q11) -> 0 | T11: =IF(S12=0,,S12-S11) -> 0 | V11: =IF(U12=0,,U12-U11) -> 0 | X11: =IF(W12=0,,W12-W11) -> 0 | Z11: =IF(Y12=0,,Y12-Y11) -> 0 | AB11: =IF(AA12=0,,AA12-AA11) -> 0 | AC11: =(AB11+Z11+X11)*1000 -> 0 | AD11: =IF(AC11=0,,AC11/E11) -> 0 | AF11: =COUNTIF(Fériés,C11) -> 0
A12: =MOD(YEAR(C12),100)&"-"&TEXT(MONTH(C12),"00") -> 26-01 | B12: =_xlfn.ISOWEEKNUM(Tabel1[[#This Row],[col03]]) -> 2 | C12: =DATE(Année,1,ROW()-ROW(Tabel1[[#Headers],[col03]])-1) -> 46030 | F12: =IF(WORKDAY.INTL($C12-1,1,11,Fériés)=$C12,H12+J12+L12+N12+P12,"") -> #VALUE! | H12: {=IF(OFFSET(G12,WORKDAY.INTL(C12,1,11,Fériés)-C12,,,)=0, "-", OFFSET(G12,WORKDAY.INTL(C12,1,11,Fériés)-C12,,,)-G12)} -> - | J12: =IF(I13=0,,I13-I12) -> 0 | L12: =IF(K13=0,,K13-K12) -> 0 | N12: =IF(M13=0,,M13-M12) -> 0 | P12: =IF(O13=0,,O13-O12) -> 0 | R12: =IF(Q13=0,,Q13-Q12) -> 0 | T12: =IF(S13=0,,S13-S12) -> 0 | V12: =IF(U13=0,,U13-U12) -> 0 | X12: =IF(W13=0,,W13-W12) -> 0 | Z12: =IF(Y13=0,,Y13-Y12) -> 0 | AB12: =IF(AA13=0,,AA13-AA12) -> 0 | AC12: =(AB12+Z12+X12)*1000 -> 0 | AD12: =IF(AC12=0,,AC12/E12) -> 0 | AF12: =COUNTIF(Fériés,C12) -> 0
A13: =MOD(YEAR(C13),100)&"-"&TEXT(MONTH(C13),"00") -> 26-01 | B13: =_xlfn.ISOWEEKNUM(Tabel1[[#This Row],[col03]]) -> 2 | C13: =DATE(Année,1,ROW()-ROW(Tabel1[[#Headers],[col03]])-1) -> 46031 | F13: =IF(WORKDAY.INTL($C13-1,1,11,Fériés)=$C13,H13+J13+L13+N13+P13,"") -> #VALUE! | H13: {=IF(OFFSET(G13,WORKDAY.INTL(C13,1,11,Fériés)-C13,,,)=0, "-", OFFSET(G13,WORKDAY.INTL(C13,1,11,Fériés)-C13,,,)-G13)} -> - | J13: =IF(I14=0,,I14-I13) -> 0 | L13: =IF(K14=0,,K14-K13) -> 0 | N13: =IF(M14=0,,M14-M13) -> 0 | P13: =IF(O14=0,,O14-O13) -> 0 | R13: =IF(Q14=0,,Q14-Q13) -> 0 | T13: =IF(S14=0,,S14-S13) -> 0 | V13: =IF(U14=0,,U14-U13) -> 0 | X13: =IF(W14=0,,W14-W13) -> 0 | Z13: =IF(Y14=0,,Y14-Y13) -> 0 | AB13: =IF(AA14=0,,AA14-AA13) -> 0 | AC13: =(AB13+Z13+X13)*1000 -> 0 | AD13: =IF(AC13=0,,AC13/E13) -> 0 | AF13: =COUNTIF(Fériés,C13) -> 0
A14: =MOD(YEAR(C14),100)&"-"&TEXT(MONTH(C14),"00") -> 26-01 | B14: =_xlfn.ISOWEEKNUM(Tabel1[[#This Row],[col03]]) -> 2 | C14: =DATE(Année,1,ROW()-ROW(Tabel1[[#Headers],[col03]])-1) -> 46032 | F14: =IF(WORKDAY.INTL($C14-1,1,11,Fériés)=$C14,H14+J14+L14+N14+P14,"") -> #VALUE! | H14: {=IF(OFFSET(G14,WORKDAY.INTL(C14,1,11,Fériés)-C14,,,)=0, "-", OFFSET(G14,WORKDAY.INTL(C14,1,11,Fériés)-C14,,,)-G14)} -> - | J14: =IF(I15=0,,I15-I14) -> 0 | L14: =IF(K15=0,,K15-K14) -> 0 | N14: =IF(M15=0,,M15-M14) -> 0 | P14: =IF(O15=0,,O15-O14) -> 0 | R14: =IF(Q15=0,,Q15-Q14) -> 0 | T14: =IF(S15=0,,S15-S14) -> 0 | V14: =IF(U15=0,,U15-U14) -> 0 | X14: =IF(W15=0,,W15-W14) -> 0 | Z14: =IF(Y15=0,,Y15-Y14) -> 0 | AB14: =IF(AA15=0,,AA15-AA14) -> 0 | AC14: =(AB14+Z14+X14)*1000 -> 0 | AD14: =IF(AC14=0,,AC14/E14) -> 0 | AF14: =COUNTIF(Fériés,C14) -> 0
A15: =MOD(YEAR(C15),100)&"-"&TEXT(MONTH(C15),"00") -> 26-01 | B15: =_xlfn.ISOWEEKNUM(Tabel1[[#This Row],[col03]]) -> 2 | C15: =DATE(Année,1,ROW()-ROW(Tabel1[[#Headers],[col03]])-1) -> 46033 | F15: =IF(WORKDAY.INTL($C15-1,1,11,Fériés)=$C15,H15+J15+L15+N15+P15,"") | H15: {=IF(OFFSET(G15,WORKDAY.INTL(C15,1,11,Fériés)-C15,,,)=0, "-", OFFSET(G15,WORKDAY.INTL(C15,1,11,Fériés)-C15,,,)-G15)} -> - | J15: =IF(I16=0,,I16-I15) -> 0 | L15: =IF(K16=0,,K16-K15) -> 0 | N15: =IF(M16=0,,M16-M15) -> 0 | P15: =IF(O16=0,,O16-O15) -> 0 | R15: =IF(Q16=0,,Q16-Q15) -> 0 | T15: =IF(S16=0,,S16-S15) -> 0 | V15: =IF(U16=0,,U16-U15) -> 0 | X15: =IF(W16=0,,W16-W15) -> 0 | Z15: =IF(Y16=0,,Y16-Y15) -> 0 | AB15: =IF(AA16=0,,AA16-AA15) -> 0 | AC15: =(AB15+Z15+X15)*1000 -> 0 | AD15: =IF(AC15=0,,AC15/E15) -> 0 | AF15: =COUNTIF(Fériés,C15) -> 0
A16: =MOD(YEAR(C16),100)&"-"&TEXT(MONTH(C16),"00") -> 26-01 | B16: =_xlfn.ISOWEEKNUM(Tabel1[[#This Row],[col03]]) -> 3 | C16: =DATE(Année,1,ROW()-ROW(Tabel1[[#Headers],[col03]])-1) -> 46034 | F16: =IF(WORKDAY.INTL($C16-1,1,11,Fériés)=$C16,H16+J16+L16+N16+P16,"") -> #VALUE! | H16: {=IF(OFFSET(G16,WORKDAY.INTL(C16,1,11,Fériés)-C16,,,)=0, "-", OFFSET(G16,WORKDAY.INTL(C16,1,11,Fériés)-C16,,,)-G16)} -> - | J16: =IF(I17=0,,I17-I16) -> 0 | L16: =IF(K17=0,,K17-K16) -> 0 | N16: =IF(M17=0,,M17-M16) -> 0 | P16: =IF(O17=0,,O17-O16) -> 0 | R16: =IF(Q17=0,,Q17-Q16) -> 0 | T16: =IF(S17=0,,S17-S16) -> 0 | V16: =IF(U17=0,,U17-U16) -> 0 | X16: =IF(W17=0,,W17-W16) -> 0 | Z16: =IF(Y17=0,,Y17-Y16) -> 0 | AB16: =IF(AA17=0,,AA17-AA16) -> 0 | AC16: =(AB16+Z16+X16)*1000 -> 0 | AD16: =IF(AC16=0,,AC16/E16) -> 0
A17: =MOD(YEAR(C17),100)&"-"&TEXT(MONTH(C17),"00") -> 26-01 | B17: =_xlfn.ISOWEEKNUM(Tabel1[[#This Row],[col03]]) -> 3 | C17: =DATE(Année,1,ROW()-ROW(Tabel1[[#Headers],[col03]])-1) -> 46035 | F17: =IF(WORKDAY.INTL($C17-1,1,11,Fériés)=$C17,H17+J17+L17+N17+P17,"") -> #VALUE! | H17: {=IF(OFFSET(G17,WORKDAY.INTL(C17,1,11,Fériés)-C17,,,)=0, "-", OFFSET(G17,WORKDAY.INTL(C17,1,11,Fériés)-C17,,,)-G17)} -> - | J17: =IF(I18=0,,I18-I17) -> 0 | L17: =IF(K18=0,,K18-K17) -> 0 | N17: =IF(M18=0,,M18-M17) -> 0 | P17: =IF(O18=0,,O18-O17) -> 0 | R17: =IF(Q18=0,,Q18-Q17) -> 0 | T17: =IF(S18=0,,S18-S17) -> 0 | V17: =IF(U18=0,,U18-U17) -> 0 | X17: =IF(W18=0,,W18-W17) -> 0 | Z17: =IF(Y18=0,,Y18-Y17) -> 0 | AB17: =IF(AA18=0,,AA18-AA17) -> 0 | AC17: =(AB17+Z17+X17)*1000 -> 0 | AD17: =IF(AC17=0,,AC17/E17) -> 0
A18: =MOD(YEAR(C18),100)&"-"&TEXT(MONTH(C18),"00") -> 26-01 | B18: =_xlfn.ISOWEEKNUM(Tabel1[[#This Row],[col03]]) -> 3 | C18: =DATE(Année,1,ROW()-ROW(Tabel1[[#Headers],[col03]])-1) -> 46036 | F18: =IF(WORKDAY.INTL($C18-1,1,11,Fériés)=$C18,H18+J18+L18+N18+P18,"") -> #VALUE! | H18: {=IF(OFFSET(G18,WORKDAY.INTL(C18,1,11,Fériés)-C18,,,)=0, "-", OFFSET(G18,WORKDAY.INTL(C18,1,11,Fériés)-C18,,,)-G18)} -> - | J18: =IF(I19=0,,I19-I18) -> 0 | L18: =IF(K19=0,,K19-K18) -> 0 | N18: =IF(M19=0,,M19-M18) -> 0 | P18: =IF(O19=0,,O19-O18) -> 0 | R18: =IF(Q19=0,,Q19-Q18) -> 0 | T18: =IF(S19=0,,S19-S18) -> 0 | V18: =IF(U19=0,,U19-U18) -> 0 | X18: =IF(W19=0,,W19-W18) -> 0 | Z18: =IF(Y19=0,,Y19-Y18) -> 0 | AB18: =IF(AA19=0,,AA19-AA18) -> 0 | AC18: =(AB18+Z18+X18)*1000 -> 0 | AD18: =IF(AC18=0,,AC18/E18) -> 0
A19: =MOD(YEAR(C19),100)&"-"&TEXT(MONTH(C19),"00") -> 26-01 | B19: =_xlfn.ISOWEEKNUM(Tabel1[[#This Row],[col03]]) -> 3 | C19: =DATE(Année,1,ROW()-ROW(Tabel1[[#Headers],[col03]])-1) -> 46037 | F19: =IF(WORKDAY.INTL($C19-1,1,11,Fériés)=$C19,H19+J19+L19+N19+P19,"") -> #VALUE! | H19: {=IF(OFFSET(G19,WORKDAY.INTL(C19,1,11,Fériés)-C19,,,)=0, "-", OFFSET(G19,WORKDAY.INTL(C19,1,11,Fériés)-C19,,,)-G19)} -> - | J19: =IF(I20=0,,I20-I19) -> 0 | L19: =IF(K20=0,,K20-K19) -> 0 | N19: =IF(M20=0,,M20-M19) -> 0 | P19: =IF(O20=0,,O20-O19) -> 0 | R19: =IF(Q20=0,,Q20-Q19) -> 0 | T19: =IF(S20=0,,S20-S19) -> 0 | V19: =IF(U20=0,,U20-U19) -> 0 | X19: =IF(W20=0,,W20-W19) -> 0 | Z19: =IF(Y20=0,,Y20-Y19) -> 0 | AB19: =IF(AA20=0,,AA20-AA19) -> 0 | AC19: =(AB19+Z19+X19)*1000 -> 0 | AD19: =IF(AC19=0,,AC19/E19) -> 0
A20: =MOD(YEAR(C20),100)&"-"&TEXT(MONTH(C20),"00") -> 26-01 | B20: =_xlfn.ISOWEEKNUM(Tabel1[[#This Row],[col03]]) -> 3 | C20: =DATE(Année,1,ROW()-ROW(Tabel1[[#Headers],[col03]])-1) -> 46038 | F20: =IF(WORKDAY.INTL($C20-1,1,11,Fériés)=$C20,H20+J20+L20+N20+P20,"") -> #VALUE! | H20: {=IF(OFFSET(G20,WORKDAY.INTL(C20,1,11,Fériés)-C20,,,)=0, "-", OFFSET(G20,WORKDAY.INTL(C20,1,11,Fériés)-C20,,,)-G20)} -> - | J20: =IF(I21=0,,I21-I20) -> 0 | L20: =IF(K21=0,,K21-K20) -> 0 | N20: =IF(M21=0,,M21-M20) -> 0 | P20: =IF(O21=0,,O21-O20) -> 0 | R20: =IF(Q21=0,,Q21-Q20) -> 0 | T20: =IF(S21=0,,S21-S20) -> 0 | V20: =IF(U21=0,,U21-U20) -> 0 | X20: =IF(W21=0,,W21-W20) -> 0 | Z20: =IF(Y21=0,,Y21-Y20) -> 0 | AB20: =IF(AA21=0,,AA21-AA20) -> 0 | AC20: =(AB20+Z20+X20)*1000 -> 0 | AD20: =IF(AC20=0,,AC20/E20) -> 0
A21: =MOD(YEAR(C21),100)&"-"&TEXT(MONTH(C21),"00") -> 26-01 | B21: =_xlfn.ISOWEEKNUM(Tabel1[[#This Row],[col03]]) -> 3 | C21: =DATE(Année,1,ROW()-ROW(Tabel1[[#Headers],[col03]])-1) -> 46039 | F21: =IF(WORKDAY.INTL($C21-1,1,11,Fériés)=$C21,H21+J21+L21+N21+P21,"") -> #VALUE! | H21: {=IF(OFFSET(G21,WORKDAY.INTL(C21,1,11,Fériés)-C21,,,)=0, "-", OFFSET(G21,WORKDAY.INTL(C21,1,11,Fériés)-C21,,,)-G21)} -> - | J21: =IF(I22=0,,I22-I21) -> 0 | L21: =IF(K22=0,,K22-K21) -> 0 | N21: =IF(M22=0,,M22-M21) -> 0 | P21: =IF(O22=0,,O22-O21) -> 0 | R21: =IF(Q22=0,,Q22-Q21) -> 0 | T21: =IF(S22=0,,S22-S21) -> 0 | V21: =IF(U22=0,,U22-U21) -> 0 | X21: =IF(W22=0,,W22-W21) -> 0 | Z21: =IF(Y22=0,,Y22-Y21) -> 0 | AB21: =IF(AA22=0,,AA22-AA21) -> 0 | AC21: =(AB21+Z21+X21)*1000 -> 0 | AD21: =IF(AC21=0,,AC21/E21) -> 0
A22: =MOD(YEAR(C22),100)&"-"&TEXT(MONTH(C22),"00") -> 26-01 | B22: =_xlfn.ISOWEEKNUM(Tabel1[[#This Row],[col03]]) -> 3 | C22: =DATE(Année,1,ROW()-ROW(Tabel1[[#Headers],[col03]])-1) -> 46040 | F22: =IF(WORKDAY.INTL($C22-1,1,11,Fériés)=$C22,H22+J22+L22+N22+P22,"") | H22: {=IF(OFFSET(G22,WORKDAY.INTL(C22,1,11,Fériés)-C22,,,)=0, "-", OFFSET(G22,WORKDAY.INTL(C22,1,11,Fériés)-C22,,,)-G22)} -> - | J22: =IF(I23=0,,I23-I22) -> 0 | L22: =IF(K23=0,,K23-K22) -> 0 | N22: =IF(M23=0,,M23-M22) -> 0 | P22: =IF(O23=0,,O23-O22) -> 0 | R22: =IF(Q23=0,,Q23-Q22) -> 0 | T22: =IF(S23=0,,S23-S22) -> 0 | V22: =IF(U23=0,,U23-U22) -> 0 | X22: =IF(W23=0,,W23-W22) -> 0 | Z22: =IF(Y23=0,,Y23-Y22) -> 0 | AB22: =IF(AA23=0,,AA23-AA22) -> 0 | AC22: =(AB22+Z22+X22)*1000 -> 0 | AD22: =IF(AC22=0,,AC22/E22) -> 0
A23: =MOD(YEAR(C23),100)&"-"&TEXT(MONTH(C23),"00") -> 26-01 | B23: =_xlfn.ISOWEEKNUM(Tabel1[[#This Row],[col03]]) -> 4 | C23: =DATE(Année,1,ROW()-ROW(Tabel1[[#Headers],[col03]])-1) -> 46041 | F23: =IF(WORKDAY.INTL($C23-1,1,11,Fériés)=$C23,H23+J23+L23+N23+P23,"") -> #VALUE! | H23: {=IF(OFFSET(G23,WORKDAY.INTL(C23,1,11,Fériés)-C23,,,)=0, "-", OFFSET(G23,WORKDAY.INTL(C23,1,11,Fériés)-C23,,,)-G23)} -> - | J23: =IF(I24=0,,I24-I23) -> 0 | L23: =IF(K24=0,,K24-K23) -> 0 | N23: =IF(M24=0,,M24-M23) -> 0 | P23: =IF(O24=0,,O24-O23) -> 0 | R23: =IF(Q24=0,,Q24-Q23) -> 0 | T23: =IF(S24=0,,S24-S23) -> 0 | V23: =IF(U24=0,,U24-U23) -> 0 | X23: =IF(W24=0,,W24-W23) -> 0 | Z23: =IF(Y24=0,,Y24-Y23) -> 0 | AB23: =IF(AA24=0,,AA24-AA23) -> 0 | AC23: =(AB23+Z23+X23)*1000 -> 0 | AD23: =IF(AC23=0,,AC23/E23) -> 0
A24: =MOD(YEAR(C24),100)&"-"&TEXT(MONTH(C24),"00") -> 26-01 | B24: =_xlfn.ISOWEEKNUM(Tabel1[[#This Row],[col03]]) -> 4 | C24: =DATE(Année,1,ROW()-ROW(Tabel1[[#Headers],[col03]])-1) -> 46042 | F24: =IF(WORKDAY.INTL($C24-1,1,11,Fériés)=$C24,H24+J24+L24+N24+P24,"") -> #VALUE! | H24: {=IF(OFFSET(G24,WORKDAY.INTL(C24,1,11,Fériés)-C24,,,)=0, "-", OFFSET(G24,WORKDAY.INTL(C24,1,11,Fériés)-C24,,,)-G24)} -> - | J24: =IF(I25=0,,I25-I24) -> 0 | L24: =IF(K25=0,,K25-K24) -> 0 | N24: =IF(M25=0,,M25-M24) -> 0 | P24: =IF(O25=0,,O25-O24) -> 0 | R24: =IF(Q25=0,,Q25-Q24) -> 0 | T24: =IF(S25=0,,S25-S24) -> 0 | V24: =IF(U25=0,,U25-U24) -> 0 | X24: =IF(W25=0,,W25-W24) -> 0 | Z24: =IF(Y25=0,,Y25-Y24) -> 0 | AB24: =IF(AA25=0,,AA25-AA24) -> 0 | AC24: =(AB24+Z24+X24)*1000 -> 0 | AD24: =IF(AC24=0,,AC24/E24) -> 0
A25: =MOD(YEAR(C25),100)&"-"&TEXT(MONTH(C25),"00") -> 26-01 | B25: =_xlfn.ISOWEEKNUM(Tabel1[[#This Row],[col03]]) -> 4 | C25: =DATE(Année,1,ROW()-ROW(Tabel1[[#Headers],[col03]])-1) -> 46043 | F25: =IF(WORKDAY.INTL($C25-1,1,11,Fériés)=$C25,H25+J25+L25+N25+P25,"") -> #VALUE! | H25: {=IF(OFFSET(G25,WORKDAY.INTL(C25,1,11,Fériés)-C25,,,)=0, "-", OFFSET(G25,WORKDAY.INTL(C25,1,11,Fériés)-C25,,,)-G25)} -> - | J25: =IF(I26=0,,I26-I25) -> 0 | L25: =IF(K26=0,,K26-K25) -> 0 | N25: =IF(M26=0,,M26-M25) -> 0 | P25: =IF(O26=0,,O26-O25) -> 0 | R25: =IF(Q26=0,,Q26-Q25) -> 0 | T25: =IF(S26=0,,S26-S25) -> 0 | V25: =IF(U26=0,,U26-U25) -> 0 | X25: =IF(W26=0,,W26-W25) -> 0 | Z25: =IF(Y26=0,,Y26-Y25) -> 0 | AB25: =IF(AA26=0,,AA26-AA25) -> 0 | AC25: =(AB25+Z25+X25)*1000 -> 0 | AD25: =IF(AC25=0,,AC25/E25) -> 0
A26: =MOD(YEAR(C26),100)&"-"&TEXT(MONTH(C26),"00") -> 26-01 | B26: =_xlfn.ISOWEEKNUM(Tabel1[[#This Row],[col03]]) -> 4 | C26: =DATE(Année,1,ROW()-ROW(Tabel1[[#Headers],[col03]])-1) -> 46044 | F26: =IF(WORKDAY.INTL($C26-1,1,11,Fériés)=$C26,H26+J26+L26+N26+P26,"") -> #VALUE! | H26: {=IF(OFFSET(G26,WORKDAY.INTL(C26,1,11,Fériés)-C26,,,)=0, "-", OFFSET(G26,WORKDAY.INTL(C26,1,11,Fériés)-C26,,,)-G26)} -> - | J26: =IF(I27=0,,I27-I26) -> 0 | L26: =IF(K27=0,,K27-K26) -> 0 | N26: =IF(M27=0,,M27-M26) -> 0 | P26: =IF(O27=0,,O27-O26) -> 0 | R26: =IF(Q27=0,,Q27-Q26) -> 0 | T26: =IF(S27=0,,S27-S26) -> 0 | V26: =IF(U27=0,,U27-U26) -> 0 | X26: =IF(W27=0,,W27-W26) -> 0 | Z26: =IF(Y27=0,,Y27-Y26) -> 0 | AB26: =IF(AA27=0,,AA27-AA26) -> 0 | AC26: =(AB26+Z26+X26)*1000 -> 0 | AD26: =IF(AC26=0,,AC26/E26) -> 0
A27: =MOD(YEAR(C27),100)&"-"&TEXT(MONTH(C27),"00") -> 26-01 | B27: =_xlfn.ISOWEEKNUM(Tabel1[[#This Row],[col03]]) -> 4 | C27: =DATE(Année,1,ROW()-ROW(Tabel1[[#Headers],[col03]])-1) -> 46045 | F27: =IF(WORKDAY.INTL($C27-1,1,11,Fériés)=$C27,H27+J27+L27+N27+P27,"") -> #VALUE! | H27: {=IF(OFFSET(G27,WORKDAY.INTL(C27,1,11,Fériés)-C27,,,)=0, "-", OFFSET(G27,WORKDAY.INTL(C27,1,11,Fériés)-C27,,,)-G27)} -> - | J27: =IF(I28=0,,I28-I27) -> 0 | L27: =IF(K28=0,,K28-K27) -> 0 | N27: =IF(M28=0,,M28-M27) -> 0 | P27: =IF(O28=0,,O28-O27) -> 0 | R27: =IF(Q28=0,,Q28-Q27) -> 0 | T27: =IF(S28=0,,S28-S27) -> 0 | V27: =IF(U28=0,,U28-U27) -> 0 | X27: =IF(W28=0,,W28-W27) -> 0 | Z27: =IF(Y28=0,,Y28-Y27) -> 0 | AB27: =IF(AA28=0,,AA28-AA27) -> 0 | AC27: =(AB27+Z27+X27)*1000 -> 0 | AD27: =IF(AC27=0,,AC27/E27) -> 0
... A369: =MOD(YEAR(C369),100)&"-"&TEXT(MONTH(C369),"00") -> 26-12 | B369: =_xlfn.ISOWEEKNUM(Tabel1[[#This Row],[col03]]) -> 53 | C369: =DATE(Année,1,ROW()-ROW(Tabel1[[#Headers],[col03]])-1) -> 46387 | F369: =IF(WORKDAY.INTL($C369-1,1,11,Fériés)=$C369,H369+J369+L369+N369+P369,"") -> #VALUE! | H369: {=IF(OFFSET(G369,WORKDAY.INTL(C369,1,11,Fériés)-C369,,,)=0, "-", OFFSET(G369,WORKDAY.INTL(C369,1,11,Fériés)-C369,,,)-G369)} -> - | J369: =IF(I370=0,,I370-I369) -> 0 | L369: =IF(K370=0,,K370-K369) -> 0 | N369: =IF(M370=0,,M370-M369) -> 0 | P369: =IF(O370=0,,O370-O369) -> 0 | R369: =IF(Q370=0,,Q370-Q369) -> 0 | T369: =IF(S370=0,,S370-S369) -> 0 | V369: =IF(U370=0,,U370-U369) -> 0 | X369: =IF(W370=0,,W370-W369) -> 0 | Z369: =IF(Y370=0,,Y370-Y369) -> 0 | AB369: =IF(AA370=0,,AA370-AA369) -> 0 | AC369: =(AB369+Z369+X369)*1000 -> 0 | AD369: =IF(AC369=0,,AC369/E369) -> 0
A370: =MOD(YEAR(C370),100)&"-"&TEXT(MONTH(C370),"00") -> 27-01 | B370: =_xlfn.ISOWEEKNUM(Tabel1[[#This Row],[col03]]) -> 53 | C370: =DATE(Année,1,ROW()-ROW(Tabel1[[#Headers],[col03]])-1) -> 46388 | F370: =IF(WORKDAY.INTL($C370-1,1,11,Fériés)=$C370,H370+J370+L370+N370+P370,"") | H370: {=IF(OFFSET(G370,WORKDAY.INTL(C370,1,11,Fériés)-C370,,,)=0, "-", OFFSET(G370,WORKDAY.INTL(C370,1,11,Fériés)-C370,,,)-G370)} -> - | R370: =IF(#REF!=0,,#REF!-Q370) -> #REF! | T370: =IF(#REF!=0,,#REF!-S370) -> #REF! | V370: =IF(#REF!=0,,#REF!-U370) -> #REF! | X370: =IF(#REF!=0,,#REF!-W370) -> #REF! | Z370: =IF(#REF!=0,,#REF!-Y370) -> #REF! | AB370: =IF(#REF!=0,,#REF!-AA370) -> #REF! | AC370: =(AB370+Z370+X370)*1000 -> #REF! | AD370: =IF(AC370=0,,AC370/E370) -> #REF!
A375: col01 | B375: col02 | C375: col03 | D375: col04 | E375: col05 | F375: col06 | G375: col07 | H375: col08 | I375: col09 | J375: col10 | K375: col11 | L375: col12 | M375: col13 | N375: col14 | O375: col15 | P375: col16 | Q375: col17 | R375: col18 | S375: col19 | T375: col20 | U375: col21 | V375: col22 | W375: col23 | X375: col24 | Y375: col25 | Z375: col26 | AA375: col27 | AB375: col28 | AC375: col29
A376: 26-01 | F376: {=SUMIFS(Tabel1[col06],Tabel1[[col01]:[col01]],Tabel2[[#This Row],[col01]:[col01]])} -> #VALUE! | H376: {=SUMIFS(Tabel1[col08],Tabel1[[col01]:[col01]],Tabel2[[#This Row],[col01]:[col01]])} -> 0 | J376: {=SUMIFS(Tabel1[col10],Tabel1[[col01]:[col01]],Tabel2[[#This Row],[col01]:[col01]])} -> 0 | L376: {=SUMIFS(Tabel1[col12],Tabel1[[col01]:[col01]],Tabel2[[#This Row],[col01]:[col01]])} -> 0 | N376: {=SUMIFS(Tabel1[col14],Tabel1[[col01]:[col01]],Tabel2[[#This Row],[col01]:[col01]])} -> 0 | P376: {=SUMIFS(Tabel1[col16],Tabel1[[col01]:[col01]],Tabel2[[#This Row],[col01]:[col01]])} -> 0 | R376: {=SUMIFS(Tabel1[col18],Tabel1[[col01]:[col01]],Tabel2[[#This Row],[col01]:[col01]])} -> 0 | T376: {=SUMIFS(Tabel1[col20],Tabel1[[col01]:[col01]],Tabel2[[#This Row],[col01]:[col01]])} -> 0 | V376: {=SUMIFS(Tabel1[col22],Tabel1[[col01]:[col01]],Tabel2[[#This Row],[col01]:[col01]])} -> 0 | X376: {=SUMIFS(Tabel1[col24],Tabel1[[col01]:[col01]],Tabel2[[#This Row],[col01]:[col01]])} -> 0 | Z376: {=SUMIFS(Tabel1[col26],Tabel1[[col01]:[col01]],Tabel2[[#This Row],[col01]:[col01]])} -> 0 | AB376: {=SUMIFS(Tabel1[col28],Tabel1[[col01]:[col01]],Tabel2[[#This Row],[col01]:[col01]])} -> 0
A377: 26-02 | F377: {=SUMIFS(Tabel1[col06],Tabel1[[col01]:[col01]],Tabel2[[#This Row],[col01]:[col01]])} -> #VALUE! | H377: {=SUMIFS(Tabel1[col08],Tabel1[[col01]:[col01]],Tabel2[[#This Row],[col01]:[col01]])} -> 0 | J377: {=SUMIFS(Tabel1[col10],Tabel1[[col01]:[col01]],Tabel2[[#This Row],[col01]:[col01]])} -> 0 | L377: {=SUMIFS(Tabel1[col12],Tabel1[[col01]:[col01]],Tabel2[[#This Row],[col01]:[col01]])} -> 0 | N377: {=SUMIFS(Tabel1[col14],Tabel1[[col01]:[col01]],Tabel2[[#This Row],[col01]:[col01]])} -> 0 | P377: {=SUMIFS(Tabel1[col16],Tabel1[[col01]:[col01]],Tabel2[[#This Row],[col01]:[col01]])} -> 0 | R377: {=SUMIFS(Tabel1[col18],Tabel1[[col01]:[col01]],Tabel2[[#This Row],[col01]:[col01]])} -> 0 | T377: {=SUMIFS(Tabel1[col20],Tabel1[[col01]:[col01]],Tabel2[[#This Row],[col01]:[col01]])} -> 0 | V377: {=SUMIFS(Tabel1[col22],Tabel1[[col01]:[col01]],Tabel2[[#This Row],[col01]:[col01]])} -> 0 | X377: {=SUMIFS(Tabel1[col24],Tabel1[[col01]:[col01]],Tabel2[[#This Row],[col01]:[col01]])} -> 0 | Z377: {=SUMIFS(Tabel1[col26],Tabel1[[col01]:[col01]],Tabel2[[#This Row],[col01]:[col01]])} -> 0 | AB377: {=SUMIFS(Tabel1[col28],Tabel1[[col01]:[col01]],Tabel2[[#This Row],[col01]:[col01]])} -> 0
A378: 26-03 | F378: {=SUMIFS(Tabel1[col06],Tabel1[[col01]:[col01]],Tabel2[[#This Row],[col01]:[col01]])} -> #VALUE! | H378: {=SUMIFS(Tabel1[col08],Tabel1[[col01]:[col01]],Tabel2[[#This Row],[col01]:[col01]])} -> 0 | J378: {=SUMIFS(Tabel1[col10],Tabel1[[col01]:[col01]],Tabel2[[#This Row],[col01]:[col01]])} -> 0 | L378: {=SUMIFS(Tabel1[col12],Tabel1[[col01]:[col01]],Tabel2[[#This Row],[col01]:[col01]])} -> 0 | N378: {=SUMIFS(Tabel1[col14],Tabel1[[col01]:[col01]],Tabel2[[#This Row],[col01]:[col01]])} -> 0 | P378: {=SUMIFS(Tabel1[col16],Tabel1[[col01]:[col01]],Tabel2[[#This Row],[col01]:[col01]])} -> 0 | R378: {=SUMIFS(Tabel1[col18],Tabel1[[col01]:[col01]],Tabel2[[#This Row],[col01]:[col01]])} -> 0 | T378: {=SUMIFS(Tabel1[col20],Tabel1[[col01]:[col01]],Tabel2[[#This Row],[col01]:[col01]])} -> 0 | V378: {=SUMIFS(Tabel1[col22],Tabel1[[col01]:[col01]],Tabel2[[#This Row],[col01]:[col01]])} -> 0 | X378: {=SUMIFS(Tabel1[col24],Tabel1[[col01]:[col01]],Tabel2[[#This Row],[col01]:[col01]])} -> 0 | Z378: {=SUMIFS(Tabel1[col26],Tabel1[[col01]:[col01]],Tabel2[[#This Row],[col01]:[col01]])} -> 0 | AB378: {=SUMIFS(Tabel1[col28],Tabel1[[col01]:[col01]],Tabel2[[#This Row],[col01]:[col01]])} -> 0
A379: 26-04 | F379: {=SUMIFS(Tabel1[col06],Tabel1[[col01]:[col01]],Tabel2[[#This Row],[col01]:[col01]])} -> #VALUE! | H379: {=SUMIFS(Tabel1[col08],Tabel1[[col01]:[col01]],Tabel2[[#This Row],[col01]:[col01]])} -> 0 | J379: {=SUMIFS(Tabel1[col10],Tabel1[[col01]:[col01]],Tabel2[[#This Row],[col01]:[col01]])} -> 0 | L379: {=SUMIFS(Tabel1[col12],Tabel1[[col01]:[col01]],Tabel2[[#This Row],[col01]:[col01]])} -> 0 | N379: {=SUMIFS(Tabel1[col14],Tabel1[[col01]:[col01]],Tabel2[[#This Row],[col01]:[col01]])} -> 0 | P379: {=SUMIFS(Tabel1[col16],Tabel1[[col01]:[col01]],Tabel2[[#This Row],[col01]:[col01]])} -> 0 | R379: {=SUMIFS(Tabel1[col18],Tabel1[[col01]:[col01]],Tabel2[[#This Row],[col01]:[col01]])} -> 0 | T379: {=SUMIFS(Tabel1[col20],Tabel1[[col01]:[col01]],Tabel2[[#This Row],[col01]:[col01]])} -> 0 | V379: {=SUMIFS(Tabel1[col22],Tabel1[[col01]:[col01]],Tabel2[[#This Row],[col01]:[col01]])} -> 0 | X379: {=SUMIFS(Tabel1[col24],Tabel1[[col01]:[col01]],Tabel2[[#This Row],[col01]:[col01]])} -> 0 | Z379: {=SUMIFS(Tabel1[col26],Tabel1[[col01]:[col01]],Tabel2[[#This Row],[col01]:[col01]])} -> 0 | AB379: {=SUMIFS(Tabel1[col28],Tabel1[[col01]:[col01]],Tabel2[[#This Row],[col01]:[col01]])} -> 0
A380: 26-05 | F380: {=SUMIFS(Tabel1[col06],Tabel1[[col01]:[col01]],Tabel2[[#This Row],[col01]:[col01]])} -> #VALUE! | H380: {=SUMIFS(Tabel1[col08],Tabel1[[col01]:[col01]],Tabel2[[#This Row],[col01]:[col01]])} -> 0 | J380: {=SUMIFS(Tabel1[col10],Tabel1[[col01]:[col01]],Tabel2[[#This Row],[col01]:[col01]])} -> 0 | L380: {=SUMIFS(Tabel1[col12],Tabel1[[col01]:[col01]],Tabel2[[#This Row],[col01]:[col01]])} -> 0 | N380: {=SUMIFS(Tabel1[col14],Tabel1[[col01]:[col01]],Tabel2[[#This Row],[col01]:[col01]])} -> 0 | P380: {=SUMIFS(Tabel1[col16],Tabel1[[col01]:[col01]],Tabel2[[#This Row],[col01]:[col01]])} -> 0 | R380: {=SUMIFS(Tabel1[col18],Tabel1[[col01]:[col01]],Tabel2[[#This Row],[col01]:[col01]])} -> 0 | T380: {=SUMIFS(Tabel1[col20],Tabel1[[col01]:[col01]],Tabel2[[#This Row],[col01]:[col01]])} -> 0 | V380: {=SUMIFS(Tabel1[col22],Tabel1[[col01]:[col01]],Tabel2[[#This Row],[col01]:[col01]])} -> 0 | X380: {=SUMIFS(Tabel1[col24],Tabel1[[col01]:[col01]],Tabel2[[#This Row],[col01]:[col01]])} -> 0 | Z380: {=SUMIFS(Tabel1[col26],Tabel1[[col01]:[col01]],Tabel2[[#This Row],[col01]:[col01]])} -> 0 | AB380: {=SUMIFS(Tabel1[col28],Tabel1[[col01]:[col01]],Tabel2[[#This Row],[col01]:[col01]])} -> 0
A381: 26-06 | F381: {=SUMIFS(Tabel1[col06],Tabel1[[col01]:[col01]],Tabel2[[#This Row],[col01]:[col01]])} -> #VALUE! | H381: {=SUMIFS(Tabel1[col08],Tabel1[[col01]:[col01]],Tabel2[[#This Row],[col01]:[col01]])} -> 0 | J381: {=SUMIFS(Tabel1[col10],Tabel1[[col01]:[col01]],Tabel2[[#This Row],[col01]:[col01]])} -> 0 | L381: {=SUMIFS(Tabel1[col12],Tabel1[[col01]:[col01]],Tabel2[[#This Row],[col01]:[col01]])} -> 0 | N381: {=SUMIFS(Tabel1[col14],Tabel1[[col01]:[col01]],Tabel2[[#This Row],[col01]:[col01]])} -> 0 | P381: {=SUMIFS(Tabel1[col16],Tabel1[[col01]:[col01]],Tabel2[[#This Row],[col01]:[col01]])} -> 0 | R381: {=SUMIFS(Tabel1[col18],Tabel1[[col01]:[col01]],Tabel2[[#This Row],[col01]:[col01]])} -> 0 | T381: {=SUMIFS(Tabel1[col20],Tabel1[[col01]:[col01]],Tabel2[[#This Row],[col01]:[col01]])} -> 0 | V381: {=SUMIFS(Tabel1[col22],Tabel1[[col01]:[col01]],Tabel2[[#This Row],[col01]:[col01]])} -> 0 | X381: {=SUMIFS(Tabel1[col24],Tabel1[[col01]:[col01]],Tabel2[[#This Row],[col01]:[col01]])} -> 0 | Z381: {=SUMIFS(Tabel1[col26],Tabel1[[col01]:[col01]],Tabel2[[#This Row],[col01]:[col01]])} -> 0 | AB381: {=SUMIFS(Tabel1[col28],Tabel1[[col01]:[col01]],Tabel2[[#This Row],[col01]:[col01]])} -> 0
A382: 26-07 | F382: {=SUMIFS(Tabel1[col06],Tabel1[[col01]:[col01]],Tabel2[[#This Row],[col01]:[col01]])} -> #VALUE! | H382: {=SUMIFS(Tabel1[col08],Tabel1[[col01]:[col01]],Tabel2[[#This Row],[col01]:[col01]])} -> 0 | J382: {=SUMIFS(Tabel1[col10],Tabel1[[col01]:[col01]],Tabel2[[#This Row],[col01]:[col01]])} -> 0 | L382: {=SUMIFS(Tabel1[col12],Tabel1[[col01]:[col01]],Tabel2[[#This Row],[col01]:[col01]])} -> 0 | N382: {=SUMIFS(Tabel1[col14],Tabel1[[col01]:[col01]],Tabel2[[#This Row],[col01]:[col01]])} -> 0 | P382: {=SUMIFS(Tabel1[col16],Tabel1[[col01]:[col01]],Tabel2[[#This Row],[col01]:[col01]])} -> 0 | R382: {=SUMIFS(Tabel1[col18],Tabel1[[col01]:[col01]],Tabel2[[#This Row],[col01]:[col01]])} -> 0 | T382: {=SUMIFS(Tabel1[col20],Tabel1[[col01]:[col01]],Tabel2[[#This Row],[col01]:[col01]])} -> 0 | V382: {=SUMIFS(Tabel1[col22],Tabel1[[col01]:[col01]],Tabel2[[#This Row],[col01]:[col01]])} -> 0 | X382: {=SUMIFS(Tabel1[col24],Tabel1[[col01]:[col01]],Tabel2[[#This Row],[col01]:[col01]])} -> 0 | Z382: {=SUMIFS(Tabel1[col26],Tabel1[[col01]:[col01]],Tabel2[[#This Row],[col01]:[col01]])} -> 0 | AB382: {=SUMIFS(Tabel1[col28],Tabel1[[col01]:[col01]],Tabel2[[#This Row],[col01]:[col01]])} -> 0
A383: 26-08 | F383: {=SUMIFS(Tabel1[col06],Tabel1[[col01]:[col01]],Tabel2[[#This Row],[col01]:[col01]])} -> #VALUE! | H383: {=SUMIFS(Tabel1[col08],Tabel1[[col01]:[col01]],Tabel2[[#This Row],[col01]:[col01]])} -> 0 | J383: {=SUMIFS(Tabel1[col10],Tabel1[[col01]:[col01]],Tabel2[[#This Row],[col01]:[col01]])} -> 0 | L383: {=SUMIFS(Tabel1[col12],Tabel1[[col01]:[col01]],Tabel2[[#This Row],[col01]:[col01]])} -> 0 | N383: {=SUMIFS(Tabel1[col14],Tabel1[[col01]:[col01]],Tabel2[[#This Row],[col01]:[col01]])} -> 0 | P383: {=SUMIFS(Tabel1[col16],Tabel1[[col01]:[col01]],Tabel2[[#This Row],[col01]:[col01]])} -> 0 | R383: {=SUMIFS(Tabel1[col18],Tabel1[[col01]:[col01]],Tabel2[[#This Row],[col01]:[col01]])} -> 0 | T383: {=SUMIFS(Tabel1[col20],Tabel1[[col01]:[col01]],Tabel2[[#This Row],[col01]:[col01]])} -> 0 | V383: {=SUMIFS(Tabel1[col22],Tabel1[[col01]:[col01]],Tabel2[[#This Row],[col01]:[col01]])} -> 0 | X383: {=SUMIFS(Tabel1[col24],Tabel1[[col01]:[col01]],Tabel2[[#This Row],[col01]:[col01]])} -> 0 | Z383: {=SUMIFS(Tabel1[col26],Tabel1[[col01]:[col01]],Tabel2[[#This Row],[col01]:[col01]])} -> 0 | AB383: {=SUMIFS(Tabel1[col28],Tabel1[[col01]:[col01]],Tabel2[[#This Row],[col01]:[col01]])} -> 0
A384: 26-09 | F384: {=SUMIFS(Tabel1[col06],Tabel1[[col01]:[col01]],Tabel2[[#This Row],[col01]:[col01]])} -> #VALUE! | H384: {=SUMIFS(Tabel1[col08],Tabel1[[col01]:[col01]],Tabel2[[#This Row],[col01]:[col01]])} -> 0 | J384: {=SUMIFS(Tabel1[col10],Tabel1[[col01]:[col01]],Tabel2[[#This Row],[col01]:[col01]])} -> 0 | L384: {=SUMIFS(Tabel1[col12],Tabel1[[col01]:[col01]],Tabel2[[#This Row],[col01]:[col01]])} -> 0 | N384: {=SUMIFS(Tabel1[col14],Tabel1[[col01]:[col01]],Tabel2[[#This Row],[col01]:[col01]])} -> 0 | P384: {=SUMIFS(Tabel1[col16],Tabel1[[col01]:[col01]],Tabel2[[#This Row],[col01]:[col01]])} -> 0 | R384: {=SUMIFS(Tabel1[col18],Tabel1[[col01]:[col01]],Tabel2[[#This Row],[col01]:[col01]])} -> 0 | T384: {=SUMIFS(Tabel1[col20],Tabel1[[col01]:[col01]],Tabel2[[#This Row],[col01]:[col01]])} -> 0 | V384: {=SUMIFS(Tabel1[col22],Tabel1[[col01]:[col01]],Tabel2[[#This Row],[col01]:[col01]])} -> 0 | X384: {=SUMIFS(Tabel1[col24],Tabel1[[col01]:[col01]],Tabel2[[#This Row],[col01]:[col01]])} -> 0 | Z384: {=SUMIFS(Tabel1[col26],Tabel1[[col01]:[col01]],Tabel2[[#This Row],[col01]:[col01]])} -> 0 | AB384: {=SUMIFS(Tabel1[col28],Tabel1[[col01]:[col01]],Tabel2[[#This Row],[col01]:[col01]])} -> 0
A385: 26-10 | F385: {=SUMIFS(Tabel1[col06],Tabel1[[col01]:[col01]],Tabel2[[#This Row],[col01]:[col01]])} -> #VALUE! | H385: {=SUMIFS(Tabel1[col08],Tabel1[[col01]:[col01]],Tabel2[[#This Row],[col01]:[col01]])} -> 0 | J385: {=SUMIFS(Tabel1[col10],Tabel1[[col01]:[col01]],Tabel2[[#This Row],[col01]:[col01]])} -> 0 | L385: {=SUMIFS(Tabel1[col12],Tabel1[[col01]:[col01]],Tabel2[[#This Row],[col01]:[col01]])} -> 0 | N385: {=SUMIFS(Tabel1[col14],Tabel1[[col01]:[col01]],Tabel2[[#This Row],[col01]:[col01]])} -> 0 | P385: {=SUMIFS(Tabel1[col16],Tabel1[[col01]:[col01]],Tabel2[[#This Row],[col01]:[col01]])} -> 0 | R385: {=SUMIFS(Tabel1[col18],Tabel1[[col01]:[col01]],Tabel2[[#This Row],[col01]:[col01]])} -> 0 | T385: {=SUMIFS(Tabel1[col20],Tabel1[[col01]:[col01]],Tabel2[[#This Row],[col01]:[col01]])} -> 0 | V385: {=SUMIFS(Tabel1[col22],Tabel1[[col01]:[col01]],Tabel2[[#This Row],[col01]:[col01]])} -> 0 | X385: {=SUMIFS(Tabel1[col24],Tabel1[[col01]:[col01]],Tabel2[[#This Row],[col01]:[col01]])} -> 0 | Z385: {=SUMIFS(Tabel1[col26],Tabel1[[col01]:[col01]],Tabel2[[#This Row],[col01]:[col01]])} -> 0 | AB385: {=SUMIFS(Tabel1[col28],Tabel1[[col01]:[col01]],Tabel2[[#This Row],[col01]:[col01]])} -> 0
...

Sheet 01
A1: date | D1: Général | F1: Radiateurs | H1: Plancher chauffant | J1: Batterie CTA | L1: Echangeurs bassins | N1: ECS | P1: Gaz | R1: Conso gaz | T1: Bois | V1: livraison bois | W1: Compteur eaux grises | Y1: Compteur EDF | AB1: livraison bois
Y2: H. hiver/ H. été
Y3: 121/ 123 | Z3: 122/ 124 | AB3: Châteliers
A4: 44926 | E4: =IF(D6=0,,D6-D4) -> 0 | G4: =IF(F6=0,,F6-F4) -> 0 | I4: =IF(H6=0,,H6-H4) -> 0 | K4: =IF(J6=0,,J6-J4) -> 0 | M4: =IF(L6=0,,L6-L4) -> 0 | O4: =IF(N6=0,,N6-N4) -> 0 | Q4: =IF(P6=0,,P6-P4) -> 0 | S4: =IF(R6=0,,R6-R4) -> 0 | U4: =IF(T6=0,,T6-T4) -> 0 | X4: =IF(W6=0,,W6-W4) -> 0 | AA4: =IF(Z6=0,,(Z6-Z4)+(Y6-Y4)) -> 0
A5: 1 | B5: =J40 -> 46023
B6: =IFERROR(IF(B5+1>$M$40,"",B5+1),"") -> 46024 | E6: =G6+I6+K6+M6+O6 -> 0 | G6: =IF(F7=0,,F7-F6) -> 0 | I6: =IF(H7=0,,H7-H6) -> 0 | K6: =IF(J7=0,,J7-J6) -> 0 | M6: =IF(L7=0,,L7-L6) -> 0 | O6: =IF(N7=0,,N7-N6) -> 0 | Q6: =IF(P7=0,,P7-P6) -> 0 | S6: =IF(R7=0,,R7-R6) -> 0 | U6: =IF(T7=0,,T7-T6) -> 0 | X6: =IF(W7=0,,W7-W6) -> 0 | AA6: =IF(Z7=0,,(Z7-Z6)+(Y7-Y6)) -> 0
B7: =IFERROR(IF(B6+1>$M$40,"",B6+1),"") -> 46025 | E7: =G7+I7+K7+M7+O7 -> 0 | G7: =IF(F8=0,,F8-F7) -> 0 | I7: =IF(H8=0,,H8-H7) -> 0 | K7: =IF(J8=0,,J8-J7) -> 0 | M7: =IF(L8=0,,L8-L7) -> 0 | O7: =IF(N8=0,,N8-N7) -> 0 | Q7: =IF(P8=0,,P8-P7) -> 0 | S7: =IF(R8=0,,R8-R7) -> 0 | U7: =IF(T8=0,,T8-T7) -> 0 | X7: =IF(W8=0,,W8-W7) -> 0 | AA7: =IF(Z8=0,,(Z8-Z7)+(Y8-Y7)) -> 0
B8: =IFERROR(IF(B7+1>$M$40,"",B7+1),"") -> 46026 | E8: =G8+I8+K8+M8+O8 -> 0 | G8: =IF(F9=0,,F9-F8) -> 0 | I8: =IF(H9=0,,H9-H8) -> 0 | K8: =IF(J9=0,,J9-J8) -> 0 | M8: =IF(L9=0,,L9-L8) -> 0 | O8: =IF(N9=0,,N9-N8) -> 0 | Q8: =IF(P9=0,,P9-P8) -> 0 | S8: =IF(R9=0,,R9-R8) -> 0 | U8: =IF(T9=0,,T9-T8) -> 0 | X8: =IF(W9=0,,W9-W8) -> 0 | AA8: =IF(Z9=0,,(Z9-Z8)+(Y9-Y8)) -> 0
B9: =IFERROR(IF(B8+1>$M$40,"",B8+1),"") -> 46027 | E9: =G9+I9+K9+M9+O9 -> 0 | G9: =IF(F10=0,,F10-F9) -> 0 | I9: =IF(H10=0,,H10-H9) -> 0 | K9: =IF(J10=0,,J10-J9) -> 0 | M9: =IF(L10=0,,L10-L9) -> 0 | O9: =IF(N10=0,,N10-N9) -> 0 | Q9: =IF(P10=0,,P10-P9) -> 0 | S9: =IF(R10=0,,R10-R9) -> 0 | U9: =IF(T10=0,,T10-T9) -> 0 | X9: =IF(W10=0,,W10-W9) -> 0 | AA9: =IF(Z10=0,,(Z10-Z9)+(Y10-Y9)) -> 0
B10: =IFERROR(IF(B9+1>$M$40,"",B9+1),"") -> 46028 | E10: =G10+I10+K10+M10+O10 -> 0 | G10: =IF(F12=0,,F12-F10) -> 0 | I10: =IF(H12=0,,H12-H10) -> 0 | K10: =IF(J12=0,,J12-J10) -> 0 | M10: =IF(L12=0,,L12-L10) -> 0 | O10: =IF(N12=0,,N12-N10) -> 0 | Q10: =IF(P12=0,,P12-P10) -> 0 | S10: =IF(R12=0,,R12-R10) -> 0 | U10: =IF(T12=0,,T12-T10) -> 0 | X10: =IF(W12=0,,W12-W10) -> 0 | AA10: =IF(Z12=0,,(Z12-Z10)+(Y12-Y10)) -> 0
B11: =IFERROR(IF(B10+1>$M$40,"",B10+1),"") -> 46029
A12: 2 | B12: =IFERROR(IF(B11+1>$M$40,"",B11+1),"") -> 46030 | E12: =G12+I12+K12+M12+O12 -> 0 | G12: =IF(F13=0,,F13-F12) -> 0 | I12: =IF(H13=0,,H13-H12) -> 0 | K12: =IF(J13=0,,J13-J12) -> 0 | M12: =IF(L13=0,,L13-L12) -> 0 | O12: =IF(N13=0,,N13-N12) -> 0 | Q12: =IF(P13=0,,P13-P12) -> 0 | S12: =IF(R13=0,,R13-R12) -> 0 | U12: =IF(T13=0,,T13-T12) -> 0 | X12: =IF(W13=0,,W13-W12) -> 0 | AA12: =IF(Z14=0,,(Z14-Z12)+(Y14-Y12)) -> 0
B13: =IFERROR(IF(B12+1>$M$40,"",B12+1),"") -> 46031 | E13: =G13+I13+K13+M13+O13 -> 0 | G13: =IF(F14=0,,F14-F13) -> 0 | I13: =IF(H14=0,,H14-H13) -> 0 | K13: =IF(J14=0,,J14-J13) -> 0 | M13: =IF(L14=0,,L14-L13) -> 0 | O13: =IF(N14=0,,N14-N13) -> 0 | Q13: =IF(P14=0,,P14-P13) -> 0 | S13: =IF(R14=0,,R14-R13) -> 0 | U13: =IF(T14=0,,T14-T13) -> 0 | X13: =IF(W14=0,,W14-W13) -> 0 | AA13: =IF(Z14=0,,(Z14-Z13)+(Y14-Y13)) -> 0
B14: =IFERROR(IF(B13+1>$M$40,"",B13+1),"") -> 46032 | E14: =G14+I14+K14+M14+O14 -> 0 | G14: =IF(F15=0,,F15-F14) -> 0 | I14: =IF(H15=0,,H15-H14) -> 0 | K14: =IF(J15=0,,J15-J14) -> 0 | M14: =IF(L15=0,,L15-L14) -> 0 | O14: =IF(N15=0,,N15-N14) -> 0 | Q14: =IF(P15=0,,P15-P14) -> 0 | S14: =IF(R15=0,,R15-R14) -> 0 | U14: =IF(T15=0,,T15-T14) -> 0 | X14: =IF(W15=0,,W15-W14) -> 0 | AA14: =IF(Z15=0,,(Z15-Z14)+(Y15-Y14)) -> 0
B15: =IFERROR(IF(B14+1>$M$40,"",B14+1),"") -> 46033 | E15: =G15+I15+K15+M15+O15 -> 0 | G15: =IF(F16=0,,F16-F15) -> 0 | I15: =IF(H16=0,,H16-H15) -> 0 | K15: =IF(J16=0,,J16-J15) -> 0 | M15: =IF(L16=0,,L16-L15) -> 0 | O15: =IF(N16=0,,N16-N15) -> 0 | Q15: =IF(P16=0,,P16-P15) -> 0 | S15: =IF(R16=0,,R16-R15) -> 0 | U15: =IF(T16=0,,T16-T15) -> 0 | X15: =IF(W16=0,,W16-W15) -> 0 | AA15: =IF(Z16=0,,(Z16-Z15)+(Y16-Y15)) -> 0
B16: =IFERROR(IF(B15+1>$M$40,"",B15+1),"") -> 46034 | E16: =G16+I16+K16+M16+O16 -> 0 | G16: =IF(F17=0,,F17-F16) -> 0 | I16: =IF(H17=0,,H17-H16) -> 0 | K16: =IF(J17=0,,J17-J16) -> 0 | M16: =IF(L17=0,,L17-L16) -> 0 | O16: =IF(N17=0,,N17-N16) -> 0 | Q16: =IF(P17=0,,P17-P16) -> 0 | S16: =IF(R17=0,,R17-R16) -> 0 | U16: =IF(T17=0,,T17-T16) -> 0 | X16: =IF(W17=0,,W17-W16) -> 0 | AA16: =IF(Z17=0,,(Z17-Z16)+(Y17-Y16)) -> 0
B17: =IFERROR(IF(B16+1>$M$40,"",B16+1),"") -> 46035 | E17: =G17+I17+K17+M17+O17 -> 0 | G17: =IF(F19=0,,F19-F17) -> 0 | I17: =IF(H19=0,,H19-H17) -> 0 | K17: =IF(J19=0,,J19-J17) -> 0 | M17: =IF(L19=0,,L19-L17) -> 0 | O17: =IF(N19=0,,N19-N17) -> 0 | Q17: =IF(P19=0,,P19-P17) -> 0 | S17: =IF(R19=0,,R19-R17) -> 0 | U17: =IF(T19=0,,T19-T17) -> 0 | X17: =IF(W19=0,,W19-W17) -> 0 | AA17: =IF(Z19=0,,(Z19-Z17)+(Y19-Y17)) -> 0
B18: =IFERROR(IF(B17+1>$M$40,"",B17+1),"") -> 46036
A19: 3 | B19: =IFERROR(IF(B18+1>$M$40,"",B18+1),"") -> 46037 | E19: =G19+I19+K19+M19+O19 -> 0 | G19: =IF(F20=0,,F20-F19) -> 0 | I19: =IF(H20=0,,H20-H19) -> 0 | K19: =IF(J20=0,,J20-J19) -> 0 | M19: =IF(L20=0,,L20-L19) -> 0 | O19: =IF(N20=0,,N20-N19) -> 0 | Q19: =IF(P20=0,,P20-P19) -> 0 | S19: =IF(R20=0,,R20-R19) -> 0 | U19: =IF(T20=0,,T20-T19) -> 0 | X19: =IF(W20=0,,W20-W19) -> 0 | AA19: =IF(Z20=0,,(Z20-Z19)+(Y20-Y19)) -> 0
B20: =IFERROR(IF(B19+1>$M$40,"",B19+1),"") -> 46038 | E20: =G20+I20+K20+M20+O20 -> 0 | G20: =IF(F21=0,,F21-F20) -> 0 | I20: =IF(H21=0,,H21-H20) -> 0 | K20: =IF(J21=0,,J21-J20) -> 0 | M20: =IF(L21=0,,L21-L20) -> 0 | O20: =IF(N21=0,,N21-N20) -> 0 | Q20: =IF(P21=0,,P21-P20) -> 0 | S20: =IF(R21=0,,R21-R20) -> 0 | U20: =IF(T21=0,,T21-T20) -> 0 | X20: =IF(W21=0,,W21-W20) -> 0 | AA20: =IF(Z21=0,,(Z21-Z20)+(Y21-Y20)) -> 0
B21: =IFERROR(IF(B20+1>$M$40,"",B20+1),"") -> 46039 | E21: =G21+I21+K21+M21+O21 -> 0 | G21: =IF(F22=0,,F22-F21) -> 0 | I21: =IF(H22=0,,H22-H21) -> 0 | K21: =IF(J22=0,,J22-J21) -> 0 | M21: =IF(L22=0,,L22-L21) -> 0 | O21: =IF(N22=0,,N22-N21) -> 0 | Q21: =IF(P22=0,,P22-P21) -> 0 | S21: =IF(R22=0,,R22-R21) -> 0 | U21: =IF(T22=0,,T22-T21) -> 0 | X21: =IF(W22=0,,W22-W21) -> 0 | AA21: =IF(Z22=0,,(Z22-Z21)+(Y22-Y21)) -> 0
B22: =IFERROR(IF(B21+1>$M$40,"",B21+1),"") -> 46040 | E22: =G22+I22+K22+M22+O22 -> 0 | G22: =IF(F23=0,,F23-F22) -> 0 | I22: =IF(H23=0,,H23-H22) -> 0 | K22: =IF(J23=0,,J23-J22) -> 0 | M22: =IF(L23=0,,L23-L22) -> 0 | O22: =IF(N23=0,,N23-N22) -> 0 | Q22: =IF(P23=0,,P23-P22) -> 0 | S22: =IF(R23=0,,R23-R22) -> 0 | U22: =IF(T23=0,,T23-T22) -> 0 | X22: =IF(W23=0,,W23-W22) -> 0 | AA22: =IF(Z23=0,,(Z23-Z22)+(Y23-Y22)) -> 0
B23: =IFERROR(IF(B22+1>$M$40,"",B22+1),"") -> 46041 | E23: =G23+I23+K23+M23+O23 -> 0 | G23: =IF(F24=0,,F24-F23) -> 0 | I23: =IF(H24=0,,H24-H23) -> 0 | K23: =IF(J24=0,,J24-J23) -> 0 | M23: =IF(L24=0,,L24-L23) -> 0 | O23: =IF(N24=0,,N24-N23) -> 0 | Q23: =IF(P24=0,,P24-P23) -> 0 | S23: =IF(R24=0,,R24-R23) -> 0 | U23: =IF(T24=0,,T24-T23) -> 0 | X23: =IF(W24=0,,W24-W23) -> 0 | AA23: =IF(Z24=0,,(Z24-Z23)+(Y24-Y23)) -> 0
B24: =IFERROR(IF(B23+1>$M$40,"",B23+1),"") -> 46042 | E24: =G24+I24+K24+M24+O24 -> 0 | G24: =IF(F26=0,,F26-F24) -> 0 | I24: =IF(H26=0,,H26-H24) -> 0 | K24: =IF(J26=0,,J26-J24) -> 0 | M24: =IF(L26=0,,L26-L24) -> 0 | O24: =IF(N26=0,,N26-N24) -> 0 | Q24: =IF(P26=0,,P26-P24) -> 0 | S24: =IF(R26=0,,R26-R24) -> 0 | U24: =IF(T26=0,,T26-T24) -> 0 | X24: =IF(W26=0,,W26-W24) -> 0 | AA24: =IF(Z26=0,,(Z26-Z24)+(Y26-Y24)) -> 0
B25: =IFERROR(IF(B24+1>$M$40,"",B24+1),"") -> 46043
A26: 4 | B26: =IFERROR(IF(B25+1>$M$40,"",B25+1),"") -> 46044 | E26: =G26+I26+K26+M26+O26 -> 0 | G26: =IF(F27=0,,F27-F26) -> 0 | I26: =IF(H27=0,,H27-H26) -> 0 | K26: =IF(J27=0,,J27-J26) -> 0 | M26: =IF(L27=0,,L27-L26) -> 0 | O26: =IF(N27=0,,N27-N26) -> 0 | Q26: =IF(P27=0,,P27-P26) -> 0 | S26: =IF(R27=0,,R27-R26) -> 0 | U26: =IF(T27=0,,T27-T26) -> 0 | X26: =IF(W27=0,,W27-W26) -> 0 | AA26: =IF(Z27=0,,(Z27-Z26)+(Y27-Y26)) -> 0
B27: =IFERROR(IF(B26+1>$M$40,"",B26+1),"") -> 46045 | E27: =G27+I27+K27+M27+O27 -> 0 | G27: =IF(F28=0,,F28-F27) -> 0 | I27: =IF(H28=0,,H28-H27) -> 0 | K27: =IF(J28=0,,J28-J27) -> 0 | M27: =IF(L28=0,,L28-L27) -> 0 | O27: =IF(N28=0,,N28-N27) -> 0 | Q27: =IF(P28=0,,P28-P27) -> 0 | S27: =IF(R28=0,,R28-R27) -> 0 | U27: =IF(T28=0,,T28-T27) -> 0 | X27: =IF(W28=0,,W28-W27) -> 0 | AA27: =IF(Z28=0,,(Z28-Z27)+(Y28-Y27)) -> 0
B28: =IFERROR(IF(B27+1>$M$40,"",B27+1),"") -> 46046 | E28: =G28+I28+K28+M28+O28 -> 0 | G28: =IF(F29=0,,F29-F28) -> 0 | I28: =IF(H29=0,,H29-H28) -> 0 | K28: =IF(J29=0,,J29-J28) -> 0 | M28: =IF(L29=0,,L29-L28) -> 0 | O28: =IF(N29=0,,N29-N28) -> 0 | Q28: =IF(P29=0,,P29-P28) -> 0 | S28: =IF(R29=0,,R29-R28) -> 0 | U28: =IF(T29=0,,T29-T28) -> 0 | X28: =IF(W29=0,,W29-W28) -> 0 | AA28: =IF(Z29=0,,(Z29-Z28)+(Y29-Y28)) -> 0
B29: =IFERROR(IF(B28+1>$M$40,"",B28+1),"") -> 46047 | E29: =G29+I29+K29+M29+O29 -> 0 | G29: =IF(F30=0,,F30-F29) -> 0 | I29: =IF(H30=0,,H30-H29) -> 0 | K29: =IF(J30=0,,J30-J29) -> 0 | M29: =IF(L30=0,,L30-L29) -> 0 | O29: =IF(N30=0,,N30-N29) -> 0 | Q29: =IF(P30=0,,P30-P29) -> 0 | S29: =IF(R30=0,,R30-R29) -> 0 | U29: =IF(T30=0,,T30-T29) -> 0 | X29: =IF(W30=0,,W30-W29) -> 0 | AA29: =IF(Z30=0,,(Z30-Z29)+(Y30-Y29)) -> 0
B30: =IFERROR(IF(B29+1>$M$40,"",B29+1),"") -> 46048 | E30: =G30+I30+K30+M30+O30 -> 0 | G30: =IF(F31=0,,F31-F30) -> 0 | I30: =IF(H31=0,,H31-H30) -> 0 | K30: =IF(J31=0,,J31-J30) -> 0 | M30: =IF(L31=0,,L31-L30) -> 0 | O30: =IF(N31=0,,N31-N30) -> 0 | Q30: =IF(P31=0,,P31-P30) -> 0 | S30: =IF(R31=0,,R31-R30) -> 0 | U30: =IF(T31=0,,T31-T30) -> 0 | X30: =IF(W31=0,,W31-W30) -> 0 | AA30: =IF(Z31=0,,(Z31-Z30)+(Y31-Y30)) -> 0
B31: =IFERROR(IF(B30+1>$M$40,"",B30+1),"") -> 46049 | E31: =G31+I31+K31+M31+O31 -> 0 | G31: =IF(F33=0,,F33-F31) -> 0 | I31: =IF(H33=0,,H33-H31) -> 0 | K31: =IF(J33=0,,J33-J31) -> 0 | M31: =IF(L33=0,,L33-L31) -> 0 | O31: =IF(N33=0,,N33-N31) -> 0 | Q31: =IF(P33=0,,P33-P31) -> 0 | S31: =IF(R33=0,,R33-R31) -> 0 | U31: =IF(T33=0,,T33-T31) -> 0 | X31: =IF(W33=0,,W33-W31) -> 0 | AA31: =IF(Z33=0,,(Z33-Z31)+(Y33-Y31)) -> 0
B32: =IFERROR(IF(B31+1>$M$40,"",B31+1),"") -> 46050
A33: 5 | B33: =IFERROR(IF(B32+1>$M$40,"",B32+1),"") -> 46051 | E33: =G33+I33+K33+M33+O33 -> 0 | G33: =IF(F34=0,,F34-F33) -> 0 | I33: =IF(H34=0,,H34-H33) -> 0 | K33: =IF(J34=0,,J34-J33) -> 0 | M33: =IF(L34=0,,L34-L33) -> 0 | O33: =IF(N34=0,,N34-N33) -> 0 | Q33: =IF(P34=0,,P34-P33) -> 0 | S33: =IF(R34=0,,R34-R33) -> 0 | U33: =IF(T34=0,,T34-T33) -> 0 | X33: =IF(W34=0,,W34-W33) -> 0 | AA33: =IF(Z34=0,,(Z34-Z33)+(Y34-Y33)) -> 0
B34: =IFERROR(IF(B33+1>$M$40,"",B33+1),"") -> 46052 | E34: =G34+I34+K34+M34+O34 -> 0 | G34: =IF(F35=0,,F35-F34) -> 0 | I34: =IF(H35=0,,H35-H34) -> 0 | K34: =IF(J35=0,,J35-J34) -> 0 | M34: =IF(L35=0,,L35-L34) -> 0 | O34: =IF(N35=0,,N35-N34) -> 0 | Q34: =IF(P35=0,,P35-P34) -> 0 | S34: =IF(R35=0,,R35-R34) -> 0 | U34: =IF(T35=0,,T35-T34) -> 0 | X34: =IF(W35=0,,W35-W34) -> 0 | AA34: =IF(Z35=0,,(Z35-Z34)+(Y35-Y34)) -> 0
B35: =IFERROR(IF(B34+1>$M$40,"",B34+1),"") -> 46053 | E35: =G35+I35+K35+M35+O35 -> #REF! | G35: =IF(#REF!=0,,#REF!-F35) -> #REF! | I35: =IF(#REF!=0,,#REF!-H35) -> #REF! | K35: =IF(#REF!=0,,#REF!-J35) -> #REF! | M35: =IF(#REF!=0,,#REF!-L35) -> #REF! | O35: =IF(#REF!=0,,#REF!-N35) -> #REF! | Q35: =IF(#REF!=0,,#REF!-P35) -> #REF! | S35: =IF(#REF!=0,,#REF!-R35) -> #REF! | U35: =IF(#REF!=0,,#REF!-T35) -> #REF! | X35: =IF(#REF!=0,,#REF!-W35) -> #REF! | AA35: =IF(#REF!=0,,(#REF!-Z35)+(#REF!-Y35)) -> #REF!
D36: Total: | E36: =SUM(E4:E35) -> #REF! | F36: Total: | G36: =SUM(G4:G34) -> 0 | H36: Total: | I36: =SUM(I4:I35) -> #REF! | J36: Total: | K36: =SUM(K4:K35) -> #REF! | L36: Total: | M36: =SUM(M4:M35) -> #REF! | N36: Total: | O36: =SUM(O4:O35) -> #REF! | P36: Total: | Q36: =SUM(Q4:Q35) -> #REF! | R36: Total: | S36: =SUM(S4:S35) -> #REF! | T36: Total: | U36: =SUM(U4:U35) -> #REF! | V36: =SUM(V4:V35) -> 0 | W36: Total: | X36: =SUM(X4:X35) -> #REF! | Y36: Total: | AA36: =SUM(AA4:AA35) -> #REF! | AB36: =SUM(AB4:AB35) -> 0
J40: =DATE(Année,1,1) -> 46023 | M40: =EOMONTH(J40,0) -> 46053

Sheet bilan eau Annuel
A1: 2022 | B1: fréquentation | C1: L/baigneur | D1: Conso Général | E1: Bassin | F1: EF surp | G1: EFS | H1: Eau Adoucie | I1: ECS | J1: Pédiluve | M1: Compteur Bâche
J2: C1 | K2: C2 | L2: C3 | M2: C1 | N2: C2 | O2: C3
A3: Janvier | B3: =Année!#REF! -> #REF! | C3: =IF(B3=0,,((E3*1000)/B3)) -> #REF! | D3: =Année!#REF! -> #REF! | E3: =Année!#REF! -> #REF! | F3: =Année!#REF! -> #REF! | G3: =Année!#REF! -> #REF! | H3: =Année!#REF! -> #REF! | I3: =Année!#REF! -> #REF! | J3: =Année!#REF! -> #REF! | K3: =Année!#REF! -> #REF! | ... O3: =Année!#REF! -> #REF!
A4: Février | B4: =#REF! -> #REF! | C4: =IF(B4=0,,((E4*1000)/B4)) -> #REF! | D4: =#REF! -> #REF! | E4: =#REF! -> #REF! | F4: =#REF! -> #REF! | G4: =#REF! -> #REF! | H4: =#REF! -> #REF! | I4: =#REF! -> #REF! | J4: =#REF! -> #REF! | K4: =#REF! -> #REF! | ... O4: =#REF! -> #REF!
A5: Mars | B5: =#REF! -> #REF! | C5: =IF(B5=0,,((E5*1000)/B5)) -> #REF! | D5: =#REF! -> #REF! | E5: =#REF! -> #REF! | F5: =#REF! -> #REF! | G5: =#REF! -> #REF! | H5: =#REF! -> #REF! | I5: =#REF! -> #REF! | J5: =#REF! -> #REF! | K5: =#REF! -> #REF! | ... O5: =#REF! -> #REF!
A6: Avril | B6: =#REF! -> #REF! | C6: =IF(B6=0,,((E6*1000)/B6)) -> #REF! | D6: =#REF! -> #REF! | E6: =#REF! -> #REF! | F6: =#REF! -> #REF! | G6: =#REF! -> #REF! | H6: =#REF! -> #REF! | I6: =#REF! -> #REF! | J6: =#REF! -> #REF! | K6: =#REF! -> #REF! | ... O6: =#REF! -> #REF!
A7: Mai | B7: =#REF! -> #REF! | C7: =IF(B7=0,,((E7*1000)/B7)) -> #REF! | D7: =#REF! -> #REF! | E7: =#REF! -> #REF! | F7: =#REF! -> #REF! | G7: =#REF! -> #REF! | H7: =#REF! -> #REF! | I7: =#REF! -> #REF! | J7: =#REF! -> #REF! | K7: =#REF! -> #REF! | ... O7: =#REF! -> #REF!
A8: Juin | B8: =#REF! -> #REF! | C8: =IF(B8=0,,((E8*1000)/B8)) -> #REF! | D8: =#REF! -> #REF! | E8: =#REF! -> #REF! | F8: =#REF! -> #REF! | G8: =#REF! -> #REF! | H8: =#REF! -> #REF! | I8: =#REF! -> #REF! | J8: =#REF! -> #REF! | K8: =#REF! -> #REF! | ... O8: =#REF! -> #REF!
A9: Juillet | B9: =#REF! -> #REF! | C9: =IF(B9=0,,((E9*1000)/B9)) -> #REF! | D9: =#REF! -> #REF! | E9: =#REF! -> #REF! | F9: =#REF! -> #REF! | G9: =#REF! -> #REF! | H9: =#REF! -> #REF! | I9: =#REF! -> #REF! | J9: =#REF! -> #REF! | K9: =#REF! -> #REF! | ... O9: =#REF! -> #REF!
A10: Août | B10: =#REF! -> #REF! | C10: =IF(B10=0,,((E10*1000)/B10)) -> #REF! | D10: =#REF! -> #REF! | E10: =#REF! -> #REF! | F10: =#REF! -> #REF! | G10: =#REF! -> #REF! | H10: =#REF! -> #REF! | I10: =#REF! -> #REF! | J10: =#REF! -> #REF! | K10: =#REF! -> #REF! | ... O10: =#REF! -> #REF!
A11: Septembre | B11: =#REF! -> #REF! | C11: =IF(B11=0,,((E11*1000)/B11)) -> #REF! | D11: =#REF! -> #REF! | E11: =#REF! -> #REF! | F11: =#REF! -> #REF! | G11: =#REF! -> #REF! | H11: =#REF! -> #REF! | I11: =#REF! -> #REF! | J11: =#REF! -> #REF! | K11: =#REF! -> #REF! | ... O11: =#REF! -> #REF!
A12: Octobre | B12: =#REF! -> #REF! | C12: =IF(B12=0,,((E12*1000)/B12)) -> #REF! | D12: =#REF! -> #REF! | E12: =#REF! -> #REF! | F12: =#REF! -> #REF! | G12: =#REF! -> #REF! | H12: =#REF! -> #REF! | I12: =#REF! -> #REF! | J12: =#REF! -> #REF! | K12: =#REF! -> #REF! | ... O12: =#REF! -> #REF!
A13: Novembre | B13: =#REF! -> #REF! | C13: =IF(B13=0,,((E13*1000)/B13)) -> #REF! | D13: =#REF! -> #REF! | E13: =#REF! -> #REF! | F13: =#REF! -> #REF! | G13: =#REF! -> #REF! | H13: =#REF! -> #REF! | I13: =#REF! -> #REF! | J13: =#REF! -> #REF! | K13: =#REF! -> #REF! | ... O13: =#REF! -> #REF!
A14: Décembre | B14: =#REF! -> #REF! | C14: =IF(B14=0,,((E14*1000)/B14)) -> #REF! | D14: =#REF! -> #REF! | E14: =#REF! -> #REF! | F14: =#REF! -> #REF! | G14: =#REF! -> #REF! | H14: =#REF! -> #REF! | I14: =#REF! -> #REF! | J14: =#REF! -> #REF! | K14: =#REF! -> #REF! | ... O14: =#REF! -> #REF!
B15: =SUM(B3:B14) -> #REF! | C15: =AVERAGE(C3:C14,12) -> #REF! | D15: =SUM(D3:D14) -> #REF! | E15: =SUM(E3:E14) -> #REF! | F15: =SUM(F3:F14) -> #REF! | G15: =SUM(G3:G14) -> #REF! | H15: =SUM(H3:H14) -> #REF! | I15: =SUM(I3:I14) -> #REF! | J15: =SUM(J3:J14) -> #REF! | K15: =SUM(K3:K14) -> #REF! | ... O15: =SUM(O3:O14) -> #REF!
A18: 2021 | B18: fréquentation | C18: L/baigneur | D18: Conso Général | E18: Bassin | F18: EF surp | G18: EFS | H18: Eau Adoucie | I18: ECS | J18: Pédiluve | M18: Compteur Bâche
J19: C1 | K19: C2 | L19: C3 | M19: C1 | N19: C2 | O19: C3
A20: Janvier | B20: 2071 | C20: 96.57 | D20: 246 | E20: 200 | F20: 23 | G20: 24 | H20: 0 | I20: 12 | J20: 0 | K20: 63.5 | L20: 63.5 | M20: 74 | N20: 118 | O20: 9.1
A21: Février | B21: 292 | C21: 448.63 | D21: 107 | E21: 131 | F21: 11 | G21: 14 | H21: 12 | I21: 4 | J21: 0 | K21: 38.9 | L21: 38.9 | M21: 51 | N21: 76 | O21: 4.7
A22: Mars | B22: 748 | C22: 274.06 | D22: 242 | E22: 205 | F22: 11 | G22: 20 | H22: 0 | I22: 6 | J22: 0 | K22: 45.6 | L22: 0 | M22: 85 | N22: 103 | O22: 13.8
A23: Avril | B23: 994 | C23: 300.8 | D23: 342 | E23: 299 | F23: 12 | G23: 22 | H23: 0 | I23: 9 | J23: 0 | K23: 47.2 | L23: 0 | M23: 81 | N23: 96 | O23: 128.1
A24: Mai | B24: 3274 | C24: 93.77 | D24: 370 | E24: 307 | F24: 18 | G24: 31 | H24: 0 | I24: 14 | J24: 0 | K24: 44 | L24: 0 | M24: 89 | N24: 115 | O24: 100.3
A25: Juin | B25: 9093 | C25: 51.47 | D25: 670 | E25: 468 | F25: 53 | G25: 104 | H25: 0 | I25: 45 | J25: 19.8 | K25: 70.1 | L25: 18.6 | M25: 156 | N25: 196 | O25: 0
A26: Juillet | B26: 8404 | C26: 78.06 | D26: 1111 | E26: 656 | F26: 58 | G26: 129 | H26: 0 | I26: 54 | J26: 44.2 | K26: 84.2 | L26: 41.7 | M26: 192 | N26: 236 | O26: 92.4
A27: Août | B27: 4598 | C27: 120.92 | D27: 768 | E27: 556 | F27: 40 | G27: 135 | H27: 0 | I27: 37 | J27: 37.2 | K27: 74.1 | L27: 37.9 | M27: 159 | N27: 188 | O27: 87.1
A28: Septembre | B28: 5236 | C28: 70.66 | D28: 523 | E28: 370 | F28: 36 | G28: 85 | H28: 0 | I28: 32 | J28: 24.7 | K28: 58.1 | L28: 30.1 | M28: 127 | N28: 130 | O28: 8.7
A29: Octobre | B29: 9941 | C29: 53.72 | D29: 757 | E29: 534 | F29: 56 | G29: 112 | H29: 0 | I29: 55 | J29: 36.7 | K29: 80.9 | L29: 35.4 | M29: 197 | N29: 185 | O29: 18.5
A30: Novembre | B30: 9743 | C30: 62.1 | D30: 780 | E30: 605 | F30: 50 | G30: 110 | H30: 0 | I30: 59 | J30: 36.7 | K30: 81.8 | L30: 33.2 | M30: 193 | N30: 250 | O30: 30.36
A31: Décembre | B31: 7434 | C31: 69.28 | D31: 716 | E31: 515 | F31: 48 | G31: 101 | H31: 0 | I31: 52 | J31: 34.7 | K31: 80.2 | L31: 22.25 | M31: 166 | N31: 199 | O31: 27.3
B32: 61828 | C32: 133.23 | D32: 6632 | E32: 4846 | F32: 416 | G32: 887 | H32: 12 | I32: 379 | J32: 234 | K32: 768.6 | L32: 321.55 | M32: 1570 | N32: 1892 | O32: 520.36
A35: 2020 | B35: fréquentation | C35: L/baigneur | D35: Conso Général | E35: Bassin | F35: EF surp | G35: EFS | H35: Eau Adoucie | I35: ECS | J35: Pédiluve | M35: Compteur Bâche
J36: C1 | K36: C2 | L36: C3 | M36: C1 | N36: C2 | O36: C3
A37: Janvier | B37: 10986 | C37: 47.06 | D37: 838 | E37: 517 | F37: 70 | G37: 152 | H37: 0 | I37: 73 | J37: 0 | K37: 64.7 | L37: 64.7 | M37: 168 | N37: 183 | O37: 169.6
A38: Février | B38: 10925 | C38: 49.7 | D38: 870 | E38: 543 | F38: 82 | G38: 150 | H38: 0 | I38: 95 | J38: 0 | K38: 72.4 | L38: 72.4 | M38: 182 | N38: 201 | O38: 172.2
A39: Mars | B39: 4916 | C39: 60.62 | D39: 412 | E39: 298 | F39: 33 | G39: 47 | H39: 0 | I39: 34 | J39: 0 | K39: 34.4 | L39: 20.9 | M39: 120 | N39: 121 | O39: 62.2
A40: Avril | B40: 20 | C40: 6550 | D40: 135 | E40: 131 | F40: 0 | G40: 2 | H40: 0 | I40: =DATE(#REF!,10,1) -> #REF! | L40: 0 | M40: 81 | N40: 51 | O40: 0
A41: Mai | B41: 17 | C41: 8764.71 | D41: 151 | E41: 149 | F41: 0 | G41: 1 | H41: 12 | I41: 0 | J41: 0 | K41: 0 | L41: 0 | M41: 77 | N41: 72 | O41: 0
A42: Juin | B42: 884 | C42: 1461.54 | D42: 1372 | E42: 1292 | F42: 56 | G42: 19 | H42: 0 | I42: 5 | J42: 13.6 | K42: 31.1 | L42: 14.9 | M42: 942 | N42: 265
A43: Juillet | B43: 4705 | C43: 147.29 | D43: 864 | E43: 693 | F43: 75 | G43: 73 | H43: 0 | I43: 23 | J43: 51.7 | K43: 88.8 | L43: 44.2 | M43: 201 | N43: 200 | O43: 150.4
A44: Août | B44: 5375 | C44: 100.09 | D44: 712 | E44: 538 | F44: 57 | G44: 87 | H44: 0 | I44: 30 | J44: 47.8 | K44: 81.1 | L44: 43.4 | M44: 183 | N44: 206 | O44: 160.1
...

Sheet Bilan chaudière Annuel
A1: 2022 | B1: Général | C1: Radiateurs | D1: Plancher chauffant | E1: Batterie CTA | F1: Echangeurs bassins | G1: ECS | H1: Gaz | I1: Conso gaz | J1: Bois | K1: livraison bois (en T) | L1: Compteur eaux grises | M1: Compteur EDF
A2: Janvier | B2: ='01'!E36 -> #REF! | C2: ='01'!G36 -> 0 | D2: ='01'!I36 -> #REF! | E2: ='01'!K36 -> #REF! | F2: ='01'!M36 -> #REF! | G2: ='01'!O36 -> #REF! | H2: ='01'!Q36 -> #REF! | I2: ='01'!S36 -> #REF! | J2: ='01'!U36 -> #REF! | K2: ='01'!V36 -> 0 | L2: ='01'!X36 -> #REF! | M2: ='01'!AA36 -> #REF!
A3: Février | B3: =#REF! -> #REF! | C3: =#REF! -> #REF! | D3: =#REF! -> #REF! | E3: =#REF! -> #REF! | F3: =#REF! -> #REF! | G3: =#REF! -> #REF! | H3: =#REF! -> #REF! | I3: =#REF! -> #REF! | ... M3: =#REF! -> #REF!
A4: Mars | B4: =#REF! -> #REF! | C4: =#REF! -> #REF! | D4: =#REF! -> #REF! | E4: =#REF! -> #REF! | F4: =#REF! -> #REF! | G4: =#REF! -> #REF! | H4: =#REF! -> #REF! | I4: =#REF! -> #REF! | ... M4: =#REF! -> #REF!
A5: Avril | B5: =#REF! -> #REF! | C5: =#REF! -> #REF! | D5: =#REF! -> #REF! | E5: =#REF! -> #REF! | F5: =#REF! -> #REF! | G5: =#REF! -> #REF! | H5: =#REF! -> #REF! | I5: =#REF! -> #REF! | ... M5: =#REF! -> #REF!
A6: Mai | B6: =#REF! -> #REF! | C6: =#REF! -> #REF! | D6: =#REF! -> #REF! | E6: =#REF! -> #REF! | F6: =#REF! -> #REF! | G6: =#REF! -> #REF! | H6: =#REF! -> #REF! | I6: =#REF! -> #REF! | ... M6: =#REF! -> #REF!
A7: Juin | B7: =#REF! -> #REF! | C7: =#REF! -> #REF! | D7: =#REF! -> #REF! | E7: =#REF! -> #REF! | F7: =#REF! -> #REF! | G7: =#REF! -> #REF! | H7: =#REF! -> #REF! | I7: =#REF! -> #REF! | ... M7: =#REF! -> #REF!
A8: Juillet | B8: =#REF! -> #REF! | C8: =#REF! -> #REF! | D8: =#REF! -> #REF! | E8: =#REF! -> #REF! | F8: =#REF! -> #REF! | G8: =#REF! -> #REF! | H8: =#REF! -> #REF! | I8: =#REF! -> #REF! | ... M8: =#REF! -> #REF!
A9: Août | B9: =#REF! -> #REF! | C9: =#REF! -> #REF! | D9: =#REF! -> #REF! | E9: =#REF! -> #REF! | F9: =#REF! -> #REF! | G9: =#REF! -> #REF! | H9: =#REF! -> #REF! | I9: =#REF! -> #REF! | ... M9: =#REF! -> #REF!
A10: Septembre | B10: =#REF! -> #REF! | C10: =#REF! -> #REF! | D10: =#REF! -> #REF! | E10: =#REF! -> #REF! | F10: =#REF! -> #REF! | G10: =#REF! -> #REF! | H10: =#REF! -> #REF! | I10: =#REF! -> #REF! | ... M10: =#REF! -> #REF!
A11: Octobre | B11: =#REF! -> #REF! | C11: =#REF! -> #REF! | D11: =#REF! -> #REF! | E11: =#REF! -> #REF! | F11: =#REF! -> #REF! | G11: =#REF! -> #REF! | H11: =#REF! -> #REF! | I11: =#REF! -> #REF! | ... M11: =#REF! -> #REF!
A12: Novembre | B12: =#REF! -> #REF! | C12: =#REF! -> #REF! | D12: =#REF! -> #REF! | E12: =#REF! -> #REF! | F12: =#REF! -> #REF! | G12: =#REF! -> #REF! | H12: =#REF! -> #REF! | I12: =#REF! -> #REF! | ... M12: =#REF! -> #REF!
A13: Décembre | B13: =#REF! -> #REF! | C13: =#REF! -> #REF! | D13: =#REF! -> #REF! | E13: =#REF! -> #REF! | F13: =#REF! -> #REF! | G13: =#REF! -> #REF! | H13: =#REF! -> #REF! | I13: =#REF! -> #REF! | ... M13: =#REF! -> #REF!
B14: =SUM(B2:B13) -> #REF! | C14: =SUM(C2:C13) -> #REF! | D14: =SUM(D2:D13) -> #REF! | E14: =SUM(E2:E13) -> #REF! | F14: =SUM(F2:F13) -> #REF! | G14: =SUM(G2:G13) -> #REF! | H14: =SUM(H2:H13) -> #REF! | I14: =SUM(I2:I13) -> #REF! | ... M14: =SUM(M2:M13) -> #REF!
A16: 2021 | B16: Général | C16: Radiateurs | D16: Plancher chauffant | E16: Batterie CTA | F16: Echangeurs bassins | G16: ECS | H16: Gaz | I16: Conso gaz | J16: Bois | K16: livraison bois (en T) | L16: Compteur eaux grises | M16: Compteur EDF
A17: Janvier | B17: 70.71 | C17: 4.287 | D17: 7.121 | E17: 13.44 | F17: 43.71 | G17: 4.058 | H17: 20.18 | I17: 1931 | J17: 50.44 | K17: 18.02 | L17: 0 | M17: 58614
A18: Février | B18: 52.32 | C18: 2.76 | D18: 5.868 | E18: 10.45 | F18: 31.5 | G18: 3.127 | H18: 15.25 | I18: 1449.1 | J18: 36.779 | K18: 9.66 | L18: 0 | M18: 0
A19: Mars | B19: 49.9 | C19: 2.834 | D19: 6.376 | E19: 7.53 | F19: 6.376 | G19: 3.606 | H19: 11.26 | I19: 1078.3 | J19: 38.705 | K19: 18.5 | L19: 0 | M19: 64202
A20: Avril | B20: 42.42 | C20: 2.395 | D20: 6.266 | E20: 11.58 | F20: 6.266 | G20: 3.903 | H20: 5.42 | I20: 519.9 | J20: 36.308 | K20: 9 | L20: 0 | M20: 70148
A21: Mai | B21: 30.51 | C21: 1.223 | D21: 4.138 | E21: 3.35 | F21: 4.138 | G21: 3.683 | H21: 3.35 | I21: 332.1 | J21: 27.414 | K21: 7 | L21: 0 | M21: 63798
A22: Juin | B22: 25.69 | C22: 0.267 | D22: 1.723 | E22: 4.18 | F22: 1.723 | G22: 5.23 | H22: 20.01 | I22: 1923.3 | J22: 7.5044 | K22: 8 | L22: 0 | M22: 54743
A23: Juillet | B23: 37.56 | C23: 0.035 | D23: 1.41 | E23: 7.39 | F23: 1.41 | G23: 6.033 | H23: 34.84 | I23: 3325.7 | J23: 4.8376 | K23: 0 | L23: 1.265 | M23: 82681
A24: Août | B24: 61.26 | C24: 0.209 | D24: 2.447 | E24: 6.29 | F24: 2.447 | G24: 5.819 | H24: 26.81 | I24: 2500.3 | J24: 35.271 | K24: 7 | L24: 1.248 | M24: 77195
A25: Septembre | B25: 406.88 | C25: 0.477 | D25: 2.31 | E25: 6.38 | F25: 2.31 | G25: 3.987 | H25: 9.42 | I25: 894.5 | J25: 33.078 | K25: 0 | L25: 0.106 | M25: 58352
A26: Octobre | B26: 72.42 | C26: 1.811 | D26: 5.406 | E26: 11.01 | F26: 5.406 | G26: 6.543 | H26: 21.96 | I26: 2049.8 | J26: 50.346 | K26: 18 | L26: 0.952 | M26: 67932
A27: Novembre | B27: 101.31 | C27: 2.987 | D27: 6.25 | E27: 23.02 | F27: 6.25 | G27: 6.554 | H27: 68.78 | I27: 6391.6 | J27: 33.961 | K27: 18 | L27: 0.602 | M27: 66268
A28: Décembre | B28: 94.72 | C28: 3.144 | D28: 6.88 | E28: 11.56 | F28: 6.88 | G28: 7.099 | H28: 58.31 | I28: 5182.2 | J28: 37.426 | K28: 0 | L28: 0.631 | M28: 72492
B29: 1045.7 | C29: 22.429 | D29: 56.195 | E29: 116.18 | F29: 118.416 | G29: 59.642 | H29: 295.59 | I29: 27577.8 | J29: 392.07 | K29: 114.389 | L29: 4.804 | M29: 736425
A31: 2020 | B31: Général | C31: Radiateurs | D31: Plancher chauffant | E31: Batterie CTA | F31: Echangeurs bassins | G31: ECS | H31: Gaz | I31: Conso gaz | J31: Bois | K31: livraison bois (en T) | L31: Compteur eaux grises | M31: Compteur EDF
A32: Janvier | B32: 65.37 | C32: 2.586 | D32: 6.943 | E32: 13.25 | F32: 39.7 | G32: 8.395 | H32: 26.27 | I32: 489.5 | J32: 45.16 | K32: 18.96 | L32: 3.167 | M32: 67299
