Workbook

Sheet Amortissements
A1: AMORTISSEMENTS
Q2: date | R2: null | S2: 44562 | T2: =+EDATE(S2,3) -> 44652 | U2: =+EDATE(T2,3) -> 44743 | V2: =+EDATE(U2,3) -> 44835 | W2: =+EDATE(V2,3) -> 44927 | X2: =+EDATE(W2,3) -> 45017 | Y2: =+EDATE(X2,3) -> 45108 | Z2: =+EDATE(Y2,3) -> 45200 | AA2: =+EDATE(Z2,3) -> 45292 | ... AP2: =+EDATE(AO2,3) -> 46661
A3: Véhicule / Machine: | B3: Date achat: | C3: Durée (mois): | D3: Prix HTVA: | E3: % util. pro.: | F3: % déduct.: | G3: Amort. Total : | H3: Date fin présumé | I3: Date revente | J3: valeur résid | K3: TVA 21% | L3: prix jour | M3: prix trim | O3: somme1 | P3: somme2 | Q3: trimestre | R3: null | S3: =MOD(YEAR(S2),100)&"T" & TRUNC((MONTH(S2)+2)/3) -> 22T1 | T3: =MOD(YEAR(T2),100)&"T" & TRUNC((MONTH(T2)+2)/3) -> 22T2 | U3: =MOD(YEAR(U2),100)&"T" & TRUNC((MONTH(U2)+2)/3) -> 22T3 | V3: =MOD(YEAR(V2),100)&"T" & TRUNC((MONTH(V2)+2)/3) -> 22T4 | W3: =MOD(YEAR(W2),100)&"T" & TRUNC((MONTH(W2)+2)/3) -> 23T1 | X3: =MOD(YEAR(X2),100)&"T" & TRUNC((MONTH(X2)+2)/3) -> 23T2 | Y3: =MOD(YEAR(Y2),100)&"T" & TRUNC((MONTH(Y2)+2)/3) -> 23T3 | Z3: =MOD(YEAR(Z2),100)&"T" & TRUNC((MONTH(Z2)+2)/3) -> 23T4 | ... AP3: =MOD(YEAR(AP2),100)&"T" & TRUNC((MONTH(AP2)+2)/3) -> 27T4
A4: Voiture unetelle | B4: 44887 | C4: 36 | D4: 14000 | E4: 0.75 | F4: 0.67 | G4: =IF(D4,D4*E4*F4,"") -> 7035 | H4: =+EDATE(B4,C4) -> 45983 | J4: =MAX(0,IF(I4>B4,G4*(H4-I4)/(H4-B4),0)) -> 0 | K4: =J4*0.21 -> 0 | L4: =+G4/(H4-B4) -> 6.4187956 | M4: =+G4/C4*3 -> 586.25 | O4: =+P4+J4 -> 7035 | P4: =SUM(S4:AP4) -> 7035 | R4: 0 | S4: =IF(MEDIAN(S$2,EDATE(S$2,3)-1,MIN($H4:$I4))=MIN($H4:$I4),$G4-$J4-SUM($R4:R4),MAX(0,MIN(EOMONTH(S$2,2)+1,$H4,$I4)-MAX(S$2,$B4))/(EDATE(S$2,3)-S$2)*$M4) -> 0 | T4: =IF(MEDIAN(T$2,EDATE(T$2,3)-1,MIN($H4:$I4))=MIN($H4:$I4),$G4-$J4-SUM($R4:S4),MAX(0,MIN(EOMONTH(T$2,2)+1,$H4,$I4)-MAX(T$2,$B4))/(EDATE(T$2,3)-T$2)*$M4) -> 0 | U4: =IF(MEDIAN(U$2,EDATE(U$2,3)-1,MIN($H4:$I4))=MIN($H4:$I4),$G4-$J4-SUM($R4:T4),MAX(0,MIN(EOMONTH(U$2,2)+1,$H4,$I4)-MAX(U$2,$B4))/(EDATE(U$2,3)-U$2)*$M4) -> 0 | V4: =IF(MEDIAN(V$2,EDATE(V$2,3)-1,MIN($H4:$I4))=MIN($H4:$I4),$G4-$J4-SUM($R4:U4),MAX(0,MIN(EOMONTH(V$2,2)+1,$H4,$I4)-MAX(V$2,$B4))/(EDATE(V$2,3)-V$2)*$M4) -> 254.8913 | W4: =IF(MEDIAN(W$2,EDATE(W$2,3)-1,MIN($H4:$I4))=MIN($H4:$I4),$G4-$J4-SUM($R4:V4),MAX(0,MIN(EOMONTH(W$2,2)+1,$H4,$I4)-MAX(W$2,$B4))/(EDATE(W$2,3)-W$2)*$M4) -> 586.25 | X4: =IF(MEDIAN(X$2,EDATE(X$2,3)-1,MIN($H4:$I4))=MIN($H4:$I4),$G4-$J4-SUM($R4:W4),MAX(0,MIN(EOMONTH(X$2,2)+1,$H4,$I4)-MAX(X$2,$B4))/(EDATE(X$2,3)-X$2)*$M4) -> 586.25 | Y4: =IF(MEDIAN(Y$2,EDATE(Y$2,3)-1,MIN($H4:$I4))=MIN($H4:$I4),$G4-$J4-SUM($R4:X4),MAX(0,MIN(EOMONTH(Y$2,2)+1,$H4,$I4)-MAX(Y$2,$B4))/(EDATE(Y$2,3)-Y$2)*$M4) -> 586.25 | Z4: =IF(MEDIAN(Z$2,EDATE(Z$2,3)-1,MIN($H4:$I4))=MIN($H4:$I4),$G4-$J4-SUM($R4:Y4),MAX(0,MIN(EOMONTH(Z$2,2)+1,$H4,$I4)-MAX(Z$2,$B4))/(EDATE(Z$2,3)-Z$2)*$M4) -> 586.25 | ... AP4: =IF(MEDIAN(AP$2,EDATE(AP$2,3)-1,MIN($H4:$I4))=MIN($H4:$I4),$G4-$J4-SUM($R4:AO4),MAX(0,MIN(EOMONTH(AP$2,2)+1,$H4,$I4)-MAX(AP$2,$B4))/(EDATE(AP$2,3)-AP$2)*$M4) -> 0
A5: Exemple erreur 1 | B5: 45297 | C5: 36 | D5: 14000 | E5: 0.75 | F5: 0.67 | G5: =IF(D5,D5*E5*F5,"") -> 7035 | H5: =+EDATE(B5,C5) -> 46393 | I5: 45473 | J5: =MAX(0,IF(I5>B5,G5*(H5-I5)/(H5-B5),0)) -> 5905.292 | K5: =J5*0.21 -> 1240.1113 | L5: =+G5/(H5-B5) -> 6.4187956 | M5: =+G5/C5*3 -> 586.25 | O5: =+P5+J5 -> 7035 | P5: =SUM(S5:AP5) -> 1129.708 | R5: 0 | S5: =IF(MEDIAN(S$2,EDATE(S$2,3)-1,MIN($H5:$I5))=MIN($H5:$I5),$G5-$J5-SUM($R5:R5),MAX(0,MIN(EOMONTH(S$2,2)+1,$H5,$I5)-MAX(S$2,$B5))/(EDATE(S$2,3)-S$2)*$M5) -> 0 | T5: =IF(MEDIAN(T$2,EDATE(T$2,3)-1,MIN($H5:$I5))=MIN($H5:$I5),$G5-$J5-SUM($R5:S5),MAX(0,MIN(EOMONTH(T$2,2)+1,$H5,$I5)-MAX(T$2,$B5))/(EDATE(T$2,3)-T$2)*$M5) -> 0 | U5: =IF(MEDIAN(U$2,EDATE(U$2,3)-1,MIN($H5:$I5))=MIN($H5:$I5),$G5-$J5-SUM($R5:T5),MAX(0,MIN(EOMONTH(U$2,2)+1,$H5,$I5)-MAX(U$2,$B5))/(EDATE(U$2,3)-U$2)*$M5) -> 0 | V5: =IF(MEDIAN(V$2,EDATE(V$2,3)-1,MIN($H5:$I5))=MIN($H5:$I5),$G5-$J5-SUM($R5:U5),MAX(0,MIN(EOMONTH(V$2,2)+1,$H5,$I5)-MAX(V$2,$B5))/(EDATE(V$2,3)-V$2)*$M5) -> 0 | W5: =IF(MEDIAN(W$2,EDATE(W$2,3)-1,MIN($H5:$I5))=MIN($H5:$I5),$G5-$J5-SUM($R5:V5),MAX(0,MIN(EOMONTH(W$2,2)+1,$H5,$I5)-MAX(W$2,$B5))/(EDATE(W$2,3)-W$2)*$M5) -> 0 | X5: =IF(MEDIAN(X$2,EDATE(X$2,3)-1,MIN($H5:$I5))=MIN($H5:$I5),$G5-$J5-SUM($R5:W5),MAX(0,MIN(EOMONTH(X$2,2)+1,$H5,$I5)-MAX(X$2,$B5))/(EDATE(X$2,3)-X$2)*$M5) -> 0 | Y5: =IF(MEDIAN(Y$2,EDATE(Y$2,3)-1,MIN($H5:$I5))=MIN($H5:$I5),$G5-$J5-SUM($R5:X5),MAX(0,MIN(EOMONTH(Y$2,2)+1,$H5,$I5)-MAX(Y$2,$B5))/(EDATE(Y$2,3)-Y$2)*$M5) -> 0 | Z5: =IF(MEDIAN(Z$2,EDATE(Z$2,3)-1,MIN($H5:$I5))=MIN($H5:$I5),$G5-$J5-SUM($R5:Y5),MAX(0,MIN(EOMONTH(Z$2,2)+1,$H5,$I5)-MAX(Z$2,$B5))/(EDATE(Z$2,3)-Z$2)*$M5) -> 0 | ... AP5: =IF(MEDIAN(AP$2,EDATE(AP$2,3)-1,MIN($H5:$I5))=MIN($H5:$I5),$G5-$J5-SUM($R5:AO5),MAX(0,MIN(EOMONTH(AP$2,2)+1,$H5,$I5)-MAX(AP$2,$B5))/(EDATE(AP$2,3)-AP$2)*$M5) -> 0
A6: Exemple erreur 2 | B6: 45297 | C6: 36 | D6: 14000 | E6: 0.75 | F6: 0.67 | G6: =IF(D6,D6*E6*F6,"") -> 7035 | H6: =+EDATE(B6,C6) -> 46393 | I6: 45298 | J6: =MAX(0,IF(I6>B6,G6*(H6-I6)/(H6-B6),0)) -> 7028.5812 | K6: =J6*0.21 -> 1476.0021 | L6: =+G6/(H6-B6) -> 6.4187956 | M6: =+G6/C6*3 -> 586.25 | O6: =+P6+J6 -> 7035 | P6: =SUM(S6:AP6) -> 6.4187956 | R6: 0 | S6: =IF(MEDIAN(S$2,EDATE(S$2,3)-1,MIN($H6:$I6))=MIN($H6:$I6),$G6-$J6-SUM($R6:R6),MAX(0,MIN(EOMONTH(S$2,2)+1,$H6,$I6)-MAX(S$2,$B6))/(EDATE(S$2,3)-S$2)*$M6) -> 0 | T6: =IF(MEDIAN(T$2,EDATE(T$2,3)-1,MIN($H6:$I6))=MIN($H6:$I6),$G6-$J6-SUM($R6:S6),MAX(0,MIN(EOMONTH(T$2,2)+1,$H6,$I6)-MAX(T$2,$B6))/(EDATE(T$2,3)-T$2)*$M6) -> 0 | U6: =IF(MEDIAN(U$2,EDATE(U$2,3)-1,MIN($H6:$I6))=MIN($H6:$I6),$G6-$J6-SUM($R6:T6),MAX(0,MIN(EOMONTH(U$2,2)+1,$H6,$I6)-MAX(U$2,$B6))/(EDATE(U$2,3)-U$2)*$M6) -> 0 | V6: =IF(MEDIAN(V$2,EDATE(V$2,3)-1,MIN($H6:$I6))=MIN($H6:$I6),$G6-$J6-SUM($R6:U6),MAX(0,MIN(EOMONTH(V$2,2)+1,$H6,$I6)-MAX(V$2,$B6))/(EDATE(V$2,3)-V$2)*$M6) -> 0 | W6: =IF(MEDIAN(W$2,EDATE(W$2,3)-1,MIN($H6:$I6))=MIN($H6:$I6),$G6-$J6-SUM($R6:V6),MAX(0,MIN(EOMONTH(W$2,2)+1,$H6,$I6)-MAX(W$2,$B6))/(EDATE(W$2,3)-W$2)*$M6) -> 0 | X6: =IF(MEDIAN(X$2,EDATE(X$2,3)-1,MIN($H6:$I6))=MIN($H6:$I6),$G6-$J6-SUM($R6:W6),MAX(0,MIN(EOMONTH(X$2,2)+1,$H6,$I6)-MAX(X$2,$B6))/(EDATE(X$2,3)-X$2)*$M6) -> 0 | Y6: =IF(MEDIAN(Y$2,EDATE(Y$2,3)-1,MIN($H6:$I6))=MIN($H6:$I6),$G6-$J6-SUM($R6:X6),MAX(0,MIN(EOMONTH(Y$2,2)+1,$H6,$I6)-MAX(Y$2,$B6))/(EDATE(Y$2,3)-Y$2)*$M6) -> 0 | Z6: =IF(MEDIAN(Z$2,EDATE(Z$2,3)-1,MIN($H6:$I6))=MIN($H6:$I6),$G6-$J6-SUM($R6:Y6),MAX(0,MIN(EOMONTH(Z$2,2)+1,$H6,$I6)-MAX(Z$2,$B6))/(EDATE(Z$2,3)-Z$2)*$M6) -> 0 | ... AP6: =IF(MEDIAN(AP$2,EDATE(AP$2,3)-1,MIN($H6:$I6))=MIN($H6:$I6),$G6-$J6-SUM($R6:AO6),MAX(0,MIN(EOMONTH(AP$2,2)+1,$H6,$I6)-MAX(AP$2,$B6))/(EDATE(AP$2,3)-AP$2)*$M6) -> 0
G7: =IF(D7,D7*E7*F7,"")
O8: =+J4+P8 -> 7035 | P8: =SUM(S8:AP8) -> 7035 | S8: =MAX(0,MIN(EOMONTH(S$2,2)+1,$H4,$I4)-MAX(S$2,$B4))*$L4 -> 0 | T8: =MAX(0,MIN(EOMONTH(T$2,2)+1,$H4,$I4)-MAX(T$2,$B4))*$L4 -> 0 | U8: =MAX(0,MIN(EOMONTH(U$2,2)+1,$H4,$I4)-MAX(U$2,$B4))*$L4 -> 0 | V8: =MAX(0,MIN(EOMONTH(V$2,2)+1,$H4,$I4)-MAX(V$2,$B4))*$L4 -> 256.75182 | W8: =MAX(0,MIN(EOMONTH(W$2,2)+1,$H4,$I4)-MAX(W$2,$B4))*$L4 -> 577.69161 | X8: =MAX(0,MIN(EOMONTH(X$2,2)+1,$H4,$I4)-MAX(X$2,$B4))*$L4 -> 584.1104 | Y8: =MAX(0,MIN(EOMONTH(Y$2,2)+1,$H4,$I4)-MAX(Y$2,$B4))*$L4 -> 590.5292 | Z8: =MAX(0,MIN(EOMONTH(Z$2,2)+1,$H4,$I4)-MAX(Z$2,$B4))*$L4 -> 590.5292 | ... AP8: =MAX(0,MIN(EOMONTH(AP$2,2)+1,$H4,$I4)-MAX(AP$2,$B4))*$L4 -> 0
A9: Amortissement 1: | B9: =IF(OR(A4=""),"",A4) -> Voiture unetelle | E9: Date de fin présumée : | G9: =IF(C4,EDATE(B4,C4),"") -> 45983 | O9: =+J5+P9 -> 7035 | P9: =SUM(S9:AP9) -> 1129.708 | S9: =MAX(0,MIN(EOMONTH(S$2,2)+1,$H5,$I5)-MAX(S$2,$B5))*$L5 -> 0 | T9: =MAX(0,MIN(EOMONTH(T$2,2)+1,$H5,$I5)-MAX(T$2,$B5))*$L5 -> 0 | U9: =MAX(0,MIN(EOMONTH(U$2,2)+1,$H5,$I5)-MAX(U$2,$B5))*$L5 -> 0 | V9: =MAX(0,MIN(EOMONTH(V$2,2)+1,$H5,$I5)-MAX(V$2,$B5))*$L5 -> 0 | W9: =MAX(0,MIN(EOMONTH(W$2,2)+1,$H5,$I5)-MAX(W$2,$B5))*$L5 -> 0 | X9: =MAX(0,MIN(EOMONTH(X$2,2)+1,$H5,$I5)-MAX(X$2,$B5))*$L5 -> 0 | Y9: =MAX(0,MIN(EOMONTH(Y$2,2)+1,$H5,$I5)-MAX(Y$2,$B5))*$L5 -> 0 | Z9: =MAX(0,MIN(EOMONTH(Z$2,2)+1,$H5,$I5)-MAX(Z$2,$B5))*$L5 -> 0 | ... AP9: =MAX(0,MIN(EOMONTH(AP$2,2)+1,$H5,$I5)-MAX(AP$2,$B5))*$L5 -> 0
H10: Nb. Jours total de la durée présumée: | I10: =G9-B4 -> 1096 | O10: =+J6+P10 -> 7035 | P10: =SUM(S10:AP10) -> 6.4187956 | S10: =MAX(0,MIN(EOMONTH(S$2,2)+1,$H6,$I6)-MAX(S$2,$B6))*$L6 -> 0 | T10: =MAX(0,MIN(EOMONTH(T$2,2)+1,$H6,$I6)-MAX(T$2,$B6))*$L6 -> 0 | U10: =MAX(0,MIN(EOMONTH(U$2,2)+1,$H6,$I6)-MAX(U$2,$B6))*$L6 -> 0 | V10: =MAX(0,MIN(EOMONTH(V$2,2)+1,$H6,$I6)-MAX(V$2,$B6))*$L6 -> 0 | W10: =MAX(0,MIN(EOMONTH(W$2,2)+1,$H6,$I6)-MAX(W$2,$B6))*$L6 -> 0 | X10: =MAX(0,MIN(EOMONTH(X$2,2)+1,$H6,$I6)-MAX(X$2,$B6))*$L6 -> 0 | Y10: =MAX(0,MIN(EOMONTH(Y$2,2)+1,$H6,$I6)-MAX(Y$2,$B6))*$L6 -> 0 | Z10: =MAX(0,MIN(EOMONTH(Z$2,2)+1,$H6,$I6)-MAX(Z$2,$B6))*$L6 -> 0 | ... AP10: =MAX(0,MIN(EOMONTH(AP$2,2)+1,$H6,$I6)-MAX(AP$2,$B6))*$L6 -> 0
A11: Calcul | B11: Amort.: | C11: Date achat : | D11: Date revente : | E11: Valeur résid.: | F11: TVA 21 %: | H11: Val. /jour: | I11: =G4/I10 -> 6.4187956
A12: Trimestre 1: | B12: =IF(D$4="","",IF(D12="",G$4/C$4*3,I$11*K12)) -> 586.25 | E12: =IF(D12,I11*I12,"") | F12: =IF(D12,E12*21%,"") | G12: =INDEX($S$4:$AP$4,MATCH(N12,$S$3:$AP$3,0)) -> 586.25 | H12: T1. Jours restants jusqu'à date présumée: | I12: =G9-D12 -> 45983 | J12: Depuis début T1: | K12: =D12-DATE('Année comptable'!A1,1,1) -> -45292 | L12: Jusqu'à fin T1: | M12: =DATE('Année comptable'!A1,3,32)-B4 -> 496 | N12: 24T1
A13: Trimestre 2: | B13: =IF(OR(D$4="",COUNTA(D$12:D12)>=1),"",IF(D13="",G$4/C$4*3,I$11*K13)) -> 586.25 | E13: =IF(D13,I11*I13,"") | F13: =IF(D13,E13*21%,"") | G13: =INDEX($S$4:$AP$4,MATCH(N13,$S$3:$AP$3,0)) -> 586.25 | H13: T2. Jours restants jusqu'à date présumée: | I13: =G9-D13 -> 45983 | J13: Depuis début T2: | K13: =D13-DATE('Année comptable'!A1,4,1) -> -45383 | L13: Jusqu'à fin T2: | M13: =DATE('Année comptable'!A1,6,31)-B4 -> 587 | N13: 24T2
A14: Trimestre 3: | B14: =IF(OR(D$4="",COUNTA(D$12:D13)>=1),"",IF(D14="",G$4/C$4*3,I$11*K14)) -> 586.25 | E14: =IF(D14,I11*I14,"") | F14: =IF(D14,E14*21%,"") | G14: =INDEX($S$4:$AP$4,MATCH(N14,$S$3:$AP$3,0)) -> 586.25 | H14: T3. Jours restants jusqu'à date présumée: | I14: =G9-D14 -> 45983 | J14: Depuis début T3: | K14: =D14-DATE('Année comptable'!A1,7,1) -> -45474 | L14: Jusqu'à fin T3: | M14: =DATE('Année comptable'!A1,9,31)-B4 -> 679 | N14: 24T3
A15: Trimestre 4: | B15: =IF(OR(D$4="",COUNTA(D$12:D14)>=1),"",IF(D15="",G$4/C$4*3,I$11*K15)) -> 586.25 | E15: =IF(D15,I11*I15,"") | F15: =IF(D15,E15*21%,"") | G15: =INDEX($S$4:$AP$4,MATCH(N15,$S$3:$AP$3,0)) -> 586.25 | H15: T4. Jours restants jusqu'à date présumée: | I15: =G9-D15 -> 45983 | J15: Depuis début T4: | K15: =D15-DATE('Année comptable'!A1,10,1) -> -45566 | L15: Jusqu'à fin T4: | M15: =DATE('Année comptable'!A1,12,32)-B4 -> 771 | N15: 24T4
A17: Amort. Annuel : | B17: =SUM(B12:B15) -> 2345
A19: Amortissement 2: | B19: =IF(OR(A5=""),"",A5) -> Exemple erreur 1 | E19: Date de fin présumée : | G19: =IF(C5,EDATE(B5,C5),"") -> 46393
H20: Nb. Jours total de la durée présumée: | I20: =G19-B5 -> 1096
A21: Calcul | B21: Amort.: | C21: Date achat : | D21: Date revente : | E21: Valeur résid.: | F21: TVA 21 %: | H21: Val. /jour: | I21: =G5/I20 -> 6.4187956
A22: Trimestre 1: | B22: =IF(D$5="","",IF(D22="",G$5/C$5*3,I$21*K22)) -> 586.25 | E22: =IF(D22,I21*I22,"") | F22: =IF(D22,E22*21%,"") | G22: =INDEX($S$5:$AP$5,MATCH(N22,$S$3:$AP$3,0)) -> 554.03846 | H22: T1. Jours restants jusqu'à date présumée: | I22: =G19-D22 -> 46393 | J22: Depuis début T1: | K22: =D22-DATE('Année comptable'!A1,1,1) -> -45292 | L22: Jusqu'à fin T1: | M22: =DATE('Année comptable'!A1,3,32)-B5 -> 86 | N22: 24T1
A23: Trimestre 2: | B23: =IF(OR(D$5="",COUNTA(D$22:D22)>=1),"",IF(D23="",G$5/C$5*3,I$21*K23)) -> 577.69161 | D23: 45473 | E23: =IF(D23,I21*I23,"") -> 5905.292 | F23: =IF(D23,E23*21%,"") -> 1240.1113 | G23: =INDEX($S$5:$AP$5,MATCH(N23,$S$3:$AP$3,0)) -> 575.66957 | H23: T2. Jours restants jusqu'à date présumée: | I23: =G19-D23 -> 920 | J23: Depuis début T2: | K23: =D23-DATE('Année comptable'!A1,4,1) -> 90 | L23: Jusqu'à fin T2: | M23: =DATE('Année comptable'!A1,6,31)-B5 -> 177 | N23: 24T2
A24: Trimestre 3: | B24: =IF(OR(D$5="",COUNTA(D$22:D23)>=1),"",IF(D24="",G$5/C$5*3,I$21*K24)) | E24: =IF(D24,I21*I24,"") | F24: =IF(D24,E24*21%,"") | G24: =INDEX($S$5:$AP$5,MATCH(N24,$S$3:$AP$3,0)) -> 0 | H24: T3. Jours restants jusqu'à date présumée: | I24: =G19-D24 -> 46393 | J24: Depuis début T3: | K24: =D24-DATE('Année comptable'!A1,7,1) -> -45474 | L24: Jusqu'à fin T3: | M24: =DATE('Année comptable'!A1,9,31)-B5 -> 269 | N24: 24T3
A25: Trimestre 4: | B25: =IF(OR(D$5="",COUNTA(D$22:D24)>=1),"",IF(D25="",G$5/C$5*3,I$21*K25)) | E25: =IF(D25,I21*I25,"") | F25: =IF(D25,E25*21%,"") | G25: =INDEX($S$5:$AP$5,MATCH(N25,$S$3:$AP$3,0)) -> 0 | H25: T4. Jours restants jusqu'à date présumée: | I25: =G19-D25 -> 46393 | J25: Depuis début T4: | K25: =D25-DATE('Année comptable'!A1,10,1) -> -45566 | L25: Jusqu'à fin T4: | M25: =DATE('Année comptable'!A1,12,32)-B5 -> 361 | N25: 24T4
A27: Amort. Annuel : | B27: =SUM(B22:B25) -> 1163.9416
A29: Amortissement 3: | B29: =IF(OR(A6=""),"",A6) -> Exemple erreur 2 | E29: Date de fin présumée : | G29: =IF(C6,EDATE(B6,C6),"") -> 46393
H30: Nb. Jours total de la durée présumée: | I30: =G29-B6 -> 1096
A31: Calcul | B31: Amort.: | C31: Date achat : | D31: Date revente : | E31: Valeur résid.: | F31: TVA 21 %: | H31: Val. /jour: | I31: =G6/I30 -> 6.4187956
A32: Trimestre 1: | B32: =IF(D$6="","",IF(D32="",G$6/C$6*3,I$31*K32)) -> 38.512774 | D32: 45298 | E32: =IF(D32,I31*I32,"") -> 7028.5812 | F32: =IF(D32,E32*21%,"") -> 1476.0021 | G32: =INDEX($S$6:$AP$6,MATCH(N32,$S$3:$AP$3,0)) -> 6.4187956 | H32: T1. Jours restants jusqu'à date présumée: | I32: =G29-D32 -> 1095 | J32: Depuis début T1: | K32: =D32-DATE('Année comptable'!A1,1,1) -> 6 | L32: Jusqu'à fin T1: | M32: =DATE('Année comptable'!A1,3,32)-B6 -> 86 | N32: 24T1
A33: Trimestre 2: | B33: =IF(OR(D$6="",COUNTA(D$32:D32)>=1),"",IF(D33="",G$6/C$6*3,I$31*K33)) | E33: =IF(D33,I31*I33,"") | F33: =IF(D33,E33*21%,"") | G33: =INDEX($S$6:$AP$6,MATCH(N33,$S$3:$AP$3,0)) -> 0 | H33: T2. Jours restants jusqu'à date présumée: | I33: =G29-D33 -> 46393 | J33: Depuis début T2: | K33: =D33-DATE('Année comptable'!A1,4,1) -> -45383 | L33: Jusqu'à fin T2: | M33: =DATE('Année comptable'!A1,6,31)-B6 -> 177 | N33: 24T2
A34: Trimestre 3: | B34: =IF(OR(D$6="",COUNTA(D$32:D33)>=1),"",IF(D34="",G$6/C$6*3,I$31*K34)) | E34: =IF(D34,I31*I34,"") | F34: =IF(D34,E34*21%,"") | G34: =INDEX($S$6:$AP$6,MATCH(N34,$S$3:$AP$3,0)) -> 0 | H34: T3. Jours restants jusqu'à date présumée: | I34: =G29-D34 -> 46393 | J34: Depuis début T3: | K34: =D34-DATE('Année comptable'!A1,7,1) -> -45474 | L34: Jusqu'à fin T3: | M34: =DATE('Année comptable'!A1,9,31)-B6 -> 269 | N34: 24T3
A35: Trimestre 4: | B35: =IF(OR(D$6="",COUNTA(D$32:D34)>=1),"",IF(D35="",G$6/C$6*3,I$31*K35)) | E35: =IF(D35,I31*I35,"") | F35: =IF(D35,E35*21%,"") | G35: =INDEX($S$6:$AP$6,MATCH(N35,$S$3:$AP$3,0)) -> 0 | H35: T4. Jours restants jusqu'à date présumée: | I35: =G29-D35 -> 46393 | J35: Depuis début T4: | K35: =D35-DATE('Année comptable'!A1,10,1) -> -45566 | L35: Jusqu'à fin T4: | M35: =DATE('Année comptable'!A1,12,32)-B6 -> 361 | N35: 24T4
A37: Amort. Annuel : | B37: =SUM(B32:B35) -> 38.512774
A39: Amortissement 4: | B39: =IF(OR(A7=""),"",A7) | E39: Date de fin présumée : | G39: =IF(C7,EDATE(B7,C7),"")
H40: Nb. Jours total de la durée présumée: | I40: =G39-B7 -> #VALUE!
A41: Calcul | B41: Amort.: | C41: Date achat : | D41: Date revente : | E41: Valeur résid.: | F41: TVA 21 %: | H41: Val. /jour: | I41: =G7/I40 -> #VALUE!
A42: Trimestre 1: | B42: =IF(D$7="","",IF(D42="",G$7/C$7*3,I$41*K42)) | E42: =IF(D42,I41*I42,"") | F42: =IF(D42,E42*21%,"") | H42: T1. Jours restants jusqu'à date présumée: | I42: =G39-D42 -> #VALUE! | J42: Depuis début T1: | K42: =D42-DATE('Année comptable'!A1,1,1) -> -45292 | L42: Jusqu'à fin T1: | M42: =DATE('Année comptable'!A1,3,32)-B7 -> 45383
A43: Trimestre 2: | B43: =IF(OR(D$7="",COUNTA(D$42:D42)>=1),"",IF(D43="",G$7/C$7*3,I$41*K43)) | E43: =IF(D43,I41*I43,"") | F43: =IF(D43,E43*21%,"") | H43: T2. Jours restants jusqu'à date présumée: | I43: =G39-D43 -> #VALUE! | J43: Depuis début T2: | K43: =D43-DATE('Année comptable'!A1,4,1) -> -45383 | L43: Jusqu'à fin T2: | M43: =DATE('Année comptable'!A1,6,31)-B7 -> 45474
A44: Trimestre 3: | B44: =IF(OR(D$7="",COUNTA(D$42:D43)>=1),"",IF(D44="",G$7/C$7*3,I$41*K44)) | E44: =IF(D44,I41*I44,"") | F44: =IF(D44,E44*21%,"") | H44: T3. Jours restants jusqu'à date présumée: | I44: =G39-D44 -> #VALUE! | J44: Depuis début T3: | K44: =D44-DATE('Année comptable'!A1,7,1) -> -45474 | L44: Jusqu'à fin T3: | M44: =DATE('Année comptable'!A1,9,31)-B7 -> 45566
A45: Trimestre 4: | B45: =IF(OR(D$7="",COUNTA(D$42:D44)>=1),"",IF(D45="",G$7/C$7*3,I$41*K45)) | E45: =IF(D45,I41*I45,"") | F45: =IF(D45,E45*21%,"") | H45: T4. Jours restants jusqu'à date présumée: | I45: =G39-D45 -> #VALUE! | J45: Depuis début T4: | K45: =D45-DATE('Année comptable'!A1,10,1) -> -45566 | L45: Jusqu'à fin T4: | M45: =DATE('Année comptable'!A1,12,32)-B7 -> 45658
A47: Amort. Annuel : | B47: =SUM(B42:B45) -> 0

Sheet Transpose
A1: {=TRANSPOSE(Amortissements!A2:AP6)} | B1: Véhicule / Machine: | C1: Voiture unetelle | D1: Exemple erreur 1 | E1: Exemple erreur 2
B2: Date achat: | C2: 44887 | D2: 45297 | E2: 45297
B3: Durée (mois): | C3: 36 | D3: 36 | E3: 36
B4: Prix HTVA: | C4: 14000 | D4: 14000 | E4: 14000
B5: % util. pro.: | C5: 0.75 | D5: 0.75 | E5: 0.75
B6: % déduct.: | C6: 0.67 | D6: 0.67 | E6: 0.67
B7: Amort. Total : | C7: 7035 | D7: 7035 | E7: 7035
B8: Date fin présumé | C8: 45983 | D8: 46393 | E8: 46393
B9: Date revente | C9: 0 | D9: 45473 | E9: 45298
B10: valeur résid | C10: 0 | D10: 5905.292 | E10: 7028.5812
B11: TVA 21% | C11: 0 | D11: 1240.1113 | E11: 1476.0021
B12: prix jour | C12: 6.4187956 | D12: 6.4187956 | E12: 6.4187956
B13: prix trim | C13: 586.25 | D13: 586.25 | E13: 586.25
C14: 0 | D14: 0 | E14: 0 | J14: ecart
B15: somme1 | C15: 7035 | D15: 7035 | E15: 7035 | F15: {=TRANSPOSE(Amortissements!O8:AP10)} -> 7035 | G15: 7035 | H15: 7035 | J15: =+C15-F15 -> 0 | K15: =+D15-G15 -> 0 | L15: =+E15-H15 -> 0
B16: somme2 | C16: 7035 | D16: 1129.708 | E16: 6.4187956 | F16: 7035 | G16: 1129.708 | H16: 6.4187956 | J16: =+C16-F16 -> 0 | K16: =+D16-G16 -> 0 | L16: =+E16-H16 -> -1.7941204e-13
A17: date | B17: trimestre | C17: 0 | D17: 0 | E17: 0 | F17: 0 | G17: 0 | H17: 0 | J17: =+C17-F17 -> 0 | K17: =+D17-G17 -> 0 | L17: =+E17-H17 -> 0
A18: null | B18: null | C18: 0 | D18: 0 | E18: 0 | F18: 0 | G18: 0 | H18: 0 | J18: =+C18-F18 -> 0 | K18: =+D18-G18 -> 0 | L18: =+E18-H18 -> 0
A19: 44562 | B19: 22T1 | C19: 0 | D19: 0 | E19: 0 | F19: 0 | G19: 0 | H19: 0 | J19: =+C19-F19 -> 0 | K19: =+D19-G19 -> 0 | L19: =+E19-H19 -> 0
A20: 44652 | B20: 22T2 | C20: 0 | D20: 0 | E20: 0 | F20: 0 | G20: 0 | H20: 0 | J20: =+C20-F20 -> 0 | K20: =+D20-G20 -> 0 | L20: =+E20-H20 -> 0
A21: 44743 | B21: 22T3 | C21: 0 | D21: 0 | E21: 0 | F21: 0 | G21: 0 | H21: 0 | J21: =+C21-F21 -> 0 | K21: =+D21-G21 -> 0 | L21: =+E21-H21 -> 0
A22: 44835 | B22: 22T4 | C22: 254.8913 | D22: 0 | E22: 0 | F22: 256.75182 | G22: 0 | H22: 0 | J22: =+C22-F22 -> -1.8605205 | K22: =+D22-G22 -> 0 | L22: =+E22-H22 -> 0
A23: 44927 | B23: 23T1 | C23: 586.25 | D23: 0 | E23: 0 | F23: 577.69161 | G23: 0 | H23: 0 | J23: =+C23-F23 -> 8.5583942 | K23: =+D23-G23 -> 0 | L23: =+E23-H23 -> 0
A24: 45017 | B24: 23T2 | C24: 586.25 | D24: 0 | E24: 0 | F24: 584.1104 | G24: 0 | H24: 0 | J24: =+C24-F24 -> 2.1395985 | K24: =+D24-G24 -> 0 | L24: =+E24-H24 -> 0
A25: 45108 | B25: 23T3 | C25: 586.25 | D25: 0 | E25: 0 | F25: 590.5292 | G25: 0 | H25: 0 | J25: =+C25-F25 -> -4.2791971 | K25: =+D25-G25 -> 0 | L25: =+E25-H25 -> 0
A26: 45200 | B26: 23T4 | C26: 586.25 | D26: 0 | E26: 0 | F26: 590.5292 | G26: 0 | H26: 0 | J26: =+C26-F26 -> -4.2791971 | K26: =+D26-G26 -> 0 | L26: =+E26-H26 -> 0
A27: 45292 | B27: 24T1 | C27: 586.25 | D27: 554.03846 | E27: 6.4187956 | F27: 584.1104 | G27: 552.01642 | H27: 6.4187956 | J27: =+C27-F27 -> 2.1395985 | K27: =+D27-G27 -> 2.0220382 | L27: =+E27-H27 -> -1.7941204e-13
A28: 45383 | B28: 24T2 | C28: 586.25 | D28: 575.66957 | E28: 0 | F28: 584.1104 | G28: 577.69161 | H28: 0 | J28: =+C28-F28 -> 2.1395985 | K28: =+D28-G28 -> -2.0220382 | L28: =+E28-H28 -> 0
A29: 45474 | B29: 24T3 | C29: 586.25 | D29: 0 | E29: 0 | F29: 590.5292 | G29: 0 | H29: 0 | J29: =+C29-F29 -> -4.2791971 | K29: =+D29-G29 -> 0 | L29: =+E29-H29 -> 0
A30: 45566 | B30: 24T4 | C30: 586.25 | D30: 0 | E30: 0 | F30: 590.5292 | G30: 0 | H30: 0 | J30: =+C30-F30 -> -4.2791971 | K30: =+D30-G30 -> 0 | L30: =+E30-H30 -> 0
... A34: 45931 | B34: 25T4 | C34: 331.3587 | D34: 0 | E34: 0 | F34: 333.77737 | G34: 0 | H34: 0 | J34: =+C34-F34 -> -2.4186766 | K34: =+D34-G34 -> 0 | L34: =+E34-H34 -> 0
A35: 46023 | B35: 26T1 | C35: 0 | D35: 0 | E35: 0 | F35: 0 | G35: 0 | H35: 0
A36: 46113 | B36: 26T2 | C36: 0 | D36: 0 | E36: 0 | F36: 0 | G36: 0 | H36: 0
A37: 46204 | B37: 26T3 | C37: 0 | D37: 0 | E37: 0 | F37: 0 | G37: 0 | H37: 0
A38: 46296 | B38: 26T4 | C38: 0 | D38: 0 | E38: 0 | F38: 0 | G38: 0 | H38: 0
A39: 46388 | B39: 27T1 | C39: 0 | D39: 0 | E39: 0 | F39: 0 | G39: 0 | H39: 0
A40: 46478 | B40: 27T2 | C40: 0 | D40: 0 | E40: 0 | F40: 0 | G40: 0 | H40: 0
A41: 46569 | B41: 27T3 | C41: 0 | D41: 0 | E41: 0 | F41: 0 | G41: 0 | H41: 0
A42: 46661 | B42: 27T4 | C42: 0 | D42: 0 | E42: 0 | F42: 0 | G42: 0 | H42: 0

Sheet Année comptable
A1: 2024
