Workbook

Sheet Feuille 1
D1: Devise EUR
B3: Valeur portefeuille | C3: =SUM(F5:F13) -> 1459247.4 | D3: Total investi | E3: =SUM(B5:B14) -> 400 | G3: Rentabilité totale | H3: =(C3-E3)/E3 -> 3647.1185
A4: Coins | B4: Montant investi | C4: Quantité | D4: Prix Revient Unitaire (PRU) | E4: Coours actuel | F4: Valeur actuelle | G4: Perte / Profit | H4: Rentabilité
A5: BTC | B5: =SUMIF(Historique!$B$3:$B$84,A5,Historique!$C$3:$C$84) -> 100 | C5: =SUMIF(Historique!$B$3:$B$84,A5,Historique!$E$3:$E$84) -> 37.735849 | D5: =B5/C5 -> 2.65 | E5: =IFERROR(__xludf.DUMMYFUNCTION("GOOGLEFINANCE(""currency:BTCEUR"")"),38670.05563) -> 38670.056 | F5: =C5*E5 -> 1459247.4 | G5: =F5-B5 -> 1459147.4 | H5: =(G5-B5)/B5 -> 14590.474
A6: ETH | B6: =SUMIF(Historique!$B$3:$B$84,A6,Historique!$C$3:$C$84) -> 0 | C6: =SUMIF(Historique!$B$3:$B$84,A6,Historique!$E$3:$E$84) -> 0
A7: ADA | B7: =SUMIF(Historique!$B$3:$B$84,A7,Historique!$C$3:$C$84) -> 300 | C7: =SUMIF(Historique!$B$3:$B$84,A7,Historique!$E$3:$E$84) -> 60
B8: =SUMIF(Historique!$B$3:$B$84,A8,Historique!$C$3:$C$84) -> 0 | C8: =SUMIF(Historique!$B$3:$B$84,A8,Historique!$E$3:$E$84) -> 0
B9: =SUMIF(Historique!$B$3:$B$84,A9,Historique!$C$3:$C$84) -> 0 | C9: =SUMIF(Historique!$B$3:$B$84,A9,Historique!$E$3:$E$84) -> 0
B10: =SUMIF(Historique!$B$3:$B$84,A10,Historique!$C$3:$C$84) -> 0 | C10: =SUMIF(Historique!$B$3:$B$84,A10,Historique!$E$3:$E$84) -> 0
B11: =SUMIF(Historique!$B$3:$B$84,A11,Historique!$C$3:$C$84) -> 0 | C11: =SUMIF(Historique!$B$3:$B$84,A11,Historique!$E$3:$E$84) -> 0

Sheet Historique
A3: Date | B3: Crypto | C3: Montant achat EUR | D3: Cours EUR (moment achat) | E3: Quantité
A4: 45283 | B4: BTC | C4: 100 | D4: 2.65 | E4: =C4/D4 -> 37.735849
A5: 45284 | B5: ADA | C5: 300 | D5: 5 | E5: =C5/D5 -> 60
