Workbook
Name Jours_Fériés: DATA!$A$2:$A$14
Name JoursFériés: DATA!$A$2:$A$14

Sheet DATA
A1: JOURS FÉRIÉS | D1: Astreinte: | E1: Oui
A2: =DATE(Feuil1!A1,1,1) -> 45292 | B2: Premier de l'An | E2: Non
A3: =FLOOR(DAY(MINUTE(Feuil1!A1/38)/2+56)&"/5/"&Feuil1!A1,7)-34 -> 45382 | B3: Pâques
A4: =A3+1 -> 45383 | B4: Lundi de Pâques
A5: =DATE(Feuil1!A1,5,1) -> 45413 | B5: Fête du Travail
A6: =DATE(Feuil1!A1,5,8) -> 45420 | B6: Victoire 1945
A7: =A3+39 -> 45421 | B7: Ascension
A8: =A3+49 -> 45431 | B8: Pentecôte
A9: =A8+1 -> 45432 | B9: Lundi de Pentecôte
A10: =DATE(Feuil1!A1,7,14) -> 45487 | B10: Fête Nationale
A11: =DATE(Feuil1!A1,8,15) -> 45519 | B11: Assomption
A12: =DATE(Feuil1!A1,11,1) -> 45597 | B12: Toussaint
A13: =DATE(Feuil1!A1,11,11) -> 45607 | B13: Armistice
A14: =DATE(Feuil1!A1,12,25) -> 45651 | B14: Noël

Sheet Feuil1
A1: 2024 | C1: Samedi: 150%
C2: Dimanche: 200%
C3: Férié: 200%
A5: astreinte | B5: Heure de début matin | C5: Heure de fin matin | D5: Heure de début après-midi | E5: Heure de fin après-midi | F5: Total heures travaillées par jour | G5: Heures supplémentaires | J5: JOURSEM
A6: =DATE(A1,1,1) -> 45292 | B6: 0.375 | C6: 0.52083333 | D6: 0.5625 | E6: 0.79166667 | F6: =C6-B6+(E6-D6) -> 0.375 | G6: =IF(ISNUMBER(MATCH(A6,Jours_Fériés,0)),F6*2,IF(WEEKDAY(A6,2)=7,F6*2,IF(WEEKDAY(A6,2)=6,F6*1.5,IF(WEEKDAY(A6,2)=5,IF(F6>TIME(7,25,0),F6-TIME(7,25,0),0),IF(F6>TIME(8,0,0),F6-TIME(8,0,0),0))))) -> 0.75 | H6: =IF(AND($A$5<>"astreinte",WORKDAY.INTL(A6-1,1,11,Jours_Fériés)<>A6),2*F6,IF(AND($A$5<>"astreinte",WEEKDAY(A6,2)=6),1.5*F6,MAX(0,F6-TIMEVALUE(IF(WEEKDAY(A6,2)=5,"7:25","8:00"))))) -> 0.041666667 | I6: =DATE(A1,1,1) -> 45292 | J6: =WEEKDAY(A6,2) -> 1
A7: =A6+1 -> 45293 | B7: 0.375 | C7: 0.52083333 | D7: 0.5625 | E7: 0.75 | F7: =C7-B7+(E7-D7) -> 0.33333333 | G7: =IF(ISNUMBER(MATCH(A7,Jours_Fériés,0)),F7*2,IF(WEEKDAY(A7,2)=7,F7*2,IF(WEEKDAY(A7,2)=6,F7*1.5,IF(WEEKDAY(A7,2)=5,IF(F7>TIME(7,25,0),F7-TIME(7,25,0),0),IF(F7>TIME(8,0,0),F7-TIME(8,0,0),0))))) -> 0 | H7: =IF(AND($A$5<>"astreinte",WORKDAY.INTL(A7-1,1,11,Jours_Fériés)<>A7),2*F7,IF(AND($A$5<>"astreinte",WEEKDAY(A7,2)=6),1.5*F7,MAX(0,F7-TIMEVALUE(IF(WEEKDAY(A7,2)=5,"7:25","8:00"))))) -> 5.5511151e-17 | I7: =I6+1 -> 45293 | J7: =WEEKDAY(A7,2) -> 2
A8: =A7+1 -> 45294 | B8: 0.375 | C8: 0.52083333 | D8: 0.5625 | E8: 0.79166667 | F8: =C8-B8+(E8-D8) -> 0.375 | G8: =IF(ISNUMBER(MATCH(A8,Jours_Fériés,0)),F8*2,IF(WEEKDAY(A8,2)=7,F8*2,IF(WEEKDAY(A8,2)=6,F8*1.5,IF(WEEKDAY(A8,2)=5,IF(F8>TIME(7,25,0),F8-TIME(7,25,0),0),IF(F8>TIME(8,0,0),F8-TIME(8,0,0),0))))) -> 0.041666667 | H8: =IF(AND($A$5<>"astreinte",WORKDAY.INTL(A8-1,1,11,Jours_Fériés)<>A8),2*F8,IF(AND($A$5<>"astreinte",WEEKDAY(A8,2)=6),1.5*F8,MAX(0,F8-TIMEVALUE(IF(WEEKDAY(A8,2)=5,"7:25","8:00"))))) -> 0.041666667 | I8: =I7+1 -> 45294 | J8: =WEEKDAY(A8,2) -> 3
A9: =A8+1 -> 45295 | B9: 0.375 | C9: 0.52083333 | D9: 0.5625 | E9: 0.79166667 | F9: =C9-B9+(E9-D9) -> 0.375 | G9: =IF(ISNUMBER(MATCH(A9,Jours_Fériés,0)),F9*2,IF(WEEKDAY(A9,2)=7,F9*2,IF(WEEKDAY(A9,2)=6,F9*1.5,IF(WEEKDAY(A9,2)=5,IF(F9>TIME(7,25,0),F9-TIME(7,25,0),0),IF(F9>TIME(8,0,0),F9-TIME(8,0,0),0))))) -> 0.041666667 | H9: =IF(AND($A$5<>"astreinte",WORKDAY.INTL(A9-1,1,11,Jours_Fériés)<>A9),2*F9,IF(AND($A$5<>"astreinte",WEEKDAY(A9,2)=6),1.5*F9,MAX(0,F9-TIMEVALUE(IF(WEEKDAY(A9,2)=5,"7:25","8:00"))))) -> 0.041666667 | I9: =I8+1 -> 45295 | J9: =WEEKDAY(A9,2) -> 4
A10: =A9+1 -> 45296 | B10: 0.375 | C10: 0.52083333 | D10: 0.5625 | E10: 0.72569444 | F10: =C10-B10+(E10-D10) -> 0.30902778 | G10: =IF(ISNUMBER(MATCH(A10,Jours_Fériés,0)),F10*2,IF(WEEKDAY(A10,2)=7,F10*2,IF(WEEKDAY(A10,2)=6,F10*1.5,IF(WEEKDAY(A10,2)=5,IF(F10>TIME(7,25,0),F10-TIME(7,25,0),0),IF(F10>TIME(8,0,0),F10-TIME(8,0,0),0))))) -> 0 | H10: =IF(AND($A$5<>"astreinte",WORKDAY.INTL(A10-1,1,11,Jours_Fériés)<>A10),2*F10,IF(AND($A$5<>"astreinte",WEEKDAY(A10,2)=6),1.5*F10,MAX(0,F10-TIMEVALUE(IF(WEEKDAY(A10,2)=5,"7:25","8:00"))))) -> 1.110223e-16 | I10: =I9+1 -> 45296 | J10: =WEEKDAY(A10,2) -> 5
A11: =A10+1 -> 45297 | F11: =C11-B11+(E11-D11) -> 0 | G11: =IF(ISNUMBER(MATCH(A11,Jours_Fériés,0)),F11*2,IF(WEEKDAY(A11,2)=7,F11*2,IF(WEEKDAY(A11,2)=6,F11*1.5,IF(WEEKDAY(A11,2)=5,IF(F11>TIME(7,25,0),F11-TIME(7,25,0),0),IF(F11>TIME(8,0,0),F11-TIME(8,0,0),0))))) -> 0 | H11: =IF(AND($A$5<>"astreinte",WORKDAY.INTL(A11-1,1,11,Jours_Fériés)<>A11),2*F11,IF(AND($A$5<>"astreinte",WEEKDAY(A11,2)=6),1.5*F11,MAX(0,F11-TIMEVALUE(IF(WEEKDAY(A11,2)=5,"7:25","8:00"))))) -> 0 | I11: =I10+1 -> 45297 | J11: =WEEKDAY(A11,2) -> 6
A12: =A11+1 -> 45298 | F12: =C12-B12+(E12-D12) -> 0 | G12: =IF(ISNUMBER(MATCH(A12,Jours_Fériés,0)),F12*2,IF(WEEKDAY(A12,2)=7,F12*2,IF(WEEKDAY(A12,2)=6,F12*1.5,IF(WEEKDAY(A12,2)=5,IF(F12>TIME(7,25,0),F12-TIME(7,25,0),0),IF(F12>TIME(8,0,0),F12-TIME(8,0,0),0))))) -> 0 | H12: =IF(AND($A$5<>"astreinte",WORKDAY.INTL(A12-1,1,11,Jours_Fériés)<>A12),2*F12,IF(AND($A$5<>"astreinte",WEEKDAY(A12,2)=6),1.5*F12,MAX(0,F12-TIMEVALUE(IF(WEEKDAY(A12,2)=5,"7:25","8:00"))))) -> 0 | I12: =I11+1 -> 45298 | J12: =WEEKDAY(A12,2) -> 7
A13: =DATE(A1,5,1) -> 45413 | B13: 0.375 | C13: 0.52083333 | D13: 0.5625 | E13: 0.79166667 | F13: =C13-B13+(E13-D13) -> 0.375 | G13: =IF(ISNUMBER(MATCH(A13,Jours_Fériés,0)),F13*2,IF(WEEKDAY(A13,2)=7,F13*2,IF(WEEKDAY(A13,2)=6,F13*1.5,IF(WEEKDAY(A13,2)=5,IF(F13>TIME(7,25,0),F13-TIME(7,25,0),0),IF(F13>TIME(8,0,0),F13-TIME(8,0,0),0))))) -> 0.75 | H13: =IF(AND($A$5<>"astreinte",WORKDAY.INTL(A13-1,1,11,Jours_Fériés)<>A13),2*F13,IF(AND($A$5<>"astreinte",WEEKDAY(A13,2)=6),1.5*F13,MAX(0,F13-TIMEVALUE(IF(WEEKDAY(A13,2)=5,"7:25","8:00"))))) -> 0.041666667
A14: =A13+1 -> 45414 | B14: 0.375 | C14: 0.52083333 | D14: 0.5625 | E14: 0.75 | F14: =C14-B14+(E14-D14) -> 0.33333333 | G14: =IF(ISNUMBER(MATCH(A14,Jours_Fériés,0)),F14*2,IF(WEEKDAY(A14,2)=7,F14*2,IF(WEEKDAY(A14,2)=6,F14*1.5,IF(WEEKDAY(A14,2)=5,IF(F14>TIME(7,25,0),F14-TIME(7,25,0),0),IF(F14>TIME(8,0,0),F14-TIME(8,0,0),0))))) -> 0 | H14: =IF(AND($A$5<>"astreinte",WORKDAY.INTL(A14-1,1,11,Jours_Fériés)<>A14),2*F14,IF(AND($A$5<>"astreinte",WEEKDAY(A14,2)=6),1.5*F14,MAX(0,F14-TIMEVALUE(IF(WEEKDAY(A14,2)=5,"7:25","8:00"))))) -> 0
A15: =A14+1 -> 45415 | B15: 0.375 | C15: 0.52083333 | D15: 0.5625 | E15: 0.79166667 | F15: =C15-B15+(E15-D15) -> 0.375 | G15: =IF(ISNUMBER(MATCH(A15,Jours_Fériés,0)),F15*2,IF(WEEKDAY(A15,2)=7,F15*2,IF(WEEKDAY(A15,2)=6,F15*1.5,IF(WEEKDAY(A15,2)=5,IF(F15>TIME(7,25,0),F15-TIME(7,25,0),0),IF(F15>TIME(8,0,0),F15-TIME(8,0,0),0))))) -> 0.065972222 | H15: =IF(AND($A$5<>"astreinte",WORKDAY.INTL(A15-1,1,11,Jours_Fériés)<>A15),2*F15,IF(AND($A$5<>"astreinte",WEEKDAY(A15,2)=6),1.5*F15,MAX(0,F15-TIMEVALUE(IF(WEEKDAY(A15,2)=5,"7:25","8:00"))))) -> 0.065972222
A16: =A15+1 -> 45416 | B16: 0.375 | C16: 0.52083333 | D16: 0.5625 | E16: 0.79166667 | F16: =C16-B16+(E16-D16) -> 0.375 | G16: =IF(ISNUMBER(MATCH(A16,Jours_Fériés,0)),F16*2,IF(WEEKDAY(A16,2)=7,F16*2,IF(WEEKDAY(A16,2)=6,F16*1.5,IF(WEEKDAY(A16,2)=5,IF(F16>TIME(7,25,0),F16-TIME(7,25,0),0),IF(F16>TIME(8,0,0),F16-TIME(8,0,0),0))))) -> 0.5625 | H16: =IF(AND($A$5<>"astreinte",WORKDAY.INTL(A16-1,1,11,Jours_Fériés)<>A16),2*F16,IF(AND($A$5<>"astreinte",WEEKDAY(A16,2)=6),1.5*F16,MAX(0,F16-TIMEVALUE(IF(WEEKDAY(A16,2)=5,"7:25","8:00"))))) -> 0.041666667
A17: =A16+1 -> 45417 | B17: 0.375 | C17: 0.45833333 | F17: =C17-B17+(E17-D17) -> 0.083333333 | G17: =IF(ISNUMBER(MATCH(A17,Jours_Fériés,0)),F17*2,IF(WEEKDAY(A17,2)=7,F17*2,IF(WEEKDAY(A17,2)=6,F17*1.5,IF(WEEKDAY(A17,2)=5,IF(F17>TIME(7,25,0),F17-TIME(7,25,0),0),IF(F17>TIME(8,0,0),F17-TIME(8,0,0),0))))) -> 0.16666667 | H17: =IF(AND($A$5<>"astreinte",WORKDAY.INTL(A17-1,1,11,Jours_Fériés)<>A17),2*F17,IF(AND($A$5<>"astreinte",WEEKDAY(A17,2)=6),1.5*F17,MAX(0,F17-TIMEVALUE(IF(WEEKDAY(A17,2)=5,"7:25","8:00"))))) -> 0
A18: =A17+1 -> 45418 | B18: 0.375 | C18: 0.52083333 | D18: 0.5625 | E18: 0.79166667 | F18: =C18-B18+(E18-D18) -> 0.375 | G18: =IF(ISNUMBER(MATCH(A18,Jours_Fériés,0)),F18*2,IF(WEEKDAY(A18,2)=7,F18*2,IF(WEEKDAY(A18,2)=6,F18*1.5,IF(WEEKDAY(A18,2)=5,IF(F18>TIME(7,25,0),F18-TIME(7,25,0),0),IF(F18>TIME(8,0,0),F18-TIME(8,0,0),0))))) -> 0.041666667 | H18: =IF(AND($A$5<>"astreinte",WORKDAY.INTL(A18-1,1,11,Jours_Fériés)<>A18),2*F18,IF(AND($A$5<>"astreinte",WEEKDAY(A18,2)=6),1.5*F18,MAX(0,F18-TIMEVALUE(IF(WEEKDAY(A18,2)=5,"7:25","8:00"))))) -> 0.041666667
A19: =A18+1 -> 45419 | B19: 0.375 | C19: 0.52083333 | D19: 0.5625 | E19: 0.79166667 | F19: =C19-B19+(E19-D19) -> 0.375 | G19: =IF(ISNUMBER(MATCH(A19,Jours_Fériés,0)),F19*2,IF(WEEKDAY(A19,2)=7,F19*2,IF(WEEKDAY(A19,2)=6,F19*1.5,IF(WEEKDAY(A19,2)=5,IF(F19>TIME(7,25,0),F19-TIME(7,25,0),0),IF(F19>TIME(8,0,0),F19-TIME(8,0,0),0))))) -> 0.041666667 | H19: =IF(AND($A$5<>"astreinte",WORKDAY.INTL(A19-1,1,11,Jours_Fériés)<>A19),2*F19,IF(AND($A$5<>"astreinte",WEEKDAY(A19,2)=6),1.5*F19,MAX(0,F19-TIMEVALUE(IF(WEEKDAY(A19,2)=5,"7:25","8:00"))))) -> 0.041666667
A20: =A19+1 -> 45420 | B20: 0.375 | C20: 0.52083333 | D20: 0.5625 | E20: 0.79166667 | F20: =C20-B20+(E20-D20) -> 0.375 | G20: =IF(ISNUMBER(MATCH(A20,Jours_Fériés,0)),F20*2,IF(WEEKDAY(A20,2)=7,F20*2,IF(WEEKDAY(A20,2)=6,F20*1.5,IF(WEEKDAY(A20,2)=5,IF(F20>TIME(7,25,0),F20-TIME(7,25,0),0),IF(F20>TIME(8,0,0),F20-TIME(8,0,0),0))))) -> 0.75 | H20: =IF(AND($A$5<>"astreinte",WORKDAY.INTL(A20-1,1,11,Jours_Fériés)<>A20),2*F20,IF(AND($A$5<>"astreinte",WEEKDAY(A20,2)=6),1.5*F20,MAX(0,F20-TIMEVALUE(IF(WEEKDAY(A20,2)=5,"7:25","8:00"))))) -> 0.041666667
A21: =A20+1 -> 45421 | B21: 0.375 | C21: 0.52083333 | D21: 0.5625 | E21: 0.79166667 | F21: =C21-B21+(E21-D21) -> 0.375 | G21: =IF(ISNUMBER(MATCH(A21,Jours_Fériés,0)),F21*2,IF(WEEKDAY(A21,2)=7,F21*2,IF(WEEKDAY(A21,2)=6,F21*1.5,IF(WEEKDAY(A21,2)=5,IF(F21>TIME(7,25,0),F21-TIME(7,25,0),0),IF(F21>TIME(8,0,0),F21-TIME(8,0,0),0))))) -> 0.75 | H21: =IF(AND($A$5<>"astreinte",WORKDAY.INTL(A21-1,1,11,Jours_Fériés)<>A21),2*F21,IF(AND($A$5<>"astreinte",WEEKDAY(A21,2)=6),1.5*F21,MAX(0,F21-TIMEVALUE(IF(WEEKDAY(A21,2)=5,"7:25","8:00"))))) -> 0.041666667
A22: =A21+1 -> 45422 | B22: 0.375 | C22: 0.52083333 | D22: 0.5625 | E22: 0.79166667 | F22: =C22-B22+(E22-D22) -> 0.375 | G22: =IF(ISNUMBER(MATCH(A22,Jours_Fériés,0)),F22*2,IF(WEEKDAY(A22,2)=7,F22*2,IF(WEEKDAY(A22,2)=6,F22*1.5,IF(WEEKDAY(A22,2)=5,IF(F22>TIME(7,25,0),F22-TIME(7,25,0),0),IF(F22>TIME(8,0,0),F22-TIME(8,0,0),0))))) -> 0.065972222 | H22: =IF(AND($A$5<>"astreinte",WORKDAY.INTL(A22-1,1,11,Jours_Fériés)<>A22),2*F22,IF(AND($A$5<>"astreinte",WEEKDAY(A22,2)=6),1.5*F22,MAX(0,F22-TIMEVALUE(IF(WEEKDAY(A22,2)=5,"7:25","8:00"))))) -> 0.065972222
A23: =A22+1 -> 45423 | F23: =C23-B23+(E23-D23) -> 0 | G23: =IF(ISNUMBER(MATCH(A23,Jours_Fériés,0)),F23*2,IF(WEEKDAY(A23,2)=7,F23*2,IF(WEEKDAY(A23,2)=6,F23*1.5,IF(WEEKDAY(A23,2)=5,IF(F23>TIME(7,25,0),F23-TIME(7,25,0),0),IF(F23>TIME(8,0,0),F23-TIME(8,0,0),0))))) -> 0 | H23: =IF(AND($A$5<>"astreinte",WORKDAY.INTL(A23-1,1,11,Jours_Fériés)<>A23),2*F23,IF(AND($A$5<>"astreinte",WEEKDAY(A23,2)=6),1.5*F23,MAX(0,F23-TIMEVALUE(IF(WEEKDAY(A23,2)=5,"7:25","8:00"))))) -> 0
A24: =A23+1 -> 45424 | B24: 0.375 | C24: 0.52083333 | D24: 0.5625 | E24: 0.79166667 | F24: =C24-B24+(E24-D24) -> 0.375 | G24: =IF(ISNUMBER(MATCH(A24,Jours_Fériés,0)),F24*2,IF(WEEKDAY(A24,2)=7,F24*2,IF(WEEKDAY(A24,2)=6,F24*1.5,IF(WEEKDAY(A24,2)=5,IF(F24>TIME(7,25,0),F24-TIME(7,25,0),0),IF(F24>TIME(8,0,0),F24-TIME(8,0,0),0))))) -> 0.75 | H24: =IF(AND($A$5<>"astreinte",WORKDAY.INTL(A24-1,1,11,Jours_Fériés)<>A24),2*F24,IF(AND($A$5<>"astreinte",WEEKDAY(A24,2)=6),1.5*F24,MAX(0,F24-TIMEVALUE(IF(WEEKDAY(A24,2)=5,"7:25","8:00"))))) -> 0.041666667
