Workbook
Name BDD: OFFSET('BDD PowerBI'!$A$1:$K$1,,,COUNTA('BDD PowerBI'!$B:$B),)
Name CleU: 'BDD PowerBI'!$A$2:$A$1303
Name Date_et_Heure: 'BDD PowerBI'!$B$2:$B$1303
Name Relevé_Compteur.: 'BDD PowerBI'!$D$2:$D$1303
Name Relevé_Compteur_parent: 'BDD PowerBI'!$E$2:$E$1303
Name Relevé_Localisation: 'BDD PowerBI'!$H$2:$H$1303
Name Relevé_pour_le_mois_de: 'BDD PowerBI'!$C$2:$C$1303
Name Relevé_Relevé: 'BDD PowerBI'!$K$2:$K$1303
Name Relevé_TYPE: 'BDD PowerBI'!$G$2:$G$1303
Name Relevé_Typologie: 'BDD PowerBI'!$I$2:$I$1303
Name Relevé_UNITE: 'BDD PowerBI'!$F$2:$F$1303
Name Relevé_Usage: 'BDD PowerBI'!$J$2:$J$1303

Sheet BDD PowerBI
A1: CleU | B1: Date et Heure | C1: Relevé pour le mois de : | D1: Relevé#Compteur. | E1: Relevé#Compteur parent | F1: Relevé#UNITE | G1: Relevé#TYPE | H1: Relevé#Localisation | I1: Relevé#Typologie | J1: Relevé#Usage | K1: Relevé#Relevé
A2: =E2&"_"&D2&"\\"&TEXT(C2,"JJMMAA") -> Compteur EDF_121 E Active 1 HPH\\2212AA | B2: 44896 | C2: 44896 | D2: 121 E Active 1 HPH | E2: Compteur EDF | F2: kWh | G2: ELECTRICITE | J2: Général | K2: 84123
A3: =E3&"_"&D3&"\\"&TEXT(C3,"JJMMAA") -> Compteur EDF_122 E Active 1 HCH\\2212AA | B3: 44896 | C3: 44896 | D3: 122 E Active 1 HCH | E3: Compteur EDF | F3: kWh | G3: ELECTRICITE | J3: Général | K3: 38773
A4: =E4&"_"&D4&"\\"&TEXT(C4,"JJMMAA") -> Compteur EDF_123 E Active 1 HPE\\2212AA | B4: 44896 | C4: 44896 | D4: 123 E Active 1 HPE | E4: Compteur EDF | F4: kWh | G4: ELECTRICITE | J4: Général | K4: 259220
A5: =E5&"_"&D5&"\\"&TEXT(C5,"JJMMAA") -> Compteur EDF_124 E Active 1 HCE\\2212AA | B5: 44896 | C5: 44896 | D5: 124 E Active 1 HCE | E5: Compteur EDF | F5: kWh | G5: ELECTRICITE | J5: Général | K5: 107534
A6: =E6&"_"&D6&"\\"&TEXT(C6,"JJMMAA") -> Compteur EDF_220 E Active 1 P\\2212AA | B6: 44896 | C6: 44896 | D6: 220 E Active 1 P | E6: Compteur EDF | F6: kWh | G6: ELECTRICITE | J6: Général | K6: 12107
A7: =E7&"_"&D7&"\\"&TEXT(C7,"JJMMAA") -> TGBT_ARM_BRANCH_LC\\2212AA | B7: 44896 | C7: 44896 | D7: ARM_BRANCH_LC | E7: TGBT | F7: kWh | G7: ELECTRICITE | J7: CVC | K7: 932.8
A8: =E8&"_"&D8&"\\"&TEXT(C8,"JJMMAA") -> TGBT_ARM_CLIM_DET_D_OND1\\2212AA | B8: 44896 | C8: 44896 | D8: ARM_CLIM_DET_D_OND1 | E8: TGBT | F8: kWh | G8: ELECTRICITE | J8: PROCESS | K8: 93.9
A9: =E9&"_"&D9&"\\"&TEXT(C9,"JJMMAA") -> TGBT_ARM_CLIM_DET_D_OND2\\2212AA | B9: 44896 | C9: 44896 | D9: ARM_CLIM_DET_D_OND2 | E9: TGBT | F9: kWh | G9: ELECTRICITE | J9: PROCESS | K9: 88.2
A10: =E10&"_"&D10&"\\"&TEXT(C10,"JJMMAA") -> TGBT_ARM_CLIM_DET_D_VDI1\\2212AA | B10: 44896 | C10: 44896 | D10: ARM_CLIM_DET_D_VDI1 | E10: TGBT | F10: kWh | G10: ELECTRICITE | J10: PROCESS | K10: 633.2
A11: =E11&"_"&D11&"\\"&TEXT(C11,"JJMMAA") -> TGBT_ARM_CLIM_DET_D_VDI2\\2212AA | B11: 44896 | C11: 44896 | D11: ARM_CLIM_DET_D_VDI2 | E11: TGBT | F11: kWh | G11: ELECTRICITE | J11: PROCESS | K11: 1077.6
A12: =E12&"_"&D12&"\\"&TEXT(C12,"JJMMAA") -> TGBT_ARM_CLIM_EG_LC_VDI1\\2212AA | B12: 44896 | C12: 44896 | D12: ARM_CLIM_EG_LC_VDI1 | E12: TGBT | F12: kWh | G12: ELECTRICITE | J12: CVC | K12: 97.4
A13: =E13&"_"&D13&"\\"&TEXT(C13,"JJMMAA") -> TGBT_ARM_CLIM_EG_LC_VDI2\\2212AA | B13: 44896 | C13: 44896 | D13: ARM_CLIM_EG_LC_VDI2 | E13: TGBT | F13: kWh | G13: ELECTRICITE | J13: CVC | K13: 1664.9
... A20: =E20&"_"&D20&"\\"&TEXT(C20,"JJMMAA") -> TGBT_ASC_2800Kg\\2212AA | B20: 44896 | C20: 44896 | D20: ASC_2800Kg | E20: TGBT | F20: kWh | G20: ELECTRICITE | J20: Ascenseurs | K20: 730
A21: =E21&"_"&D21&"\\"&TEXT(C21,"JJMMAA") -> TD Amphithéatre_Centrale de mesure\\2212AA | B21: 44896 | C21: 44896 | D21: Centrale de mesure | E21: TD Amphithéatre | F21: kWh | G21: ELECTRICITE | H21: RDCH | I21: Normal | J21: Total | K21: 2096.21
A22: =E22&"_"&D22&"\\"&TEXT(C22,"JJMMAA") -> TD Caféteria_Centrale de mesure\\2212AA | B22: 44896 | C22: 44896 | D22: Centrale de mesure | E22: TD Caféteria | F22: kWh | G22: ELECTRICITE | H22: Cafétéria | I22: Normal | J22: Total | K22: 137.1
A23: =E23&"_"&D23&"\\"&TEXT(C23,"JJMMAA") -> TD HQ Serveur 1_Centrale de mesure\\2212AA | B23: 44896 | C23: 44896 | D23: Centrale de mesure | E23: TD HQ Serveur 1 | F23: kWh | G23: ELECTRICITE | H23: RDCH | I23: Secouru | J23: Total | K23: 6487.98
A24: =E24&"_"&D24&"\\"&TEXT(C24,"JJMMAA") -> TD HQ N0_Centrale de mesure\\2212AA | B24: 44896 | C24: 44896 | D24: Centrale de mesure | E24: TD HQ N0 | F24: kWh | G24: ELECTRICITE | H24: RDCH | I24: Secouru | J24: Total | K24: 5831.15
A25: =E25&"_"&D25&"\\"&TEXT(C25,"JJMMAA") -> TD HQ N1_Centrale de mesure\\2212AA | B25: 44896 | C25: 44896 | D25: Centrale de mesure | E25: TD HQ N1 | F25: kWh | G25: ELECTRICITE | H25: R+1 | I25: Secouru | J25: Total | K25: 1848.5
A26: =E26&"_"&D26&"\\"&TEXT(C26,"JJMMAA") -> TD HQ N8_Centrale de mesure\\2212AA | B26: 44896 | C26: 44896 | D26: Centrale de mesure | E26: TD HQ N8 | F26: kWh | G26: ELECTRICITE | H26: R+8 | I26: Secouru | J26: Total | K26: 6074.5
A27: =E27&"_"&D27&"\\"&TEXT(C27,"JJMMAA") -> TD HQ PCS_Centrale de mesure\\2212AA | B27: 44896 | C27: 44896 | D27: Centrale de mesure | E27: TD HQ PCS | F27: kWh | G27: ELECTRICITE | H27: RDCH | I27: Secouru | J27: Total | K27: 2709.77
A28: =E28&"_"&D28&"\\"&TEXT(C28,"JJMMAA") -> TD HQ Serveur 2_Centrale de mesure\\2212AA | B28: 44896 | C28: 44896 | D28: Centrale de mesure | E28: TD HQ Serveur 2 | F28: kWh | G28: ELECTRICITE | H28: RDCH | I28: Secouru | J28: Total | K28: 6067.1
A29: =E29&"_"&D29&"\\"&TEXT(C29,"JJMMAA") -> TD Instance 120P_Centrale de mesure\\2212AA | B29: 44896 | C29: 44896 | D29: Centrale de mesure | E29: TD Instance 120P | F29: kWh | G29: ELECTRICITE | H29: RDCH | I29: Normal | J29: Total | K29: 3076.46
A30: =E30&"_"&D30&"\\"&TEXT(C30,"JJMMAA") -> TD Instance 30P_Centrale de mesure\\2212AA | B30: 44896 | C30: 44896 | D30: Centrale de mesure | E30: TD Instance 30P | F30: kWh | G30: ELECTRICITE | H30: RDCH | I30: Normal | J30: Total | K30: 29.54
A31: =E31&"_"&D31&"\\"&TEXT(C31,"JJMMAA") -> TD N1_Centrale de mesure\\2212AA | B31: 44896 | C31: 44896 | D31: Centrale de mesure | E31: TD N1 | F31: kWh | G31: ELECTRICITE | H31: R+1 | I31: Normal | J31: Total | K31: 8769.1
A32: =E32&"_"&D32&"\\"&TEXT(C32,"JJMMAA") -> TD N2_Centrale de mesure\\2212AA | B32: 44896 | C32: 44896 | D32: Centrale de mesure | E32: TD N2 | F32: kWh | G32: ELECTRICITE | H32: R+2 | I32: Normal | J32: Total | K32: 17171.3
... A110: =E110&"_"&D110&"\\"&TEXT(C110,"JJMMAA") -> TD N7_CP4 Compt-PC\\2212AA | B110: 44896 | C110: 44896 | D110: CP4 Compt-PC | E110: TD N7 | F110: kWh | G110: ELECTRICITE | H110: R+7 | I110: Normal | J110: PC | K110: 3179.7
A111: =E111&"_"&D111&"\\"&TEXT(C111,"JJMMAA") -> Coffret LT CTA SUD_CTA 1\\2212AA | B111: 44896 | C111: 44896 | D111: CTA 1 | E111: Coffret LT CTA SUD | F111: kWh | G111: ELECTRICITE | J111: CVC | K111: 8176.23
A112: =E112&"_"&D112&"\\"&TEXT(C112,"JJMMAA") -> Coffret LT CTA SUD_CTA 3\\2212AA | B112: 44896 | C112: 44896 | D112: CTA 3 | E112: Coffret LT CTA SUD | F112: kWh | G112: ELECTRICITE | J112: CVC | K112: 8666.94
A113: =E113&"_"&D113&"\\"&TEXT(C113,"JJMMAA") -> Coffret LT CTA SUD_CTA 4\\2212AA | B113: 44896 | C113: 44896 | D113: CTA 4 | E113: Coffret LT CTA SUD | F113: kWh | G113: ELECTRICITE | J113: CVC | K113: 5027.88
A114: =E114&"_"&D114&"\\"&TEXT(C114,"JJMMAA") -> Coffret LT CTA SUD_CTA 5\\2212AA | B114: 44896 | C114: 44896 | D114: CTA 5 | E114: Coffret LT CTA SUD | F114: kWh | G114: ELECTRICITE | J114: CVC | K114: 3201.5
A115: =E115&"_"&D115&"\\"&TEXT(C115,"JJMMAA") -> Coffret LT CTA SUD_CTA 6\\2212AA | B115: 44896 | C115: 44896 | D115: CTA 6 | E115: Coffret LT CTA SUD | F115: kWh | G115: ELECTRICITE | J115: CVC | K115: 29319.2
A116: =E116&"_"&D116&"\\"&TEXT(C116,"JJMMAA") -> Coffret LT CTA SUD_CTA 7\\2212AA | B116: 44896 | C116: 44896 | D116: CTA 7 | E116: Coffret LT CTA SUD | F116: kWh | G116: ELECTRICITE | J116: CVC | K116: 20886.33
A117: =E117&"_"&D117&"\\"&TEXT(C117,"JJMMAA") -> TGBT_CTA_02_AMPHIE\\2212AA | B117: 44896 | C117: 44896 | D117: CTA_02_AMPHIE | E117: TGBT | F117: kWh | G117: ELECTRICITE | J117: CVC | K117: 538.6
A118: =E118&"_"&D118&"\\"&TEXT(C118,"JJMMAA") -> TGBT_CTA_08_LT_NORD_OS\\2212AA | B118: 44896 | C118: 44896 | D118: CTA_08_LT_NORD_OS | E118: TGBT | F118: kWh | G118: ELECTRICITE | J118: CVC | K118: 620
A119: =E119&"_"&D119&"\\"&TEXT(C119,"JJMMAA") -> TGBT_DRY_1\\2212AA | B119: 44896 | C119: 44896 | D119: DRY_1 | E119: TGBT | F119: kWh | G119: ELECTRICITE | J119: CVC | K119: 617.3
A120: =E120&"_"&D120&"\\"&TEXT(C120,"JJMMAA") -> TGBT_DRY_2\\2212AA | B120: 44896 | C120: 44896 | D120: DRY_2 | E120: TGBT | F120: kWh | G120: ELECTRICITE | J120: CVC | K120: 548
A121: =E121&"_"&D121&"\\"&TEXT(C121,"JJMMAA") -> Eau chaude_Eau chaude m3\\2212AA | B121: 44896 | C121: 44896 | D121: Eau chaude m3 | E121: Eau chaude | F121: m3 | G121: EAU | J121: Total | K121: 41021.848
A122: =E122&"_"&D122&"\\"&TEXT(C122,"JJMMAA") -> Eau chaude_Eau chaude m3/h\\2212AA | B122: 44896 | C122: 44896 | D122: Eau chaude m3/h | E122: Eau chaude | F122: m3/h | G122: EAU | J122: Total | K122: 16.523
... A152: =E152&"_"&D152&"\\"&TEXT(C152,"JJMMAA") -> TGBT_ASC_2800Kg\\2301AA | B152: 44927 | C152: 44927 | D152: ASC_2800Kg | E152: TGBT | F152: kWh | G152: ELECTRICITE | J152: Ascenseurs | K152: 849.9
A153: =E153&"_"&D153&"\\"&TEXT(C153,"JJMMAA") -> TD Amphithéatre_Centrale de mesure\\2301AA | B153: 44927 | C153: 44927 | D153: Centrale de mesure | E153: TD Amphithéatre | F153: kWh | G153: ELECTRICITE | H153: RDCH | I153: Normal | J153: Total | K153: 2249.44
A154: =E154&"_"&D154&"\\"&TEXT(C154,"JJMMAA") -> TD Caféteria_Centrale de mesure\\2301AA | B154: 44927 | C154: 44927 | D154: Centrale de mesure | E154: TD Caféteria | F154: kWh | G154: ELECTRICITE | H154: Cafétéria | I154: Normal | J154: Total | K154: 168.05
A155: =E155&"_"&D155&"\\"&TEXT(C155,"JJMMAA") -> TD HQ Serveur 1_Centrale de mesure\\2301AA | B155: 44927 | C155: 44927 | D155: Centrale de mesure | E155: TD HQ Serveur 1 | F155: kWh | G155: ELECTRICITE | H155: RDCH | I155: Secouru | J155: Total | K155: 7495.69
A156: =E156&"_"&D156&"\\"&TEXT(C156,"JJMMAA") -> TD HQ N0_Centrale de mesure\\2301AA | B156: 44927 | C156: 44927 | D156: Centrale de mesure | E156: TD HQ N0 | F156: kWh | G156: ELECTRICITE | H156: RDCH | I156: Secouru | J156: Total | K156: 6921.8
A157: =E157&"_"&D157&"\\"&TEXT(C157,"JJMMAA") -> TD HQ N1_Centrale de mesure\\2301AA | B157: 44927 | C157: 44927 | D157: Centrale de mesure | E157: TD HQ N1 | F157: kWh | G157: ELECTRICITE | H157: R+1 | I157: Secouru | J157: Total | K157: 2474.4
A158: =E158&"_"&D158&"\\"&TEXT(C158,"JJMMAA") -> TD HQ N8_Centrale de mesure\\2301AA | B158: 44927 | C158: 44927 | D158: Centrale de mesure | E158: TD HQ N8 | F158: kWh | G158: ELECTRICITE | H158: R+8 | I158: Secouru | J158: Total | K158: 7388.3
A159: =E159&"_"&D159&"\\"&TEXT(C159,"JJMMAA") -> TD HQ PCS_Centrale de mesure\\2301AA | B159: 44927 | C159: 44927 | D159: Centrale de mesure | E159: TD HQ PCS | F159: kWh | G159: ELECTRICITE | H159: RDCH | I159: Secouru | J159: Total | K159: 3117.8
A160: =E160&"_"&D160&"\\"&TEXT(C160,"JJMMAA") -> TD HQ Serveur 2_Centrale de mesure\\2301AA | B160: 44927 | C160: 44927 | D160: Centrale de mesure | E160: TD HQ Serveur 2 | F160: kWh | G160: ELECTRICITE | H160: RDCH | I160: Secouru | J160: Total | K160: 11213.87
A161: =E161&"_"&D161&"\\"&TEXT(C161,"JJMMAA") -> TD Instance 120P_Centrale de mesure\\2301AA | B161: 44927 | C161: 44927 | D161: Centrale de mesure | E161: TD Instance 120P | F161: kWh | G161: ELECTRICITE | H161: RDCH | I161: Normal | J161: Total | K161: 3553.64
A162: =E162&"_"&D162&"\\"&TEXT(C162,"JJMMAA") -> TD Instance 30P_Centrale de mesure\\2301AA | B162: 44927 | C162: 44927 | D162: Centrale de mesure | E162: TD Instance 30P | F162: kWh | G162: ELECTRICITE | H162: RDCH | I162: Normal | J162: Total | K162: 51.37
A163: =E163&"_"&D163&"\\"&TEXT(C163,"JJMMAA") -> TD N1_Centrale de mesure\\2301AA | B163: 44927 | C163: 44927 | D163: Centrale de mesure | E163: TD N1 | F163: kWh | G163: ELECTRICITE | H163: R+1 | I163: Normal | J163: Total | K163: 9908.7
A164: =E164&"_"&D164&"\\"&TEXT(C164,"JJMMAA") -> TD N2_Centrale de mesure\\2301AA | B164: 44927 | C164: 44927 | D164: Centrale de mesure | E164: TD N2 | F164: kWh | G164: ELECTRICITE | H164: R+2 | I164: Normal | J164: Total | K164: 19891
... A242: =E242&"_"&D242&"\\"&TEXT(C242,"JJMMAA") -> TD N7_CP4 Compt-PC\\2301AA | B242: 44927 | C242: 44927 | D242: CP4 Compt-PC | E242: TD N7 | F242: kWh | G242: ELECTRICITE | H242: R+7 | I242: Normal | J242: PC | K242: 3977
A243: =E243&"_"&D243&"\\"&TEXT(C243,"JJMMAA") -> Coffret LT CTA SUD_CTA 1\\2301AA | B243: 44927 | C243: 44927 | D243: CTA 1 | E243: Coffret LT CTA SUD | F243: kWh | G243: ELECTRICITE | J243: CVC | K243: 8688.15
A244: =E244&"_"&D244&"\\"&TEXT(C244,"JJMMAA") -> Coffret LT CTA SUD_CTA 3\\2301AA | B244: 44927 | C244: 44927 | D244: CTA 3 | E244: Coffret LT CTA SUD | F244: kWh | G244: ELECTRICITE | J244: CVC | K244: 9518.33
A245: =E245&"_"&D245&"\\"&TEXT(C245,"JJMMAA") -> Coffret LT CTA SUD_CTA 4\\2301AA | B245: 44927 | C245: 44927 | D245: CTA 4 | E245: Coffret LT CTA SUD | F245: kWh | G245: ELECTRICITE | J245: CVC | K245: 5573.66
A246: =E246&"_"&D246&"\\"&TEXT(C246,"JJMMAA") -> Coffret LT CTA SUD_CTA 5\\2301AA | B246: 44927 | C246: 44927 | D246: CTA 5 | E246: Coffret LT CTA SUD | F246: kWh | G246: ELECTRICITE | J246: CVC | K246: 3574.8
A247: =E247&"_"&D247&"\\"&TEXT(C247,"JJMMAA") -> Coffret LT CTA SUD_CTA 6\\2301AA | B247: 44927 | C247: 44927 | D247: CTA 6 | E247: Coffret LT CTA SUD | F247: kWh | G247: ELECTRICITE | J247: CVC | K247: 33843.77
A248: =E248&"_"&D248&"\\"&TEXT(C248,"JJMMAA") -> Coffret LT CTA SUD_CTA 7\\2301AA | B248: 44927 | C248: 44927 | D248: CTA 7 | E248: Coffret LT CTA SUD | F248: kWh | G248: ELECTRICITE | J248: CVC | K248: 24169.76
A249: =E249&"_"&D249&"\\"&TEXT(C249,"JJMMAA") -> TGBT_CTA_02_AMPHIE\\2301AA | B249: 44927 | C249: 44927 | D249: CTA_02_AMPHIE | E249: TGBT | F249: kWh | G249: ELECTRICITE | J249: CVC | K249: 664.9
A250: =E250&"_"&D250&"\\"&TEXT(C250,"JJMMAA") -> TGBT_CTA_08_LT_NORD_OS\\2301AA | B250: 44927 | C250: 44927 | D250: CTA_08_LT_NORD_OS | E250: TGBT | F250: kWh | G250: ELECTRICITE | J250: CVC | K250: 704.4
A251: =E251&"_"&D251&"\\"&TEXT(C251,"JJMMAA") -> TGBT_DRY_1\\2301AA | B251: 44927 | C251: 44927 | D251: DRY_1 | E251: TGBT | F251: kWh | G251: ELECTRICITE | J251: CVC | K251: 621.2
A252: =E252&"_"&D252&"\\"&TEXT(C252,"JJMMAA") -> TGBT_DRY_2\\2301AA | B252: 44927 | C252: 44927 | D252: DRY_2 | E252: TGBT | F252: kWh | G252: ELECTRICITE | J252: CVC | K252: 549.8
A253: =E253&"_"&D253&"\\"&TEXT(C253,"JJMMAA") -> Eau chaude_Eau chaude m3\\2301AA | B253: 44927 | C253: 44927 | D253: Eau chaude m3 | E253: Eau chaude | F253: m3 | G253: EAU | J253: Total | K253: 48387.841
A254: =E254&"_"&D254&"\\"&TEXT(C254,"JJMMAA") -> Eau chaude_Eau chaude m3/h\\2301AA | B254: 44927 | C254: 44927 | D254: Eau chaude m3/h | E254: Eau chaude | F254: m3/h | G254: EAU | J254: Total | K254: 10.457
... A284: =E284&"_"&D284&"\\"&TEXT(C284,"JJMMAA") -> TGBT_ASC_2800Kg\\2302AA | B284: 44958 | C284: 44958 | D284: ASC_2800Kg | E284: TGBT | F284: kWh | G284: ELECTRICITE | J284: Ascenseurs | K284: 966
A285: =E285&"_"&D285&"\\"&TEXT(C285,"JJMMAA") -> TD Amphithéatre_Centrale de mesure\\2302AA | B285: 44958 | C285: 44958 | D285: Centrale de mesure | E285: TD Amphithéatre | F285: kWh | G285: ELECTRICITE | H285: RDCH | I285: Normal | J285: Total | K285: 2585.22
A286: =E286&"_"&D286&"\\"&TEXT(C286,"JJMMAA") -> TD Caféteria_Centrale de mesure\\2302AA | B286: 44958 | C286: 44958 | D286: Centrale de mesure | E286: TD Caféteria | F286: kWh | G286: ELECTRICITE | H286: Cafétéria | I286: Normal | J286: Total | K286: 192.54
A287: =E287&"_"&D287&"\\"&TEXT(C287,"JJMMAA") -> TD HQ Serveur 1_Centrale de mesure\\2302AA | B287: 44958 | C287: 44958 | D287: Centrale de mesure | E287: TD HQ Serveur 1 | F287: kWh | G287: ELECTRICITE | H287: RDCH | I287: Secouru | J287: Total | K287: 8432
A288: =E288&"_"&D288&"\\"&TEXT(C288,"JJMMAA") -> TD HQ N0_Centrale de mesure\\2302AA | B288: 44958 | C288: 44958 | D288: Centrale de mesure | E288: TD HQ N0 | F288: kWh | G288: ELECTRICITE | H288: RDCH | I288: Secouru | J288: Total | K288: 7932.8
A289: =E289&"_"&D289&"\\"&TEXT(C289,"JJMMAA") -> TD HQ N1_Centrale de mesure\\2302AA | B289: 44958 | C289: 44958 | D289: Centrale de mesure | E289: TD HQ N1 | F289: kWh | G289: ELECTRICITE | H289: R+1 | I289: Secouru | J289: Total | K289: 3145.5
A290: =E290&"_"&D290&"\\"&TEXT(C290,"JJMMAA") -> TD HQ N8_Centrale de mesure\\2302AA | B290: 44958 | C290: 44958 | D290: Centrale de mesure | E290: TD HQ N8 | F290: kWh | G290: ELECTRICITE | H290: R+8 | I290: Secouru | J290: Total | K290: 8586.8
A291: =E291&"_"&D291&"\\"&TEXT(C291,"JJMMAA") -> TD HQ PCS_Centrale de mesure\\2302AA | B291: 44958 | C291: 44958 | D291: Centrale de mesure | E291: TD HQ PCS | F291: kWh | G291: ELECTRICITE | H291: RDCH | I291: Secouru | J291: Total | K291: 3544.96
A292: =E292&"_"&D292&"\\"&TEXT(C292,"JJMMAA") -> TD HQ Serveur 2_Centrale de mesure\\2302AA | B292: 44958 | C292: 44958 | D292: Centrale de mesure | E292: TD HQ Serveur 2 | F292: kWh | G292: ELECTRICITE | H292: RDCH | I292: Secouru | J292: Total | K292: 12540.34
A293: =E293&"_"&D293&"\\"&TEXT(C293,"JJMMAA") -> TD Instance 120P_Centrale de mesure\\2302AA | B293: 44958 | C293: 44958 | D293: Centrale de mesure | E293: TD Instance 120P | F293: kWh | G293: ELECTRICITE | H293: RDCH | I293: Normal | J293: Total | K293: 4193.24
A294: =E294&"_"&D294&"\\"&TEXT(C294,"JJMMAA") -> TD Instance 30P_Centrale de mesure\\2302AA | B294: 44958 | C294: 44958 | D294: Centrale de mesure | E294: TD Instance 30P | F294: kWh | G294: ELECTRICITE | H294: RDCH | I294: Normal | J294: Total | K294: 85.59
A295: =E295&"_"&D295&"\\"&TEXT(C295,"JJMMAA") -> TD N1_Centrale de mesure\\2302AA | B295: 44958 | C295: 44958 | D295: Centrale de mesure | E295: TD N1 | F295: kWh | G295: ELECTRICITE | H295: R+1 | I295: Normal | J295: Total | K295: 10897.7
A296: =E296&"_"&D296&"\\"&TEXT(C296,"JJMMAA") -> TD N2_Centrale de mesure\\2302AA | B296: 44958 | C296: 44958 | D296: Centrale de mesure | E296: TD N2 | F296: kWh | G296: ELECTRICITE | H296: R+2 | I296: Normal | J296: Total | K296: 22310.6
... A374: =E374&"_"&D374&"\\"&TEXT(C374,"JJMMAA") -> TD N7_CP4 Compt-PC\\2302AA | B374: 44958 | C374: 44958 | D374: CP4 Compt-PC | E374: TD N7 | F374: kWh | G374: ELECTRICITE | H374: R+7 | I374: Normal | J374: PC | K374: 4706.5
A375: =E375&"_"&D375&"\\"&TEXT(C375,"JJMMAA") -> Coffret LT CTA SUD_CTA 1\\2302AA | B375: 44958 | C375: 44958 | D375: CTA 1 | E375: Coffret LT CTA SUD | F375: kWh | G375: ELECTRICITE | J375: CVC | K375: 9045.07
A376: =E376&"_"&D376&"\\"&TEXT(C376,"JJMMAA") -> Coffret LT CTA SUD_CTA 3\\2302AA | B376: 44958 | C376: 44958 | D376: CTA 3 | E376: Coffret LT CTA SUD | F376: kWh | G376: ELECTRICITE | J376: CVC | K376: 10447.74
A377: =E377&"_"&D377&"\\"&TEXT(C377,"JJMMAA") -> Coffret LT CTA SUD_CTA 4\\2302AA | B377: 44958 | C377: 44958 | D377: CTA 4 | E377: Coffret LT CTA SUD | F377: kWh | G377: ELECTRICITE | J377: CVC | K377: 6305.99
A378: =E378&"_"&D378&"\\"&TEXT(C378,"JJMMAA") -> Coffret LT CTA SUD_CTA 5\\2302AA | B378: 44958 | C378: 44958 | D378: CTA 5 | E378: Coffret LT CTA SUD | F378: kWh | G378: ELECTRICITE | J378: CVC | K378: 3892.9
A379: =E379&"_"&D379&"\\"&TEXT(C379,"JJMMAA") -> Coffret LT CTA SUD_CTA 6\\2302AA | B379: 44958 | C379: 44958 | D379: CTA 6 | E379: Coffret LT CTA SUD | F379: kWh | G379: ELECTRICITE | J379: CVC | K379: 37998.69
A380: =E380&"_"&D380&"\\"&TEXT(C380,"JJMMAA") -> Coffret LT CTA SUD_CTA 7\\2302AA | B380: 44958 | C380: 44958 | D380: CTA 7 | E380: Coffret LT CTA SUD | F380: kWh | G380: ELECTRICITE | J380: CVC | K380: 27257.41
A381: =E381&"_"&D381&"\\"&TEXT(C381,"JJMMAA") -> TGBT_CTA_02_AMPHIE\\2302AA | B381: 44958 | C381: 44958 | D381: CTA_02_AMPHIE | E381: TGBT | F381: kWh | G381: ELECTRICITE | J381: CVC | K381: 777.9
A382: =E382&"_"&D382&"\\"&TEXT(C382,"JJMMAA") -> TGBT_CTA_08_LT_NORD_OS\\2302AA | B382: 44958 | C382: 44958 | D382: CTA_08_LT_NORD_OS | E382: TGBT | F382: kWh | G382: ELECTRICITE | J382: CVC | K382: 752.1
A383: =E383&"_"&D383&"\\"&TEXT(C383,"JJMMAA") -> TGBT_DRY_1\\2302AA | B383: 44958 | C383: 44958 | D383: DRY_1 | E383: TGBT | F383: kWh | G383: ELECTRICITE | J383: CVC | K383: 624.5
A384: =E384&"_"&D384&"\\"&TEXT(C384,"JJMMAA") -> TGBT_DRY_2\\2302AA | B384: 44958 | C384: 44958 | D384: DRY_2 | E384: TGBT | F384: kWh | G384: ELECTRICITE | J384: CVC | K384: 551.6
A385: =E385&"_"&D385&"\\"&TEXT(C385,"JJMMAA") -> Eau chaude_Eau chaude m3\\2302AA | B385: 44958 | C385: 44958 | D385: Eau chaude m3 | E385: Eau chaude | F385: m3 | G385: EAU | J385: Total | K385: 49786.106
A386: =E386&"_"&D386&"\\"&TEXT(C386,"JJMMAA") -> Eau chaude_Eau chaude m3/h\\2302AA | B386: 44958 | C386: 44958 | D386: Eau chaude m3/h | E386: Eau chaude | F386: m3/h | G386: EAU | J386: Total | K386: 5.849
... A416: =E416&"_"&D416&"\\"&TEXT(C416,"JJMMAA") -> TGBT_ASC_2800Kg\\2303AA | B416: 44986 | C416: 44986 | D416: ASC_2800Kg | E416: TGBT | F416: kWh | G416: ELECTRICITE | J416: Ascenseurs | K416: 1092.5
A417: =E417&"_"&D417&"\\"&TEXT(C417,"JJMMAA") -> TD Amphithéatre_Centrale de mesure\\2303AA | B417: 44986 | C417: 44986 | D417: Centrale de mesure | E417: TD Amphithéatre | F417: kWh | G417: ELECTRICITE | H417: RDCH | I417: Normal | J417: Total | K417: 2781.62
A418: =E418&"_"&D418&"\\"&TEXT(C418,"JJMMAA") -> TD Caféteria_Centrale de mesure\\2303AA | B418: 44986 | C418: 44986 | D418: Centrale de mesure | E418: TD Caféteria | F418: kWh | G418: ELECTRICITE | H418: Cafétéria | I418: Normal | J418: Total | K418: 218.98
A419: =E419&"_"&D419&"\\"&TEXT(C419,"JJMMAA") -> TD HQ Serveur 1_Centrale de mesure\\2303AA | B419: 44986 | C419: 44986 | D419: Centrale de mesure | E419: TD HQ Serveur 1 | F419: kWh | G419: ELECTRICITE | H419: RDCH | I419: Secouru | J419: Total | K419: 9571.9
A420: =E420&"_"&D420&"\\"&TEXT(C420,"JJMMAA") -> TD HQ N0_Centrale de mesure\\2303AA | B420: 44986 | C420: 44986 | D420: Centrale de mesure | E420: TD HQ N0 | F420: kWh | G420: ELECTRICITE | H420: RDCH | I420: Secouru | J420: Total | K420: 9169.7
A421: =E421&"_"&D421&"\\"&TEXT(C421,"JJMMAA") -> TD HQ N1_Centrale de mesure\\2303AA | B421: 44986 | C421: 44986 | D421: Centrale de mesure | E421: TD HQ N1 | F421: kWh | G421: ELECTRICITE | H421: R+1 | I421: Secouru | J421: Total | K421: 3904.2
A422: =E422&"_"&D422&"\\"&TEXT(C422,"JJMMAA") -> TD HQ N8_Centrale de mesure\\2303AA | B422: 44986 | C422: 44986 | D422: Centrale de mesure | E422: TD HQ N8 | F422: kWh | G422: ELECTRICITE | H422: R+8 | I422: Secouru | J422: Total | K422: 10136.2
A423: =E423&"_"&D423&"\\"&TEXT(C423,"JJMMAA") -> TD HQ PCS_Centrale de mesure\\2303AA | B423: 44986 | C423: 44986 | D423: Centrale de mesure | E423: TD HQ PCS | F423: kWh | G423: ELECTRICITE | H423: RDCH | I423: Secouru | J423: Total | K423: 4134.54
A424: =E424&"_"&D424&"\\"&TEXT(C424,"JJMMAA") -> TD HQ Serveur 2_Centrale de mesure\\2303AA | B424: 44986 | C424: 44986 | D424: Centrale de mesure | E424: TD HQ Serveur 2 | F424: kWh | G424: ELECTRICITE | H424: RDCH | I424: Secouru | J424: Total | K424: 14152.31
...

Sheet Consommation
A1: Mois | B1: 44562 | C1: 44593 | D1: 44621 | E1: 44652 | F1: 44682 | G1: 44713 | H1: 44743 | I1: 44774 | J1: 44805 | K1: 44835 | L1: 44866 | M1: 44896 | N1: 44927 | O1: 44958 | P1: 44986 | Q1: 45017 | R1: 45047 | S1: 45078 | T1: 45108 | U1: 45139 | V1: 45170 | W1: 45200 | X1: 45231 | Y1: 45261 | Z1: 45292 | AA1: 45323 | AB1: 45352 | AC1: 45383 | AD1: 45413 | AE1: 45444
A2: Compteur EDF_121 E Active 1 HPH | B2: =IF(IFERROR(OFFSET('BDD PowerBI'!$A$1,MATCH(Consommation!$A2&"\\"&TEXT(Consommation!B$1,"JJMMAA"),CleU,0),10),0)-IFERROR(OFFSET('BDD PowerBI'!$A$1,MATCH(Consommation!$A2&"\\"&TEXT(DATE(YEAR(B$1)-1,MONTH(B$1),1),"JJMMAA"),CleU,0),10),0)<0,0,IFERROR(OFFSET('BDD PowerBI'!$A$1,MATCH(Consommation!$A2&"\\"&TEXT(Consommation!B$1,"JJMMAA"),CleU,0),10),0)-IFERROR(OFFSET('BDD PowerBI'!$A$1,MATCH(Consommation!$A2&"\\"&TEXT(DATE(YEAR(B$1)-1,MONTH(B$1),1),"JJMMAA"),CleU,0),10),0)) -> 0 | C2: =IF(IFERROR(OFFSET('BDD PowerBI'!$A$1,MATCH(Consommation!$A2&"\\"&TEXT(Consommation!C$1,"JJMMAA"),CleU,0),10),0)-IFERROR(OFFSET('BDD PowerBI'!$A$1,MATCH(Consommation!$A2&"\\"&TEXT(DATE(YEAR(C$1)-1,MONTH(C$1),1),"JJMMAA"),CleU,0),10),0)<0,0,IFERROR(OFFSET('BDD PowerBI'!$A$1,MATCH(Consommation!$A2&"\\"&TEXT(Consommation!C$1,"JJMMAA"),CleU,0),10),0)-IFERROR(OFFSET('BDD PowerBI'!$A$1,MATCH(Consommation!$A2&"\\"&TEXT(DATE(YEAR(C$1)-1,MONTH(C$1),1),"JJMMAA"),CleU,0),10),0)) -> 0 | D2: =IF(IFERROR(OFFSET('BDD PowerBI'!$A$1,MATCH(Consommation!$A2&"\\"&TEXT(Consommation!D$1,"JJMMAA"),CleU,0),10),0)-IFERROR(OFFSET('BDD PowerBI'!$A$1,MATCH(Consommation!$A2&"\\"&TEXT(DATE(YEAR(D$1)-1,MONTH(D$1),1),"JJMMAA"),CleU,0),10),0)<0,0,IFERROR(OFFSET('BDD PowerBI'!$A$1,MATCH(Consommation!$A2&"\\"&TEXT(Consommation!D$1,"JJMMAA"),CleU,0),10),0)-IFERROR(OFFSET('BDD PowerBI'!$A$1,MATCH(Consommation!$A2&"\\"&TEXT(DATE(YEAR(D$1)-1,MONTH(D$1),1),"JJMMAA"),CleU,0),10),0)) -> 0 | E2: =IF(IFERROR(OFFSET('BDD PowerBI'!$A$1,MATCH(Consommation!$A2&"\\"&TEXT(Consommation!E$1,"JJMMAA"),CleU,0),10),0)-IFERROR(OFFSET('BDD PowerBI'!$A$1,MATCH(Consommation!$A2&"\\"&TEXT(DATE(YEAR(E$1)-1,MONTH(E$1),1),"JJMMAA"),CleU,0),10),0)<0,0,IFERROR(OFFSET('BDD PowerBI'!$A$1,MATCH(Consommation!$A2&"\\"&TEXT(Consommation!E$1,"JJMMAA"),CleU,0),10),0)-IFERROR(OFFSET('BDD PowerBI'!$A$1,MATCH(Consommation!$A2&"\\"&TEXT(DATE(YEAR(E$1)-1,MONTH(E$1),1),"JJMMAA"),CleU,0),10),0)) -> 0 | F2: =IF(IFERROR(OFFSET('BDD PowerBI'!$A$1,MATCH(Consommation!$A2&"\\"&TEXT(Consommation!F$1,"JJMMAA"),CleU,0),10),0)-IFERROR(OFFSET('BDD PowerBI'!$A$1,MATCH(Consommation!$A2&"\\"&TEXT(DATE(YEAR(F$1)-1,MONTH(F$1),1),"JJMMAA"),CleU,0),10),0)<0,0,IFERROR(OFFSET('BDD PowerBI'!$A$1,MATCH(Consommation!$A2&"\\"&TEXT(Consommation!F$1,"JJMMAA"),CleU,0),10),0)-IFERROR(OFFSET('BDD PowerBI'!$A$1,MATCH(Consommation!$A2&"\\"&TEXT(DATE(YEAR(F$1)-1,MONTH(F$1),1),"JJMMAA"),CleU,0),10),0)) -> 0 | G2: =IF(IFERROR(OFFSET('BDD PowerBI'!$A$1,MATCH(Consommation!$A2&"\\"&TEXT(Consommation!G$1,"JJMMAA"),CleU,0),10),0)-IFERROR(OFFSET('BDD PowerBI'!$A$1,MATCH(Consommation!$A2&"\\"&TEXT(DATE(YEAR(G$1)-1,MONTH(G$1),1),"JJMMAA"),CleU,0),10),0)<0,0,IFERROR(OFFSET('BDD PowerBI'!$A$1,MATCH(Consommation!$A2&"\\"&TEXT(Consommation!G$1,"JJMMAA"),CleU,0),10),0)-IFERROR(OFFSET('BDD PowerBI'!$A$1,MATCH(Consommation!$A2&"\\"&TEXT(DATE(YEAR(G$1)-1,MONTH(G$1),1),"JJMMAA"),CleU,0),10),0)) -> 0 | H2: =IF(IFERROR(OFFSET('BDD PowerBI'!$A$1,MATCH(Consommation!$A2&"\\"&TEXT(Consommation!H$1,"JJMMAA"),CleU,0),10),0)-IFERROR(OFFSET('BDD PowerBI'!$A$1,MATCH(Consommation!$A2&"\\"&TEXT(DATE(YEAR(H$1)-1,MONTH(H$1),1),"JJMMAA"),CleU,0),10),0)<0,0,IFERROR(OFFSET('BDD PowerBI'!$A$1,MATCH(Consommation!$A2&"\\"&TEXT(Consommation!H$1,"JJMMAA"),CleU,0),10),0)-IFERROR(OFFSET('BDD PowerBI'!$A$1,MATCH(Consommation!$A2&"\\"&TEXT(DATE(YEAR(H$1)-1,MONTH(H$1),1),"JJMMAA"),CleU,0),10),0)) -> 0 | I2: =IF(IFERROR(OFFSET('BDD PowerBI'!$A$1,MATCH(Consommation!$A2&"\\"&TEXT(Consommation!I$1,"JJMMAA"),CleU,0),10),0)-IFERROR(OFFSET('BDD PowerBI'!$A$1,MATCH(Consommation!$A2&"\\"&TEXT(DATE(YEAR(I$1)-1,MONTH(I$1),1),"JJMMAA"),CleU,0),10),0)<0,0,IFERROR(OFFSET('BDD PowerBI'!$A$1,MATCH(Consommation!$A2&"\\"&TEXT(Consommation!I$1,"JJMMAA"),CleU,0),10),0)-IFERROR(OFFSET('BDD PowerBI'!$A$1,MATCH(Consommation!$A2&"\\"&TEXT(DATE(YEAR(I$1)-1,MONTH(I$1),1),"JJMMAA"),CleU,0),10),0)) -> 0 | ... AE2: =IF(IFERROR(OFFSET('BDD PowerBI'!$A$1,MATCH(Consommation!$A2&"\\"&TEXT(Consommation!AE$1,"JJMMAA"),CleU,0),10),0)-IFERROR(OFFSET('BDD PowerBI'!$A$1,MATCH(Consommation!$A2&"\\"&TEXT(DATE(YEAR(AE$1)-1,MONTH(AE$1),1),"JJMMAA"),CleU,0),10),0)<0,0,IFERROR(OFFSET('BDD PowerBI'!$A$1,MATCH(Consommation!$A2&"\\"&TEXT(Consommation!AE$1,"JJMMAA"),CleU,0),10),0)-IFERROR(OFFSET('BDD PowerBI'!$A$1,MATCH(Consommation!$A2&"\\"&TEXT(DATE(YEAR(AE$1)-1,MONTH(AE$1),1),"JJMMAA"),CleU,0),10),0)) -> 0
A3: Compteur EDF_122 E Active 1 HCH | B3: =IF(IFERROR(OFFSET('BDD PowerBI'!$A$1,MATCH(Consommation!$A3&"\\"&TEXT(Consommation!B$1,"JJMMAA"),CleU,0),10),0)-IFERROR(OFFSET('BDD PowerBI'!$A$1,MATCH(Consommation!$A3&"\\"&TEXT(DATE(YEAR(B$1)-1,MONTH(B$1),1),"JJMMAA"),CleU,0),10),0)<0,0,IFERROR(OFFSET('BDD PowerBI'!$A$1,MATCH(Consommation!$A3&"\\"&TEXT(Consommation!B$1,"JJMMAA"),CleU,0),10),0)-IFERROR(OFFSET('BDD PowerBI'!$A$1,MATCH(Consommation!$A3&"\\"&TEXT(DATE(YEAR(B$1)-1,MONTH(B$1),1),"JJMMAA"),CleU,0),10),0)) -> 0 | C3: =IF(IFERROR(OFFSET('BDD PowerBI'!$A$1,MATCH(Consommation!$A3&"\\"&TEXT(Consommation!C$1,"JJMMAA"),CleU,0),10),0)-IFERROR(OFFSET('BDD PowerBI'!$A$1,MATCH(Consommation!$A3&"\\"&TEXT(DATE(YEAR(C$1)-1,MONTH(C$1),1),"JJMMAA"),CleU,0),10),0)<0,0,IFERROR(OFFSET('BDD PowerBI'!$A$1,MATCH(Consommation!$A3&"\\"&TEXT(Consommation!C$1,"JJMMAA"),CleU,0),10),0)-IFERROR(OFFSET('BDD PowerBI'!$A$1,MATCH(Consommation!$A3&"\\"&TEXT(DATE(YEAR(C$1)-1,MONTH(C$1),1),"JJMMAA"),CleU,0),10),0)) -> 0 | D3: =IF(IFERROR(OFFSET('BDD PowerBI'!$A$1,MATCH(Consommation!$A3&"\\"&TEXT(Consommation!D$1,"JJMMAA"),CleU,0),10),0)-IFERROR(OFFSET('BDD PowerBI'!$A$1,MATCH(Consommation!$A3&"\\"&TEXT(DATE(YEAR(D$1)-1,MONTH(D$1),1),"JJMMAA"),CleU,0),10),0)<0,0,IFERROR(OFFSET('BDD PowerBI'!$A$1,MATCH(Consommation!$A3&"\\"&TEXT(Consommation!D$1,"JJMMAA"),CleU,0),10),0)-IFERROR(OFFSET('BDD PowerBI'!$A$1,MATCH(Consommation!$A3&"\\"&TEXT(DATE(YEAR(D$1)-1,MONTH(D$1),1),"JJMMAA"),CleU,0),10),0)) -> 0 | E3: =IF(IFERROR(OFFSET('BDD PowerBI'!$A$1,MATCH(Consommation!$A3&"\\"&TEXT(Consommation!E$1,"JJMMAA"),CleU,0),10),0)-IFERROR(OFFSET('BDD PowerBI'!$A$1,MATCH(Consommation!$A3&"\\"&TEXT(DATE(YEAR(E$1)-1,MONTH(E$1),1),"JJMMAA"),CleU,0),10),0)<0,0,IFERROR(OFFSET('BDD PowerBI'!$A$1,MATCH(Consommation!$A3&"\\"&TEXT(Consommation!E$1,"JJMMAA"),CleU,0),10),0)-IFERROR(OFFSET('BDD PowerBI'!$A$1,MATCH(Consommation!$A3&"\\"&TEXT(DATE(YEAR(E$1)-1,MONTH(E$1),1),"JJMMAA"),CleU,0),10),0)) -> 0 | F3: =IF(IFERROR(OFFSET('BDD PowerBI'!$A$1,MATCH(Consommation!$A3&"\\"&TEXT(Consommation!F$1,"JJMMAA"),CleU,0),10),0)-IFERROR(OFFSET('BDD PowerBI'!$A$1,MATCH(Consommation!$A3&"\\"&TEXT(DATE(YEAR(F$1)-1,MONTH(F$1),1),"JJMMAA"),CleU,0),10),0)<0,0,IFERROR(OFFSET('BDD PowerBI'!$A$1,MATCH(Consommation!$A3&"\\"&TEXT(Consommation!F$1,"JJMMAA"),CleU,0),10),0)-IFERROR(OFFSET('BDD PowerBI'!$A$1,MATCH(Consommation!$A3&"\\"&TEXT(DATE(YEAR(F$1)-1,MONTH(F$1),1),"JJMMAA"),CleU,0),10),0)) -> 0 | G3: =IF(IFERROR(OFFSET('BDD PowerBI'!$A$1,MATCH(Consommation!$A3&"\\"&TEXT(Consommation!G$1,"JJMMAA"),CleU,0),10),0)-IFERROR(OFFSET('BDD PowerBI'!$A$1,MATCH(Consommation!$A3&"\\"&TEXT(DATE(YEAR(G$1)-1,MONTH(G$1),1),"JJMMAA"),CleU,0),10),0)<0,0,IFERROR(OFFSET('BDD PowerBI'!$A$1,MATCH(Consommation!$A3&"\\"&TEXT(Consommation!G$1,"JJMMAA"),CleU,0),10),0)-IFERROR(OFFSET('BDD PowerBI'!$A$1,MATCH(Consommation!$A3&"\\"&TEXT(DATE(YEAR(G$1)-1,MONTH(G$1),1),"JJMMAA"),CleU,0),10),0)) -> 0 | H3: =IF(IFERROR(OFFSET('BDD PowerBI'!$A$1,MATCH(Consommation!$A3&"\\"&TEXT(Consommation!H$1,"JJMMAA"),CleU,0),10),0)-IFERROR(OFFSET('BDD PowerBI'!$A$1,MATCH(Consommation!$A3&"\\"&TEXT(DATE(YEAR(H$1)-1,MONTH(H$1),1),"JJMMAA"),CleU,0),10),0)<0,0,IFERROR(OFFSET('BDD PowerBI'!$A$1,MATCH(Consommation!$A3&"\\"&TEXT(Consommation!H$1,"JJMMAA"),CleU,0),10),0)-IFERROR(OFFSET('BDD PowerBI'!$A$1,MATCH(Consommation!$A3&"\\"&TEXT(DATE(YEAR(H$1)-1,MONTH(H$1),1),"JJMMAA"),CleU,0),10),0)) -> 0 | I3: =IF(IFERROR(OFFSET('BDD PowerBI'!$A$1,MATCH(Consommation!$A3&"\\"&TEXT(Consommation!I$1,"JJMMAA"),CleU,0),10),0)-IFERROR(OFFSET('BDD PowerBI'!$A$1,MATCH(Consommation!$A3&"\\"&TEXT(DATE(YEAR(I$1)-1,MONTH(I$1),1),"JJMMAA"),CleU,0),10),0)<0,0,IFERROR(OFFSET('BDD PowerBI'!$A$1,MATCH(Consommation!$A3&"\\"&TEXT(Consommation!I$1,"JJMMAA"),CleU,0),10),0)-IFERROR(OFFSET('BDD PowerBI'!$A$1,MATCH(Consommation!$A3&"\\"&TEXT(DATE(YEAR(I$1)-1,MONTH(I$1),1),"JJMMAA"),CleU,0),10),0)) -> 0 | ... AE3: =IF(IFERROR(OFFSET('BDD PowerBI'!$A$1,MATCH(Consommation!$A3&"\\"&TEXT(Consommation!AE$1,"JJMMAA"),CleU,0),10),0)-IFERROR(OFFSET('BDD PowerBI'!$A$1,MATCH(Consommation!$A3&"\\"&TEXT(DATE(YEAR(AE$1)-1,MONTH(AE$1),1),"JJMMAA"),CleU,0),10),0)<0,0,IFERROR(OFFSET('BDD PowerBI'!$A$1,MATCH(Consommation!$A3&"\\"&TEXT(Consommation!AE$1,"JJMMAA"),CleU,0),10),0)-IFERROR(OFFSET('BDD PowerBI'!$A$1,MATCH(Consommation!$A3&"\\"&TEXT(DATE(YEAR(AE$1)-1,MONTH(AE$1),1),"JJMMAA"),CleU,0),10),0)) -> 0
A4: Compteur EDF_123 E Active 1 HPE | B4: =IF(IFERROR(OFFSET('BDD PowerBI'!$A$1,MATCH(Consommation!$A4&"\\"&TEXT(Consommation!B$1,"JJMMAA"),CleU,0),10),0)-IFERROR(OFFSET('BDD PowerBI'!$A$1,MATCH(Consommation!$A4&"\\"&TEXT(DATE(YEAR(B$1)-1,MONTH(B$1),1),"JJMMAA"),CleU,0),10),0)<0,0,IFERROR(OFFSET('BDD PowerBI'!$A$1,MATCH(Consommation!$A4&"\\"&TEXT(Consommation!B$1,"JJMMAA"),CleU,0),10),0)-IFERROR(OFFSET('BDD PowerBI'!$A$1,MATCH(Consommation!$A4&"\\"&TEXT(DATE(YEAR(B$1)-1,MONTH(B$1),1),"JJMMAA"),CleU,0),10),0)) -> 0 | C4: =IF(IFERROR(OFFSET('BDD PowerBI'!$A$1,MATCH(Consommation!$A4&"\\"&TEXT(Consommation!C$1,"JJMMAA"),CleU,0),10),0)-IFERROR(OFFSET('BDD PowerBI'!$A$1,MATCH(Consommation!$A4&"\\"&TEXT(DATE(YEAR(C$1)-1,MONTH(C$1),1),"JJMMAA"),CleU,0),10),0)<0,0,IFERROR(OFFSET('BDD PowerBI'!$A$1,MATCH(Consommation!$A4&"\\"&TEXT(Consommation!C$1,"JJMMAA"),CleU,0),10),0)-IFERROR(OFFSET('BDD PowerBI'!$A$1,MATCH(Consommation!$A4&"\\"&TEXT(DATE(YEAR(C$1)-1,MONTH(C$1),1),"JJMMAA"),CleU,0),10),0)) -> 0 | D4: =IF(IFERROR(OFFSET('BDD PowerBI'!$A$1,MATCH(Consommation!$A4&"\\"&TEXT(Consommation!D$1,"JJMMAA"),CleU,0),10),0)-IFERROR(OFFSET('BDD PowerBI'!$A$1,MATCH(Consommation!$A4&"\\"&TEXT(DATE(YEAR(D$1)-1,MONTH(D$1),1),"JJMMAA"),CleU,0),10),0)<0,0,IFERROR(OFFSET('BDD PowerBI'!$A$1,MATCH(Consommation!$A4&"\\"&TEXT(Consommation!D$1,"JJMMAA"),CleU,0),10),0)-IFERROR(OFFSET('BDD PowerBI'!$A$1,MATCH(Consommation!$A4&"\\"&TEXT(DATE(YEAR(D$1)-1,MONTH(D$1),1),"JJMMAA"),CleU,0),10),0)) -> 0 | E4: =IF(IFERROR(OFFSET('BDD PowerBI'!$A$1,MATCH(Consommation!$A4&"\\"&TEXT(Consommation!E$1,"JJMMAA"),CleU,0),10),0)-IFERROR(OFFSET('BDD PowerBI'!$A$1,MATCH(Consommation!$A4&"\\"&TEXT(DATE(YEAR(E$1)-1,MONTH(E$1),1),"JJMMAA"),CleU,0),10),0)<0,0,IFERROR(OFFSET('BDD PowerBI'!$A$1,MATCH(Consommation!$A4&"\\"&TEXT(Consommation!E$1,"JJMMAA"),CleU,0),10),0)-IFERROR(OFFSET('BDD PowerBI'!$A$1,MATCH(Consommation!$A4&"\\"&TEXT(DATE(YEAR(E$1)-1,MONTH(E$1),1),"JJMMAA"),CleU,0),10),0)) -> 0 | F4: =IF(IFERROR(OFFSET('BDD PowerBI'!$A$1,MATCH(Consommation!$A4&"\\"&TEXT(Consommation!F$1,"JJMMAA"),CleU,0),10),0)-IFERROR(OFFSET('BDD PowerBI'!$A$1,MATCH(Consommation!$A4&"\\"&TEXT(DATE(YEAR(F$1)-1,MONTH(F$1),1),"JJMMAA"),CleU,0),10),0)<0,0,IFERROR(OFFSET('BDD PowerBI'!$A$1,MATCH(Consommation!$A4&"\\"&TEXT(Consommation!F$1,"JJMMAA"),CleU,0),10),0)-IFERROR(OFFSET('BDD PowerBI'!$A$1,MATCH(Consommation!$A4&"\\"&TEXT(DATE(YEAR(F$1)-1,MONTH(F$1),1),"JJMMAA"),CleU,0),10),0)) -> 0 | G4: =IF(IFERROR(OFFSET('BDD PowerBI'!$A$1,MATCH(Consommation!$A4&"\\"&TEXT(Consommation!G$1,"JJMMAA"),CleU,0),10),0)-IFERROR(OFFSET('BDD PowerBI'!$A$1,MATCH(Consommation!$A4&"\\"&TEXT(DATE(YEAR(G$1)-1,MONTH(G$1),1),"JJMMAA"),CleU,0),10),0)<0,0,IFERROR(OFFSET('BDD PowerBI'!$A$1,MATCH(Consommation!$A4&"\\"&TEXT(Consommation!G$1,"JJMMAA"),CleU,0),10),0)-IFERROR(OFFSET('BDD PowerBI'!$A$1,MATCH(Consommation!$A4&"\\"&TEXT(DATE(YEAR(G$1)-1,MONTH(G$1),1),"JJMMAA"),CleU,0),10),0)) -> 0 | H4: =IF(IFERROR(OFFSET('BDD PowerBI'!$A$1,MATCH(Consommation!$A4&"\\"&TEXT(Consommation!H$1,"JJMMAA"),CleU,0),10),0)-IFERROR(OFFSET('BDD PowerBI'!$A$1,MATCH(Consommation!$A4&"\\"&TEXT(DATE(YEAR(H$1)-1,MONTH(H$1),1),"JJMMAA"),CleU,0),10),0)<0,0,IFERROR(OFFSET('BDD PowerBI'!$A$1,MATCH(Consommation!$A4&"\\"&TEXT(Consommation!H$1,"JJMMAA"),CleU,0),10),0)-IFERROR(OFFSET('BDD PowerBI'!$A$1,MATCH(Consommation!$A4&"\\"&TEXT(DATE(YEAR(H$1)-1,MONTH(H$1),1),"JJMMAA"),CleU,0),10),0)) -> 0 | I4: =IF(IFERROR(OFFSET('BDD PowerBI'!$A$1,MATCH(Consommation!$A4&"\\"&TEXT(Consommation!I$1,"JJMMAA"),CleU,0),10),0)-IFERROR(OFFSET('BDD PowerBI'!$A$1,MATCH(Consommation!$A4&"\\"&TEXT(DATE(YEAR(I$1)-1,MONTH(I$1),1),"JJMMAA"),CleU,0),10),0)<0,0,IFERROR(OFFSET('BDD PowerBI'!$A$1,MATCH(Consommation!$A4&"\\"&TEXT(Consommation!I$1,"JJMMAA"),CleU,0),10),0)-IFERROR(OFFSET('BDD PowerBI'!$A$1,MATCH(Consommation!$A4&"\\"&TEXT(DATE(YEAR(I$1)-1,MONTH(I$1),1),"JJMMAA"),CleU,0),10),0)) -> 0 | ... AE4: =IF(IFERROR(OFFSET('BDD PowerBI'!$A$1,MATCH(Consommation!$A4&"\\"&TEXT(Consommation!AE$1,"JJMMAA"),CleU,0),10),0)-IFERROR(OFFSET('BDD PowerBI'!$A$1,MATCH(Consommation!$A4&"\\"&TEXT(DATE(YEAR(AE$1)-1,MONTH(AE$1),1),"JJMMAA"),CleU,0),10),0)<0,0,IFERROR(OFFSET('BDD PowerBI'!$A$1,MATCH(Consommation!$A4&"\\"&TEXT(Consommation!AE$1,"JJMMAA"),CleU,0),10),0)-IFERROR(OFFSET('BDD PowerBI'!$A$1,MATCH(Consommation!$A4&"\\"&TEXT(DATE(YEAR(AE$1)-1,MONTH(AE$1),1),"JJMMAA"),CleU,0),10),0)) -> 0
A5: Compteur EDF_124 E Active 1 HCE | B5: =IF(IFERROR(OFFSET('BDD PowerBI'!$A$1,MATCH(Consommation!$A5&"\\"&TEXT(Consommation!B$1,"JJMMAA"),CleU,0),10),0)-IFERROR(OFFSET('BDD PowerBI'!$A$1,MATCH(Consommation!$A5&"\\"&TEXT(DATE(YEAR(B$1)-1,MONTH(B$1),1),"JJMMAA"),CleU,0),10),0)<0,0,IFERROR(OFFSET('BDD PowerBI'!$A$1,MATCH(Consommation!$A5&"\\"&TEXT(Consommation!B$1,"JJMMAA"),CleU,0),10),0)-IFERROR(OFFSET('BDD PowerBI'!$A$1,MATCH(Consommation!$A5&"\\"&TEXT(DATE(YEAR(B$1)-1,MONTH(B$1),1),"JJMMAA"),CleU,0),10),0)) -> 0 | C5: =IF(IFERROR(OFFSET('BDD PowerBI'!$A$1,MATCH(Consommation!$A5&"\\"&TEXT(Consommation!C$1,"JJMMAA"),CleU,0),10),0)-IFERROR(OFFSET('BDD PowerBI'!$A$1,MATCH(Consommation!$A5&"\\"&TEXT(DATE(YEAR(C$1)-1,MONTH(C$1),1),"JJMMAA"),CleU,0),10),0)<0,0,IFERROR(OFFSET('BDD PowerBI'!$A$1,MATCH(Consommation!$A5&"\\"&TEXT(Consommation!C$1,"JJMMAA"),CleU,0),10),0)-IFERROR(OFFSET('BDD PowerBI'!$A$1,MATCH(Consommation!$A5&"\\"&TEXT(DATE(YEAR(C$1)-1,MONTH(C$1),1),"JJMMAA"),CleU,0),10),0)) -> 0 | D5: =IF(IFERROR(OFFSET('BDD PowerBI'!$A$1,MATCH(Consommation!$A5&"\\"&TEXT(Consommation!D$1,"JJMMAA"),CleU,0),10),0)-IFERROR(OFFSET('BDD PowerBI'!$A$1,MATCH(Consommation!$A5&"\\"&TEXT(DATE(YEAR(D$1)-1,MONTH(D$1),1),"JJMMAA"),CleU,0),10),0)<0,0,IFERROR(OFFSET('BDD PowerBI'!$A$1,MATCH(Consommation!$A5&"\\"&TEXT(Consommation!D$1,"JJMMAA"),CleU,0),10),0)-IFERROR(OFFSET('BDD PowerBI'!$A$1,MATCH(Consommation!$A5&"\\"&TEXT(DATE(YEAR(D$1)-1,MONTH(D$1),1),"JJMMAA"),CleU,0),10),0)) -> 0 | E5: =IF(IFERROR(OFFSET('BDD PowerBI'!$A$1,MATCH(Consommation!$A5&"\\"&TEXT(Consommation!E$1,"JJMMAA"),CleU,0),10),0)-IFERROR(OFFSET('BDD PowerBI'!$A$1,MATCH(Consommation!$A5&"\\"&TEXT(DATE(YEAR(E$1)-1,MONTH(E$1),1),"JJMMAA"),CleU,0),10),0)<0,0,IFERROR(OFFSET('BDD PowerBI'!$A$1,MATCH(Consommation!$A5&"\\"&TEXT(Consommation!E$1,"JJMMAA"),CleU,0),10),0)-IFERROR(OFFSET('BDD PowerBI'!$A$1,MATCH(Consommation!$A5&"\\"&TEXT(DATE(YEAR(E$1)-1,MONTH(E$1),1),"JJMMAA"),CleU,0),10),0)) -> 0 | F5: =IF(IFERROR(OFFSET('BDD PowerBI'!$A$1,MATCH(Consommation!$A5&"\\"&TEXT(Consommation!F$1,"JJMMAA"),CleU,0),10),0)-IFERROR(OFFSET('BDD PowerBI'!$A$1,MATCH(Consommation!$A5&"\\"&TEXT(DATE(YEAR(F$1)-1,MONTH(F$1),1),"JJMMAA"),CleU,0),10),0)<0,0,IFERROR(OFFSET('BDD PowerBI'!$A$1,MATCH(Consommation!$A5&"\\"&TEXT(Consommation!F$1,"JJMMAA"),CleU,0),10),0)-IFERROR(OFFSET('BDD PowerBI'!$A$1,MATCH(Consommation!$A5&"\\"&TEXT(DATE(YEAR(F$1)-1,MONTH(F$1),1),"JJMMAA"),CleU,0),10),0)) -> 0 | G5: =IF(IFERROR(OFFSET('BDD PowerBI'!$A$1,MATCH(Consommation!$A5&"\\"&TEXT(Consommation!G$1,"JJMMAA"),CleU,0),10),0)-IFERROR(OFFSET('BDD PowerBI'!$A$1,MATCH(Consommation!$A5&"\\"&TEXT(DATE(YEAR(G$1)-1,MONTH(G$1),1),"JJMMAA"),CleU,0),10),0)<0,0,IFERROR(OFFSET('BDD PowerBI'!$A$1,MATCH(Consommation!$A5&"\\"&TEXT(Consommation!G$1,"JJMMAA"),CleU,0),10),0)-IFERROR(OFFSET('BDD PowerBI'!$A$1,MATCH(Consommation!$A5&"\\"&TEXT(DATE(YEAR(G$1)-1,MONTH(G$1),1),"JJMMAA"),CleU,0),10),0)) -> 0 | H5: =IF(IFERROR(OFFSET('BDD PowerBI'!$A$1,MATCH(Consommation!$A5&"\\"&TEXT(Consommation!H$1,"JJMMAA"),CleU,0),10),0)-IFERROR(OFFSET('BDD PowerBI'!$A$1,MATCH(Consommation!$A5&"\\"&TEXT(DATE(YEAR(H$1)-1,MONTH(H$1),1),"JJMMAA"),CleU,0),10),0)<0,0,IFERROR(OFFSET('BDD PowerBI'!$A$1,MATCH(Consommation!$A5&"\\"&TEXT(Consommation!H$1,"JJMMAA"),CleU,0),10),0)-IFERROR(OFFSET('BDD PowerBI'!$A$1,MATCH(Consommation!$A5&"\\"&TEXT(DATE(YEAR(H$1)-1,MONTH(H$1),1),"JJMMAA"),CleU,0),10),0)) -> 0 | I5: =IF(IFERROR(OFFSET('BDD PowerBI'!$A$1,MATCH(Consommation!$A5&"\\"&TEXT(Consommation!I$1,"JJMMAA"),CleU,0),10),0)-IFERROR(OFFSET('BDD PowerBI'!$A$1,MATCH(Consommation!$A5&"\\"&TEXT(DATE(YEAR(I$1)-1,MONTH(I$1),1),"JJMMAA"),CleU,0),10),0)<0,0,IFERROR(OFFSET('BDD PowerBI'!$A$1,MATCH(Consommation!$A5&"\\"&TEXT(Consommation!I$1,"JJMMAA"),CleU,0),10),0)-IFERROR(OFFSET('BDD PowerBI'!$A$1,MATCH(Consommation!$A5&"\\"&TEXT(DATE(YEAR(I$1)-1,MONTH(I$1),1),"JJMMAA"),CleU,0),10),0)) -> 0 | ... AE5: =IF(IFERROR(OFFSET('BDD PowerBI'!$A$1,MATCH(Consommation!$A5&"\\"&TEXT(Consommation!AE$1,"JJMMAA"),CleU,0),10),0)-IFERROR(OFFSET('BDD PowerBI'!$A$1,MATCH(Consommation!$A5&"\\"&TEXT(DATE(YEAR(AE$1)-1,MONTH(AE$1),1),"JJMMAA"),CleU,0),10),0)<0,0,IFERROR(OFFSET('BDD PowerBI'!$A$1,MATCH(Consommation!$A5&"\\"&TEXT(Consommation!AE$1,"JJMMAA"),CleU,0),10),0)-IFERROR(OFFSET('BDD PowerBI'!$A$1,MATCH(Consommation!$A5&"\\"&TEXT(DATE(YEAR(AE$1)-1,MONTH(AE$1),1),"JJMMAA"),CleU,0),10),0)) -> 0
A6: Compteur EDF_220 E Active 1 P | B6: =IF(IFERROR(OFFSET('BDD PowerBI'!$A$1,MATCH(Consommation!$A6&"\\"&TEXT(Consommation!B$1,"JJMMAA"),CleU,0),10),0)-IFERROR(OFFSET('BDD PowerBI'!$A$1,MATCH(Consommation!$A6&"\\"&TEXT(DATE(YEAR(B$1)-1,MONTH(B$1),1),"JJMMAA"),CleU,0),10),0)<0,0,IFERROR(OFFSET('BDD PowerBI'!$A$1,MATCH(Consommation!$A6&"\\"&TEXT(Consommation!B$1,"JJMMAA"),CleU,0),10),0)-IFERROR(OFFSET('BDD PowerBI'!$A$1,MATCH(Consommation!$A6&"\\"&TEXT(DATE(YEAR(B$1)-1,MONTH(B$1),1),"JJMMAA"),CleU,0),10),0)) -> 0 | C6: =IF(IFERROR(OFFSET('BDD PowerBI'!$A$1,MATCH(Consommation!$A6&"\\"&TEXT(Consommation!C$1,"JJMMAA"),CleU,0),10),0)-IFERROR(OFFSET('BDD PowerBI'!$A$1,MATCH(Consommation!$A6&"\\"&TEXT(DATE(YEAR(C$1)-1,MONTH(C$1),1),"JJMMAA"),CleU,0),10),0)<0,0,IFERROR(OFFSET('BDD PowerBI'!$A$1,MATCH(Consommation!$A6&"\\"&TEXT(Consommation!C$1,"JJMMAA"),CleU,0),10),0)-IFERROR(OFFSET('BDD PowerBI'!$A$1,MATCH(Consommation!$A6&"\\"&TEXT(DATE(YEAR(C$1)-1,MONTH(C$1),1),"JJMMAA"),CleU,0),10),0)) -> 0 | D6: =IF(IFERROR(OFFSET('BDD PowerBI'!$A$1,MATCH(Consommation!$A6&"\\"&TEXT(Consommation!D$1,"JJMMAA"),CleU,0),10),0)-IFERROR(OFFSET('BDD PowerBI'!$A$1,MATCH(Consommation!$A6&"\\"&TEXT(DATE(YEAR(D$1)-1,MONTH(D$1),1),"JJMMAA"),CleU,0),10),0)<0,0,IFERROR(OFFSET('BDD PowerBI'!$A$1,MATCH(Consommation!$A6&"\\"&TEXT(Consommation!D$1,"JJMMAA"),CleU,0),10),0)-IFERROR(OFFSET('BDD PowerBI'!$A$1,MATCH(Consommation!$A6&"\\"&TEXT(DATE(YEAR(D$1)-1,MONTH(D$1),1),"JJMMAA"),CleU,0),10),0)) -> 0 | E6: =IF(IFERROR(OFFSET('BDD PowerBI'!$A$1,MATCH(Consommation!$A6&"\\"&TEXT(Consommation!E$1,"JJMMAA"),CleU,0),10),0)-IFERROR(OFFSET('BDD PowerBI'!$A$1,MATCH(Consommation!$A6&"\\"&TEXT(DATE(YEAR(E$1)-1,MONTH(E$1),1),"JJMMAA"),CleU,0),10),0)<0,0,IFERROR(OFFSET('BDD PowerBI'!$A$1,MATCH(Consommation!$A6&"\\"&TEXT(Consommation!E$1,"JJMMAA"),CleU,0),10),0)-IFERROR(OFFSET('BDD PowerBI'!$A$1,MATCH(Consommation!$A6&"\\"&TEXT(DATE(YEAR(E$1)-1,MONTH(E$1),1),"JJMMAA"),CleU,0),10),0)) -> 0 | F6: =IF(IFERROR(OFFSET('BDD PowerBI'!$A$1,MATCH(Consommation!$A6&"\\"&TEXT(Consommation!F$1,"JJMMAA"),CleU,0),10),0)-IFERROR(OFFSET('BDD PowerBI'!$A$1,MATCH(Consommation!$A6&"\\"&TEXT(DATE(YEAR(F$1)-1,MONTH(F$1),1),"JJMMAA"),CleU,0),10),0)<0,0,IFERROR(OFFSET('BDD PowerBI'!$A$1,MATCH(Consommation!$A6&"\\"&TEXT(Consommation!F$1,"JJMMAA"),CleU,0),10),0)-IFERROR(OFFSET('BDD PowerBI'!$A$1,MATCH(Consommation!$A6&"\\"&TEXT(DATE(YEAR(F$1)-1,MONTH(F$1),1),"JJMMAA"),CleU,0),10),0)) -> 0 | G6: =IF(IFERROR(OFFSET('BDD PowerBI'!$A$1,MATCH(Consommation!$A6&"\\"&TEXT(Consommation!G$1,"JJMMAA"),CleU,0),10),0)-IFERROR(OFFSET('BDD PowerBI'!$A$1,MATCH(Consommation!$A6&"\\"&TEXT(DATE(YEAR(G$1)-1,MONTH(G$1),1),"JJMMAA"),CleU,0),10),0)<0,0,IFERROR(OFFSET('BDD PowerBI'!$A$1,MATCH(Consommation!$A6&"\\"&TEXT(Consommation!G$1,"JJMMAA"),CleU,0),10),0)-IFERROR(OFFSET('BDD PowerBI'!$A$1,MATCH(Consommation!$A6&"\\"&TEXT(DATE(YEAR(G$1)-1,MONTH(G$1),1),"JJMMAA"),CleU,0),10),0)) -> 0 | H6: =IF(IFERROR(OFFSET('BDD PowerBI'!$A$1,MATCH(Consommation!$A6&"\\"&TEXT(Consommation!H$1,"JJMMAA"),CleU,0),10),0)-IFERROR(OFFSET('BDD PowerBI'!$A$1,MATCH(Consommation!$A6&"\\"&TEXT(DATE(YEAR(H$1)-1,MONTH(H$1),1),"JJMMAA"),CleU,0),10),0)<0,0,IFERROR(OFFSET('BDD PowerBI'!$A$1,MATCH(Consommation!$A6&"\\"&TEXT(Consommation!H$1,"JJMMAA"),CleU,0),10),0)-IFERROR(OFFSET('BDD PowerBI'!$A$1,MATCH(Consommation!$A6&"\\"&TEXT(DATE(YEAR(H$1)-1,MONTH(H$1),1),"JJMMAA"),CleU,0),10),0)) -> 0 | I6: =IF(IFERROR(OFFSET('BDD PowerBI'!$A$1,MATCH(Consommation!$A6&"\\"&TEXT(Consommation!I$1,"JJMMAA"),CleU,0),10),0)-IFERROR(OFFSET('BDD PowerBI'!$A$1,MATCH(Consommation!$A6&"\\"&TEXT(DATE(YEAR(I$1)-1,MONTH(I$1),1),"JJMMAA"),CleU,0),10),0)<0,0,IFERROR(OFFSET('BDD PowerBI'!$A$1,MATCH(Consommation!$A6&"\\"&TEXT(Consommation!I$1,"JJMMAA"),CleU,0),10),0)-IFERROR(OFFSET('BDD PowerBI'!$A$1,MATCH(Consommation!$A6&"\\"&TEXT(DATE(YEAR(I$1)-1,MONTH(I$1),1),"JJMMAA"),CleU,0),10),0)) -> 0 | ... AE6: =IF(IFERROR(OFFSET('BDD PowerBI'!$A$1,MATCH(Consommation!$A6&"\\"&TEXT(Consommation!AE$1,"JJMMAA"),CleU,0),10),0)-IFERROR(OFFSET('BDD PowerBI'!$A$1,MATCH(Consommation!$A6&"\\"&TEXT(DATE(YEAR(AE$1)-1,MONTH(AE$1),1),"JJMMAA"),CleU,0),10),0)<0,0,IFERROR(OFFSET('BDD PowerBI'!$A$1,MATCH(Consommation!$A6&"\\"&TEXT(Consommation!AE$1,"JJMMAA"),CleU,0),10),0)-IFERROR(OFFSET('BDD PowerBI'!$A$1,MATCH(Consommation!$A6&"\\"&TEXT(DATE(YEAR(AE$1)-1,MONTH(AE$1),1),"JJMMAA"),CleU,0),10),0)) -> 0
A7: TGBT_ARM_BRANCH_LC | B7: =IF(IFERROR(OFFSET('BDD PowerBI'!$A$1,MATCH(Consommation!$A7&"\\"&TEXT(Consommation!B$1,"JJMMAA"),CleU,0),10),0)-IFERROR(OFFSET('BDD PowerBI'!$A$1,MATCH(Consommation!$A7&"\\"&TEXT(DATE(YEAR(B$1)-1,MONTH(B$1),1),"JJMMAA"),CleU,0),10),0)<0,0,IFERROR(OFFSET('BDD PowerBI'!$A$1,MATCH(Consommation!$A7&"\\"&TEXT(Consommation!B$1,"JJMMAA"),CleU,0),10),0)-IFERROR(OFFSET('BDD PowerBI'!$A$1,MATCH(Consommation!$A7&"\\"&TEXT(DATE(YEAR(B$1)-1,MONTH(B$1),1),"JJMMAA"),CleU,0),10),0)) -> 0 | C7: =IF(IFERROR(OFFSET('BDD PowerBI'!$A$1,MATCH(Consommation!$A7&"\\"&TEXT(Consommation!C$1,"JJMMAA"),CleU,0),10),0)-IFERROR(OFFSET('BDD PowerBI'!$A$1,MATCH(Consommation!$A7&"\\"&TEXT(DATE(YEAR(C$1)-1,MONTH(C$1),1),"JJMMAA"),CleU,0),10),0)<0,0,IFERROR(OFFSET('BDD PowerBI'!$A$1,MATCH(Consommation!$A7&"\\"&TEXT(Consommation!C$1,"JJMMAA"),CleU,0),10),0)-IFERROR(OFFSET('BDD PowerBI'!$A$1,MATCH(Consommation!$A7&"\\"&TEXT(DATE(YEAR(C$1)-1,MONTH(C$1),1),"JJMMAA"),CleU,0),10),0)) -> 0 | D7: =IF(IFERROR(OFFSET('BDD PowerBI'!$A$1,MATCH(Consommation!$A7&"\\"&TEXT(Consommation!D$1,"JJMMAA"),CleU,0),10),0)-IFERROR(OFFSET('BDD PowerBI'!$A$1,MATCH(Consommation!$A7&"\\"&TEXT(DATE(YEAR(D$1)-1,MONTH(D$1),1),"JJMMAA"),CleU,0),10),0)<0,0,IFERROR(OFFSET('BDD PowerBI'!$A$1,MATCH(Consommation!$A7&"\\"&TEXT(Consommation!D$1,"JJMMAA"),CleU,0),10),0)-IFERROR(OFFSET('BDD PowerBI'!$A$1,MATCH(Consommation!$A7&"\\"&TEXT(DATE(YEAR(D$1)-1,MONTH(D$1),1),"JJMMAA"),CleU,0),10),0)) -> 0 | E7: =IF(IFERROR(OFFSET('BDD PowerBI'!$A$1,MATCH(Consommation!$A7&"\\"&TEXT(Consommation!E$1,"JJMMAA"),CleU,0),10),0)-IFERROR(OFFSET('BDD PowerBI'!$A$1,MATCH(Consommation!$A7&"\\"&TEXT(DATE(YEAR(E$1)-1,MONTH(E$1),1),"JJMMAA"),CleU,0),10),0)<0,0,IFERROR(OFFSET('BDD PowerBI'!$A$1,MATCH(Consommation!$A7&"\\"&TEXT(Consommation!E$1,"JJMMAA"),CleU,0),10),0)-IFERROR(OFFSET('BDD PowerBI'!$A$1,MATCH(Consommation!$A7&"\\"&TEXT(DATE(YEAR(E$1)-1,MONTH(E$1),1),"JJMMAA"),CleU,0),10),0)) -> 0 | F7: =IF(IFERROR(OFFSET('BDD PowerBI'!$A$1,MATCH(Consommation!$A7&"\\"&TEXT(Consommation!F$1,"JJMMAA"),CleU,0),10),0)-IFERROR(OFFSET('BDD PowerBI'!$A$1,MATCH(Consommation!$A7&"\\"&TEXT(DATE(YEAR(F$1)-1,MONTH(F$1),1),"JJMMAA"),CleU,0),10),0)<0,0,IFERROR(OFFSET('BDD PowerBI'!$A$1,MATCH(Consommation!$A7&"\\"&TEXT(Consommation!F$1,"JJMMAA"),CleU,0),10),0)-IFERROR(OFFSET('BDD PowerBI'!$A$1,MATCH(Consommation!$A7&"\\"&TEXT(DATE(YEAR(F$1)-1,MONTH(F$1),1),"JJMMAA"),CleU,0),10),0)) -> 0 | G7: =IF(IFERROR(OFFSET('BDD PowerBI'!$A$1,MATCH(Consommation!$A7&"\\"&TEXT(Consommation!G$1,"JJMMAA"),CleU,0),10),0)-IFERROR(OFFSET('BDD PowerBI'!$A$1,MATCH(Consommation!$A7&"\\"&TEXT(DATE(YEAR(G$1)-1,MONTH(G$1),1),"JJMMAA"),CleU,0),10),0)<0,0,IFERROR(OFFSET('BDD PowerBI'!$A$1,MATCH(Consommation!$A7&"\\"&TEXT(Consommation!G$1,"JJMMAA"),CleU,0),10),0)-IFERROR(OFFSET('BDD PowerBI'!$A$1,MATCH(Consommation!$A7&"\\"&TEXT(DATE(YEAR(G$1)-1,MONTH(G$1),1),"JJMMAA"),CleU,0),10),0)) -> 0 | H7: =IF(IFERROR(OFFSET('BDD PowerBI'!$A$1,MATCH(Consommation!$A7&"\\"&TEXT(Consommation!H$1,"JJMMAA"),CleU,0),10),0)-IFERROR(OFFSET('BDD PowerBI'!$A$1,MATCH(Consommation!$A7&"\\"&TEXT(DATE(YEAR(H$1)-1,MONTH(H$1),1),"JJMMAA"),CleU,0),10),0)<0,0,IFERROR(OFFSET('BDD PowerBI'!$A$1,MATCH(Consommation!$A7&"\\"&TEXT(Consommation!H$1,"JJMMAA"),CleU,0),10),0)-IFERROR(OFFSET('BDD PowerBI'!$A$1,MATCH(Consommation!$A7&"\\"&TEXT(DATE(YEAR(H$1)-1,MONTH(H$1),1),"JJMMAA"),CleU,0),10),0)) -> 0 | I7: =IF(IFERROR(OFFSET('BDD PowerBI'!$A$1,MATCH(Consommation!$A7&"\\"&TEXT(Consommation!I$1,"JJMMAA"),CleU,0),10),0)-IFERROR(OFFSET('BDD PowerBI'!$A$1,MATCH(Consommation!$A7&"\\"&TEXT(DATE(YEAR(I$1)-1,MONTH(I$1),1),"JJMMAA"),CleU,0),10),0)<0,0,IFERROR(OFFSET('BDD PowerBI'!$A$1,MATCH(Consommation!$A7&"\\"&TEXT(Consommation!I$1,"JJMMAA"),CleU,0),10),0)-IFERROR(OFFSET('BDD PowerBI'!$A$1,MATCH(Consommation!$A7&"\\"&TEXT(DATE(YEAR(I$1)-1,MONTH(I$1),1),"JJMMAA"),CleU,0),10),0)) -> 0 | ... AE7: =IF(IFERROR(OFFSET('BDD PowerBI'!$A$1,MATCH(Consommation!$A7&"\\"&TEXT(Consommation!AE$1,"JJMMAA"),CleU,0),10),0)-IFERROR(OFFSET('BDD PowerBI'!$A$1,MATCH(Consommation!$A7&"\\"&TEXT(DATE(YEAR(AE$1)-1,MONTH(AE$1),1),"JJMMAA"),CleU,0),10),0)<0,0,IFERROR(OFFSET('BDD PowerBI'!$A$1,MATCH(Consommation!$A7&"\\"&TEXT(Consommation!AE$1,"JJMMAA"),CleU,0),10),0)-IFERROR(OFFSET('BDD PowerBI'!$A$1,MATCH(Consommation!$A7&"\\"&TEXT(DATE(YEAR(AE$1)-1,MONTH(AE$1),1),"JJMMAA"),CleU,0),10),0)) -> 0
A8: TGBT_ARM_CLIM_DET_D_OND1 | B8: =IF(IFERROR(OFFSET('BDD PowerBI'!$A$1,MATCH(Consommation!$A8&"\\"&TEXT(Consommation!B$1,"JJMMAA"),CleU,0),10),0)-IFERROR(OFFSET('BDD PowerBI'!$A$1,MATCH(Consommation!$A8&"\\"&TEXT(DATE(YEAR(B$1)-1,MONTH(B$1),1),"JJMMAA"),CleU,0),10),0)<0,0,IFERROR(OFFSET('BDD PowerBI'!$A$1,MATCH(Consommation!$A8&"\\"&TEXT(Consommation!B$1,"JJMMAA"),CleU,0),10),0)-IFERROR(OFFSET('BDD PowerBI'!$A$1,MATCH(Consommation!$A8&"\\"&TEXT(DATE(YEAR(B$1)-1,MONTH(B$1),1),"JJMMAA"),CleU,0),10),0)) -> 0 | C8: =IF(IFERROR(OFFSET('BDD PowerBI'!$A$1,MATCH(Consommation!$A8&"\\"&TEXT(Consommation!C$1,"JJMMAA"),CleU,0),10),0)-IFERROR(OFFSET('BDD PowerBI'!$A$1,MATCH(Consommation!$A8&"\\"&TEXT(DATE(YEAR(C$1)-1,MONTH(C$1),1),"JJMMAA"),CleU,0),10),0)<0,0,IFERROR(OFFSET('BDD PowerBI'!$A$1,MATCH(Consommation!$A8&"\\"&TEXT(Consommation!C$1,"JJMMAA"),CleU,0),10),0)-IFERROR(OFFSET('BDD PowerBI'!$A$1,MATCH(Consommation!$A8&"\\"&TEXT(DATE(YEAR(C$1)-1,MONTH(C$1),1),"JJMMAA"),CleU,0),10),0)) -> 0 | D8: =IF(IFERROR(OFFSET('BDD PowerBI'!$A$1,MATCH(Consommation!$A8&"\\"&TEXT(Consommation!D$1,"JJMMAA"),CleU,0),10),0)-IFERROR(OFFSET('BDD PowerBI'!$A$1,MATCH(Consommation!$A8&"\\"&TEXT(DATE(YEAR(D$1)-1,MONTH(D$1),1),"JJMMAA"),CleU,0),10),0)<0,0,IFERROR(OFFSET('BDD PowerBI'!$A$1,MATCH(Consommation!$A8&"\\"&TEXT(Consommation!D$1,"JJMMAA"),CleU,0),10),0)-IFERROR(OFFSET('BDD PowerBI'!$A$1,MATCH(Consommation!$A8&"\\"&TEXT(DATE(YEAR(D$1)-1,MONTH(D$1),1),"JJMMAA"),CleU,0),10),0)) -> 0 | E8: =IF(IFERROR(OFFSET('BDD PowerBI'!$A$1,MATCH(Consommation!$A8&"\\"&TEXT(Consommation!E$1,"JJMMAA"),CleU,0),10),0)-IFERROR(OFFSET('BDD PowerBI'!$A$1,MATCH(Consommation!$A8&"\\"&TEXT(DATE(YEAR(E$1)-1,MONTH(E$1),1),"JJMMAA"),CleU,0),10),0)<0,0,IFERROR(OFFSET('BDD PowerBI'!$A$1,MATCH(Consommation!$A8&"\\"&TEXT(Consommation!E$1,"JJMMAA"),CleU,0),10),0)-IFERROR(OFFSET('BDD PowerBI'!$A$1,MATCH(Consommation!$A8&"\\"&TEXT(DATE(YEAR(E$1)-1,MONTH(E$1),1),"JJMMAA"),CleU,0),10),0)) -> 0 | F8: =IF(IFERROR(OFFSET('BDD PowerBI'!$A$1,MATCH(Consommation!$A8&"\\"&TEXT(Consommation!F$1,"JJMMAA"),CleU,0),10),0)-IFERROR(OFFSET('BDD PowerBI'!$A$1,MATCH(Consommation!$A8&"\\"&TEXT(DATE(YEAR(F$1)-1,MONTH(F$1),1),"JJMMAA"),CleU,0),10),0)<0,0,IFERROR(OFFSET('BDD PowerBI'!$A$1,MATCH(Consommation!$A8&"\\"&TEXT(Consommation!F$1,"JJMMAA"),CleU,0),10),0)-IFERROR(OFFSET('BDD PowerBI'!$A$1,MATCH(Consommation!$A8&"\\"&TEXT(DATE(YEAR(F$1)-1,MONTH(F$1),1),"JJMMAA"),CleU,0),10),0)) -> 0 | G8: =IF(IFERROR(OFFSET('BDD PowerBI'!$A$1,MATCH(Consommation!$A8&"\\"&TEXT(Consommation!G$1,"JJMMAA"),CleU,0),10),0)-IFERROR(OFFSET('BDD PowerBI'!$A$1,MATCH(Consommation!$A8&"\\"&TEXT(DATE(YEAR(G$1)-1,MONTH(G$1),1),"JJMMAA"),CleU,0),10),0)<0,0,IFERROR(OFFSET('BDD PowerBI'!$A$1,MATCH(Consommation!$A8&"\\"&TEXT(Consommation!G$1,"JJMMAA"),CleU,0),10),0)-IFERROR(OFFSET('BDD PowerBI'!$A$1,MATCH(Consommation!$A8&"\\"&TEXT(DATE(YEAR(G$1)-1,MONTH(G$1),1),"JJMMAA"),CleU,0),10),0)) -> 0 | H8: =IF(IFERROR(OFFSET('BDD PowerBI'!$A$1,MATCH(Consommation!$A8&"\\"&TEXT(Consommation!H$1,"JJMMAA"),CleU,0),10),0)-IFERROR(OFFSET('BDD PowerBI'!$A$1,MATCH(Consommation!$A8&"\\"&TEXT(DATE(YEAR(H$1)-1,MONTH(H$1),1),"JJMMAA"),CleU,0),10),0)<0,0,IFERROR(OFFSET('BDD PowerBI'!$A$1,MATCH(Consommation!$A8&"\\"&TEXT(Consommation!H$1,"JJMMAA"),CleU,0),10),0)-IFERROR(OFFSET('BDD PowerBI'!$A$1,MATCH(Consommation!$A8&"\\"&TEXT(DATE(YEAR(H$1)-1,MONTH(H$1),1),"JJMMAA"),CleU,0),10),0)) -> 0 | I8: =IF(IFERROR(OFFSET('BDD PowerBI'!$A$1,MATCH(Consommation!$A8&"\\"&TEXT(Consommation!I$1,"JJMMAA"),CleU,0),10),0)-IFERROR(OFFSET('BDD PowerBI'!$A$1,MATCH(Consommation!$A8&"\\"&TEXT(DATE(YEAR(I$1)-1,MONTH(I$1),1),"JJMMAA"),CleU,0),10),0)<0,0,IFERROR(OFFSET('BDD PowerBI'!$A$1,MATCH(Consommation!$A8&"\\"&TEXT(Consommation!I$1,"JJMMAA"),CleU,0),10),0)-IFERROR(OFFSET('BDD PowerBI'!$A$1,MATCH(Consommation!$A8&"\\"&TEXT(DATE(YEAR(I$1)-1,MONTH(I$1),1),"JJMMAA"),CleU,0),10),0)) -> 0 | ... AE8: =IF(IFERROR(OFFSET('BDD PowerBI'!$A$1,MATCH(Consommation!$A8&"\\"&TEXT(Consommation!AE$1,"JJMMAA"),CleU,0),10),0)-IFERROR(OFFSET('BDD PowerBI'!$A$1,MATCH(Consommation!$A8&"\\"&TEXT(DATE(YEAR(AE$1)-1,MONTH(AE$1),1),"JJMMAA"),CleU,0),10),0)<0,0,IFERROR(OFFSET('BDD PowerBI'!$A$1,MATCH(Consommation!$A8&"\\"&TEXT(Consommation!AE$1,"JJMMAA"),CleU,0),10),0)-IFERROR(OFFSET('BDD PowerBI'!$A$1,MATCH(Consommation!$A8&"\\"&TEXT(DATE(YEAR(AE$1)-1,MONTH(AE$1),1),"JJMMAA"),CleU,0),10),0)) -> 0
A9: TGBT_ARM_CLIM_DET_D_OND2 | B9: =IF(IFERROR(OFFSET('BDD PowerBI'!$A$1,MATCH(Consommation!$A9&"\\"&TEXT(Consommation!B$1,"JJMMAA"),CleU,0),10),0)-IFERROR(OFFSET('BDD PowerBI'!$A$1,MATCH(Consommation!$A9&"\\"&TEXT(DATE(YEAR(B$1)-1,MONTH(B$1),1),"JJMMAA"),CleU,0),10),0)<0,0,IFERROR(OFFSET('BDD PowerBI'!$A$1,MATCH(Consommation!$A9&"\\"&TEXT(Consommation!B$1,"JJMMAA"),CleU,0),10),0)-IFERROR(OFFSET('BDD PowerBI'!$A$1,MATCH(Consommation!$A9&"\\"&TEXT(DATE(YEAR(B$1)-1,MONTH(B$1),1),"JJMMAA"),CleU,0),10),0)) -> 0 | C9: =IF(IFERROR(OFFSET('BDD PowerBI'!$A$1,MATCH(Consommation!$A9&"\\"&TEXT(Consommation!C$1,"JJMMAA"),CleU,0),10),0)-IFERROR(OFFSET('BDD PowerBI'!$A$1,MATCH(Consommation!$A9&"\\"&TEXT(DATE(YEAR(C$1)-1,MONTH(C$1),1),"JJMMAA"),CleU,0),10),0)<0,0,IFERROR(OFFSET('BDD PowerBI'!$A$1,MATCH(Consommation!$A9&"\\"&TEXT(Consommation!C$1,"JJMMAA"),CleU,0),10),0)-IFERROR(OFFSET('BDD PowerBI'!$A$1,MATCH(Consommation!$A9&"\\"&TEXT(DATE(YEAR(C$1)-1,MONTH(C$1),1),"JJMMAA"),CleU,0),10),0)) -> 0 | D9: =IF(IFERROR(OFFSET('BDD PowerBI'!$A$1,MATCH(Consommation!$A9&"\\"&TEXT(Consommation!D$1,"JJMMAA"),CleU,0),10),0)-IFERROR(OFFSET('BDD PowerBI'!$A$1,MATCH(Consommation!$A9&"\\"&TEXT(DATE(YEAR(D$1)-1,MONTH(D$1),1),"JJMMAA"),CleU,0),10),0)<0,0,IFERROR(OFFSET('BDD PowerBI'!$A$1,MATCH(Consommation!$A9&"\\"&TEXT(Consommation!D$1,"JJMMAA"),CleU,0),10),0)-IFERROR(OFFSET('BDD PowerBI'!$A$1,MATCH(Consommation!$A9&"\\"&TEXT(DATE(YEAR(D$1)-1,MONTH(D$1),1),"JJMMAA"),CleU,0),10),0)) -> 0 | E9: =IF(IFERROR(OFFSET('BDD PowerBI'!$A$1,MATCH(Consommation!$A9&"\\"&TEXT(Consommation!E$1,"JJMMAA"),CleU,0),10),0)-IFERROR(OFFSET('BDD PowerBI'!$A$1,MATCH(Consommation!$A9&"\\"&TEXT(DATE(YEAR(E$1)-1,MONTH(E$1),1),"JJMMAA"),CleU,0),10),0)<0,0,IFERROR(OFFSET('BDD PowerBI'!$A$1,MATCH(Consommation!$A9&"\\"&TEXT(Consommation!E$1,"JJMMAA"),CleU,0),10),0)-IFERROR(OFFSET('BDD PowerBI'!$A$1,MATCH(Consommation!$A9&"\\"&TEXT(DATE(YEAR(E$1)-1,MONTH(E$1),1),"JJMMAA"),CleU,0),10),0)) -> 0 | F9: =IF(IFERROR(OFFSET('BDD PowerBI'!$A$1,MATCH(Consommation!$A9&"\\"&TEXT(Consommation!F$1,"JJMMAA"),CleU,0),10),0)-IFERROR(OFFSET('BDD PowerBI'!$A$1,MATCH(Consommation!$A9&"\\"&TEXT(DATE(YEAR(F$1)-1,MONTH(F$1),1),"JJMMAA"),CleU,0),10),0)<0,0,IFERROR(OFFSET('BDD PowerBI'!$A$1,MATCH(Consommation!$A9&"\\"&TEXT(Consommation!F$1,"JJMMAA"),CleU,0),10),0)-IFERROR(OFFSET('BDD PowerBI'!$A$1,MATCH(Consommation!$A9&"\\"&TEXT(DATE(YEAR(F$1)-1,MONTH(F$1),1),"JJMMAA"),CleU,0),10),0)) -> 0 | G9: =IF(IFERROR(OFFSET('BDD PowerBI'!$A$1,MATCH(Consommation!$A9&"\\"&TEXT(Consommation!G$1,"JJMMAA"),CleU,0),10),0)-IFERROR(OFFSET('BDD PowerBI'!$A$1,MATCH(Consommation!$A9&"\\"&TEXT(DATE(YEAR(G$1)-1,MONTH(G$1),1),"JJMMAA"),CleU,0),10),0)<0,0,IFERROR(OFFSET('BDD PowerBI'!$A$1,MATCH(Consommation!$A9&"\\"&TEXT(Consommation!G$1,"JJMMAA"),CleU,0),10),0)-IFERROR(OFFSET('BDD PowerBI'!$A$1,MATCH(Consommation!$A9&"\\"&TEXT(DATE(YEAR(G$1)-1,MONTH(G$1),1),"JJMMAA"),CleU,0),10),0)) -> 0 | H9: =IF(IFERROR(OFFSET('BDD PowerBI'!$A$1,MATCH(Consommation!$A9&"\\"&TEXT(Consommation!H$1,"JJMMAA"),CleU,0),10),0)-IFERROR(OFFSET('BDD PowerBI'!$A$1,MATCH(Consommation!$A9&"\\"&TEXT(DATE(YEAR(H$1)-1,MONTH(H$1),1),"JJMMAA"),CleU,0),10),0)<0,0,IFERROR(OFFSET('BDD PowerBI'!$A$1,MATCH(Consommation!$A9&"\\"&TEXT(Consommation!H$1,"JJMMAA"),CleU,0),10),0)-IFERROR(OFFSET('BDD PowerBI'!$A$1,MATCH(Consommation!$A9&"\\"&TEXT(DATE(YEAR(H$1)-1,MONTH(H$1),1),"JJMMAA"),CleU,0),10),0)) -> 0 | I9: =IF(IFERROR(OFFSET('BDD PowerBI'!$A$1,MATCH(Consommation!$A9&"\\"&TEXT(Consommation!I$1,"JJMMAA"),CleU,0),10),0)-IFERROR(OFFSET('BDD PowerBI'!$A$1,MATCH(Consommation!$A9&"\\"&TEXT(DATE(YEAR(I$1)-1,MONTH(I$1),1),"JJMMAA"),CleU,0),10),0)<0,0,IFERROR(OFFSET('BDD PowerBI'!$A$1,MATCH(Consommation!$A9&"\\"&TEXT(Consommation!I$1,"JJMMAA"),CleU,0),10),0)-IFERROR(OFFSET('BDD PowerBI'!$A$1,MATCH(Consommation!$A9&"\\"&TEXT(DATE(YEAR(I$1)-1,MONTH(I$1),1),"JJMMAA"),CleU,0),10),0)) -> 0 | ... AE9: =IF(IFERROR(OFFSET('BDD PowerBI'!$A$1,MATCH(Consommation!$A9&"\\"&TEXT(Consommation!AE$1,"JJMMAA"),CleU,0),10),0)-IFERROR(OFFSET('BDD PowerBI'!$A$1,MATCH(Consommation!$A9&"\\"&TEXT(DATE(YEAR(AE$1)-1,MONTH(AE$1),1),"JJMMAA"),CleU,0),10),0)<0,0,IFERROR(OFFSET('BDD PowerBI'!$A$1,MATCH(Consommation!$A9&"\\"&TEXT(Consommation!AE$1,"JJMMAA"),CleU,0),10),0)-IFERROR(OFFSET('BDD PowerBI'!$A$1,MATCH(Consommation!$A9&"\\"&TEXT(DATE(YEAR(AE$1)-1,MONTH(AE$1),1),"JJMMAA"),CleU,0),10),0)) -> 0
A10: TGBT_ARM_CLIM_DET_D_VDI1 | B10: =IF(IFERROR(OFFSET('BDD PowerBI'!$A$1,MATCH(Consommation!$A10&"\\"&TEXT(Consommation!B$1,"JJMMAA"),CleU,0),10),0)-IFERROR(OFFSET('BDD PowerBI'!$A$1,MATCH(Consommation!$A10&"\\"&TEXT(DATE(YEAR(B$1)-1,MONTH(B$1),1),"JJMMAA"),CleU,0),10),0)<0,0,IFERROR(OFFSET('BDD PowerBI'!$A$1,MATCH(Consommation!$A10&"\\"&TEXT(Consommation!B$1,"JJMMAA"),CleU,0),10),0)-IFERROR(OFFSET('BDD PowerBI'!$A$1,MATCH(Consommation!$A10&"\\"&TEXT(DATE(YEAR(B$1)-1,MONTH(B$1),1),"JJMMAA"),CleU,0),10),0)) -> 0 | C10: =IF(IFERROR(OFFSET('BDD PowerBI'!$A$1,MATCH(Consommation!$A10&"\\"&TEXT(Consommation!C$1,"JJMMAA"),CleU,0),10),0)-IFERROR(OFFSET('BDD PowerBI'!$A$1,MATCH(Consommation!$A10&"\\"&TEXT(DATE(YEAR(C$1)-1,MONTH(C$1),1),"JJMMAA"),CleU,0),10),0)<0,0,IFERROR(OFFSET('BDD PowerBI'!$A$1,MATCH(Consommation!$A10&"\\"&TEXT(Consommation!C$1,"JJMMAA"),CleU,0),10),0)-IFERROR(OFFSET('BDD PowerBI'!$A$1,MATCH(Consommation!$A10&"\\"&TEXT(DATE(YEAR(C$1)-1,MONTH(C$1),1),"JJMMAA"),CleU,0),10),0)) -> 0 | D10: =IF(IFERROR(OFFSET('BDD PowerBI'!$A$1,MATCH(Consommation!$A10&"\\"&TEXT(Consommation!D$1,"JJMMAA"),CleU,0),10),0)-IFERROR(OFFSET('BDD PowerBI'!$A$1,MATCH(Consommation!$A10&"\\"&TEXT(DATE(YEAR(D$1)-1,MONTH(D$1),1),"JJMMAA"),CleU,0),10),0)<0,0,IFERROR(OFFSET('BDD PowerBI'!$A$1,MATCH(Consommation!$A10&"\\"&TEXT(Consommation!D$1,"JJMMAA"),CleU,0),10),0)-IFERROR(OFFSET('BDD PowerBI'!$A$1,MATCH(Consommation!$A10&"\\"&TEXT(DATE(YEAR(D$1)-1,MONTH(D$1),1),"JJMMAA"),CleU,0),10),0)) -> 0 | E10: =IF(IFERROR(OFFSET('BDD PowerBI'!$A$1,MATCH(Consommation!$A10&"\\"&TEXT(Consommation!E$1,"JJMMAA"),CleU,0),10),0)-IFERROR(OFFSET('BDD PowerBI'!$A$1,MATCH(Consommation!$A10&"\\"&TEXT(DATE(YEAR(E$1)-1,MONTH(E$1),1),"JJMMAA"),CleU,0),10),0)<0,0,IFERROR(OFFSET('BDD PowerBI'!$A$1,MATCH(Consommation!$A10&"\\"&TEXT(Consommation!E$1,"JJMMAA"),CleU,0),10),0)-IFERROR(OFFSET('BDD PowerBI'!$A$1,MATCH(Consommation!$A10&"\\"&TEXT(DATE(YEAR(E$1)-1,MONTH(E$1),1),"JJMMAA"),CleU,0),10),0)) -> 0 | F10: =IF(IFERROR(OFFSET('BDD PowerBI'!$A$1,MATCH(Consommation!$A10&"\\"&TEXT(Consommation!F$1,"JJMMAA"),CleU,0),10),0)-IFERROR(OFFSET('BDD PowerBI'!$A$1,MATCH(Consommation!$A10&"\\"&TEXT(DATE(YEAR(F$1)-1,MONTH(F$1),1),"JJMMAA"),CleU,0),10),0)<0,0,IFERROR(OFFSET('BDD PowerBI'!$A$1,MATCH(Consommation!$A10&"\\"&TEXT(Consommation!F$1,"JJMMAA"),CleU,0),10),0)-IFERROR(OFFSET('BDD PowerBI'!$A$1,MATCH(Consommation!$A10&"\\"&TEXT(DATE(YEAR(F$1)-1,MONTH(F$1),1),"JJMMAA"),CleU,0),10),0)) -> 0 | G10: =IF(IFERROR(OFFSET('BDD PowerBI'!$A$1,MATCH(Consommation!$A10&"\\"&TEXT(Consommation!G$1,"JJMMAA"),CleU,0),10),0)-IFERROR(OFFSET('BDD PowerBI'!$A$1,MATCH(Consommation!$A10&"\\"&TEXT(DATE(YEAR(G$1)-1,MONTH(G$1),1),"JJMMAA"),CleU,0),10),0)<0,0,IFERROR(OFFSET('BDD PowerBI'!$A$1,MATCH(Consommation!$A10&"\\"&TEXT(Consommation!G$1,"JJMMAA"),CleU,0),10),0)-IFERROR(OFFSET('BDD PowerBI'!$A$1,MATCH(Consommation!$A10&"\\"&TEXT(DATE(YEAR(G$1)-1,MONTH(G$1),1),"JJMMAA"),CleU,0),10),0)) -> 0 | H10: =IF(IFERROR(OFFSET('BDD PowerBI'!$A$1,MATCH(Consommation!$A10&"\\"&TEXT(Consommation!H$1,"JJMMAA"),CleU,0),10),0)-IFERROR(OFFSET('BDD PowerBI'!$A$1,MATCH(Consommation!$A10&"\\"&TEXT(DATE(YEAR(H$1)-1,MONTH(H$1),1),"JJMMAA"),CleU,0),10),0)<0,0,IFERROR(OFFSET('BDD PowerBI'!$A$1,MATCH(Consommation!$A10&"\\"&TEXT(Consommation!H$1,"JJMMAA"),CleU,0),10),0)-IFERROR(OFFSET('BDD PowerBI'!$A$1,MATCH(Consommation!$A10&"\\"&TEXT(DATE(YEAR(H$1)-1,MONTH(H$1),1),"JJMMAA"),CleU,0),10),0)) -> 0 | I10: =IF(IFERROR(OFFSET('BDD PowerBI'!$A$1,MATCH(Consommation!$A10&"\\"&TEXT(Consommation!I$1,"JJMMAA"),CleU,0),10),0)-IFERROR(OFFSET('BDD PowerBI'!$A$1,MATCH(Consommation!$A10&"\\"&TEXT(DATE(YEAR(I$1)-1,MONTH(I$1),1),"JJMMAA"),CleU,0),10),0)<0,0,IFERROR(OFFSET('BDD PowerBI'!$A$1,MATCH(Consommation!$A10&"\\"&TEXT(Consommation!I$1,"JJMMAA"),CleU,0),10),0)-IFERROR(OFFSET('BDD PowerBI'!$A$1,MATCH(Consommation!$A10&"\\"&TEXT(DATE(YEAR(I$1)-1,MONTH(I$1),1),"JJMMAA"),CleU,0),10),0)) -> 0 | ... AE10: =IF(IFERROR(OFFSET('BDD PowerBI'!$A$1,MATCH(Consommation!$A10&"\\"&TEXT(Consommation!AE$1,"JJMMAA"),CleU,0),10),0)-IFERROR(OFFSET('BDD PowerBI'!$A$1,MATCH(Consommation!$A10&"\\"&TEXT(DATE(YEAR(AE$1)-1,MONTH(AE$1),1),"JJMMAA"),CleU,0),10),0)<0,0,IFERROR(OFFSET('BDD PowerBI'!$A$1,MATCH(Consommation!$A10&"\\"&TEXT(Consommation!AE$1,"JJMMAA"),CleU,0),10),0)-IFERROR(OFFSET('BDD PowerBI'!$A$1,MATCH(Consommation!$A10&"\\"&TEXT(DATE(YEAR(AE$1)-1,MONTH(AE$1),1),"JJMMAA"),CleU,0),10),0)) -> 0
A11: TGBT_ARM_CLIM_DET_D_VDI2 | B11: =IF(IFERROR(OFFSET('BDD PowerBI'!$A$1,MATCH(Consommation!$A11&"\\"&TEXT(Consommation!B$1,"JJMMAA"),CleU,0),10),0)-IFERROR(OFFSET('BDD PowerBI'!$A$1,MATCH(Consommation!$A11&"\\"&TEXT(DATE(YEAR(B$1)-1,MONTH(B$1),1),"JJMMAA"),CleU,0),10),0)<0,0,IFERROR(OFFSET('BDD PowerBI'!$A$1,MATCH(Consommation!$A11&"\\"&TEXT(Consommation!B$1,"JJMMAA"),CleU,0),10),0)-IFERROR(OFFSET('BDD PowerBI'!$A$1,MATCH(Consommation!$A11&"\\"&TEXT(DATE(YEAR(B$1)-1,MONTH(B$1),1),"JJMMAA"),CleU,0),10),0)) -> 0 | C11: =IF(IFERROR(OFFSET('BDD PowerBI'!$A$1,MATCH(Consommation!$A11&"\\"&TEXT(Consommation!C$1,"JJMMAA"),CleU,0),10),0)-IFERROR(OFFSET('BDD PowerBI'!$A$1,MATCH(Consommation!$A11&"\\"&TEXT(DATE(YEAR(C$1)-1,MONTH(C$1),1),"JJMMAA"),CleU,0),10),0)<0,0,IFERROR(OFFSET('BDD PowerBI'!$A$1,MATCH(Consommation!$A11&"\\"&TEXT(Consommation!C$1,"JJMMAA"),CleU,0),10),0)-IFERROR(OFFSET('BDD PowerBI'!$A$1,MATCH(Consommation!$A11&"\\"&TEXT(DATE(YEAR(C$1)-1,MONTH(C$1),1),"JJMMAA"),CleU,0),10),0)) -> 0 | D11: =IF(IFERROR(OFFSET('BDD PowerBI'!$A$1,MATCH(Consommation!$A11&"\\"&TEXT(Consommation!D$1,"JJMMAA"),CleU,0),10),0)-IFERROR(OFFSET('BDD PowerBI'!$A$1,MATCH(Consommation!$A11&"\\"&TEXT(DATE(YEAR(D$1)-1,MONTH(D$1),1),"JJMMAA"),CleU,0),10),0)<0,0,IFERROR(OFFSET('BDD PowerBI'!$A$1,MATCH(Consommation!$A11&"\\"&TEXT(Consommation!D$1,"JJMMAA"),CleU,0),10),0)-IFERROR(OFFSET('BDD PowerBI'!$A$1,MATCH(Consommation!$A11&"\\"&TEXT(DATE(YEAR(D$1)-1,MONTH(D$1),1),"JJMMAA"),CleU,0),10),0)) -> 0 | E11: =IF(IFERROR(OFFSET('BDD PowerBI'!$A$1,MATCH(Consommation!$A11&"\\"&TEXT(Consommation!E$1,"JJMMAA"),CleU,0),10),0)-IFERROR(OFFSET('BDD PowerBI'!$A$1,MATCH(Consommation!$A11&"\\"&TEXT(DATE(YEAR(E$1)-1,MONTH(E$1),1),"JJMMAA"),CleU,0),10),0)<0,0,IFERROR(OFFSET('BDD PowerBI'!$A$1,MATCH(Consommation!$A11&"\\"&TEXT(Consommation!E$1,"JJMMAA"),CleU,0),10),0)-IFERROR(OFFSET('BDD PowerBI'!$A$1,MATCH(Consommation!$A11&"\\"&TEXT(DATE(YEAR(E$1)-1,MONTH(E$1),1),"JJMMAA"),CleU,0),10),0)) -> 0 | F11: =IF(IFERROR(OFFSET('BDD PowerBI'!$A$1,MATCH(Consommation!$A11&"\\"&TEXT(Consommation!F$1,"JJMMAA"),CleU,0),10),0)-IFERROR(OFFSET('BDD PowerBI'!$A$1,MATCH(Consommation!$A11&"\\"&TEXT(DATE(YEAR(F$1)-1,MONTH(F$1),1),"JJMMAA"),CleU,0),10),0)<0,0,IFERROR(OFFSET('BDD PowerBI'!$A$1,MATCH(Consommation!$A11&"\\"&TEXT(Consommation!F$1,"JJMMAA"),CleU,0),10),0)-IFERROR(OFFSET('BDD PowerBI'!$A$1,MATCH(Consommation!$A11&"\\"&TEXT(DATE(YEAR(F$1)-1,MONTH(F$1),1),"JJMMAA"),CleU,0),10),0)) -> 0 | G11: =IF(IFERROR(OFFSET('BDD PowerBI'!$A$1,MATCH(Consommation!$A11&"\\"&TEXT(Consommation!G$1,"JJMMAA"),CleU,0),10),0)-IFERROR(OFFSET('BDD PowerBI'!$A$1,MATCH(Consommation!$A11&"\\"&TEXT(DATE(YEAR(G$1)-1,MONTH(G$1),1),"JJMMAA"),CleU,0),10),0)<0,0,IFERROR(OFFSET('BDD PowerBI'!$A$1,MATCH(Consommation!$A11&"\\"&TEXT(Consommation!G$1,"JJMMAA"),CleU,0),10),0)-IFERROR(OFFSET('BDD PowerBI'!$A$1,MATCH(Consommation!$A11&"\\"&TEXT(DATE(YEAR(G$1)-1,MONTH(G$1),1),"JJMMAA"),CleU,0),10),0)) -> 0 | H11: =IF(IFERROR(OFFSET('BDD PowerBI'!$A$1,MATCH(Consommation!$A11&"\\"&TEXT(Consommation!H$1,"JJMMAA"),CleU,0),10),0)-IFERROR(OFFSET('BDD PowerBI'!$A$1,MATCH(Consommation!$A11&"\\"&TEXT(DATE(YEAR(H$1)-1,MONTH(H$1),1),"JJMMAA"),CleU,0),10),0)<0,0,IFERROR(OFFSET('BDD PowerBI'!$A$1,MATCH(Consommation!$A11&"\\"&TEXT(Consommation!H$1,"JJMMAA"),CleU,0),10),0)-IFERROR(OFFSET('BDD PowerBI'!$A$1,MATCH(Consommation!$A11&"\\"&TEXT(DATE(YEAR(H$1)-1,MONTH(H$1),1),"JJMMAA"),CleU,0),10),0)) -> 0 | I11: =IF(IFERROR(OFFSET('BDD PowerBI'!$A$1,MATCH(Consommation!$A11&"\\"&TEXT(Consommation!I$1,"JJMMAA"),CleU,0),10),0)-IFERROR(OFFSET('BDD PowerBI'!$A$1,MATCH(Consommation!$A11&"\\"&TEXT(DATE(YEAR(I$1)-1,MONTH(I$1),1),"JJMMAA"),CleU,0),10),0)<0,0,IFERROR(OFFSET('BDD PowerBI'!$A$1,MATCH(Consommation!$A11&"\\"&TEXT(Consommation!I$1,"JJMMAA"),CleU,0),10),0)-IFERROR(OFFSET('BDD PowerBI'!$A$1,MATCH(Consommation!$A11&"\\"&TEXT(DATE(YEAR(I$1)-1,MONTH(I$1),1),"JJMMAA"),CleU,0),10),0)) -> 0 | ... AE11: =IF(IFERROR(OFFSET('BDD PowerBI'!$A$1,MATCH(Consommation!$A11&"\\"&TEXT(Consommation!AE$1,"JJMMAA"),CleU,0),10),0)-IFERROR(OFFSET('BDD PowerBI'!$A$1,MATCH(Consommation!$A11&"\\"&TEXT(DATE(YEAR(AE$1)-1,MONTH(AE$1),1),"JJMMAA"),CleU,0),10),0)<0,0,IFERROR(OFFSET('BDD PowerBI'!$A$1,MATCH(Consommation!$A11&"\\"&TEXT(Consommation!AE$1,"JJMMAA"),CleU,0),10),0)-IFERROR(OFFSET('BDD PowerBI'!$A$1,MATCH(Consommation!$A11&"\\"&TEXT(DATE(YEAR(AE$1)-1,MONTH(AE$1),1),"JJMMAA"),CleU,0),10),0)) -> 0
A12: TGBT_ARM_CLIM_EG_LC_VDI1 | B12: =IF(IFERROR(OFFSET('BDD PowerBI'!$A$1,MATCH(Consommation!$A12&"\\"&TEXT(Consommation!B$1,"JJMMAA"),CleU,0),10),0)-IFERROR(OFFSET('BDD PowerBI'!$A$1,MATCH(Consommation!$A12&"\\"&TEXT(DATE(YEAR(B$1)-1,MONTH(B$1),1),"JJMMAA"),CleU,0),10),0)<0,0,IFERROR(OFFSET('BDD PowerBI'!$A$1,MATCH(Consommation!$A12&"\\"&TEXT(Consommation!B$1,"JJMMAA"),CleU,0),10),0)-IFERROR(OFFSET('BDD PowerBI'!$A$1,MATCH(Consommation!$A12&"\\"&TEXT(DATE(YEAR(B$1)-1,MONTH(B$1),1),"JJMMAA"),CleU,0),10),0)) -> 0 | C12: =IF(IFERROR(OFFSET('BDD PowerBI'!$A$1,MATCH(Consommation!$A12&"\\"&TEXT(Consommation!C$1,"JJMMAA"),CleU,0),10),0)-IFERROR(OFFSET('BDD PowerBI'!$A$1,MATCH(Consommation!$A12&"\\"&TEXT(DATE(YEAR(C$1)-1,MONTH(C$1),1),"JJMMAA"),CleU,0),10),0)<0,0,IFERROR(OFFSET('BDD PowerBI'!$A$1,MATCH(Consommation!$A12&"\\"&TEXT(Consommation!C$1,"JJMMAA"),CleU,0),10),0)-IFERROR(OFFSET('BDD PowerBI'!$A$1,MATCH(Consommation!$A12&"\\"&TEXT(DATE(YEAR(C$1)-1,MONTH(C$1),1),"JJMMAA"),CleU,0),10),0)) -> 0 | D12: =IF(IFERROR(OFFSET('BDD PowerBI'!$A$1,MATCH(Consommation!$A12&"\\"&TEXT(Consommation!D$1,"JJMMAA"),CleU,0),10),0)-IFERROR(OFFSET('BDD PowerBI'!$A$1,MATCH(Consommation!$A12&"\\"&TEXT(DATE(YEAR(D$1)-1,MONTH(D$1),1),"JJMMAA"),CleU,0),10),0)<0,0,IFERROR(OFFSET('BDD PowerBI'!$A$1,MATCH(Consommation!$A12&"\\"&TEXT(Consommation!D$1,"JJMMAA"),CleU,0),10),0)-IFERROR(OFFSET('BDD PowerBI'!$A$1,MATCH(Consommation!$A12&"\\"&TEXT(DATE(YEAR(D$1)-1,MONTH(D$1),1),"JJMMAA"),CleU,0),10),0)) -> 0 | E12: =IF(IFERROR(OFFSET('BDD PowerBI'!$A$1,MATCH(Consommation!$A12&"\\"&TEXT(Consommation!E$1,"JJMMAA"),CleU,0),10),0)-IFERROR(OFFSET('BDD PowerBI'!$A$1,MATCH(Consommation!$A12&"\\"&TEXT(DATE(YEAR(E$1)-1,MONTH(E$1),1),"JJMMAA"),CleU,0),10),0)<0,0,IFERROR(OFFSET('BDD PowerBI'!$A$1,MATCH(Consommation!$A12&"\\"&TEXT(Consommation!E$1,"JJMMAA"),CleU,0),10),0)-IFERROR(OFFSET('BDD PowerBI'!$A$1,MATCH(Consommation!$A12&"\\"&TEXT(DATE(YEAR(E$1)-1,MONTH(E$1),1),"JJMMAA"),CleU,0),10),0)) -> 0 | F12: =IF(IFERROR(OFFSET('BDD PowerBI'!$A$1,MATCH(Consommation!$A12&"\\"&TEXT(Consommation!F$1,"JJMMAA"),CleU,0),10),0)-IFERROR(OFFSET('BDD PowerBI'!$A$1,MATCH(Consommation!$A12&"\\"&TEXT(DATE(YEAR(F$1)-1,MONTH(F$1),1),"JJMMAA"),CleU,0),10),0)<0,0,IFERROR(OFFSET('BDD PowerBI'!$A$1,MATCH(Consommation!$A12&"\\"&TEXT(Consommation!F$1,"JJMMAA"),CleU,0),10),0)-IFERROR(OFFSET('BDD PowerBI'!$A$1,MATCH(Consommation!$A12&"\\"&TEXT(DATE(YEAR(F$1)-1,MONTH(F$1),1),"JJMMAA"),CleU,0),10),0)) -> 0 | G12: =IF(IFERROR(OFFSET('BDD PowerBI'!$A$1,MATCH(Consommation!$A12&"\\"&TEXT(Consommation!G$1,"JJMMAA"),CleU,0),10),0)-IFERROR(OFFSET('BDD PowerBI'!$A$1,MATCH(Consommation!$A12&"\\"&TEXT(DATE(YEAR(G$1)-1,MONTH(G$1),1),"JJMMAA"),CleU,0),10),0)<0,0,IFERROR(OFFSET('BDD PowerBI'!$A$1,MATCH(Consommation!$A12&"\\"&TEXT(Consommation!G$1,"JJMMAA"),CleU,0),10),0)-IFERROR(OFFSET('BDD PowerBI'!$A$1,MATCH(Consommation!$A12&"\\"&TEXT(DATE(YEAR(G$1)-1,MONTH(G$1),1),"JJMMAA"),CleU,0),10),0)) -> 0 | H12: =IF(IFERROR(OFFSET('BDD PowerBI'!$A$1,MATCH(Consommation!$A12&"\\"&TEXT(Consommation!H$1,"JJMMAA"),CleU,0),10),0)-IFERROR(OFFSET('BDD PowerBI'!$A$1,MATCH(Consommation!$A12&"\\"&TEXT(DATE(YEAR(H$1)-1,MONTH(H$1),1),"JJMMAA"),CleU,0),10),0)<0,0,IFERROR(OFFSET('BDD PowerBI'!$A$1,MATCH(Consommation!$A12&"\\"&TEXT(Consommation!H$1,"JJMMAA"),CleU,0),10),0)-IFERROR(OFFSET('BDD PowerBI'!$A$1,MATCH(Consommation!$A12&"\\"&TEXT(DATE(YEAR(H$1)-1,MONTH(H$1),1),"JJMMAA"),CleU,0),10),0)) -> 0 | I12: =IF(IFERROR(OFFSET('BDD PowerBI'!$A$1,MATCH(Consommation!$A12&"\\"&TEXT(Consommation!I$1,"JJMMAA"),CleU,0),10),0)-IFERROR(OFFSET('BDD PowerBI'!$A$1,MATCH(Consommation!$A12&"\\"&TEXT(DATE(YEAR(I$1)-1,MONTH(I$1),1),"JJMMAA"),CleU,0),10),0)<0,0,IFERROR(OFFSET('BDD PowerBI'!$A$1,MATCH(Consommation!$A12&"\\"&TEXT(Consommation!I$1,"JJMMAA"),CleU,0),10),0)-IFERROR(OFFSET('BDD PowerBI'!$A$1,MATCH(Consommation!$A12&"\\"&TEXT(DATE(YEAR(I$1)-1,MONTH(I$1),1),"JJMMAA"),CleU,0),10),0)) -> 0 | ... AE12: =IF(IFERROR(OFFSET('BDD PowerBI'!$A$1,MATCH(Consommation!$A12&"\\"&TEXT(Consommation!AE$1,"JJMMAA"),CleU,0),10),0)-IFERROR(OFFSET('BDD PowerBI'!$A$1,MATCH(Consommation!$A12&"\\"&TEXT(DATE(YEAR(AE$1)-1,MONTH(AE$1),1),"JJMMAA"),CleU,0),10),0)<0,0,IFERROR(OFFSET('BDD PowerBI'!$A$1,MATCH(Consommation!$A12&"\\"&TEXT(Consommation!AE$1,"JJMMAA"),CleU,0),10),0)-IFERROR(OFFSET('BDD PowerBI'!$A$1,MATCH(Consommation!$A12&"\\"&TEXT(DATE(YEAR(AE$1)-1,MONTH(AE$1),1),"JJMMAA"),CleU,0),10),0)) -> 0
A13: TGBT_ARM_CLIM_EG_LC_VDI2 | B13: =IF(IFERROR(OFFSET('BDD PowerBI'!$A$1,MATCH(Consommation!$A13&"\\"&TEXT(Consommation!B$1,"JJMMAA"),CleU,0),10),0)-IFERROR(OFFSET('BDD PowerBI'!$A$1,MATCH(Consommation!$A13&"\\"&TEXT(DATE(YEAR(B$1)-1,MONTH(B$1),1),"JJMMAA"),CleU,0),10),0)<0,0,IFERROR(OFFSET('BDD PowerBI'!$A$1,MATCH(Consommation!$A13&"\\"&TEXT(Consommation!B$1,"JJMMAA"),CleU,0),10),0)-IFERROR(OFFSET('BDD PowerBI'!$A$1,MATCH(Consommation!$A13&"\\"&TEXT(DATE(YEAR(B$1)-1,MONTH(B$1),1),"JJMMAA"),CleU,0),10),0)) -> 0 | C13: =IF(IFERROR(OFFSET('BDD PowerBI'!$A$1,MATCH(Consommation!$A13&"\\"&TEXT(Consommation!C$1,"JJMMAA"),CleU,0),10),0)-IFERROR(OFFSET('BDD PowerBI'!$A$1,MATCH(Consommation!$A13&"\\"&TEXT(DATE(YEAR(C$1)-1,MONTH(C$1),1),"JJMMAA"),CleU,0),10),0)<0,0,IFERROR(OFFSET('BDD PowerBI'!$A$1,MATCH(Consommation!$A13&"\\"&TEXT(Consommation!C$1,"JJMMAA"),CleU,0),10),0)-IFERROR(OFFSET('BDD PowerBI'!$A$1,MATCH(Consommation!$A13&"\\"&TEXT(DATE(YEAR(C$1)-1,MONTH(C$1),1),"JJMMAA"),CleU,0),10),0)) -> 0 | D13: =IF(IFERROR(OFFSET('BDD PowerBI'!$A$1,MATCH(Consommation!$A13&"\\"&TEXT(Consommation!D$1,"JJMMAA"),CleU,0),10),0)-IFERROR(OFFSET('BDD PowerBI'!$A$1,MATCH(Consommation!$A13&"\\"&TEXT(DATE(YEAR(D$1)-1,MONTH(D$1),1),"JJMMAA"),CleU,0),10),0)<0,0,IFERROR(OFFSET('BDD PowerBI'!$A$1,MATCH(Consommation!$A13&"\\"&TEXT(Consommation!D$1,"JJMMAA"),CleU,0),10),0)-IFERROR(OFFSET('BDD PowerBI'!$A$1,MATCH(Consommation!$A13&"\\"&TEXT(DATE(YEAR(D$1)-1,MONTH(D$1),1),"JJMMAA"),CleU,0),10),0)) -> 0 | E13: =IF(IFERROR(OFFSET('BDD PowerBI'!$A$1,MATCH(Consommation!$A13&"\\"&TEXT(Consommation!E$1,"JJMMAA"),CleU,0),10),0)-IFERROR(OFFSET('BDD PowerBI'!$A$1,MATCH(Consommation!$A13&"\\"&TEXT(DATE(YEAR(E$1)-1,MONTH(E$1),1),"JJMMAA"),CleU,0),10),0)<0,0,IFERROR(OFFSET('BDD PowerBI'!$A$1,MATCH(Consommation!$A13&"\\"&TEXT(Consommation!E$1,"JJMMAA"),CleU,0),10),0)-IFERROR(OFFSET('BDD PowerBI'!$A$1,MATCH(Consommation!$A13&"\\"&TEXT(DATE(YEAR(E$1)-1,MONTH(E$1),1),"JJMMAA"),CleU,0),10),0)) -> 0 | F13: =IF(IFERROR(OFFSET('BDD PowerBI'!$A$1,MATCH(Consommation!$A13&"\\"&TEXT(Consommation!F$1,"JJMMAA"),CleU,0),10),0)-IFERROR(OFFSET('BDD PowerBI'!$A$1,MATCH(Consommation!$A13&"\\"&TEXT(DATE(YEAR(F$1)-1,MONTH(F$1),1),"JJMMAA"),CleU,0),10),0)<0,0,IFERROR(OFFSET('BDD PowerBI'!$A$1,MATCH(Consommation!$A13&"\\"&TEXT(Consommation!F$1,"JJMMAA"),CleU,0),10),0)-IFERROR(OFFSET('BDD PowerBI'!$A$1,MATCH(Consommation!$A13&"\\"&TEXT(DATE(YEAR(F$1)-1,MONTH(F$1),1),"JJMMAA"),CleU,0),10),0)) -> 0 | G13: =IF(IFERROR(OFFSET('BDD PowerBI'!$A$1,MATCH(Consommation!$A13&"\\"&TEXT(Consommation!G$1,"JJMMAA"),CleU,0),10),0)-IFERROR(OFFSET('BDD PowerBI'!$A$1,MATCH(Consommation!$A13&"\\"&TEXT(DATE(YEAR(G$1)-1,MONTH(G$1),1),"JJMMAA"),CleU,0),10),0)<0,0,IFERROR(OFFSET('BDD PowerBI'!$A$1,MATCH(Consommation!$A13&"\\"&TEXT(Consommation!G$1,"JJMMAA"),CleU,0),10),0)-IFERROR(OFFSET('BDD PowerBI'!$A$1,MATCH(Consommation!$A13&"\\"&TEXT(DATE(YEAR(G$1)-1,MONTH(G$1),1),"JJMMAA"),CleU,0),10),0)) -> 0 | H13: =IF(IFERROR(OFFSET('BDD PowerBI'!$A$1,MATCH(Consommation!$A13&"\\"&TEXT(Consommation!H$1,"JJMMAA"),CleU,0),10),0)-IFERROR(OFFSET('BDD PowerBI'!$A$1,MATCH(Consommation!$A13&"\\"&TEXT(DATE(YEAR(H$1)-1,MONTH(H$1),1),"JJMMAA"),CleU,0),10),0)<0,0,IFERROR(OFFSET('BDD PowerBI'!$A$1,MATCH(Consommation!$A13&"\\"&TEXT(Consommation!H$1,"JJMMAA"),CleU,0),10),0)-IFERROR(OFFSET('BDD PowerBI'!$A$1,MATCH(Consommation!$A13&"\\"&TEXT(DATE(YEAR(H$1)-1,MONTH(H$1),1),"JJMMAA"),CleU,0),10),0)) -> 0 | I13: =IF(IFERROR(OFFSET('BDD PowerBI'!$A$1,MATCH(Consommation!$A13&"\\"&TEXT(Consommation!I$1,"JJMMAA"),CleU,0),10),0)-IFERROR(OFFSET('BDD PowerBI'!$A$1,MATCH(Consommation!$A13&"\\"&TEXT(DATE(YEAR(I$1)-1,MONTH(I$1),1),"JJMMAA"),CleU,0),10),0)<0,0,IFERROR(OFFSET('BDD PowerBI'!$A$1,MATCH(Consommation!$A13&"\\"&TEXT(Consommation!I$1,"JJMMAA"),CleU,0),10),0)-IFERROR(OFFSET('BDD PowerBI'!$A$1,MATCH(Consommation!$A13&"\\"&TEXT(DATE(YEAR(I$1)-1,MONTH(I$1),1),"JJMMAA"),CleU,0),10),0)) -> 0 | ... AE13: =IF(IFERROR(OFFSET('BDD PowerBI'!$A$1,MATCH(Consommation!$A13&"\\"&TEXT(Consommation!AE$1,"JJMMAA"),CleU,0),10),0)-IFERROR(OFFSET('BDD PowerBI'!$A$1,MATCH(Consommation!$A13&"\\"&TEXT(DATE(YEAR(AE$1)-1,MONTH(AE$1),1),"JJMMAA"),CleU,0),10),0)<0,0,IFERROR(OFFSET('BDD PowerBI'!$A$1,MATCH(Consommation!$A13&"\\"&TEXT(Consommation!AE$1,"JJMMAA"),CleU,0),10),0)-IFERROR(OFFSET('BDD PowerBI'!$A$1,MATCH(Consommation!$A13&"\\"&TEXT(DATE(YEAR(AE$1)-1,MONTH(AE$1),1),"JJMMAA"),CleU,0),10),0)) -> 0
... A133: TGBT_Unit_EXT_Clim_N08 | B133: =IF(IFERROR(OFFSET('BDD PowerBI'!$A$1,MATCH(Consommation!$A133&"\\"&TEXT(Consommation!B$1,"JJMMAA"),CleU,0),10),0)-IFERROR(OFFSET('BDD PowerBI'!$A$1,MATCH(Consommation!$A133&"\\"&TEXT(DATE(YEAR(B$1)-1,MONTH(B$1),1),"JJMMAA"),CleU,0),10),0)<0,0,IFERROR(OFFSET('BDD PowerBI'!$A$1,MATCH(Consommation!$A133&"\\"&TEXT(Consommation!B$1,"JJMMAA"),CleU,0),10),0)-IFERROR(OFFSET('BDD PowerBI'!$A$1,MATCH(Consommation!$A133&"\\"&TEXT(DATE(YEAR(B$1)-1,MONTH(B$1),1),"JJMMAA"),CleU,0),10),0)) -> 0 | C133: =IF(IFERROR(OFFSET('BDD PowerBI'!$A$1,MATCH(Consommation!$A133&"\\"&TEXT(Consommation!C$1,"JJMMAA"),CleU,0),10),0)-IFERROR(OFFSET('BDD PowerBI'!$A$1,MATCH(Consommation!$A133&"\\"&TEXT(DATE(YEAR(C$1)-1,MONTH(C$1),1),"JJMMAA"),CleU,0),10),0)<0,0,IFERROR(OFFSET('BDD PowerBI'!$A$1,MATCH(Consommation!$A133&"\\"&TEXT(Consommation!C$1,"JJMMAA"),CleU,0),10),0)-IFERROR(OFFSET('BDD PowerBI'!$A$1,MATCH(Consommation!$A133&"\\"&TEXT(DATE(YEAR(C$1)-1,MONTH(C$1),1),"JJMMAA"),CleU,0),10),0)) -> 0 | D133: =IF(IFERROR(OFFSET('BDD PowerBI'!$A$1,MATCH(Consommation!$A133&"\\"&TEXT(Consommation!D$1,"JJMMAA"),CleU,0),10),0)-IFERROR(OFFSET('BDD PowerBI'!$A$1,MATCH(Consommation!$A133&"\\"&TEXT(DATE(YEAR(D$1)-1,MONTH(D$1),1),"JJMMAA"),CleU,0),10),0)<0,0,IFERROR(OFFSET('BDD PowerBI'!$A$1,MATCH(Consommation!$A133&"\\"&TEXT(Consommation!D$1,"JJMMAA"),CleU,0),10),0)-IFERROR(OFFSET('BDD PowerBI'!$A$1,MATCH(Consommation!$A133&"\\"&TEXT(DATE(YEAR(D$1)-1,MONTH(D$1),1),"JJMMAA"),CleU,0),10),0)) -> 0 | E133: =IF(IFERROR(OFFSET('BDD PowerBI'!$A$1,MATCH(Consommation!$A133&"\\"&TEXT(Consommation!E$1,"JJMMAA"),CleU,0),10),0)-IFERROR(OFFSET('BDD PowerBI'!$A$1,MATCH(Consommation!$A133&"\\"&TEXT(DATE(YEAR(E$1)-1,MONTH(E$1),1),"JJMMAA"),CleU,0),10),0)<0,0,IFERROR(OFFSET('BDD PowerBI'!$A$1,MATCH(Consommation!$A133&"\\"&TEXT(Consommation!E$1,"JJMMAA"),CleU,0),10),0)-IFERROR(OFFSET('BDD PowerBI'!$A$1,MATCH(Consommation!$A133&"\\"&TEXT(DATE(YEAR(E$1)-1,MONTH(E$1),1),"JJMMAA"),CleU,0),10),0)) -> 0 | F133: =IF(IFERROR(OFFSET('BDD PowerBI'!$A$1,MATCH(Consommation!$A133&"\\"&TEXT(Consommation!F$1,"JJMMAA"),CleU,0),10),0)-IFERROR(OFFSET('BDD PowerBI'!$A$1,MATCH(Consommation!$A133&"\\"&TEXT(DATE(YEAR(F$1)-1,MONTH(F$1),1),"JJMMAA"),CleU,0),10),0)<0,0,IFERROR(OFFSET('BDD PowerBI'!$A$1,MATCH(Consommation!$A133&"\\"&TEXT(Consommation!F$1,"JJMMAA"),CleU,0),10),0)-IFERROR(OFFSET('BDD PowerBI'!$A$1,MATCH(Consommation!$A133&"\\"&TEXT(DATE(YEAR(F$1)-1,MONTH(F$1),1),"JJMMAA"),CleU,0),10),0)) -> 0 | G133: =IF(IFERROR(OFFSET('BDD PowerBI'!$A$1,MATCH(Consommation!$A133&"\\"&TEXT(Consommation!G$1,"JJMMAA"),CleU,0),10),0)-IFERROR(OFFSET('BDD PowerBI'!$A$1,MATCH(Consommation!$A133&"\\"&TEXT(DATE(YEAR(G$1)-1,MONTH(G$1),1),"JJMMAA"),CleU,0),10),0)<0,0,IFERROR(OFFSET('BDD PowerBI'!$A$1,MATCH(Consommation!$A133&"\\"&TEXT(Consommation!G$1,"JJMMAA"),CleU,0),10),0)-IFERROR(OFFSET('BDD PowerBI'!$A$1,MATCH(Consommation!$A133&"\\"&TEXT(DATE(YEAR(G$1)-1,MONTH(G$1),1),"JJMMAA"),CleU,0),10),0)) -> 0 | H133: =IF(IFERROR(OFFSET('BDD PowerBI'!$A$1,MATCH(Consommation!$A133&"\\"&TEXT(Consommation!H$1,"JJMMAA"),CleU,0),10),0)-IFERROR(OFFSET('BDD PowerBI'!$A$1,MATCH(Consommation!$A133&"\\"&TEXT(DATE(YEAR(H$1)-1,MONTH(H$1),1),"JJMMAA"),CleU,0),10),0)<0,0,IFERROR(OFFSET('BDD PowerBI'!$A$1,MATCH(Consommation!$A133&"\\"&TEXT(Consommation!H$1,"JJMMAA"),CleU,0),10),0)-IFERROR(OFFSET('BDD PowerBI'!$A$1,MATCH(Consommation!$A133&"\\"&TEXT(DATE(YEAR(H$1)-1,MONTH(H$1),1),"JJMMAA"),CleU,0),10),0)) -> 0 | I133: =IF(IFERROR(OFFSET('BDD PowerBI'!$A$1,MATCH(Consommation!$A133&"\\"&TEXT(Consommation!I$1,"JJMMAA"),CleU,0),10),0)-IFERROR(OFFSET('BDD PowerBI'!$A$1,MATCH(Consommation!$A133&"\\"&TEXT(DATE(YEAR(I$1)-1,MONTH(I$1),1),"JJMMAA"),CleU,0),10),0)<0,0,IFERROR(OFFSET('BDD PowerBI'!$A$1,MATCH(Consommation!$A133&"\\"&TEXT(Consommation!I$1,"JJMMAA"),CleU,0),10),0)-IFERROR(OFFSET('BDD PowerBI'!$A$1,MATCH(Consommation!$A133&"\\"&TEXT(DATE(YEAR(I$1)-1,MONTH(I$1),1),"JJMMAA"),CleU,0),10),0)) -> 0 | ... AE133: =IF(IFERROR(OFFSET('BDD PowerBI'!$A$1,MATCH(Consommation!$A133&"\\"&TEXT(Consommation!AE$1,"JJMMAA"),CleU,0),10),0)-IFERROR(OFFSET('BDD PowerBI'!$A$1,MATCH(Consommation!$A133&"\\"&TEXT(DATE(YEAR(AE$1)-1,MONTH(AE$1),1),"JJMMAA"),CleU,0),10),0)<0,0,IFERROR(OFFSET('BDD PowerBI'!$A$1,MATCH(Consommation!$A133&"\\"&TEXT(Consommation!AE$1,"JJMMAA"),CleU,0),10),0)-IFERROR(OFFSET('BDD PowerBI'!$A$1,MATCH(Consommation!$A133&"\\"&TEXT(DATE(YEAR(AE$1)-1,MONTH(AE$1),1),"JJMMAA"),CleU,0),10),0)) -> 0

Sheet TCD
B3: Som van Relevé#Relevé | F3: Date et Heure
B4: Relevé#TYPE | C4: Relevé#UNITE | D4: Relevé#Compteur parent | E4: Relevé#Compteur. | F4: 44896 | G4: 44927 | H4: 44958 | I4: 44986 | J4: 45017 | K4: 45047 | L4: 45078 | M4: 45108 | N4: 45139 | O4: 45170 | P4: 45200 | AA4: =+F4 -> 44896 | AB4: =+G4 -> 44927 | AC4: =+H4 -> 44958 | AD4: =+I4 -> 44986 | AE4: =+J4 -> 45017 | AF4: =+K4 -> 45047 | AG4: =+L4 -> 45078 | AH4: =+M4 -> 45108 | ... AQ4: =+V4 -> 0
B5: EAU | C5: m3 | D5: Eau chaude | E5: Eau chaude m3 | F5: 41021.848 | G5: 48387.841 | H5: 49786.106 | I5: 50973.481 | J5: 51707.341 | K5: 52022.162 | L5: 52022.555 | M5: 52022.56 | N5: 52022.56 | O5: 52022.55 | P5: 52625.448 | AA5: =IF(COUNT(E5:F5)=2,F5-E5,"") | AB5: =IF(COUNT(F5:G5)=2,G5-F5,"") -> 7365.993 | AC5: =IF(COUNT(G5:H5)=2,H5-G5,"") -> 1398.265 | AD5: =IF(COUNT(H5:I5)=2,I5-H5,"") -> 1187.375 | AE5: =IF(COUNT(I5:J5)=2,J5-I5,"") -> 733.86 | AF5: =IF(COUNT(J5:K5)=2,K5-J5,"") -> 314.821 | AG5: =IF(COUNT(K5:L5)=2,L5-K5,"") -> 0.393 | AH5: =IF(COUNT(L5:M5)=2,M5-L5,"") -> 0.005 | ... AQ5: =IF(COUNT(U5:V5)=2,V5-U5,"")
D6: Total Eau chaude | F6: 41021.848 | G6: 48387.841 | H6: 49786.106 | I6: 50973.481 | J6: 51707.341 | K6: 52022.162 | L6: 52022.555 | M6: 52022.56 | N6: 52022.56 | O6: 52022.55 | P6: 52625.448 | AA6: =IF(COUNT(E6:F6)=2,F6-E6,"") | AB6: =IF(COUNT(F6:G6)=2,G6-F6,"") -> 7365.993 | AC6: =IF(COUNT(G6:H6)=2,H6-G6,"") -> 1398.265 | AD6: =IF(COUNT(H6:I6)=2,I6-H6,"") -> 1187.375 | AE6: =IF(COUNT(I6:J6)=2,J6-I6,"") -> 733.86 | AF6: =IF(COUNT(J6:K6)=2,K6-J6,"") -> 314.821 | AG6: =IF(COUNT(K6:L6)=2,L6-K6,"") -> 0.393 | AH6: =IF(COUNT(L6:M6)=2,M6-L6,"") -> 0.005 | ... AQ6: =IF(COUNT(U6:V6)=2,V6-U6,"")
AA7: =IF(COUNT(E7:F7)=2,F7-E7,"") | AB7: =IF(COUNT(F7:G7)=2,G7-F7,"") | AC7: =IF(COUNT(G7:H7)=2,H7-G7,"") | AD7: =IF(COUNT(H7:I7)=2,I7-H7,"") | AE7: =IF(COUNT(I7:J7)=2,J7-I7,"") | AF7: =IF(COUNT(J7:K7)=2,K7-J7,"") | AG7: =IF(COUNT(K7:L7)=2,L7-K7,"") | AH7: =IF(COUNT(L7:M7)=2,M7-L7,"") | ... AQ7: =IF(COUNT(U7:V7)=2,V7-U7,"")
D8: Eau foide | E8: Eau foide | F8: 2819.83 | G8: 3019.45 | H8: 3216.95 | I8: 3519.75 | J8: 3752.1 | K8: 3981.45 | L8: 4285.51 | M8: 4533.53 | N8: 4792.51 | O8: 5083.26 | P8: 5333.24 | AA8: =IF(COUNT(E8:F8)=2,F8-E8,"") | AB8: =IF(COUNT(F8:G8)=2,G8-F8,"") -> 199.62 | AC8: =IF(COUNT(G8:H8)=2,H8-G8,"") -> 197.5 | AD8: =IF(COUNT(H8:I8)=2,I8-H8,"") -> 302.8 | AE8: =IF(COUNT(I8:J8)=2,J8-I8,"") -> 232.35 | AF8: =IF(COUNT(J8:K8)=2,K8-J8,"") -> 229.35 | AG8: =IF(COUNT(K8:L8)=2,L8-K8,"") -> 304.06 | AH8: =IF(COUNT(L8:M8)=2,M8-L8,"") -> 248.02 | ... AQ8: =IF(COUNT(U8:V8)=2,V8-U8,"")
E9: Eau froide bureau | F9: 662 | G9: 850 | H9: 1019 | I9: 1217 | J9: 1369 | K9: 1534 | L9: 1739 | M9: 1892 | N9: 2029 | O9: 2210 | P9: 2401 | AA9: =IF(COUNT(E9:F9)=2,F9-E9,"") | AB9: =IF(COUNT(F9:G9)=2,G9-F9,"") -> 188 | AC9: =IF(COUNT(G9:H9)=2,H9-G9,"") -> 169 | AD9: =IF(COUNT(H9:I9)=2,I9-H9,"") -> 198 | AE9: =IF(COUNT(I9:J9)=2,J9-I9,"") -> 152 | AF9: =IF(COUNT(J9:K9)=2,K9-J9,"") -> 165 | AG9: =IF(COUNT(K9:L9)=2,L9-K9,"") -> 205 | AH9: =IF(COUNT(L9:M9)=2,M9-L9,"") -> 153 | ... AQ9: =IF(COUNT(U9:V9)=2,V9-U9,"")
E10: Eau froide SG | F10: 1928 | G10: 1937 | H10: 1965 | I10: 2069 | J10: 2148 | K10: 2209 | L10: 2303 | M10: 2395 | N10: 2514 | O10: 2619 | P10: 2673 | AA10: =IF(COUNT(E10:F10)=2,F10-E10,"") | AB10: =IF(COUNT(F10:G10)=2,G10-F10,"") -> 9 | AC10: =IF(COUNT(G10:H10)=2,H10-G10,"") -> 28 | AD10: =IF(COUNT(H10:I10)=2,I10-H10,"") -> 104 | AE10: =IF(COUNT(I10:J10)=2,J10-I10,"") -> 79 | AF10: =IF(COUNT(J10:K10)=2,K10-J10,"") -> 61 | AG10: =IF(COUNT(K10:L10)=2,L10-K10,"") -> 94 | AH10: =IF(COUNT(L10:M10)=2,M10-L10,"") -> 92 | ... AQ10: =IF(COUNT(U10:V10)=2,V10-U10,"")
D11: Total Eau foide | F11: 5409.83 | G11: 5806.45 | H11: 6200.95 | I11: 6805.75 | J11: 7269.1 | K11: 7724.45 | L11: 8327.51 | M11: 8820.53 | N11: 9335.51 | O11: 9912.26 | P11: 10407.24 | AA11: =IF(COUNT(E11:F11)=2,F11-E11,"") | AB11: =IF(COUNT(F11:G11)=2,G11-F11,"") -> 396.62 | AC11: =IF(COUNT(G11:H11)=2,H11-G11,"") -> 394.5 | AD11: =IF(COUNT(H11:I11)=2,I11-H11,"") -> 604.8 | AE11: =IF(COUNT(I11:J11)=2,J11-I11,"") -> 463.35 | AF11: =IF(COUNT(J11:K11)=2,K11-J11,"") -> 455.35 | AG11: =IF(COUNT(K11:L11)=2,L11-K11,"") -> 603.06 | AH11: =IF(COUNT(L11:M11)=2,M11-L11,"") -> 493.02 | ... AQ11: =IF(COUNT(U11:V11)=2,V11-U11,"")
AA12: =IF(COUNT(E12:F12)=2,F12-E12,"") | AB12: =IF(COUNT(F12:G12)=2,G12-F12,"") | AC12: =IF(COUNT(G12:H12)=2,H12-G12,"") | AD12: =IF(COUNT(H12:I12)=2,I12-H12,"") | AE12: =IF(COUNT(I12:J12)=2,J12-I12,"") | AF12: =IF(COUNT(J12:K12)=2,K12-J12,"") | AG12: =IF(COUNT(K12:L12)=2,L12-K12,"") | AH12: =IF(COUNT(L12:M12)=2,M12-L12,"") | ... AQ12: =IF(COUNT(U12:V12)=2,V12-U12,"")
C13: Total m3 | F13: 46431.678 | G13: 54194.291 | H13: 55987.056 | I13: 57779.231 | J13: 58976.441 | K13: 59746.612 | L13: 60350.065 | M13: 60843.09 | N13: 61358.07 | O13: 61934.81 | P13: 63032.688 | AA13: =IF(COUNT(E13:F13)=2,F13-E13,"") | AB13: =IF(COUNT(F13:G13)=2,G13-F13,"") -> 7762.613 | AC13: =IF(COUNT(G13:H13)=2,H13-G13,"") -> 1792.765 | AD13: =IF(COUNT(H13:I13)=2,I13-H13,"") -> 1792.175 | AE13: =IF(COUNT(I13:J13)=2,J13-I13,"") -> 1197.21 | AF13: =IF(COUNT(J13:K13)=2,K13-J13,"") -> 770.171 | AG13: =IF(COUNT(K13:L13)=2,L13-K13,"") -> 603.453 | AH13: =IF(COUNT(L13:M13)=2,M13-L13,"") -> 493.025 | ... AQ13: =IF(COUNT(U13:V13)=2,V13-U13,"")
AA14: =IF(COUNT(E14:F14)=2,F14-E14,"") | AB14: =IF(COUNT(F14:G14)=2,G14-F14,"") | AC14: =IF(COUNT(G14:H14)=2,H14-G14,"") | AD14: =IF(COUNT(H14:I14)=2,I14-H14,"") | AE14: =IF(COUNT(I14:J14)=2,J14-I14,"") | AF14: =IF(COUNT(J14:K14)=2,K14-J14,"") | AG14: =IF(COUNT(K14:L14)=2,L14-K14,"") | AH14: =IF(COUNT(L14:M14)=2,M14-L14,"") | ... AQ14: =IF(COUNT(U14:V14)=2,V14-U14,"")
C15: m3/h | D15: Eau chaude | E15: Eau chaude m3/h | F15: 16.523 | G15: 10.457 | H15: 5.849 | I15: 2.502 | J15: 1.71 | AA15: =IF(COUNT(E15:F15)=2,F15-E15,"") | AB15: =IF(COUNT(F15:G15)=2,G15-F15,"") -> -6.066 | AC15: =IF(COUNT(G15:H15)=2,H15-G15,"") -> -4.608 | AD15: =IF(COUNT(H15:I15)=2,I15-H15,"") -> -3.347 | AE15: =IF(COUNT(I15:J15)=2,J15-I15,"") -> -0.792 | AF15: =IF(COUNT(J15:K15)=2,K15-J15,"") | AG15: =IF(COUNT(K15:L15)=2,L15-K15,"") | AH15: =IF(COUNT(L15:M15)=2,M15-L15,"") | ... AQ15: =IF(COUNT(U15:V15)=2,V15-U15,"")
D16: Total Eau chaude | F16: 16.523 | G16: 10.457 | H16: 5.849 | I16: 2.502 | J16: 1.71 | AA16: =IF(COUNT(E16:F16)=2,F16-E16,"") | AB16: =IF(COUNT(F16:G16)=2,G16-F16,"") -> -6.066 | AC16: =IF(COUNT(G16:H16)=2,H16-G16,"") -> -4.608 | AD16: =IF(COUNT(H16:I16)=2,I16-H16,"") -> -3.347 | AE16: =IF(COUNT(I16:J16)=2,J16-I16,"") -> -0.792 | AF16: =IF(COUNT(J16:K16)=2,K16-J16,"") | AG16: =IF(COUNT(K16:L16)=2,L16-K16,"") | AH16: =IF(COUNT(L16:M16)=2,M16-L16,"") | ... AQ16: =IF(COUNT(U16:V16)=2,V16-U16,"")
AA17: =IF(COUNT(E17:F17)=2,F17-E17,"") | AB17: =IF(COUNT(F17:G17)=2,G17-F17,"") | AC17: =IF(COUNT(G17:H17)=2,H17-G17,"") | AD17: =IF(COUNT(H17:I17)=2,I17-H17,"") | AE17: =IF(COUNT(I17:J17)=2,J17-I17,"") | AF17: =IF(COUNT(J17:K17)=2,K17-J17,"") | AG17: =IF(COUNT(K17:L17)=2,L17-K17,"") | AH17: =IF(COUNT(L17:M17)=2,M17-L17,"") | ... AQ17: =IF(COUNT(U17:V17)=2,V17-U17,"")
C18: Total m3/h | F18: 16.523 | G18: 10.457 | H18: 5.849 | I18: 2.502 | J18: 1.71 | AA18: =IF(COUNT(E18:F18)=2,F18-E18,"") | AB18: =IF(COUNT(F18:G18)=2,G18-F18,"") -> -6.066 | AC18: =IF(COUNT(G18:H18)=2,H18-G18,"") -> -4.608 | AD18: =IF(COUNT(H18:I18)=2,I18-H18,"") -> -3.347 | AE18: =IF(COUNT(I18:J18)=2,J18-I18,"") -> -0.792 | AF18: =IF(COUNT(J18:K18)=2,K18-J18,"") | AG18: =IF(COUNT(K18:L18)=2,L18-K18,"") | AH18: =IF(COUNT(L18:M18)=2,M18-L18,"") | ... AQ18: =IF(COUNT(U18:V18)=2,V18-U18,"")
AA19: =IF(COUNT(E19:F19)=2,F19-E19,"") | AB19: =IF(COUNT(F19:G19)=2,G19-F19,"") | AC19: =IF(COUNT(G19:H19)=2,H19-G19,"") | AD19: =IF(COUNT(H19:I19)=2,I19-H19,"") | AE19: =IF(COUNT(I19:J19)=2,J19-I19,"") | AF19: =IF(COUNT(J19:K19)=2,K19-J19,"") | AG19: =IF(COUNT(K19:L19)=2,L19-K19,"") | AH19: =IF(COUNT(L19:M19)=2,M19-L19,"") | ... AQ19: =IF(COUNT(U19:V19)=2,V19-U19,"")
C20: MGh | D20: Eau chaude | E20: Eau chaude MWh | F20: 296.776 | G20: 351.653 | H20: 390.122 | I20: 426.229 | J20: 449.11 | K20: 459.572 | L20: 459.579 | M20: 459.58 | N20: 459.579 | O20: 459.579 | P20: 469.444 | AA20: =IF(COUNT(E20:F20)=2,F20-E20,"") | AB20: =IF(COUNT(F20:G20)=2,G20-F20,"") -> 54.877 | AC20: =IF(COUNT(G20:H20)=2,H20-G20,"") -> 38.469 | AD20: =IF(COUNT(H20:I20)=2,I20-H20,"") -> 36.107 | AE20: =IF(COUNT(I20:J20)=2,J20-I20,"") -> 22.881 | AF20: =IF(COUNT(J20:K20)=2,K20-J20,"") -> 10.462 | AG20: =IF(COUNT(K20:L20)=2,L20-K20,"") -> 0.007 | AH20: =IF(COUNT(L20:M20)=2,M20-L20,"") -> 0.001 | ... AQ20: =IF(COUNT(U20:V20)=2,V20-U20,"")
D21: Total Eau chaude | F21: 296.776 | G21: 351.653 | H21: 390.122 | I21: 426.229 | J21: 449.11 | K21: 459.572 | L21: 459.579 | M21: 459.58 | N21: 459.579 | O21: 459.579 | P21: 469.444 | AA21: =IF(COUNT(E21:F21)=2,F21-E21,"") | AB21: =IF(COUNT(F21:G21)=2,G21-F21,"") -> 54.877 | AC21: =IF(COUNT(G21:H21)=2,H21-G21,"") -> 38.469 | AD21: =IF(COUNT(H21:I21)=2,I21-H21,"") -> 36.107 | AE21: =IF(COUNT(I21:J21)=2,J21-I21,"") -> 22.881 | AF21: =IF(COUNT(J21:K21)=2,K21-J21,"") -> 10.462 | AG21: =IF(COUNT(K21:L21)=2,L21-K21,"") -> 0.007 | AH21: =IF(COUNT(L21:M21)=2,M21-L21,"") -> 0.001 | ... AQ21: =IF(COUNT(U21:V21)=2,V21-U21,"")
AA22: =IF(COUNT(E22:F22)=2,F22-E22,"") | AB22: =IF(COUNT(F22:G22)=2,G22-F22,"") | AC22: =IF(COUNT(G22:H22)=2,H22-G22,"") | AD22: =IF(COUNT(H22:I22)=2,I22-H22,"") | AE22: =IF(COUNT(I22:J22)=2,J22-I22,"") | AF22: =IF(COUNT(J22:K22)=2,K22-J22,"") | AG22: =IF(COUNT(K22:L22)=2,L22-K22,"") | AH22: =IF(COUNT(L22:M22)=2,M22-L22,"") | ... AQ22: =IF(COUNT(U22:V22)=2,V22-U22,"")
C23: Total MGh | F23: 296.776 | G23: 351.653 | H23: 390.122 | I23: 426.229 | J23: 449.11 | K23: 459.572 | L23: 459.579 | M23: 459.58 | N23: 459.579 | O23: 459.579 | P23: 469.444 | AA23: =IF(COUNT(E23:F23)=2,F23-E23,"") | AB23: =IF(COUNT(F23:G23)=2,G23-F23,"") -> 54.877 | AC23: =IF(COUNT(G23:H23)=2,H23-G23,"") -> 38.469 | AD23: =IF(COUNT(H23:I23)=2,I23-H23,"") -> 36.107 | AE23: =IF(COUNT(I23:J23)=2,J23-I23,"") -> 22.881 | AF23: =IF(COUNT(J23:K23)=2,K23-J23,"") -> 10.462 | AG23: =IF(COUNT(K23:L23)=2,L23-K23,"") -> 0.007 | AH23: =IF(COUNT(L23:M23)=2,M23-L23,"") -> 0.001 | ... AQ23: =IF(COUNT(U23:V23)=2,V23-U23,"")
AA24: =IF(COUNT(E24:F24)=2,F24-E24,"") | AB24: =IF(COUNT(F24:G24)=2,G24-F24,"") | AC24: =IF(COUNT(G24:H24)=2,H24-G24,"") | AD24: =IF(COUNT(H24:I24)=2,I24-H24,"") | AE24: =IF(COUNT(I24:J24)=2,J24-I24,"") | AF24: =IF(COUNT(J24:K24)=2,K24-J24,"") | AG24: =IF(COUNT(K24:L24)=2,L24-K24,"") | AH24: =IF(COUNT(L24:M24)=2,M24-L24,"") | ... AQ24: =IF(COUNT(U24:V24)=2,V24-U24,"")
B25: Total EAU | F25: 46744.977 | G25: 54556.401 | H25: 56383.027 | I25: 58207.962 | J25: 59427.261 | K25: 60206.184 | L25: 60809.644 | M25: 61302.67 | N25: 61817.649 | O25: 62394.389 | P25: 63502.132 | AA25: =IF(COUNT(E25:F25)=2,F25-E25,"") | AB25: =IF(COUNT(F25:G25)=2,G25-F25,"") -> 7811.424 | AC25: =IF(COUNT(G25:H25)=2,H25-G25,"") -> 1826.626 | AD25: =IF(COUNT(H25:I25)=2,I25-H25,"") -> 1824.935 | AE25: =IF(COUNT(I25:J25)=2,J25-I25,"") -> 1219.299 | AF25: =IF(COUNT(J25:K25)=2,K25-J25,"") -> 778.923 | AG25: =IF(COUNT(K25:L25)=2,L25-K25,"") -> 603.46 | AH25: =IF(COUNT(L25:M25)=2,M25-L25,"") -> 493.026 | ... AQ25: =IF(COUNT(U25:V25)=2,V25-U25,"")
AA26: =IF(COUNT(E26:F26)=2,F26-E26,"") | AB26: =IF(COUNT(F26:G26)=2,G26-F26,"") | AC26: =IF(COUNT(G26:H26)=2,H26-G26,"") | AD26: =IF(COUNT(H26:I26)=2,I26-H26,"") | AE26: =IF(COUNT(I26:J26)=2,J26-I26,"") | AF26: =IF(COUNT(J26:K26)=2,K26-J26,"") | AG26: =IF(COUNT(K26:L26)=2,L26-K26,"") | AH26: =IF(COUNT(L26:M26)=2,M26-L26,"") | ... AQ26: =IF(COUNT(U26:V26)=2,V26-U26,"")
B27: ELECTRICITE | C27: kWh | D27: Coffret LT CTA SUD | E27: CTA 1 | F27: 8176.23 | G27: 8688.15 | H27: 9045.07 | I27: 9449.73 | J27: 10714.97 | K27: 11944.72 | L27: 12998.4 | AA27: =IF(COUNT(E27:F27)=2,F27-E27,"") | AB27: =IF(COUNT(F27:G27)=2,G27-F27,"") -> 511.92 | AC27: =IF(COUNT(G27:H27)=2,H27-G27,"") -> 356.92 | AD27: =IF(COUNT(H27:I27)=2,I27-H27,"") -> 404.66 | AE27: =IF(COUNT(I27:J27)=2,J27-I27,"") -> 1265.24 | AF27: =IF(COUNT(J27:K27)=2,K27-J27,"") -> 1229.75 | AG27: =IF(COUNT(K27:L27)=2,L27-K27,"") -> 1053.68 | AH27: =IF(COUNT(L27:M27)=2,M27-L27,"") | ... AQ27: =IF(COUNT(U27:V27)=2,V27-U27,"")
E28: CTA 3 | F28: 8666.94 | G28: 9518.33 | H28: 10447.74 | I28: 11637.63 | J28: 12550.61 | K28: 13460.96 | L28: 14204.509 | AA28: =IF(COUNT(E28:F28)=2,F28-E28,"") | AB28: =IF(COUNT(F28:G28)=2,G28-F28,"") -> 851.39 | AC28: =IF(COUNT(G28:H28)=2,H28-G28,"") -> 929.41 | AD28: =IF(COUNT(H28:I28)=2,I28-H28,"") -> 1189.89 | AE28: =IF(COUNT(I28:J28)=2,J28-I28,"") -> 912.98 | AF28: =IF(COUNT(J28:K28)=2,K28-J28,"") -> 910.35 | AG28: =IF(COUNT(K28:L28)=2,L28-K28,"") -> 743.549 | AH28: =IF(COUNT(L28:M28)=2,M28-L28,"") | ... AQ28: =IF(COUNT(U28:V28)=2,V28-U28,"")
E29: CTA 4 | F29: 5027.88 | G29: 5573.66 | H29: 6305.99 | I29: 7056.04 | J29: 8453.16 | K29: 9566.03 | L29: 10687.01 | AA29: =IF(COUNT(E29:F29)=2,F29-E29,"") | AB29: =IF(COUNT(F29:G29)=2,G29-F29,"") -> 545.78 | AC29: =IF(COUNT(G29:H29)=2,H29-G29,"") -> 732.33 | AD29: =IF(COUNT(H29:I29)=2,I29-H29,"") -> 750.05 | AE29: =IF(COUNT(I29:J29)=2,J29-I29,"") -> 1397.12 | AF29: =IF(COUNT(J29:K29)=2,K29-J29,"") -> 1112.87 | AG29: =IF(COUNT(K29:L29)=2,L29-K29,"") -> 1120.98 | AH29: =IF(COUNT(L29:M29)=2,M29-L29,"") | ... AQ29: =IF(COUNT(U29:V29)=2,V29-U29,"")
E30: CTA 5 | F30: 3201.5 | G30: 3574.8 | H30: 3892.9 | I30: 4223.2 | J30: 4628.1 | K30: 5023.7 | L30: 5443.4 | AA30: =IF(COUNT(E30:F30)=2,F30-E30,"") | AB30: =IF(COUNT(F30:G30)=2,G30-F30,"") -> 373.3 | AC30: =IF(COUNT(G30:H30)=2,H30-G30,"") -> 318.1 | AD30: =IF(COUNT(H30:I30)=2,I30-H30,"") -> 330.3 | AE30: =IF(COUNT(I30:J30)=2,J30-I30,"") -> 404.9 | AF30: =IF(COUNT(J30:K30)=2,K30-J30,"") -> 395.6 | AG30: =IF(COUNT(K30:L30)=2,L30-K30,"") -> 419.7 | AH30: =IF(COUNT(L30:M30)=2,M30-L30,"") | ... AQ30: =IF(COUNT(U30:V30)=2,V30-U30,"")
E31: CTA 6 | F31: 29319.2 | G31: 33843.77 | H31: 37998.69 | I31: 43027.47 | J31: 47279.09 | K31: 52766.18 | L31: 57641.41 | AA31: =IF(COUNT(E31:F31)=2,F31-E31,"") | AB31: =IF(COUNT(F31:G31)=2,G31-F31,"") -> 4524.57 | AC31: =IF(COUNT(G31:H31)=2,H31-G31,"") -> 4154.92 | AD31: =IF(COUNT(H31:I31)=2,I31-H31,"") -> 5028.78 | AE31: =IF(COUNT(I31:J31)=2,J31-I31,"") -> 4251.62 | AF31: =IF(COUNT(J31:K31)=2,K31-J31,"") -> 5487.09 | AG31: =IF(COUNT(K31:L31)=2,L31-K31,"") -> 4875.23 | AH31: =IF(COUNT(L31:M31)=2,M31-L31,"") | ... AQ31: =IF(COUNT(U31:V31)=2,V31-U31,"")
E32: CTA 7 | F32: 20886.33 | G32: 24169.76 | H32: 27257.41 | I32: 30961.64 | J32: 34155.9 | K32: 38282.99 | L32: 41583.72 | AA32: =IF(COUNT(E32:F32)=2,F32-E32,"") | AB32: =IF(COUNT(F32:G32)=2,G32-F32,"") -> 3283.43 | AC32: =IF(COUNT(G32:H32)=2,H32-G32,"") -> 3087.65 | AD32: =IF(COUNT(H32:I32)=2,I32-H32,"") -> 3704.23 | AE32: =IF(COUNT(I32:J32)=2,J32-I32,"") -> 3194.26 | AF32: =IF(COUNT(J32:K32)=2,K32-J32,"") -> 4127.09 | AG32: =IF(COUNT(K32:L32)=2,L32-K32,"") -> 3300.73 | AH32: =IF(COUNT(L32:M32)=2,M32-L32,"") | ... AQ32: =IF(COUNT(U32:V32)=2,V32-U32,"")
D33: Total Coffret LT CTA SUD | F33: 75278.08 | G33: 85368.47 | H33: 94947.8 | I33: 106355.71 | J33: 117781.83 | K33: 131044.58 | L33: 142558.45 | AA33: =IF(COUNT(E33:F33)=2,F33-E33,"") | AB33: =IF(COUNT(F33:G33)=2,G33-F33,"") -> 10090.39 | AC33: =IF(COUNT(G33:H33)=2,H33-G33,"") -> 9579.33 | AD33: =IF(COUNT(H33:I33)=2,I33-H33,"") -> 11407.91 | AE33: =IF(COUNT(I33:J33)=2,J33-I33,"") -> 11426.12 | AF33: =IF(COUNT(J33:K33)=2,K33-J33,"") -> 13262.75 | AG33: =IF(COUNT(K33:L33)=2,L33-K33,"") -> 11513.869 | AH33: =IF(COUNT(L33:M33)=2,M33-L33,"") | ... AQ33: =IF(COUNT(U33:V33)=2,V33-U33,"")
AA34: =IF(COUNT(E34:F34)=2,F34-E34,"") | AB34: =IF(COUNT(F34:G34)=2,G34-F34,"") | AC34: =IF(COUNT(G34:H34)=2,H34-G34,"") | AD34: =IF(COUNT(H34:I34)=2,I34-H34,"") | AE34: =IF(COUNT(I34:J34)=2,J34-I34,"") | AF34: =IF(COUNT(J34:K34)=2,K34-J34,"") | AG34: =IF(COUNT(K34:L34)=2,L34-K34,"") | AH34: =IF(COUNT(L34:M34)=2,M34-L34,"") | ... AQ34: =IF(COUNT(U34:V34)=2,V34-U34,"")
D35: Compteur EDF | E35: 121 E Active 1 HPH | F35: 84123 | G35: 115873 | H35: 146623 | I35: 192712 | J35: 192712 | K35: 192712 | L35: 192712 | AA35: =IF(COUNT(E35:F35)=2,F35-E35,"") | AB35: =IF(COUNT(F35:G35)=2,G35-F35,"") -> 31750 | AC35: =IF(COUNT(G35:H35)=2,H35-G35,"") -> 30750 | AD35: =IF(COUNT(H35:I35)=2,I35-H35,"") -> 46089 | AE35: =IF(COUNT(I35:J35)=2,J35-I35,"") -> 0 | AF35: =IF(COUNT(J35:K35)=2,K35-J35,"") -> 0 | AG35: =IF(COUNT(K35:L35)=2,L35-K35,"") -> 0 | AH35: =IF(COUNT(L35:M35)=2,M35-L35,"") | ... AQ35: =IF(COUNT(U35:V35)=2,V35-U35,"")
E36: 122 E Active 1 HCH | F36: 38773 | G36: 53112 | H36: 68317 | I36: 84256 | J36: 84256 | K36: 84256 | L36: 84256 | AA36: =IF(COUNT(E36:F36)=2,F36-E36,"") | AB36: =IF(COUNT(F36:G36)=2,G36-F36,"") -> 14339 | AC36: =IF(COUNT(G36:H36)=2,H36-G36,"") -> 15205 | AD36: =IF(COUNT(H36:I36)=2,I36-H36,"") -> 15939 | AE36: =IF(COUNT(I36:J36)=2,J36-I36,"") -> 0 | AF36: =IF(COUNT(J36:K36)=2,K36-J36,"") -> 0 | AG36: =IF(COUNT(K36:L36)=2,L36-K36,"") -> 0 | AH36: =IF(COUNT(L36:M36)=2,M36-L36,"") | ... AQ36: =IF(COUNT(U36:V36)=2,V36-U36,"")
E37: 123 E Active 1 HPE | F37: 259220 | G37: 259220 | H37: 259220 | I37: 262469 | J37: 303771 | K37: 351785 | L37: 410271 | AA37: =IF(COUNT(E37:F37)=2,F37-E37,"") | AB37: =IF(COUNT(F37:G37)=2,G37-F37,"") -> 0 | AC37: =IF(COUNT(G37:H37)=2,H37-G37,"") -> 0 | AD37: =IF(COUNT(H37:I37)=2,I37-H37,"") -> 3249 | AE37: =IF(COUNT(I37:J37)=2,J37-I37,"") -> 41302 | AF37: =IF(COUNT(J37:K37)=2,K37-J37,"") -> 48014 | AG37: =IF(COUNT(K37:L37)=2,L37-K37,"") -> 58486 | AH37: =IF(COUNT(L37:M37)=2,M37-L37,"") | ... AQ37: =IF(COUNT(U37:V37)=2,V37-U37,"")
E38: 124 E Active 1 HCE | F38: 107534 | G38: 107534 | H38: 107534 | I38: 109932 | J38: 125311 | K38: 143585 | L38: 161639 | AA38: =IF(COUNT(E38:F38)=2,F38-E38,"") | AB38: =IF(COUNT(F38:G38)=2,G38-F38,"") -> 0 | AC38: =IF(COUNT(G38:H38)=2,H38-G38,"") -> 0 | AD38: =IF(COUNT(H38:I38)=2,I38-H38,"") -> 2398 | AE38: =IF(COUNT(I38:J38)=2,J38-I38,"") -> 15379 | AF38: =IF(COUNT(J38:K38)=2,K38-J38,"") -> 18274 | AG38: =IF(COUNT(K38:L38)=2,L38-K38,"") -> 18054 | AH38: =IF(COUNT(L38:M38)=2,M38-L38,"") | ... AQ38: =IF(COUNT(U38:V38)=2,V38-U38,"")
E39: 220 E Active 1 P | F39: 12107 | G39: 23464 | H39: 34594 | I39: 34594 | J39: 34594 | K39: 34594 | L39: 34594 | AA39: =IF(COUNT(E39:F39)=2,F39-E39,"") | AB39: =IF(COUNT(F39:G39)=2,G39-F39,"") -> 11357 | AC39: =IF(COUNT(G39:H39)=2,H39-G39,"") -> 11130 | AD39: =IF(COUNT(H39:I39)=2,I39-H39,"") -> 0 | AE39: =IF(COUNT(I39:J39)=2,J39-I39,"") -> 0 | AF39: =IF(COUNT(J39:K39)=2,K39-J39,"") -> 0 | AG39: =IF(COUNT(K39:L39)=2,L39-K39,"") -> 0 | AH39: =IF(COUNT(L39:M39)=2,M39-L39,"") | ... AQ39: =IF(COUNT(U39:V39)=2,V39-U39,"")
D40: Total Compteur EDF | F40: 501757 | G40: 559203 | H40: 616288 | I40: 683963 | J40: 740644 | K40: 806932 | L40: 883472 | AA40: =IF(COUNT(E40:F40)=2,F40-E40,"") | AB40: =IF(COUNT(F40:G40)=2,G40-F40,"") -> 57446 | AC40: =IF(COUNT(G40:H40)=2,H40-G40,"") -> 57085 | AD40: =IF(COUNT(H40:I40)=2,I40-H40,"") -> 67675 | AE40: =IF(COUNT(I40:J40)=2,J40-I40,"") -> 56681 | AF40: =IF(COUNT(J40:K40)=2,K40-J40,"") -> 66288 | AG40: =IF(COUNT(K40:L40)=2,L40-K40,"") -> 76540 | AH40: =IF(COUNT(L40:M40)=2,M40-L40,"") | ... AQ40: =IF(COUNT(U40:V40)=2,V40-U40,"")
AA41: =IF(COUNT(E41:F41)=2,F41-E41,"") | AB41: =IF(COUNT(F41:G41)=2,G41-F41,"") | AC41: =IF(COUNT(G41:H41)=2,H41-G41,"") | AD41: =IF(COUNT(H41:I41)=2,I41-H41,"") | AE41: =IF(COUNT(I41:J41)=2,J41-I41,"") | AF41: =IF(COUNT(J41:K41)=2,K41-J41,"") | AG41: =IF(COUNT(K41:L41)=2,L41-K41,"") | AH41: =IF(COUNT(L41:M41)=2,M41-L41,"") | ... AQ41: =IF(COUNT(U41:V41)=2,V41-U41,"")
D42: TD Amphithéatre | E42: Centrale de mesure | F42: 2096.21 | G42: 2249.44 | H42: 2585.22 | I42: 2781.62 | J42: 3048.44 | K42: 3273.48 | L42: 3402.22 | M42: 3465.54 | N42: 3473.94 | O42: 3554.5 | P42: 3702.36 | AA42: =IF(COUNT(E42:F42)=2,F42-E42,"") | AB42: =IF(COUNT(F42:G42)=2,G42-F42,"") -> 153.23 | AC42: =IF(COUNT(G42:H42)=2,H42-G42,"") -> 335.78 | AD42: =IF(COUNT(H42:I42)=2,I42-H42,"") -> 196.4 | AE42: =IF(COUNT(I42:J42)=2,J42-I42,"") -> 266.82 | AF42: =IF(COUNT(J42:K42)=2,K42-J42,"") -> 225.04 | AG42: =IF(COUNT(K42:L42)=2,L42-K42,"") -> 128.74 | AH42: =IF(COUNT(L42:M42)=2,M42-L42,"") -> 63.32 | ... AQ42: =IF(COUNT(U42:V42)=2,V42-U42,"")
E43: Compt-éclairage | F43: 1851.48 | G43: 1992.72 | H43: 2320.59 | I43: 2513.77 | J43: 2780.25 | K43: 2993.46 | L43: 3116.98 | M43: 3177.92 | N43: 3183.75 | O43: 3261.81 | P43: 3402.2 | AA43: =IF(COUNT(E43:F43)=2,F43-E43,"") | AB43: =IF(COUNT(F43:G43)=2,G43-F43,"") -> 141.24 | AC43: =IF(COUNT(G43:H43)=2,H43-G43,"") -> 327.87 | AD43: =IF(COUNT(H43:I43)=2,I43-H43,"") -> 193.18 | AE43: =IF(COUNT(I43:J43)=2,J43-I43,"") -> 266.48 | AF43: =IF(COUNT(J43:K43)=2,K43-J43,"") -> 213.21 | AG43: =IF(COUNT(K43:L43)=2,L43-K43,"") -> 123.52 | AH43: =IF(COUNT(L43:M43)=2,M43-L43,"") -> 60.94 | ... AQ43: =IF(COUNT(U43:V43)=2,V43-U43,"")
E44: Compt-PC | F44: 199.85 | G44: 206.06 | H44: 212.07 | I44: 212.92 | J44: 214.7 | K44: 228.43 | L44: 231.51 | M44: 231.81 | N44: 232.22 | O44: 232.73 | P44: 236.99 | AA44: =IF(COUNT(E44:F44)=2,F44-E44,"") | AB44: =IF(COUNT(F44:G44)=2,G44-F44,"") -> 6.21 | AC44: =IF(COUNT(G44:H44)=2,H44-G44,"") -> 6.01 | AD44: =IF(COUNT(H44:I44)=2,I44-H44,"") -> 0.85 | AE44: =IF(COUNT(I44:J44)=2,J44-I44,"") -> 1.78 | AF44: =IF(COUNT(J44:K44)=2,K44-J44,"") -> 13.73 | AG44: =IF(COUNT(K44:L44)=2,L44-K44,"") -> 3.08 | AH44: =IF(COUNT(L44:M44)=2,M44-L44,"") -> 0.3 | ... AQ44: =IF(COUNT(U44:V44)=2,V44-U44,"")
D45: Total TD Amphithéatre | F45: 4147.54 | G45: 4448.22 | H45: 5117.88 | I45: 5508.31 | J45: 6043.39 | K45: 6495.37 | L45: 6750.71 | M45: 6875.27 | N45: 6889.91 | O45: 7049.04 | P45: 7341.55 | AA45: =IF(COUNT(E45:F45)=2,F45-E45,"") | AB45: =IF(COUNT(F45:G45)=2,G45-F45,"") -> 300.68 | AC45: =IF(COUNT(G45:H45)=2,H45-G45,"") -> 669.66 | AD45: =IF(COUNT(H45:I45)=2,I45-H45,"") -> 390.43 | AE45: =IF(COUNT(I45:J45)=2,J45-I45,"") -> 535.08 | AF45: =IF(COUNT(J45:K45)=2,K45-J45,"") -> 451.98 | AG45: =IF(COUNT(K45:L45)=2,L45-K45,"") -> 255.34 | AH45: =IF(COUNT(L45:M45)=2,M45-L45,"") -> 124.56 | ... AQ45: =IF(COUNT(U45:V45)=2,V45-U45,"")
AA46: =IF(COUNT(E46:F46)=2,F46-E46,"") | AB46: =IF(COUNT(F46:G46)=2,G46-F46,"") | AC46: =IF(COUNT(G46:H46)=2,H46-G46,"") | AD46: =IF(COUNT(H46:I46)=2,I46-H46,"") | AE46: =IF(COUNT(I46:J46)=2,J46-I46,"") | AF46: =IF(COUNT(J46:K46)=2,K46-J46,"") | AG46: =IF(COUNT(K46:L46)=2,L46-K46,"") | AH46: =IF(COUNT(L46:M46)=2,M46-L46,"") | ... AQ46: =IF(COUNT(U46:V46)=2,V46-U46,"")
D47: TD Caféteria | E47: Centrale de mesure | F47: 137.1 | G47: 168.05 | H47: 192.54 | I47: 218.98 | J47: 240.83 | K47: 263.15 | L47: 428.9 | M47: 892.5 | N47: 1365.5 | O47: 1898.9 | P47: 2459.9 | AA47: =IF(COUNT(E47:F47)=2,F47-E47,"") | AB47: =IF(COUNT(F47:G47)=2,G47-F47,"") -> 30.95 | AC47: =IF(COUNT(G47:H47)=2,H47-G47,"") -> 24.49 | AD47: =IF(COUNT(H47:I47)=2,I47-H47,"") -> 26.44 | AE47: =IF(COUNT(I47:J47)=2,J47-I47,"") -> 21.85 | AF47: =IF(COUNT(J47:K47)=2,K47-J47,"") -> 22.32 | AG47: =IF(COUNT(K47:L47)=2,L47-K47,"") -> 165.75 | AH47: =IF(COUNT(L47:M47)=2,M47-L47,"") -> 463.6 | ... AQ47: =IF(COUNT(U47:V47)=2,V47-U47,"")
E48: Compt-BECS-Local menage | F48: 375 | G48: 579 | H48: 724 | I48: 874 | J48: 994 | K48: 1115 | L48: 1275 | M48: 1399 | N48: 1560 | O48: 1760 | P48: 1957 | AA48: =IF(COUNT(E48:F48)=2,F48-E48,"") | AB48: =IF(COUNT(F48:G48)=2,G48-F48,"") -> 204 | AC48: =IF(COUNT(G48:H48)=2,H48-G48,"") -> 145 | AD48: =IF(COUNT(H48:I48)=2,I48-H48,"") -> 150 | AE48: =IF(COUNT(I48:J48)=2,J48-I48,"") -> 120 | AF48: =IF(COUNT(J48:K48)=2,K48-J48,"") -> 121 | AG48: =IF(COUNT(K48:L48)=2,L48-K48,"") -> 160 | AH48: =IF(COUNT(L48:M48)=2,M48-L48,"") -> 124 | ... AQ48: =IF(COUNT(U48:V48)=2,V48-U48,"")
E49: Compt-éclairage cafet | F49: 1303 | G49: 1402 | H49: 1494 | I49: 1607 | J49: 1693 | K49: 1780 | L49: 1911 | M49: 2012 | N49: 2103 | O49: 2191 | P49: 2288 | AA49: =IF(COUNT(E49:F49)=2,F49-E49,"") | AB49: =IF(COUNT(F49:G49)=2,G49-F49,"") -> 99 | AC49: =IF(COUNT(G49:H49)=2,H49-G49,"") -> 92 | AD49: =IF(COUNT(H49:I49)=2,I49-H49,"") -> 113 | AE49: =IF(COUNT(I49:J49)=2,J49-I49,"") -> 86 | AF49: =IF(COUNT(J49:K49)=2,K49-J49,"") -> 87 | AG49: =IF(COUNT(K49:L49)=2,L49-K49,"") -> 131 | AH49: =IF(COUNT(L49:M49)=2,M49-L49,"") -> 101 | ... AQ49: =IF(COUNT(U49:V49)=2,V49-U49,"")
E50: Compt-PC | F50: 7.55 | G50: 8.84 | H50: 9.97 | I50: 11.32 | J50: 12.49 | K50: 13.67 | L50: 16.4 | M50: 35.1 | N50: 61.2 | O50: 80.5 | P50: 180.4 | AA50: =IF(COUNT(E50:F50)=2,F50-E50,"") | AB50: =IF(COUNT(F50:G50)=2,G50-F50,"") -> 1.29 | AC50: =IF(COUNT(G50:H50)=2,H50-G50,"") -> 1.13 | AD50: =IF(COUNT(H50:I50)=2,I50-H50,"") -> 1.35 | AE50: =IF(COUNT(I50:J50)=2,J50-I50,"") -> 1.17 | AF50: =IF(COUNT(J50:K50)=2,K50-J50,"") -> 1.18 | AG50: =IF(COUNT(K50:L50)=2,L50-K50,"") -> 2.73 | AH50: =IF(COUNT(L50:M50)=2,M50-L50,"") -> 18.7 | ... AQ50: =IF(COUNT(U50:V50)=2,V50-U50,"")
D51: Total TD Caféteria | F51: 1822.65 | G51: 2157.89 | H51: 2420.51 | I51: 2711.3 | J51: 2940.32 | K51: 3171.82 | L51: 3631.3 | M51: 4338.6 | N51: 5089.7 | O51: 5930.4 | P51: 6885.3 | AA51: =IF(COUNT(E51:F51)=2,F51-E51,"") | AB51: =IF(COUNT(F51:G51)=2,G51-F51,"") -> 335.24 | AC51: =IF(COUNT(G51:H51)=2,H51-G51,"") -> 262.62 | AD51: =IF(COUNT(H51:I51)=2,I51-H51,"") -> 290.79 | AE51: =IF(COUNT(I51:J51)=2,J51-I51,"") -> 229.02 | AF51: =IF(COUNT(J51:K51)=2,K51-J51,"") -> 231.5 | AG51: =IF(COUNT(K51:L51)=2,L51-K51,"") -> 459.48 | AH51: =IF(COUNT(L51:M51)=2,M51-L51,"") -> 707.3 | ... AQ51: =IF(COUNT(U51:V51)=2,V51-U51,"")
AA52: =IF(COUNT(E52:F52)=2,F52-E52,"") | AB52: =IF(COUNT(F52:G52)=2,G52-F52,"") | AC52: =IF(COUNT(G52:H52)=2,H52-G52,"") | AD52: =IF(COUNT(H52:I52)=2,I52-H52,"") | AE52: =IF(COUNT(I52:J52)=2,J52-I52,"") | AF52: =IF(COUNT(J52:K52)=2,K52-J52,"") | AG52: =IF(COUNT(K52:L52)=2,L52-K52,"") | AH52: =IF(COUNT(L52:M52)=2,M52-L52,"") | ... AQ52: =IF(COUNT(U52:V52)=2,V52-U52,"")
D53: TD HQ Serveur 1 | E53: Centrale de mesure | F53: 6487.98 | G53: 7495.69 | H53: 8432 | I53: 9571.9 | J53: 10512.41 | K53: 11521.67 | L53: 12597.76 | M53: 13572.38 | N53: 14713.76 | O53: 15655.24 | P53: 16698.36 | AA53: =IF(COUNT(E53:F53)=2,F53-E53,"") | AB53: =IF(COUNT(F53:G53)=2,G53-F53,"") -> 1007.71 | AC53: =IF(COUNT(G53:H53)=2,H53-G53,"") -> 936.31 | AD53: =IF(COUNT(H53:I53)=2,I53-H53,"") -> 1139.9 | AE53: =IF(COUNT(I53:J53)=2,J53-I53,"") -> 940.51 | AF53: =IF(COUNT(J53:K53)=2,K53-J53,"") -> 1009.26 | AG53: =IF(COUNT(K53:L53)=2,L53-K53,"") -> 1076.09 | AH53: =IF(COUNT(L53:M53)=2,M53-L53,"") -> 974.62 | ... AQ53: =IF(COUNT(U53:V53)=2,V53-U53,"")
D54: Total TD HQ Serveur 1 | F54: 6487.98 | G54: 7495.69 | H54: 8432 | I54: 9571.9 | J54: 10512.41 | K54: 11521.67 | L54: 12597.76 | M54: 13572.38 | N54: 14713.76 | O54: 15655.24 | P54: 16698.36 | AA54: =IF(COUNT(E54:F54)=2,F54-E54,"") | AB54: =IF(COUNT(F54:G54)=2,G54-F54,"") -> 1007.71 | AC54: =IF(COUNT(G54:H54)=2,H54-G54,"") -> 936.31 | AD54: =IF(COUNT(H54:I54)=2,I54-H54,"") -> 1139.9 | AE54: =IF(COUNT(I54:J54)=2,J54-I54,"") -> 940.51 | AF54: =IF(COUNT(J54:K54)=2,K54-J54,"") -> 1009.26 | AG54: =IF(COUNT(K54:L54)=2,L54-K54,"") -> 1076.09 | AH54: =IF(COUNT(L54:M54)=2,M54-L54,"") -> 974.62 | ... AQ54: =IF(COUNT(U54:V54)=2,V54-U54,"")
AA55: =IF(COUNT(E55:F55)=2,F55-E55,"") | AB55: =IF(COUNT(F55:G55)=2,G55-F55,"") | AC55: =IF(COUNT(G55:H55)=2,H55-G55,"") | AD55: =IF(COUNT(H55:I55)=2,I55-H55,"") | AE55: =IF(COUNT(I55:J55)=2,J55-I55,"") | AF55: =IF(COUNT(J55:K55)=2,K55-J55,"") | AG55: =IF(COUNT(K55:L55)=2,L55-K55,"") | AH55: =IF(COUNT(L55:M55)=2,M55-L55,"") | ... AQ55: =IF(COUNT(U55:V55)=2,V55-U55,"")
D56: TD HQ N0 | E56: Centrale de mesure | F56: 5831.15 | G56: 6921.8 | H56: 7932.8 | I56: 9169.7 | J56: 10208.05 | K56: 11333.8 | L56: 12576.9 | M56: 13635.8 | N56: 14775.5 | O56: 15866 | P56: 17056.7 | AA56: =IF(COUNT(E56:F56)=2,F56-E56,"") | AB56: =IF(COUNT(F56:G56)=2,G56-F56,"") -> 1090.65 | AC56: =IF(COUNT(G56:H56)=2,H56-G56,"") -> 1011 | AD56: =IF(COUNT(H56:I56)=2,I56-H56,"") -> 1236.9 | AE56: =IF(COUNT(I56:J56)=2,J56-I56,"") -> 1038.35 | AF56: =IF(COUNT(J56:K56)=2,K56-J56,"") -> 1125.75 | AG56: =IF(COUNT(K56:L56)=2,L56-K56,"") -> 1243.1 | AH56: =IF(COUNT(L56:M56)=2,M56-L56,"") -> 1058.9 | ... AQ56: =IF(COUNT(U56:V56)=2,V56-U56,"")
E57: Compt-PC | F57: 3671.8 | G57: 4412.2 | H57: 5092.05 | I57: 5925.5 | J57: 6630 | K57: 7395.3 | L57: 8251.6 | M57: 8962.6 | N57: 9698.8 | O57: 10451.2 | P57: 11270.6 | AA57: =IF(COUNT(E57:F57)=2,F57-E57,"") | AB57: =IF(COUNT(F57:G57)=2,G57-F57,"") -> 740.4 | AC57: =IF(COUNT(G57:H57)=2,H57-G57,"") -> 679.85 | AD57: =IF(COUNT(H57:I57)=2,I57-H57,"") -> 833.45 | AE57: =IF(COUNT(I57:J57)=2,J57-I57,"") -> 704.5 | AF57: =IF(COUNT(J57:K57)=2,K57-J57,"") -> 765.3 | AG57: =IF(COUNT(K57:L57)=2,L57-K57,"") -> 856.3 | AH57: =IF(COUNT(L57:M57)=2,M57-L57,"") -> 711 | ... AQ57: =IF(COUNT(U57:V57)=2,V57-U57,"")
D58: Total TD HQ N0 | F58: 9502.95 | G58: 11334 | H58: 13024.85 | I58: 15095.2 | J58: 16838.05 | K58: 18729.1 | L58: 20828.5 | M58: 22598.4 | N58: 24474.3 | O58: 26317.2 | P58: 28327.3 | AA58: =IF(COUNT(E58:F58)=2,F58-E58,"") | AB58: =IF(COUNT(F58:G58)=2,G58-F58,"") -> 1831.05 | AC58: =IF(COUNT(G58:H58)=2,H58-G58,"") -> 1690.85 | AD58: =IF(COUNT(H58:I58)=2,I58-H58,"") -> 2070.35 | AE58: =IF(COUNT(I58:J58)=2,J58-I58,"") -> 1742.85 | AF58: =IF(COUNT(J58:K58)=2,K58-J58,"") -> 1891.05 | AG58: =IF(COUNT(K58:L58)=2,L58-K58,"") -> 2099.4 | AH58: =IF(COUNT(L58:M58)=2,M58-L58,"") -> 1769.9 | ... AQ58: =IF(COUNT(U58:V58)=2,V58-U58,"")
AA59: =IF(COUNT(E59:F59)=2,F59-E59,"") | AB59: =IF(COUNT(F59:G59)=2,G59-F59,"") | AC59: =IF(COUNT(G59:H59)=2,H59-G59,"") | AD59: =IF(COUNT(H59:I59)=2,I59-H59,"") | AE59: =IF(COUNT(I59:J59)=2,J59-I59,"") | AF59: =IF(COUNT(J59:K59)=2,K59-J59,"") | AG59: =IF(COUNT(K59:L59)=2,L59-K59,"") | AH59: =IF(COUNT(L59:M59)=2,M59-L59,"") | ... AQ59: =IF(COUNT(U59:V59)=2,V59-U59,"")
D60: TD HQ N1 | E60: Centrale de mesure | F60: 1848.5 | G60: 2474.4 | H60: 3145.5 | I60: 3904.2 | J60: 4560.04 | K60: 5207.9 | L60: 6022.3 | M60: 6694 | N60: 7325.9 | O60: 7952.8 | P60: 8696.2 | AA60: =IF(COUNT(E60:F60)=2,F60-E60,"") | AB60: =IF(COUNT(F60:G60)=2,G60-F60,"") -> 625.9 | AC60: =IF(COUNT(G60:H60)=2,H60-G60,"") -> 671.1 | AD60: =IF(COUNT(H60:I60)=2,I60-H60,"") -> 758.7 | AE60: =IF(COUNT(I60:J60)=2,J60-I60,"") -> 655.84 | AF60: =IF(COUNT(J60:K60)=2,K60-J60,"") -> 647.86 | AG60: =IF(COUNT(K60:L60)=2,L60-K60,"") -> 814.4 | AH60: =IF(COUNT(L60:M60)=2,M60-L60,"") -> 671.7 | ... AQ60: =IF(COUNT(U60:V60)=2,V60-U60,"")
E61: Compt-PC | F61: 582 | G61: 658.8 | H61: 731.5 | I61: 820.9 | J61: 909.09 | K61: 985.6 | L61: 1070.7 | M61: 1145.2 | N61: 1228.4 | O61: 1300.5 | P61: 1380.4 | AA61: =IF(COUNT(E61:F61)=2,F61-E61,"") | AB61: =IF(COUNT(F61:G61)=2,G61-F61,"") -> 76.8 | AC61: =IF(COUNT(G61:H61)=2,H61-G61,"") -> 72.7 | AD61: =IF(COUNT(H61:I61)=2,I61-H61,"") -> 89.4 | AE61: =IF(COUNT(I61:J61)=2,J61-I61,"") -> 88.19 | AF61: =IF(COUNT(J61:K61)=2,K61-J61,"") -> 76.51 | AG61: =IF(COUNT(K61:L61)=2,L61-K61,"") -> 85.1 | AH61: =IF(COUNT(L61:M61)=2,M61-L61,"") -> 74.5 | ... AQ61: =IF(COUNT(U61:V61)=2,V61-U61,"")
D62: Total TD HQ N1 | F62: 2430.5 | G62: 3133.2 | H62: 3877 | I62: 4725.1 | J62: 5469.13 | K62: 6193.5 | L62: 7093 | M62: 7839.2 | N62: 8554.3 | O62: 9253.3 | P62: 10076.6 | AA62: =IF(COUNT(E62:F62)=2,F62-E62,"") | AB62: =IF(COUNT(F62:G62)=2,G62-F62,"") -> 702.7 | AC62: =IF(COUNT(G62:H62)=2,H62-G62,"") -> 743.8 | AD62: =IF(COUNT(H62:I62)=2,I62-H62,"") -> 848.1 | AE62: =IF(COUNT(I62:J62)=2,J62-I62,"") -> 744.03 | AF62: =IF(COUNT(J62:K62)=2,K62-J62,"") -> 724.37 | AG62: =IF(COUNT(K62:L62)=2,L62-K62,"") -> 899.5 | AH62: =IF(COUNT(L62:M62)=2,M62-L62,"") -> 746.2 | ... AQ62: =IF(COUNT(U62:V62)=2,V62-U62,"")
AA63: =IF(COUNT(E63:F63)=2,F63-E63,"") | AB63: =IF(COUNT(F63:G63)=2,G63-F63,"") | AC63: =IF(COUNT(G63:H63)=2,H63-G63,"") | AD63: =IF(COUNT(H63:I63)=2,I63-H63,"") | AE63: =IF(COUNT(I63:J63)=2,J63-I63,"") | AF63: =IF(COUNT(J63:K63)=2,K63-J63,"") | AG63: =IF(COUNT(K63:L63)=2,L63-K63,"") | AH63: =IF(COUNT(L63:M63)=2,M63-L63,"") | ... AQ63: =IF(COUNT(U63:V63)=2,V63-U63,"")
D64: TD HQ N8 | E64: Centrale de mesure | F64: 6074.5 | G64: 7388.3 | H64: 8586.8 | I64: 10136.2 | J64: 11529 | K64: 13132 | L64: 15047.2 | M64: 16635.5 | N64: 18276.4 | O64: 19718.7 | P64: 21492.6 | AA64: =IF(COUNT(E64:F64)=2,F64-E64,"") | AB64: =IF(COUNT(F64:G64)=2,G64-F64,"") -> 1313.8 | AC64: =IF(COUNT(G64:H64)=2,H64-G64,"") -> 1198.5 | AD64: =IF(COUNT(H64:I64)=2,I64-H64,"") -> 1549.4 | AE64: =IF(COUNT(I64:J64)=2,J64-I64,"") -> 1392.8 | AF64: =IF(COUNT(J64:K64)=2,K64-J64,"") -> 1603 | AG64: =IF(COUNT(K64:L64)=2,L64-K64,"") -> 1915.2 | AH64: =IF(COUNT(L64:M64)=2,M64-L64,"") -> 1588.3 | ... AQ64: =IF(COUNT(U64:V64)=2,V64-U64,"")
E65: Compt-PC | F65: 3676.8 | G65: 4485.1 | H65: 5207.7 | I65: 6078.2 | J65: 6779.02 | K65: 7697.7 | L65: 8750.9 | M65: 9585.4 | N65: 10401.3 | O65: 11210.1 | P65: 12219.3 | AA65: =IF(COUNT(E65:F65)=2,F65-E65,"") | AB65: =IF(COUNT(F65:G65)=2,G65-F65,"") -> 808.3 | AC65: =IF(COUNT(G65:H65)=2,H65-G65,"") -> 722.6 | AD65: =IF(COUNT(H65:I65)=2,I65-H65,"") -> 870.5 | AE65: =IF(COUNT(I65:J65)=2,J65-I65,"") -> 700.82 | AF65: =IF(COUNT(J65:K65)=2,K65-J65,"") -> 918.68 | AG65: =IF(COUNT(K65:L65)=2,L65-K65,"") -> 1053.2 | AH65: =IF(COUNT(L65:M65)=2,M65-L65,"") -> 834.5 | ... AQ65: =IF(COUNT(U65:V65)=2,V65-U65,"")
D66: Total TD HQ N8 | F66: 9751.3 | G66: 11873.4 | H66: 13794.5 | I66: 16214.4 | J66: 18308.02 | K66: 20829.7 | L66: 23798.1 | M66: 26220.9 | N66: 28677.7 | O66: 30928.8 | P66: 33711.9 | AA66: =IF(COUNT(E66:F66)=2,F66-E66,"") | AB66: =IF(COUNT(F66:G66)=2,G66-F66,"") -> 2122.1 | AC66: =IF(COUNT(G66:H66)=2,H66-G66,"") -> 1921.1 | AD66: =IF(COUNT(H66:I66)=2,I66-H66,"") -> 2419.9 | AE66: =IF(COUNT(I66:J66)=2,J66-I66,"") -> 2093.62 | AF66: =IF(COUNT(J66:K66)=2,K66-J66,"") -> 2521.68 | AG66: =IF(COUNT(K66:L66)=2,L66-K66,"") -> 2968.4 | AH66: =IF(COUNT(L66:M66)=2,M66-L66,"") -> 2422.8 | ... AQ66: =IF(COUNT(U66:V66)=2,V66-U66,"")
AA67: =IF(COUNT(E67:F67)=2,F67-E67,"") | AB67: =IF(COUNT(F67:G67)=2,G67-F67,"") | AC67: =IF(COUNT(G67:H67)=2,H67-G67,"") | AD67: =IF(COUNT(H67:I67)=2,I67-H67,"") | AE67: =IF(COUNT(I67:J67)=2,J67-I67,"") | AF67: =IF(COUNT(J67:K67)=2,K67-J67,"") | AG67: =IF(COUNT(K67:L67)=2,L67-K67,"") | AH67: =IF(COUNT(L67:M67)=2,M67-L67,"") | ... AQ67: =IF(COUNT(U67:V67)=2,V67-U67,"")
D68: TD HQ PCS | E68: Centrale de mesure | F68: 2709.77 | G68: 3117.8 | H68: 3544.96 | I68: 4134.54 | J68: 4648.71 | K68: 5179.18 | L68: 5723.23 | M68: 6235.83 | N68: 6833.38 | O68: 7266.25 | P68: 7683.77 | AA68: =IF(COUNT(E68:F68)=2,F68-E68,"") | AB68: =IF(COUNT(F68:G68)=2,G68-F68,"") -> 408.03 | AC68: =IF(COUNT(G68:H68)=2,H68-G68,"") -> 427.16 | AD68: =IF(COUNT(H68:I68)=2,I68-H68,"") -> 589.58 | AE68: =IF(COUNT(I68:J68)=2,J68-I68,"") -> 514.17 | AF68: =IF(COUNT(J68:K68)=2,K68-J68,"") -> 530.47 | AG68: =IF(COUNT(K68:L68)=2,L68-K68,"") -> 544.05 | AH68: =IF(COUNT(L68:M68)=2,M68-L68,"") -> 512.6 | ... AQ68: =IF(COUNT(U68:V68)=2,V68-U68,"")
E69: Compt-éclairage | F69: 159 | G69: 168 | H69: 179 | I69: 194 | J69: 206 | K69: 220 | L69: 227 | M69: 234 | N69: 242 | O69: 250 | P69: 258 | AA69: =IF(COUNT(E69:F69)=2,F69-E69,"") | AB69: =IF(COUNT(F69:G69)=2,G69-F69,"") -> 9 | AC69: =IF(COUNT(G69:H69)=2,H69-G69,"") -> 11 | AD69: =IF(COUNT(H69:I69)=2,I69-H69,"") -> 15 | AE69: =IF(COUNT(I69:J69)=2,J69-I69,"") -> 12 | AF69: =IF(COUNT(J69:K69)=2,K69-J69,"") -> 14 | AG69: =IF(COUNT(K69:L69)=2,L69-K69,"") -> 7 | AH69: =IF(COUNT(L69:M69)=2,M69-L69,"") -> 7 | ... AQ69: =IF(COUNT(U69:V69)=2,V69-U69,"")
E70: Compt-PC | F70: 1930.98 | G70: 2260.41 | H70: 2604.36 | I70: 3084.27 | J70: 3501.05 | K70: 3934.46 | L70: 4389.43 | M70: 4814.9 | N70: 5309.92 | O70: 5657.62 | P70: 5983.48 | AA70: =IF(COUNT(E70:F70)=2,F70-E70,"") | AB70: =IF(COUNT(F70:G70)=2,G70-F70,"") -> 329.43 | AC70: =IF(COUNT(G70:H70)=2,H70-G70,"") -> 343.95 | AD70: =IF(COUNT(H70:I70)=2,I70-H70,"") -> 479.91 | AE70: =IF(COUNT(I70:J70)=2,J70-I70,"") -> 416.78 | AF70: =IF(COUNT(J70:K70)=2,K70-J70,"") -> 433.41 | AG70: =IF(COUNT(K70:L70)=2,L70-K70,"") -> 454.97 | AH70: =IF(COUNT(L70:M70)=2,M70-L70,"") -> 425.47 | ... AQ70: =IF(COUNT(U70:V70)=2,V70-U70,"")
E71: Compt-VC | F71: 321 | G71: 347 | H71: 375 | I71: 409 | J71: 443 | K71: 469 | L71: 487 | M71: 510 | N71: 537 | O71: 559 | P71: 583 | AA71: =IF(COUNT(E71:F71)=2,F71-E71,"") | AB71: =IF(COUNT(F71:G71)=2,G71-F71,"") -> 26 | AC71: =IF(COUNT(G71:H71)=2,H71-G71,"") -> 28 | AD71: =IF(COUNT(H71:I71)=2,I71-H71,"") -> 34 | AE71: =IF(COUNT(I71:J71)=2,J71-I71,"") -> 34 | AF71: =IF(COUNT(J71:K71)=2,K71-J71,"") -> 26 | AG71: =IF(COUNT(K71:L71)=2,L71-K71,"") -> 18 | AH71: =IF(COUNT(L71:M71)=2,M71-L71,"") -> 23 | ... AQ71: =IF(COUNT(U71:V71)=2,V71-U71,"")
D72: Total TD HQ PCS | F72: 5120.75 | G72: 5893.21 | H72: 6703.32 | I72: 7821.81 | J72: 8798.76 | K72: 9802.64 | L72: 10826.66 | M72: 11794.73 | N72: 12922.3 | O72: 13732.87 | P72: 14508.25 | AA72: =IF(COUNT(E72:F72)=2,F72-E72,"") | AB72: =IF(COUNT(F72:G72)=2,G72-F72,"") -> 772.46 | AC72: =IF(COUNT(G72:H72)=2,H72-G72,"") -> 810.11 | AD72: =IF(COUNT(H72:I72)=2,I72-H72,"") -> 1118.49 | AE72: =IF(COUNT(I72:J72)=2,J72-I72,"") -> 976.95 | AF72: =IF(COUNT(J72:K72)=2,K72-J72,"") -> 1003.88 | AG72: =IF(COUNT(K72:L72)=2,L72-K72,"") -> 1024.02 | AH72: =IF(COUNT(L72:M72)=2,M72-L72,"") -> 968.07 | ... AQ72: =IF(COUNT(U72:V72)=2,V72-U72,"")
AA73: =IF(COUNT(E73:F73)=2,F73-E73,"") | AB73: =IF(COUNT(F73:G73)=2,G73-F73,"") | AC73: =IF(COUNT(G73:H73)=2,H73-G73,"") | AD73: =IF(COUNT(H73:I73)=2,I73-H73,"") | AE73: =IF(COUNT(I73:J73)=2,J73-I73,"") | AF73: =IF(COUNT(J73:K73)=2,K73-J73,"") | AG73: =IF(COUNT(K73:L73)=2,L73-K73,"") | AH73: =IF(COUNT(L73:M73)=2,M73-L73,"") | ... AQ73: =IF(COUNT(U73:V73)=2,V73-U73,"")
D74: TD HQ Serveur 2 | E74: Centrale de mesure | F74: 6067.1 | G74: 11213.87 | H74: 12540.34 | I74: 14152.31 | J74: 15490.13 | K74: 16917.79 | L74: 18442.14 | M74: 19820.42 | N74: 21432.82 | O74: 22768.84 | P74: 24275.39 | AA74: =IF(COUNT(E74:F74)=2,F74-E74,"") | AB74: =IF(COUNT(F74:G74)=2,G74-F74,"") -> 5146.77 | AC74: =IF(COUNT(G74:H74)=2,H74-G74,"") -> 1326.47 | AD74: =IF(COUNT(H74:I74)=2,I74-H74,"") -> 1611.97 | AE74: =IF(COUNT(I74:J74)=2,J74-I74,"") -> 1337.82 | AF74: =IF(COUNT(J74:K74)=2,K74-J74,"") -> 1427.66 | AG74: =IF(COUNT(K74:L74)=2,L74-K74,"") -> 1524.35 | AH74: =IF(COUNT(L74:M74)=2,M74-L74,"") -> 1378.28 | ... AQ74: =IF(COUNT(U74:V74)=2,V74-U74,"")
D75: Total TD HQ Serveur 2 | F75: 6067.1 | G75: 11213.87 | H75: 12540.34 | I75: 14152.31 | J75: 15490.13 | K75: 16917.79 | L75: 18442.14 | M75: 19820.42 | N75: 21432.82 | O75: 22768.84 | P75: 24275.39 | AA75: =IF(COUNT(E75:F75)=2,F75-E75,"") | AB75: =IF(COUNT(F75:G75)=2,G75-F75,"") -> 5146.77 | AC75: =IF(COUNT(G75:H75)=2,H75-G75,"") -> 1326.47 | AD75: =IF(COUNT(H75:I75)=2,I75-H75,"") -> 1611.97 | AE75: =IF(COUNT(I75:J75)=2,J75-I75,"") -> 1337.82 | AF75: =IF(COUNT(J75:K75)=2,K75-J75,"") -> 1427.66 | AG75: =IF(COUNT(K75:L75)=2,L75-K75,"") -> 1524.35 | AH75: =IF(COUNT(L75:M75)=2,M75-L75,"") -> 1378.28 | ... AQ75: =IF(COUNT(U75:V75)=2,V75-U75,"")
AA76: =IF(COUNT(E76:F76)=2,F76-E76,"") | AB76: =IF(COUNT(F76:G76)=2,G76-F76,"") | AC76: =IF(COUNT(G76:H76)=2,H76-G76,"") | AD76: =IF(COUNT(H76:I76)=2,I76-H76,"") | AE76: =IF(COUNT(I76:J76)=2,J76-I76,"") | AF76: =IF(COUNT(J76:K76)=2,K76-J76,"") | AG76: =IF(COUNT(K76:L76)=2,L76-K76,"") | AH76: =IF(COUNT(L76:M76)=2,M76-L76,"") | ... AQ76: =IF(COUNT(U76:V76)=2,V76-U76,"")
D77: TD Instance 120P | E77: Centrale de mesure | F77: 3076.46 | G77: 3553.64 | H77: 4193.24 | I77: 5000.46 | J77: 5611.87 | K77: 6322.58 | L77: 6925.83 | M77: 7017.33 | N77: 7094.25 | O77: 7263.54 | P77: 7474.2 | AA77: =IF(COUNT(E77:F77)=2,F77-E77,"") | AB77: =IF(COUNT(F77:G77)=2,G77-F77,"") -> 477.18 | AC77: =IF(COUNT(G77:H77)=2,H77-G77,"") -> 639.6 | AD77: =IF(COUNT(H77:I77)=2,I77-H77,"") -> 807.22 | AE77: =IF(COUNT(I77:J77)=2,J77-I77,"") -> 611.41 | AF77: =IF(COUNT(J77:K77)=2,K77-J77,"") -> 710.71 | AG77: =IF(COUNT(K77:L77)=2,L77-K77,"") -> 603.25 | AH77: =IF(COUNT(L77:M77)=2,M77-L77,"") -> 91.5 | ... AQ77: =IF(COUNT(U77:V77)=2,V77-U77,"")
E78: Compt-éclairage | F78: 2905 | G78: 3347 | H78: 3955 | I78: 4722 | J78: 5302 | K78: 5978 | L78: 6543 | M78: 6600 | N78: 6637 | O78: 6773 | P78: 6947 | AA78: =IF(COUNT(E78:F78)=2,F78-E78,"") | AB78: =IF(COUNT(F78:G78)=2,G78-F78,"") -> 442 | AC78: =IF(COUNT(G78:H78)=2,H78-G78,"") -> 608 | AD78: =IF(COUNT(H78:I78)=2,I78-H78,"") -> 767 | AE78: =IF(COUNT(I78:J78)=2,J78-I78,"") -> 580 | AF78: =IF(COUNT(J78:K78)=2,K78-J78,"") -> 676 | AG78: =IF(COUNT(K78:L78)=2,L78-K78,"") -> 565 | AH78: =IF(COUNT(L78:M78)=2,M78-L78,"") -> 57 | ... AQ78: =IF(COUNT(U78:V78)=2,V78-U78,"")
E79: Compt-PC | F79: 9 | G79: 9 | H79: 9 | I79: 9 | J79: 9 | K79: 9 | L79: 9 | M79: 9 | N79: 9 | O79: 9 | P79: 9 | AA79: =IF(COUNT(E79:F79)=2,F79-E79,"") | AB79: =IF(COUNT(F79:G79)=2,G79-F79,"") -> 0 | AC79: =IF(COUNT(G79:H79)=2,H79-G79,"") -> 0 | AD79: =IF(COUNT(H79:I79)=2,I79-H79,"") -> 0 | AE79: =IF(COUNT(I79:J79)=2,J79-I79,"") -> 0 | AF79: =IF(COUNT(J79:K79)=2,K79-J79,"") -> 0 | AG79: =IF(COUNT(K79:L79)=2,L79-K79,"") -> 0 | AH79: =IF(COUNT(L79:M79)=2,M79-L79,"") -> 0 | ... AQ79: =IF(COUNT(U79:V79)=2,V79-U79,"")
D80: Total TD Instance 120P | F80: 5990.46 | G80: 6909.64 | H80: 8157.24 | I80: 9731.46 | J80: 10922.87 | K80: 12309.58 | L80: 13477.83 | M80: 13626.33 | N80: 13740.25 | O80: 14045.54 | P80: 14430.2 | AA80: =IF(COUNT(E80:F80)=2,F80-E80,"") | AB80: =IF(COUNT(F80:G80)=2,G80-F80,"") -> 919.18 | AC80: =IF(COUNT(G80:H80)=2,H80-G80,"") -> 1247.6 | AD80: =IF(COUNT(H80:I80)=2,I80-H80,"") -> 1574.22 | AE80: =IF(COUNT(I80:J80)=2,J80-I80,"") -> 1191.41 | AF80: =IF(COUNT(J80:K80)=2,K80-J80,"") -> 1386.71 | AG80: =IF(COUNT(K80:L80)=2,L80-K80,"") -> 1168.25 | AH80: =IF(COUNT(L80:M80)=2,M80-L80,"") -> 148.5 | ... AQ80: =IF(COUNT(U80:V80)=2,V80-U80,"")
AA81: =IF(COUNT(E81:F81)=2,F81-E81,"") | AB81: =IF(COUNT(F81:G81)=2,G81-F81,"") | AC81: =IF(COUNT(G81:H81)=2,H81-G81,"") | AD81: =IF(COUNT(H81:I81)=2,I81-H81,"") | AE81: =IF(COUNT(I81:J81)=2,J81-I81,"") | AF81: =IF(COUNT(J81:K81)=2,K81-J81,"") | AG81: =IF(COUNT(K81:L81)=2,L81-K81,"") | AH81: =IF(COUNT(L81:M81)=2,M81-L81,"") | ... AQ81: =IF(COUNT(U81:V81)=2,V81-U81,"")
D82: TD Instance 30P | E82: Centrale de mesure | F82: 29.54 | G82: 51.37 | H82: 85.59 | I82: 124.4 | J82: 151.68 | K82: 194.64 | L82: 216.35 | M82: 59.6 | N82: 83.85 | O82: 193.85 | P82: 282.08 | AA82: =IF(COUNT(E82:F82)=2,F82-E82,"") | AB82: =IF(COUNT(F82:G82)=2,G82-F82,"") -> 21.83 | AC82: =IF(COUNT(G82:H82)=2,H82-G82,"") -> 34.22 | AD82: =IF(COUNT(H82:I82)=2,I82-H82,"") -> 38.81 | AE82: =IF(COUNT(I82:J82)=2,J82-I82,"") -> 27.28 | AF82: =IF(COUNT(J82:K82)=2,K82-J82,"") -> 42.96 | AG82: =IF(COUNT(K82:L82)=2,L82-K82,"") -> 21.71 | AH82: =IF(COUNT(L82:M82)=2,M82-L82,"") -> -156.75 | ... AQ82: =IF(COUNT(U82:V82)=2,V82-U82,"")
E83: Compt-éclairage | F83: 308 | G83: 484 | H83: 759 | I83: 1070 | J83: 1292 | K83: 1637.42 | L83: 1812 | M83: 1879 | N83: 1902 | O83: 2001 | P83: 2082 | AA83: =IF(COUNT(E83:F83)=2,F83-E83,"") | AB83: =IF(COUNT(F83:G83)=2,G83-F83,"") -> 176 | AC83: =IF(COUNT(G83:H83)=2,H83-G83,"") -> 275 | AD83: =IF(COUNT(H83:I83)=2,I83-H83,"") -> 311 | AE83: =IF(COUNT(I83:J83)=2,J83-I83,"") -> 222 | AF83: =IF(COUNT(J83:K83)=2,K83-J83,"") -> 345.42 | AG83: =IF(COUNT(K83:L83)=2,L83-K83,"") -> 174.58 | AH83: =IF(COUNT(L83:M83)=2,M83-L83,"") -> 67 | ... AQ83: =IF(COUNT(U83:V83)=2,V83-U83,"")
E84: Compt-PC | F84: 10 | G84: 10 | H84: 10 | I84: 10 | J84: 10 | K84: 10.69 | L84: 10 | M84: 10 | N84: 10 | O84: 10 | P84: 10 | AA84: =IF(COUNT(E84:F84)=2,F84-E84,"") | AB84: =IF(COUNT(F84:G84)=2,G84-F84,"") -> 0 | AC84: =IF(COUNT(G84:H84)=2,H84-G84,"") -> 0 | AD84: =IF(COUNT(H84:I84)=2,I84-H84,"") -> 0 | AE84: =IF(COUNT(I84:J84)=2,J84-I84,"") -> 0 | AF84: =IF(COUNT(J84:K84)=2,K84-J84,"") -> 0.69 | AG84: =IF(COUNT(K84:L84)=2,L84-K84,"") -> -0.69 | AH84: =IF(COUNT(L84:M84)=2,M84-L84,"") -> 0 | ... AQ84: =IF(COUNT(U84:V84)=2,V84-U84,"")
D85: Total TD Instance 30P | F85: 347.54 | G85: 545.37 | H85: 854.59 | I85: 1204.4 | J85: 1453.68 | K85: 1842.75 | L85: 2038.35 | M85: 1948.6 | N85: 1995.85 | O85: 2204.85 | P85: 2374.08 | AA85: =IF(COUNT(E85:F85)=2,F85-E85,"") | AB85: =IF(COUNT(F85:G85)=2,G85-F85,"") -> 197.83 | AC85: =IF(COUNT(G85:H85)=2,H85-G85,"") -> 309.22 | AD85: =IF(COUNT(H85:I85)=2,I85-H85,"") -> 349.81 | AE85: =IF(COUNT(I85:J85)=2,J85-I85,"") -> 249.28 | AF85: =IF(COUNT(J85:K85)=2,K85-J85,"") -> 389.07 | AG85: =IF(COUNT(K85:L85)=2,L85-K85,"") -> 195.6 | AH85: =IF(COUNT(L85:M85)=2,M85-L85,"") -> -89.75 | ... AQ85: =IF(COUNT(U85:V85)=2,V85-U85,"")
AA86: =IF(COUNT(E86:F86)=2,F86-E86,"") | AB86: =IF(COUNT(F86:G86)=2,G86-F86,"") | AC86: =IF(COUNT(G86:H86)=2,H86-G86,"") | AD86: =IF(COUNT(H86:I86)=2,I86-H86,"") | AE86: =IF(COUNT(I86:J86)=2,J86-I86,"") | AF86: =IF(COUNT(J86:K86)=2,K86-J86,"") | AG86: =IF(COUNT(K86:L86)=2,L86-K86,"") | AH86: =IF(COUNT(L86:M86)=2,M86-L86,"") | ... AQ86: =IF(COUNT(U86:V86)=2,V86-U86,"")
D87: TD N1 | E87: Centrale de mesure | F87: 8769.1 | G87: 9908.7 | H87: 10897.7 | I87: 11981 | J87: 12875.08 | K87: 13783.8 | L87: 14817.6 | M87: 15639 | N87: 16620.2 | O87: 17619.4 | P87: 18637.7 | AA87: =IF(COUNT(E87:F87)=2,F87-E87,"") | AB87: =IF(COUNT(F87:G87)=2,G87-F87,"") -> 1139.6 | AC87: =IF(COUNT(G87:H87)=2,H87-G87,"") -> 989 | AD87: =IF(COUNT(H87:I87)=2,I87-H87,"") -> 1083.3 | AE87: =IF(COUNT(I87:J87)=2,J87-I87,"") -> 894.08 | AF87: =IF(COUNT(J87:K87)=2,K87-J87,"") -> 908.72 | AG87: =IF(COUNT(K87:L87)=2,L87-K87,"") -> 1033.8 | AH87: =IF(COUNT(L87:M87)=2,M87-L87,"") -> 821.4 | ... AQ87: =IF(COUNT(U87:V87)=2,V87-U87,"")
E88: Compt-CVC | F88: 556.38 | G88: 620.01 | H88: 677.85 | I88: 752.71 | J88: 814.34 | K88: 883.69 | L88: 958.83 | M88: 1027.13 | N88: 1106.84 | O88: 1172.75 | P88: 1245.8 | AA88: =IF(COUNT(E88:F88)=2,F88-E88,"") | AB88: =IF(COUNT(F88:G88)=2,G88-F88,"") -> 63.63 | AC88: =IF(COUNT(G88:H88)=2,H88-G88,"") -> 57.84 | AD88: =IF(COUNT(H88:I88)=2,I88-H88,"") -> 74.86 | AE88: =IF(COUNT(I88:J88)=2,J88-I88,"") -> 61.63 | AF88: =IF(COUNT(J88:K88)=2,K88-J88,"") -> 69.35 | AG88: =IF(COUNT(K88:L88)=2,L88-K88,"") -> 75.14 | AH88: =IF(COUNT(L88:M88)=2,M88-L88,"") -> 68.3 | ... AQ88: =IF(COUNT(U88:V88)=2,V88-U88,"")
E89: Compt-eclairage | F89: 5709.95 | G89: 6368.89 | H89: 6913.92 | I89: 7528.58 | J89: 8038.77 | K89: 8563.5 | L89: 9184.93 | M89: 9650.04 | N89: 10228.87 | O89: 10841.81 | P89: 11461.95 | AA89: =IF(COUNT(E89:F89)=2,F89-E89,"") | AB89: =IF(COUNT(F89:G89)=2,G89-F89,"") -> 658.94 | AC89: =IF(COUNT(G89:H89)=2,H89-G89,"") -> 545.03 | AD89: =IF(COUNT(H89:I89)=2,I89-H89,"") -> 614.66 | AE89: =IF(COUNT(I89:J89)=2,J89-I89,"") -> 510.19 | AF89: =IF(COUNT(J89:K89)=2,K89-J89,"") -> 524.73 | AG89: =IF(COUNT(K89:L89)=2,L89-K89,"") -> 621.43 | AH89: =IF(COUNT(L89:M89)=2,M89-L89,"") -> 465.11 | ... AQ89: =IF(COUNT(U89:V89)=2,V89-U89,"")
E90: Compt-ECS | F90: 957.43 | G90: 1100 | H90: 1239.53 | I90: 1399.11 | J90: 1524.92 | K90: 1658.4 | L90: 1795.62 | M90: 1915.95 | N90: 2059.96 | O90: 2189.39 | P90: 2332.65 | AA90: =IF(COUNT(E90:F90)=2,F90-E90,"") | AB90: =IF(COUNT(F90:G90)=2,G90-F90,"") -> 142.57 | AC90: =IF(COUNT(G90:H90)=2,H90-G90,"") -> 139.53 | AD90: =IF(COUNT(H90:I90)=2,I90-H90,"") -> 159.58 | AE90: =IF(COUNT(I90:J90)=2,J90-I90,"") -> 125.81 | AF90: =IF(COUNT(J90:K90)=2,K90-J90,"") -> 133.48 | AG90: =IF(COUNT(K90:L90)=2,L90-K90,"") -> 137.22 | AH90: =IF(COUNT(L90:M90)=2,M90-L90,"") -> 120.33 | ... AQ90: =IF(COUNT(U90:V90)=2,V90-U90,"")
E91: Compt-PC | F91: 1567.7 | G91: 1876.7 | H91: 2161.4 | I91: 2379.8 | J91: 2556.05 | K91: 2712.9 | L91: 2884 | M91: 3018.6 | N91: 3160.3 | O91: 3323.9 | P91: 3488 | AA91: =IF(COUNT(E91:F91)=2,F91-E91,"") | AB91: =IF(COUNT(F91:G91)=2,G91-F91,"") -> 309 | AC91: =IF(COUNT(G91:H91)=2,H91-G91,"") -> 284.7 | AD91: =IF(COUNT(H91:I91)=2,I91-H91,"") -> 218.4 | AE91: =IF(COUNT(I91:J91)=2,J91-I91,"") -> 176.25 | AF91: =IF(COUNT(J91:K91)=2,K91-J91,"") -> 156.85 | AG91: =IF(COUNT(K91:L91)=2,L91-K91,"") -> 171.1 | AH91: =IF(COUNT(L91:M91)=2,M91-L91,"") -> 134.6 | ... AQ91: =IF(COUNT(U91:V91)=2,V91-U91,"")
D92: Total TD N1 | F92: 17560.56 | G92: 19874.3 | H92: 21890.4 | I92: 24041.2 | J92: 25809.16 | K92: 27602.29 | L92: 29640.98 | M92: 31250.72 | N92: 33176.17 | O92: 35147.25 | P92: 37166.1 | AA92: =IF(COUNT(E92:F92)=2,F92-E92,"") | AB92: =IF(COUNT(F92:G92)=2,G92-F92,"") -> 2313.74 | AC92: =IF(COUNT(G92:H92)=2,H92-G92,"") -> 2016.1 | AD92: =IF(COUNT(H92:I92)=2,I92-H92,"") -> 2150.8 | AE92: =IF(COUNT(I92:J92)=2,J92-I92,"") -> 1767.96 | AF92: =IF(COUNT(J92:K92)=2,K92-J92,"") -> 1793.13 | AG92: =IF(COUNT(K92:L92)=2,L92-K92,"") -> 2038.69 | AH92: =IF(COUNT(L92:M92)=2,M92-L92,"") -> 1609.74 | ... AQ92: =IF(COUNT(U92:V92)=2,V92-U92,"")
AA93: =IF(COUNT(E93:F93)=2,F93-E93,"") | AB93: =IF(COUNT(F93:G93)=2,G93-F93,"") | AC93: =IF(COUNT(G93:H93)=2,H93-G93,"") | AD93: =IF(COUNT(H93:I93)=2,I93-H93,"") | AE93: =IF(COUNT(I93:J93)=2,J93-I93,"") | AF93: =IF(COUNT(J93:K93)=2,K93-J93,"") | AG93: =IF(COUNT(K93:L93)=2,L93-K93,"") | AH93: =IF(COUNT(L93:M93)=2,M93-L93,"") | ... AQ93: =IF(COUNT(U93:V93)=2,V93-U93,"")
D94: TD N2 | E94: Centrale de mesure | F94: 17171.3 | G94: 19891 | H94: 22310.6 | I94: 25225.7 | J94: 27500.03 | K94: 29846.7 | L94: 32509.5 | M94: 34816.3 | N94: 37416.4 | O94: 39884.2 | P94: 42648.9 | AA94: =IF(COUNT(E94:F94)=2,F94-E94,"") | AB94: =IF(COUNT(F94:G94)=2,G94-F94,"") -> 2719.7 | AC94: =IF(COUNT(G94:H94)=2,H94-G94,"") -> 2419.6 | AD94: =IF(COUNT(H94:I94)=2,I94-H94,"") -> 2915.1 | AE94: =IF(COUNT(I94:J94)=2,J94-I94,"") -> 2274.33 | AF94: =IF(COUNT(J94:K94)=2,K94-J94,"") -> 2346.67 | AG94: =IF(COUNT(K94:L94)=2,L94-K94,"") -> 2662.8 | AH94: =IF(COUNT(L94:M94)=2,M94-L94,"") -> 2306.8 | ... AQ94: =IF(COUNT(U94:V94)=2,V94-U94,"")
E95: CP1 Compt-éclairage | F95: 8040.6 | G95: 8950.4 | H95: 9764.2 | I95: 10725.5 | J95: 11451.05 | K95: 12185 | L95: 13043.6 | M95: 13800 | N95: 14621.8 | O95: 15416.8 | P95: 16311.3 | AA95: =IF(COUNT(E95:F95)=2,F95-E95,"") | AB95: =IF(COUNT(F95:G95)=2,G95-F95,"") -> 909.8 | AC95: =IF(COUNT(G95:H95)=2,H95-G95,"") -> 813.8 | AD95: =IF(COUNT(H95:I95)=2,I95-H95,"") -> 961.3 | AE95: =IF(COUNT(I95:J95)=2,J95-I95,"") -> 725.55 | AF95: =IF(COUNT(J95:K95)=2,K95-J95,"") -> 733.95 | AG95: =IF(COUNT(K95:L95)=2,L95-K95,"") -> 858.6 | AH95: =IF(COUNT(L95:M95)=2,M95-L95,"") -> 756.4 | ... AQ95: =IF(COUNT(U95:V95)=2,V95-U95,"")
E96: CP2 Compt-CVC | F96: 1653.5 | G96: 1817.8 | H96: 1969.8 | I96: 2155.5 | J96: 2308.02 | K96: 2471.8 | L96: 2646.2 | M96: 2804.6 | N96: 2990.2 | O96: 3143.2 | P96: 3312.8 | AA96: =IF(COUNT(E96:F96)=2,F96-E96,"") | AB96: =IF(COUNT(F96:G96)=2,G96-F96,"") -> 164.3 | AC96: =IF(COUNT(G96:H96)=2,H96-G96,"") -> 152 | AD96: =IF(COUNT(H96:I96)=2,I96-H96,"") -> 185.7 | AE96: =IF(COUNT(I96:J96)=2,J96-I96,"") -> 152.52 | AF96: =IF(COUNT(J96:K96)=2,K96-J96,"") -> 163.78 | AG96: =IF(COUNT(K96:L96)=2,L96-K96,"") -> 174.4 | AH96: =IF(COUNT(L96:M96)=2,M96-L96,"") -> 158.4 | ... AQ96: =IF(COUNT(U96:V96)=2,V96-U96,"")
E97: CP3 Compt-BEC | F97: 1661.7 | G97: 1951 | H97: 2207.7 | I97: 2517.2 | J97: 2769.05 | K97: 3011.9 | L97: 3272.5 | M97: 3500.3 | N97: 3775.6 | O97: 4033.9 | P97: 4312 | AA97: =IF(COUNT(E97:F97)=2,F97-E97,"") | AB97: =IF(COUNT(F97:G97)=2,G97-F97,"") -> 289.3 | AC97: =IF(COUNT(G97:H97)=2,H97-G97,"") -> 256.7 | AD97: =IF(COUNT(H97:I97)=2,I97-H97,"") -> 309.5 | AE97: =IF(COUNT(I97:J97)=2,J97-I97,"") -> 251.85 | AF97: =IF(COUNT(J97:K97)=2,K97-J97,"") -> 242.85 | AG97: =IF(COUNT(K97:L97)=2,L97-K97,"") -> 260.6 | AH97: =IF(COUNT(L97:M97)=2,M97-L97,"") -> 227.8 | ... AQ97: =IF(COUNT(U97:V97)=2,V97-U97,"")
E98: CP4 Compt-PC | F98: 2255.4 | G98: 2796.1 | H98: 3265.5 | I98: 3834.7 | J98: 4273.06 | K98: 4734.9 | L98: 5263.1 | M98: 5704.6 | N98: 6198.3 | O98: 6693.6 | P98: 7261.8 | AA98: =IF(COUNT(E98:F98)=2,F98-E98,"") | AB98: =IF(COUNT(F98:G98)=2,G98-F98,"") -> 540.7 | AC98: =IF(COUNT(G98:H98)=2,H98-G98,"") -> 469.4 | AD98: =IF(COUNT(H98:I98)=2,I98-H98,"") -> 569.2 | AE98: =IF(COUNT(I98:J98)=2,J98-I98,"") -> 438.36 | AF98: =IF(COUNT(J98:K98)=2,K98-J98,"") -> 461.84 | AG98: =IF(COUNT(K98:L98)=2,L98-K98,"") -> 528.2 | AH98: =IF(COUNT(L98:M98)=2,M98-L98,"") -> 441.5 | ... AQ98: =IF(COUNT(U98:V98)=2,V98-U98,"")
D99: Total TD N2 | F99: 30782.5 | G99: 35406.3 | H99: 39517.8 | I99: 44458.6 | J99: 48301.21 | K99: 52250.3 | L99: 56734.9 | M99: 60625.8 | N99: 65002.3 | O99: 69171.7 | P99: 73846.8 | AA99: =IF(COUNT(E99:F99)=2,F99-E99,"") | AB99: =IF(COUNT(F99:G99)=2,G99-F99,"") -> 4623.8 | AC99: =IF(COUNT(G99:H99)=2,H99-G99,"") -> 4111.5 | AD99: =IF(COUNT(H99:I99)=2,I99-H99,"") -> 4940.8 | AE99: =IF(COUNT(I99:J99)=2,J99-I99,"") -> 3842.61 | AF99: =IF(COUNT(J99:K99)=2,K99-J99,"") -> 3949.09 | AG99: =IF(COUNT(K99:L99)=2,L99-K99,"") -> 4484.6 | AH99: =IF(COUNT(L99:M99)=2,M99-L99,"") -> 3890.9 | ... AQ99: =IF(COUNT(U99:V99)=2,V99-U99,"")
AA100: =IF(COUNT(E100:F100)=2,F100-E100,"") | AB100: =IF(COUNT(F100:G100)=2,G100-F100,"") | AC100: =IF(COUNT(G100:H100)=2,H100-G100,"") | AD100: =IF(COUNT(H100:I100)=2,I100-H100,"") | AE100: =IF(COUNT(I100:J100)=2,J100-I100,"") | AF100: =IF(COUNT(J100:K100)=2,K100-J100,"") | AG100: =IF(COUNT(K100:L100)=2,L100-K100,"") | AH100: =IF(COUNT(L100:M100)=2,M100-L100,"") | ... AQ100: =IF(COUNT(U100:V100)=2,V100-U100,"")
D101: TD N3 | E101: Centrale de mesure | F101: 15261 | G101: 17739.3 | H101: 19931.5 | I101: 22541.6 | J101: 24645 | K101: 26770.5 | L101: 29143 | M101: 31275.1 | N101: 33625.4 | O101: 35810.8 | P101: 38186.1 | AA101: =IF(COUNT(E101:F101)=2,F101-E101,"") | AB101: =IF(COUNT(F101:G101)=2,G101-F101,"") -> 2478.3 | AC101: =IF(COUNT(G101:H101)=2,H101-G101,"") -> 2192.2 | AD101: =IF(COUNT(H101:I101)=2,I101-H101,"") -> 2610.1 | AE101: =IF(COUNT(I101:J101)=2,J101-I101,"") -> 2103.4 | AF101: =IF(COUNT(J101:K101)=2,K101-J101,"") -> 2125.5 | AG101: =IF(COUNT(K101:L101)=2,L101-K101,"") -> 2372.5 | AH101: =IF(COUNT(L101:M101)=2,M101-L101,"") -> 2132.1 | ... AQ101: =IF(COUNT(U101:V101)=2,V101-U101,"")
E102: CP1 Compt-éclairage | F102: 8915.9 | G102: 9849.9 | H102: 10616.3 | I102: 11493.4 | J102: 12186.03 | K102: 12883.9 | L102: 13652.6 | M102: 14305.7 | N102: 15039.7 | O102: 15759.7 | P102: 16564.4 | AA102: =IF(COUNT(E102:F102)=2,F102-E102,"") | AB102: =IF(COUNT(F102:G102)=2,G102-F102,"") -> 934 | AC102: =IF(COUNT(G102:H102)=2,H102-G102,"") -> 766.4 | AD102: =IF(COUNT(H102:I102)=2,I102-H102,"") -> 877.1 | AE102: =IF(COUNT(I102:J102)=2,J102-I102,"") -> 692.63 | AF102: =IF(COUNT(J102:K102)=2,K102-J102,"") -> 697.87 | AG102: =IF(COUNT(K102:L102)=2,L102-K102,"") -> 768.7 | AH102: =IF(COUNT(L102:M102)=2,M102-L102,"") -> 653.1 | ... AQ102: =IF(COUNT(U102:V102)=2,V102-U102,"")
...
