Workbook
Name BDD: OFFSET('BDD PowerBI'!$A$1:$K$1,,,COUNTA('BDD PowerBI'!$B:$B),)
Name CleU: 'BDD PowerBI'!$A$2:$A$1303
Name Date_et_Heure: 'BDD PowerBI'!$B$2:$B$1303
Name Relevé_Compteur.: 'BDD PowerBI'!$D$2:$D$1303
Name Relevé_Compteur_parent: 'BDD PowerBI'!$E$2:$E$1303
Name Relevé_Localisation: 'BDD PowerBI'!$H$2:$H$1303
Name Relevé_pour_le_mois_de: 'BDD PowerBI'!$C$2:$C$1303
Name Relevé_Relevé: 'BDD PowerBI'!$K$2:$K$1303
Name Relevé_TYPE: 'BDD PowerBI'!$G$2:$G$1303
Name Relevé_Typologie: 'BDD PowerBI'!$I$2:$I$1303
Name Relevé_UNITE: 'BDD PowerBI'!$F$2:$F$1303
Name Relevé_Usage: 'BDD PowerBI'!$J$2:$J$1303

Sheet BDD PowerBI
A1: CleU | B1: Date et Heure | C1: Relevé pour le mois de : | D1: Relevé#Compteur. | E1: Relevé#Compteur parent | F1: Relevé#UNITE | G1: Relevé#TYPE | H1: Relevé#Localisation | I1: Relevé#Typologie | J1: Relevé#Usage | K1: Relevé#Relevé
A2: =E2&"_"&D2&"\\"&TEXT(C2,"JJMMAA") -> Compteur EDF_121 E Active 1 HPH\\2212AA | B2: 44896 | C2: 44896 | D2: 121 E Active 1 HPH | E2: Compteur EDF | F2: kWh | G2: ELECTRICITE | J2: Général | K2: 84123
A3: =E3&"_"&D3&"\\"&TEXT(C3,"JJMMAA") -> Compteur EDF_122 E Active 1 HCH\\2212AA | B3: 44896 | C3: 44896 | D3: 122 E Active 1 HCH | E3: Compteur EDF | F3: kWh | G3: ELECTRICITE | J3: Général | K3: 38773
A4: =E4&"_"&D4&"\\"&TEXT(C4,"JJMMAA") -> Compteur EDF_123 E Active 1 HPE\\2212AA | B4: 44896 | C4: 44896 | D4: 123 E Active 1 HPE | E4: Compteur EDF | F4: kWh | G4: ELECTRICITE | J4: Général | K4: 259220
A5: =E5&"_"&D5&"\\"&TEXT(C5,"JJMMAA") -> Compteur EDF_124 E Active 1 HCE\\2212AA | B5: 44896 | C5: 44896 | D5: 124 E Active 1 HCE | E5: Compteur EDF | F5: kWh | G5: ELECTRICITE | J5: Général | K5: 107534
A6: =E6&"_"&D6&"\\"&TEXT(C6,"JJMMAA") -> Compteur EDF_220 E Active 1 P\\2212AA | B6: 44896 | C6: 44896 | D6: 220 E Active 1 P | E6: Compteur EDF | F6: kWh | G6: ELECTRICITE | J6: Général | K6: 12107
A7: =E7&"_"&D7&"\\"&TEXT(C7,"JJMMAA") -> TGBT_ARM_BRANCH_LC\\2212AA | B7: 44896 | C7: 44896 | D7: ARM_BRANCH_LC | E7: TGBT | F7: kWh | G7: ELECTRICITE | J7: CVC | K7: 932.8
A8: =E8&"_"&D8&"\\"&TEXT(C8,"JJMMAA") -> TGBT_ARM_CLIM_DET_D_OND1\\2212AA | B8: 44896 | C8: 44896 | D8: ARM_CLIM_DET_D_OND1 | E8: TGBT | F8: kWh | G8: ELECTRICITE | J8: PROCESS | K8: 93.9
A9: =E9&"_"&D9&"\\"&TEXT(C9,"JJMMAA") -> TGBT_ARM_CLIM_DET_D_OND2\\2212AA | B9: 44896 | C9: 44896 | D9: ARM_CLIM_DET_D_OND2 | E9: TGBT | F9: kWh | G9: ELECTRICITE | J9: PROCESS | K9: 88.2
A10: =E10&"_"&D10&"\\"&TEXT(C10,"JJMMAA") -> TGBT_ARM_CLIM_DET_D_VDI1\\2212AA | B10: 44896 | C10: 44896 | D10: ARM_CLIM_DET_D_VDI1 | E10: TGBT | F10: kWh | G10: ELECTRICITE | J10: PROCESS | K10: 633.2
A11: =E11&"_"&D11&"\\"&TEXT(C11,"JJMMAA") -> TGBT_ARM_CLIM_DET_D_VDI2\\2212AA | B11: 44896 | C11: 44896 | D11: ARM_CLIM_DET_D_VDI2 | E11: TGBT | F11: kWh | G11: ELECTRICITE | J11: PROCESS | K11: 1077.6
A12: =E12&"_"&D12&"\\"&TEXT(C12,"JJMMAA") -> TGBT_ARM_CLIM_EG_LC_VDI1\\2212AA | B12: 44896 | C12: 44896 | D12: ARM_CLIM_EG_LC_VDI1 | E12: TGBT | F12: kWh | G12: ELECTRICITE | J12: CVC | K12: 97.4
A13: =E13&"_"&D13&"\\"&TEXT(C13,"JJMMAA") -> TGBT_ARM_CLIM_EG_LC_VDI2\\2212AA | B13: 44896 | C13: 44896 | D13: ARM_CLIM_EG_LC_VDI2 | E13: TGBT | F13: kWh | G13: ELECTRICITE | J13: CVC | K13: 1664.9
... A20: =E20&"_"&D20&"\\"&TEXT(C20,"JJMMAA") -> TGBT_ASC_2800Kg\\2212AA | B20: 44896 | C20: 44896 | D20: ASC_2800Kg | E20: TGBT | F20: kWh | G20: ELECTRICITE | J20: Ascenseurs | K20: 730
A21: =E21&"_"&D21&"\\"&TEXT(C21,"JJMMAA") -> TD Amphithéatre_Centrale de mesure\\2212AA | B21: 44896 | C21: 44896 | D21: Centrale de mesure | E21: TD Amphithéatre | F21: kWh | G21: ELECTRICITE | H21: RDCH | I21: Normal | J21: Total | K21: 2096.21
A22: =E22&"_"&D22&"\\"&TEXT(C22,"JJMMAA") -> TD Caféteria_Centrale de mesure\\2212AA | B22: 44896 | C22: 44896 | D22: Centrale de mesure | E22: TD Caféteria | F22: kWh | G22: ELECTRICITE | H22: Cafétéria | I22: Normal | J22: Total | K22: 137.1
A23: =E23&"_"&D23&"\\"&TEXT(C23,"JJMMAA") -> TD HQ Serveur 1_Centrale de mesure\\2212AA | B23: 44896 | C23: 44896 | D23: Centrale de mesure | E23: TD HQ Serveur 1 | F23: kWh | G23: ELECTRICITE | H23: RDCH | I23: Secouru | J23: Total | K23: 6487.98
A24: =E24&"_"&D24&"\\"&TEXT(C24,"JJMMAA") -> TD HQ N0_Centrale de mesure\\2212AA | B24: 44896 | C24: 44896 | D24: Centrale de mesure | E24: TD HQ N0 | F24: kWh | G24: ELECTRICITE | H24: RDCH | I24: Secouru | J24: Total | K24: 5831.15
A25: =E25&"_"&D25&"\\"&TEXT(C25,"JJMMAA") -> TD HQ N1_Centrale de mesure\\2212AA | B25: 44896 | C25: 44896 | D25: Centrale de mesure | E25: TD HQ N1 | F25: kWh | G25: ELECTRICITE | H25: R+1 | I25: Secouru | J25: Total | K25: 1848.5
A26: =E26&"_"&D26&"\\"&TEXT(C26,"JJMMAA") -> TD HQ N8_Centrale de mesure\\2212AA | B26: 44896 | C26: 44896 | D26: Centrale de mesure | E26: TD HQ N8 | F26: kWh | G26: ELECTRICITE | H26: R+8 | I26: Secouru | J26: Total | K26: 6074.5
A27: =E27&"_"&D27&"\\"&TEXT(C27,"JJMMAA") -> TD HQ PCS_Centrale de mesure\\2212AA | B27: 44896 | C27: 44896 | D27: Centrale de mesure | E27: TD HQ PCS | F27: kWh | G27: ELECTRICITE | H27: RDCH | I27: Secouru | J27: Total | K27: 2709.77
A28: =E28&"_"&D28&"\\"&TEXT(C28,"JJMMAA") -> TD HQ Serveur 2_Centrale de mesure\\2212AA | B28: 44896 | C28: 44896 | D28: Centrale de mesure | E28: TD HQ Serveur 2 | F28: kWh | G28: ELECTRICITE | H28: RDCH | I28: Secouru | J28: Total | K28: 6067.1
A29: =E29&"_"&D29&"\\"&TEXT(C29,"JJMMAA") -> TD Instance 120P_Centrale de mesure\\2212AA | B29: 44896 | C29: 44896 | D29: Centrale de mesure | E29: TD Instance 120P | F29: kWh | G29: ELECTRICITE | H29: RDCH | I29: Normal | J29: Total | K29: 3076.46
A30: =E30&"_"&D30&"\\"&TEXT(C30,"JJMMAA") -> TD Instance 30P_Centrale de mesure\\2212AA | B30: 44896 | C30: 44896 | D30: Centrale de mesure | E30: TD Instance 30P | F30: kWh | G30: ELECTRICITE | H30: RDCH | I30: Normal | J30: Total | K30: 29.54
A31: =E31&"_"&D31&"\\"&TEXT(C31,"JJMMAA") -> TD N1_Centrale de mesure\\2212AA | B31: 44896 | C31: 44896 | D31: Centrale de mesure | E31: TD N1 | F31: kWh | G31: ELECTRICITE | H31: R+1 | I31: Normal | J31: Total | K31: 8769.1
A32: =E32&"_"&D32&"\\"&TEXT(C32,"JJMMAA") -> TD N2_Centrale de mesure\\2212AA | B32: 44896 | C32: 44896 | D32: Centrale de mesure | E32: TD N2 | F32: kWh | G32: ELECTRICITE | H32: R+2 | I32: Normal | J32: Total | K32: 17171.3
... A110: =E110&"_"&D110&"\\"&TEXT(C110,"JJMMAA") -> TD N7_CP4 Compt-PC\\2212AA | B110: 44896 | C110: 44896 | D110: CP4 Compt-PC | E110: TD N7 | F110: kWh | G110: ELECTRICITE | H110: R+7 | I110: Normal | J110: PC | K110: 3179.7
A111: =E111&"_"&D111&"\\"&TEXT(C111,"JJMMAA") -> Coffret LT CTA SUD_CTA 1\\2212AA | B111: 44896 | C111: 44896 | D111: CTA 1 | E111: Coffret LT CTA SUD | F111: kWh | G111: ELECTRICITE | J111: CVC | K111: 8176.23
A112: =E112&"_"&D112&"\\"&TEXT(C112,"JJMMAA") -> Coffret LT CTA SUD_CTA 3\\2212AA | B112: 44896 | C112: 44896 | D112: CTA 3 | E112: Coffret LT CTA SUD | F112: kWh | G112: ELECTRICITE | J112: CVC | K112: 8666.94
A113: =E113&"_"&D113&"\\"&TEXT(C113,"JJMMAA") -> Coffret LT CTA SUD_CTA 4\\2212AA | B113: 44896 | C113: 44896 | D113: CTA 4 | E113: Coffret LT CTA SUD | F113: kWh | G113: ELECTRICITE | J113: CVC | K113: 5027.88
A114: =E114&"_"&D114&"\\"&TEXT(C114,"JJMMAA") -> Coffret LT CTA SUD_CTA 5\\2212AA | B114: 44896 | C114: 44896 | D114: CTA 5 | E114: Coffret LT CTA SUD | F114: kWh | G114: ELECTRICITE | J114: CVC | K114: 3201.5
A115: =E115&"_"&D115&"\\"&TEXT(C115,"JJMMAA") -> Coffret LT CTA SUD_CTA 6\\2212AA | B115: 44896 | C115: 44896 | D115: CTA 6 | E115: Coffret LT CTA SUD | F115: kWh | G115: ELECTRICITE | J115: CVC | K115: 29319.2
A116: =E116&"_"&D116&"\\"&TEXT(C116,"JJMMAA") -> Coffret LT CTA SUD_CTA 7\\2212AA | B116: 44896 | C116: 44896 | D116: CTA 7 | E116: Coffret LT CTA SUD | F116: kWh | G116: ELECTRICITE | J116: CVC | K116: 20886.33
A117: =E117&"_"&D117&"\\"&TEXT(C117,"JJMMAA") -> TGBT_CTA_02_AMPHIE\\2212AA | B117: 44896 | C117: 44896 | D117: CTA_02_AMPHIE | E117: TGBT | F117: kWh | G117: ELECTRICITE | J117: CVC | K117: 538.6
A118: =E118&"_"&D118&"\\"&TEXT(C118,"JJMMAA") -> TGBT_CTA_08_LT_NORD_OS\\2212AA | B118: 44896 | C118: 44896 | D118: CTA_08_LT_NORD_OS | E118: TGBT | F118: kWh | G118: ELECTRICITE | J118: CVC | K118: 620
A119: =E119&"_"&D119&"\\"&TEXT(C119,"JJMMAA") -> TGBT_DRY_1\\2212AA | B119: 44896 | C119: 44896 | D119: DRY_1 | E119: TGBT | F119: kWh | G119: ELECTRICITE | J119: CVC | K119: 617.3
A120: =E120&"_"&D120&"\\"&TEXT(C120,"JJMMAA") -> TGBT_DRY_2\\2212AA | B120: 44896 | C120: 44896 | D120: DRY_2 | E120: TGBT | F120: kWh | G120: ELECTRICITE | J120: CVC | K120: 548
A121: =E121&"_"&D121&"\\"&TEXT(C121,"JJMMAA") -> Eau chaude_Eau chaude m3\\2212AA | B121: 44896 | C121: 44896 | D121: Eau chaude m3 | E121: Eau chaude | F121: m3 | G121: EAU | J121: Total | K121: 41021.848
A122: =E122&"_"&D122&"\\"&TEXT(C122,"JJMMAA") -> Eau chaude_Eau chaude m3/h\\2212AA | B122: 44896 | C122: 44896 | D122: Eau chaude m3/h | E122: Eau chaude | F122: m3/h | G122: EAU | J122: Total | K122: 16.523
... A152: =E152&"_"&D152&"\\"&TEXT(C152,"JJMMAA") -> TGBT_ASC_2800Kg\\2301AA | B152: 44927 | C152: 44927 | D152: ASC_2800Kg | E152: TGBT | F152: kWh | G152: ELECTRICITE | J152: Ascenseurs | K152: 849.9
...

Sheet Consommation
A1: Mois | B1: 44562 | C1: 44593 | D1: 44621 | E1: 44652 | F1: 44682 | G1: 44713 | H1: 44743 | I1: 44774 | J1: 44805 | K1: 44835 | L1: 44866 | M1: 44896 | N1: 44927 | O1: 44958 | P1: 44986 | Q1: 45017 | R1: 45047 | S1: 45078 | T1: 45108 | U1: 45139 | V1: 45170 | W1: 45200 | X1: 45231 | Y1: 45261 | Z1: 45292 | AA1: 45323 | AB1: 45352 | AC1: 45383 | AD1: 45413 | AE1: 45444
A2: Compteur EDF_121 E Active 1 HPH | B2: =IF(IFERROR(OFFSET('BDD PowerBI'!$A$1,MATCH(Consommation!$A2&"\\"&TEXT(Consommation!B$1,"JJMMAA"),CleU,0),10),0)-IFERROR(OFFSET('BDD PowerBI'!$A$1,MATCH(Consommation!$A2&"\\"&TEXT(DATE(YEAR(B$1)-1,MONTH(B$1),1),"JJMMAA"),CleU,0),10),0)<0,0,IFERROR(OFFSET('BDD PowerBI'!$A$1,MATCH(Consommation!$A2&"\\"&TEXT(Consommation!B$1,"JJMMAA"),CleU,0),10),0)-IFERROR(OFFSET('BDD PowerBI'!$A$1,MATCH(Consommation!$A2&"\\"&TEXT(DATE(YEAR(B$1)-1,MONTH(B$1),1),"JJMMAA"),CleU,0),10),0)) -> 0 | C2: =IF(IFERROR(OFFSET('BDD PowerBI'!$A$1,MATCH(Consommation!$A2&"\\"&TEXT(Consommation!C$1,"JJMMAA"),CleU,0),10),0)-IFERROR(OFFSET('BDD PowerBI'!$A$1,MATCH(Consommation!$A2&"\\"&TEXT(DATE(YEAR(C$1)-1,MONTH(C$1),1),"JJMMAA"),CleU,0),10),0)<0,0,IFERROR(OFFSET('BDD PowerBI'!$A$1,MATCH(Consommation!$A2&"\\"&TEXT(Consommation!C$1,"JJMMAA"),CleU,0),10),0)-IFERROR(OFFSET('BDD PowerBI'!$A$1,MATCH(Consommation!$A2&"\\"&TEXT(DATE(YEAR(C$1)-1,MONTH(C$1),1),"JJMMAA"),CleU,0),10),0)) -> 0 | D2: =IF(IFERROR(OFFSET('BDD PowerBI'!$A$1,MATCH(Consommation!$A2&"\\"&TEXT(Consommation!D$1,"JJMMAA"),CleU,0),10),0)-IFERROR(OFFSET('BDD PowerBI'!$A$1,MATCH(Consommation!$A2&"\\"&TEXT(DATE(YEAR(D$1)-1,MONTH(D$1),1),"JJMMAA"),CleU,0),10),0)<0,0,IFERROR(OFFSET('BDD PowerBI'!$A$1,MATCH(Consommation!$A2&"\\"&TEXT(Consommation!D$1,"JJMMAA"),CleU,0),10),0)-IFERROR(OFFSET('BDD PowerBI'!$A$1,MATCH(Consommation!$A2&"\\"&TEXT(DATE(YEAR(D$1)-1,MONTH(D$1),1),"JJMMAA"),CleU,0),10),0)) -> 0 | E2: =IF(IFERROR(OFFSET('BDD PowerBI'!$A$1,MATCH(Consommation!$A2&"\\"&TEXT(Consommation!E$1,"JJMMAA"),CleU,0),10),0)-IFERROR(OFFSET('BDD PowerBI'!$A$1,MATCH(Consommation!$A2&"\\"&TEXT(DATE(YEAR(E$1)-1,MONTH(E$1),1),"JJMMAA"),CleU,0),10),0)<0,0,IFERROR(OFFSET('BDD PowerBI'!$A$1,MATCH(Consommation!$A2&"\\"&TEXT(Consommation!E$1,"JJMMAA"),CleU,0),10),0)-IFERROR(OFFSET('BDD PowerBI'!$A$1,MATCH(Consommation!$A2&"\\"&TEXT(DATE(YEAR(E$1)-1,MONTH(E$1),1),"JJMMAA"),CleU,0),10),0)) -> 0 | F2: =IF(IFERROR(OFFSET('BDD PowerBI'!$A$1,MATCH(Consommation!$A2&"\\"&TEXT(Consommation!F$1,"JJMMAA"),CleU,0),10),0)-IFERROR(OFFSET('BDD PowerBI'!$A$1,MATCH(Consommation!$A2&"\\"&TEXT(DATE(YEAR(F$1)-1,MONTH(F$1),1),"JJMMAA"),CleU,0),10),0)<0,0,IFERROR(OFFSET('BDD PowerBI'!$A$1,MATCH(Consommation!$A2&"\\"&TEXT(Consommation!F$1,"JJMMAA"),CleU,0),10),0)-IFERROR(OFFSET('BDD PowerBI'!$A$1,MATCH(Consommation!$A2&"\\"&TEXT(DATE(YEAR(F$1)-1,MONTH(F$1),1),"JJMMAA"),CleU,0),10),0)) -> 0 | G2: =IF(IFERROR(OFFSET('BDD PowerBI'!$A$1,MATCH(Consommation!$A2&"\\"&TEXT(Consommation!G$1,"JJMMAA"),CleU,0),10),0)-IFERROR(OFFSET('BDD PowerBI'!$A$1,MATCH(Consommation!$A2&"\\"&TEXT(DATE(YEAR(G$1)-1,MONTH(G$1),1),"JJMMAA"),CleU,0),10),0)<0,0,IFERROR(OFFSET('BDD PowerBI'!$A$1,MATCH(Consommation!$A2&"\\"&TEXT(Consommation!G$1,"JJMMAA"),CleU,0),10),0)-IFERROR(OFFSET('BDD PowerBI'!$A$1,MATCH(Consommation!$A2&"\\"&TEXT(DATE(YEAR(G$1)-1,MONTH(G$1),1),"JJMMAA"),CleU,0),10),0)) -> 0 | H2: =IF(IFERROR(OFFSET('BDD PowerBI'!$A$1,MATCH(Consommation!$A2&"\\"&TEXT(Consommation!H$1,"JJMMAA"),CleU,0),10),0)-IFERROR(OFFSET('BDD PowerBI'!$A$1,MATCH(Consommation!$A2&"\\"&TEXT(DATE(YEAR(H$1)-1,MONTH(H$1),1),"JJMMAA"),CleU,0),10),0)<0,0,IFERROR(OFFSET('BDD PowerBI'!$A$1,MATCH(Consommation!$A2&"\\"&TEXT(Consommation!H$1,"JJMMAA"),CleU,0),10),0)-IFERROR(OFFSET('BDD PowerBI'!$A$1,MATCH(Consommation!$A2&"\\"&TEXT(DATE(YEAR(H$1)-1,MONTH(H$1),1),"JJMMAA"),CleU,0),10),0)) -> 0 | I2: =IF(IFERROR(OFFSET('BDD PowerBI'!$A$1,MATCH(Consommation!$A2&"\\"&TEXT(Consommation!I$1,"JJMMAA"),CleU,0),10),0)-IFERROR(OFFSET('BDD PowerBI'!$A$1,MATCH(Consommation!$A2&"\\"&TEXT(DATE(YEAR(I$1)-1,MONTH(I$1),1),"JJMMAA"),CleU,0),10),0)<0,0,IFERROR(OFFSET('BDD PowerBI'!$A$1,MATCH(Consommation!$A2&"\\"&TEXT(Consommation!I$1,"JJMMAA"),CleU,0),10),0)-IFERROR(OFFSET('BDD PowerBI'!$A$1,MATCH(Consommation!$A2&"\\"&TEXT(DATE(YEAR(I$1)-1,MONTH(I$1),1),"JJMMAA"),CleU,0),10),0)) -> 0 | ... AE2: =IF(IFERROR(OFFSET('BDD PowerBI'!$A$1,MATCH(Consommation!$A2&"\\"&TEXT(Consommation!AE$1,"JJMMAA"),CleU,0),10),0)-IFERROR(OFFSET('BDD PowerBI'!$A$1,MATCH(Consommation!$A2&"\\"&TEXT(DATE(YEAR(AE$1)-1,MONTH(AE$1),1),"JJMMAA"),CleU,0),10),0)<0,0,IFERROR(OFFSET('BDD PowerBI'!$A$1,MATCH(Consommation!$A2&"\\"&TEXT(Consommation!AE$1,"JJMMAA"),CleU,0),10),0)-IFERROR(OFFSET('BDD PowerBI'!$A$1,MATCH(Consommation!$A2&"\\"&TEXT(DATE(YEAR(AE$1)-1,MONTH(AE$1),1),"JJMMAA"),CleU,0),10),0)) -> 0
A3: Compteur EDF_122 E Active 1 HCH | B3: =IF(IFERROR(OFFSET('BDD PowerBI'!$A$1,MATCH(Consommation!$A3&"\\"&TEXT(Consommation!B$1,"JJMMAA"),CleU,0),10),0)-IFERROR(OFFSET('BDD PowerBI'!$A$1,MATCH(Consommation!$A3&"\\"&TEXT(DATE(YEAR(B$1)-1,MONTH(B$1),1),"JJMMAA"),CleU,0),10),0)<0,0,IFERROR(OFFSET('BDD PowerBI'!$A$1,MATCH(Consommation!$A3&"\\"&TEXT(Consommation!B$1,"JJMMAA"),CleU,0),10),0)-IFERROR(OFFSET('BDD PowerBI'!$A$1,MATCH(Consommation!$A3&"\\"&TEXT(DATE(YEAR(B$1)-1,MONTH(B$1),1),"JJMMAA"),CleU,0),10),0)) -> 0 | C3: =IF(IFERROR(OFFSET('BDD PowerBI'!$A$1,MATCH(Consommation!$A3&"\\"&TEXT(Consommation!C$1,"JJMMAA"),CleU,0),10),0)-IFERROR(OFFSET('BDD PowerBI'!$A$1,MATCH(Consommation!$A3&"\\"&TEXT(DATE(YEAR(C$1)-1,MONTH(C$1),1),"JJMMAA"),CleU,0),10),0)<0,0,IFERROR(OFFSET('BDD PowerBI'!$A$1,MATCH(Consommation!$A3&"\\"&TEXT(Consommation!C$1,"JJMMAA"),CleU,0),10),0)-IFERROR(OFFSET('BDD PowerBI'!$A$1,MATCH(Consommation!$A3&"\\"&TEXT(DATE(YEAR(C$1)-1,MONTH(C$1),1),"JJMMAA"),CleU,0),10),0)) -> 0 | D3: =IF(IFERROR(OFFSET('BDD PowerBI'!$A$1,MATCH(Consommation!$A3&"\\"&TEXT(Consommation!D$1,"JJMMAA"),CleU,0),10),0)-IFERROR(OFFSET('BDD PowerBI'!$A$1,MATCH(Consommation!$A3&"\\"&TEXT(DATE(YEAR(D$1)-1,MONTH(D$1),1),"JJMMAA"),CleU,0),10),0)<0,0,IFERROR(OFFSET('BDD PowerBI'!$A$1,MATCH(Consommation!$A3&"\\"&TEXT(Consommation!D$1,"JJMMAA"),CleU,0),10),0)-IFERROR(OFFSET('BDD PowerBI'!$A$1,MATCH(Consommation!$A3&"\\"&TEXT(DATE(YEAR(D$1)-1,MONTH(D$1),1),"JJMMAA"),CleU,0),10),0)) -> 0 | E3: =IF(IFERROR(OFFSET('BDD PowerBI'!$A$1,MATCH(Consommation!$A3&"\\"&TEXT(Consommation!E$1,"JJMMAA"),CleU,0),10),0)-IFERROR(OFFSET('BDD PowerBI'!$A$1,MATCH(Consommation!$A3&"\\"&TEXT(DATE(YEAR(E$1)-1,MONTH(E$1),1),"JJMMAA"),CleU,0),10),0)<0,0,IFERROR(OFFSET('BDD PowerBI'!$A$1,MATCH(Consommation!$A3&"\\"&TEXT(Consommation!E$1,"JJMMAA"),CleU,0),10),0)-IFERROR(OFFSET('BDD PowerBI'!$A$1,MATCH(Consommation!$A3&"\\"&TEXT(DATE(YEAR(E$1)-1,MONTH(E$1),1),"JJMMAA"),CleU,0),10),0)) -> 0 | F3: =IF(IFERROR(OFFSET('BDD PowerBI'!$A$1,MATCH(Consommation!$A3&"\\"&TEXT(Consommation!F$1,"JJMMAA"),CleU,0),10),0)-IFERROR(OFFSET('BDD PowerBI'!$A$1,MATCH(Consommation!$A3&"\\"&TEXT(DATE(YEAR(F$1)-1,MONTH(F$1),1),"JJMMAA"),CleU,0),10),0)<0,0,IFERROR(OFFSET('BDD PowerBI'!$A$1,MATCH(Consommation!$A3&"\\"&TEXT(Consommation!F$1,"JJMMAA"),CleU,0),10),0)-IFERROR(OFFSET('BDD PowerBI'!$A$1,MATCH(Consommation!$A3&"\\"&TEXT(DATE(YEAR(F$1)-1,MONTH(F$1),1),"JJMMAA"),CleU,0),10),0)) -> 0 | G3: =IF(IFERROR(OFFSET('BDD PowerBI'!$A$1,MATCH(Consommation!$A3&"\\"&TEXT(Consommation!G$1,"JJMMAA"),CleU,0),10),0)-IFERROR(OFFSET('BDD PowerBI'!$A$1,MATCH(Consommation!$A3&"\\"&TEXT(DATE(YEAR(G$1)-1,MONTH(G$1),1),"JJMMAA"),CleU,0),10),0)<0,0,IFERROR(OFFSET('BDD PowerBI'!$A$1,MATCH(Consommation!$A3&"\\"&TEXT(Consommation!G$1,"JJMMAA"),CleU,0),10),0)-IFERROR(OFFSET('BDD PowerBI'!$A$1,MATCH(Consommation!$A3&"\\"&TEXT(DATE(YEAR(G$1)-1,MONTH(G$1),1),"JJMMAA"),CleU,0),10),0)) -> 0 | H3: =IF(IFERROR(OFFSET('BDD PowerBI'!$A$1,MATCH(Consommation!$A3&"\\"&TEXT(Consommation!H$1,"JJMMAA"),CleU,0),10),0)-IFERROR(OFFSET('BDD PowerBI'!$A$1,MATCH(Consommation!$A3&"\\"&TEXT(DATE(YEAR(H$1)-1,MONTH(H$1),1),"JJMMAA"),CleU,0),10),0)<0,0,IFERROR(OFFSET('BDD PowerBI'!$A$1,MATCH(Consommation!$A3&"\\"&TEXT(Consommation!H$1,"JJMMAA"),CleU,0),10),0)-IFERROR(OFFSET('BDD PowerBI'!$A$1,MATCH(Consommation!$A3&"\\"&TEXT(DATE(YEAR(H$1)-1,MONTH(H$1),1),"JJMMAA"),CleU,0),10),0)) -> 0 | I3: =IF(IFERROR(OFFSET('BDD PowerBI'!$A$1,MATCH(Consommation!$A3&"\\"&TEXT(Consommation!I$1,"JJMMAA"),CleU,0),10),0)-IFERROR(OFFSET('BDD PowerBI'!$A$1,MATCH(Consommation!$A3&"\\"&TEXT(DATE(YEAR(I$1)-1,MONTH(I$1),1),"JJMMAA"),CleU,0),10),0)<0,0,IFERROR(OFFSET('BDD PowerBI'!$A$1,MATCH(Consommation!$A3&"\\"&TEXT(Consommation!I$1,"JJMMAA"),CleU,0),10),0)-IFERROR(OFFSET('BDD PowerBI'!$A$1,MATCH(Consommation!$A3&"\\"&TEXT(DATE(YEAR(I$1)-1,MONTH(I$1),1),"JJMMAA"),CleU,0),10),0)) -> 0 | ... AE3: =IF(IFERROR(OFFSET('BDD PowerBI'!$A$1,MATCH(Consommation!$A3&"\\"&TEXT(Consommation!AE$1,"JJMMAA"),CleU,0),10),0)-IFERROR(OFFSET('BDD PowerBI'!$A$1,MATCH(Consommation!$A3&"\\"&TEXT(DATE(YEAR(AE$1)-1,MONTH(AE$1),1),"JJMMAA"),CleU,0),10),0)<0,0,IFERROR(OFFSET('BDD PowerBI'!$A$1,MATCH(Consommation!$A3&"\\"&TEXT(Consommation!AE$1,"JJMMAA"),CleU,0),10),0)-IFERROR(OFFSET('BDD PowerBI'!$A$1,MATCH(Consommation!$A3&"\\"&TEXT(DATE(YEAR(AE$1)-1,MONTH(AE$1),1),"JJMMAA"),CleU,0),10),0)) -> 0
A4: Compteur EDF_123 E Active 1 HPE | B4: =IF(IFERROR(OFFSET('BDD PowerBI'!$A$1,MATCH(Consommation!$A4&"\\"&TEXT(Consommation!B$1,"JJMMAA"),CleU,0),10),0)-IFERROR(OFFSET('BDD PowerBI'!$A$1,MATCH(Consommation!$A4&"\\"&TEXT(DATE(YEAR(B$1)-1,MONTH(B$1),1),"JJMMAA"),CleU,0),10),0)<0,0,IFERROR(OFFSET('BDD PowerBI'!$A$1,MATCH(Consommation!$A4&"\\"&TEXT(Consommation!B$1,"JJMMAA"),CleU,0),10),0)-IFERROR(OFFSET('BDD PowerBI'!$A$1,MATCH(Consommation!$A4&"\\"&TEXT(DATE(YEAR(B$1)-1,MONTH(B$1),1),"JJMMAA"),CleU,0),10),0)) -> 0 | C4: =IF(IFERROR(OFFSET('BDD PowerBI'!$A$1,MATCH(Consommation!$A4&"\\"&TEXT(Consommation!C$1,"JJMMAA"),CleU,0),10),0)-IFERROR(OFFSET('BDD PowerBI'!$A$1,MATCH(Consommation!$A4&"\\"&TEXT(DATE(YEAR(C$1)-1,MONTH(C$1),1),"JJMMAA"),CleU,0),10),0)<0,0,IFERROR(OFFSET('BDD PowerBI'!$A$1,MATCH(Consommation!$A4&"\\"&TEXT(Consommation!C$1,"JJMMAA"),CleU,0),10),0)-IFERROR(OFFSET('BDD PowerBI'!$A$1,MATCH(Consommation!$A4&"\\"&TEXT(DATE(YEAR(C$1)-1,MONTH(C$1),1),"JJMMAA"),CleU,0),10),0)) -> 0 | D4: =IF(IFERROR(OFFSET('BDD PowerBI'!$A$1,MATCH(Consommation!$A4&"\\"&TEXT(Consommation!D$1,"JJMMAA"),CleU,0),10),0)-IFERROR(OFFSET('BDD PowerBI'!$A$1,MATCH(Consommation!$A4&"\\"&TEXT(DATE(YEAR(D$1)-1,MONTH(D$1),1),"JJMMAA"),CleU,0),10),0)<0,0,IFERROR(OFFSET('BDD PowerBI'!$A$1,MATCH(Consommation!$A4&"\\"&TEXT(Consommation!D$1,"JJMMAA"),CleU,0),10),0)-IFERROR(OFFSET('BDD PowerBI'!$A$1,MATCH(Consommation!$A4&"\\"&TEXT(DATE(YEAR(D$1)-1,MONTH(D$1),1),"JJMMAA"),CleU,0),10),0)) -> 0 | E4: =IF(IFERROR(OFFSET('BDD PowerBI'!$A$1,MATCH(Consommation!$A4&"\\"&TEXT(Consommation!E$1,"JJMMAA"),CleU,0),10),0)-IFERROR(OFFSET('BDD PowerBI'!$A$1,MATCH(Consommation!$A4&"\\"&TEXT(DATE(YEAR(E$1)-1,MONTH(E$1),1),"JJMMAA"),CleU,0),10),0)<0,0,IFERROR(OFFSET('BDD PowerBI'!$A$1,MATCH(Consommation!$A4&"\\"&TEXT(Consommation!E$1,"JJMMAA"),CleU,0),10),0)-IFERROR(OFFSET('BDD PowerBI'!$A$1,MATCH(Consommation!$A4&"\\"&TEXT(DATE(YEAR(E$1)-1,MONTH(E$1),1),"JJMMAA"),CleU,0),10),0)) -> 0 | F4: =IF(IFERROR(OFFSET('BDD PowerBI'!$A$1,MATCH(Consommation!$A4&"\\"&TEXT(Consommation!F$1,"JJMMAA"),CleU,0),10),0)-IFERROR(OFFSET('BDD PowerBI'!$A$1,MATCH(Consommation!$A4&"\\"&TEXT(DATE(YEAR(F$1)-1,MONTH(F$1),1),"JJMMAA"),CleU,0),10),0)<0,0,IFERROR(OFFSET('BDD PowerBI'!$A$1,MATCH(Consommation!$A4&"\\"&TEXT(Consommation!F$1,"JJMMAA"),CleU,0),10),0)-IFERROR(OFFSET('BDD PowerBI'!$A$1,MATCH(Consommation!$A4&"\\"&TEXT(DATE(YEAR(F$1)-1,MONTH(F$1),1),"JJMMAA"),CleU,0),10),0)) -> 0 | G4: =IF(IFERROR(OFFSET('BDD PowerBI'!$A$1,MATCH(Consommation!$A4&"\\"&TEXT(Consommation!G$1,"JJMMAA"),CleU,0),10),0)-IFERROR(OFFSET('BDD PowerBI'!$A$1,MATCH(Consommation!$A4&"\\"&TEXT(DATE(YEAR(G$1)-1,MONTH(G$1),1),"JJMMAA"),CleU,0),10),0)<0,0,IFERROR(OFFSET('BDD PowerBI'!$A$1,MATCH(Consommation!$A4&"\\"&TEXT(Consommation!G$1,"JJMMAA"),CleU,0),10),0)-IFERROR(OFFSET('BDD PowerBI'!$A$1,MATCH(Consommation!$A4&"\\"&TEXT(DATE(YEAR(G$1)-1,MONTH(G$1),1),"JJMMAA"),CleU,0),10),0)) -> 0 | H4: =IF(IFERROR(OFFSET('BDD PowerBI'!$A$1,MATCH(Consommation!$A4&"\\"&TEXT(Consommation!H$1,"JJMMAA"),CleU,0),10),0)-IFERROR(OFFSET('BDD PowerBI'!$A$1,MATCH(Consommation!$A4&"\\"&TEXT(DATE(YEAR(H$1)-1,MONTH(H$1),1),"JJMMAA"),CleU,0),10),0)<0,0,IFERROR(OFFSET('BDD PowerBI'!$A$1,MATCH(Consommation!$A4&"\\"&TEXT(Consommation!H$1,"JJMMAA"),CleU,0),10),0)-IFERROR(OFFSET('BDD PowerBI'!$A$1,MATCH(Consommation!$A4&"\\"&TEXT(DATE(YEAR(H$1)-1,MONTH(H$1),1),"JJMMAA"),CleU,0),10),0)) -> 0 | I4: =IF(IFERROR(OFFSET('BDD PowerBI'!$A$1,MATCH(Consommation!$A4&"\\"&TEXT(Consommation!I$1,"JJMMAA"),CleU,0),10),0)-IFERROR(OFFSET('BDD PowerBI'!$A$1,MATCH(Consommation!$A4&"\\"&TEXT(DATE(YEAR(I$1)-1,MONTH(I$1),1),"JJMMAA"),CleU,0),10),0)<0,0,IFERROR(OFFSET('BDD PowerBI'!$A$1,MATCH(Consommation!$A4&"\\"&TEXT(Consommation!I$1,"JJMMAA"),CleU,0),10),0)-IFERROR(OFFSET('BDD PowerBI'!$A$1,MATCH(Consommation!$A4&"\\"&TEXT(DATE(YEAR(I$1)-1,MONTH(I$1),1),"JJMMAA"),CleU,0),10),0)) -> 0 | ... AE4: =IF(IFERROR(OFFSET('BDD PowerBI'!$A$1,MATCH(Consommation!$A4&"\\"&TEXT(Consommation!AE$1,"JJMMAA"),CleU,0),10),0)-IFERROR(OFFSET('BDD PowerBI'!$A$1,MATCH(Consommation!$A4&"\\"&TEXT(DATE(YEAR(AE$1)-1,MONTH(AE$1),1),"JJMMAA"),CleU,0),10),0)<0,0,IFERROR(OFFSET('BDD PowerBI'!$A$1,MATCH(Consommation!$A4&"\\"&TEXT(Consommation!AE$1,"JJMMAA"),CleU,0),10),0)-IFERROR(OFFSET('BDD PowerBI'!$A$1,MATCH(Consommation!$A4&"\\"&TEXT(DATE(YEAR(AE$1)-1,MONTH(AE$1),1),"JJMMAA"),CleU,0),10),0)) -> 0
A5: Compteur EDF_124 E Active 1 HCE | B5: =IF(IFERROR(OFFSET('BDD PowerBI'!$A$1,MATCH(Consommation!$A5&"\\"&TEXT(Consommation!B$1,"JJMMAA"),CleU,0),10),0)-IFERROR(OFFSET('BDD PowerBI'!$A$1,MATCH(Consommation!$A5&"\\"&TEXT(DATE(YEAR(B$1)-1,MONTH(B$1),1),"JJMMAA"),CleU,0),10),0)<0,0,IFERROR(OFFSET('BDD PowerBI'!$A$1,MATCH(Consommation!$A5&"\\"&TEXT(Consommation!B$1,"JJMMAA"),CleU,0),10),0)-IFERROR(OFFSET('BDD PowerBI'!$A$1,MATCH(Consommation!$A5&"\\"&TEXT(DATE(YEAR(B$1)-1,MONTH(B$1),1),"JJMMAA"),CleU,0),10),0)) -> 0 | C5: =IF(IFERROR(OFFSET('BDD PowerBI'!$A$1,MATCH(Consommation!$A5&"\\"&TEXT(Consommation!C$1,"JJMMAA"),CleU,0),10),0)-IFERROR(OFFSET('BDD PowerBI'!$A$1,MATCH(Consommation!$A5&"\\"&TEXT(DATE(YEAR(C$1)-1,MONTH(C$1),1),"JJMMAA"),CleU,0),10),0)<0,0,IFERROR(OFFSET('BDD PowerBI'!$A$1,MATCH(Consommation!$A5&"\\"&TEXT(Consommation!C$1,"JJMMAA"),CleU,0),10),0)-IFERROR(OFFSET('BDD PowerBI'!$A$1,MATCH(Consommation!$A5&"\\"&TEXT(DATE(YEAR(C$1)-1,MONTH(C$1),1),"JJMMAA"),CleU,0),10),0)) -> 0 | D5: =IF(IFERROR(OFFSET('BDD PowerBI'!$A$1,MATCH(Consommation!$A5&"\\"&TEXT(Consommation!D$1,"JJMMAA"),CleU,0),10),0)-IFERROR(OFFSET('BDD PowerBI'!$A$1,MATCH(Consommation!$A5&"\\"&TEXT(DATE(YEAR(D$1)-1,MONTH(D$1),1),"JJMMAA"),CleU,0),10),0)<0,0,IFERROR(OFFSET('BDD PowerBI'!$A$1,MATCH(Consommation!$A5&"\\"&TEXT(Consommation!D$1,"JJMMAA"),CleU,0),10),0)-IFERROR(OFFSET('BDD PowerBI'!$A$1,MATCH(Consommation!$A5&"\\"&TEXT(DATE(YEAR(D$1)-1,MONTH(D$1),1),"JJMMAA"),CleU,0),10),0)) -> 0 | E5: =IF(IFERROR(OFFSET('BDD PowerBI'!$A$1,MATCH(Consommation!$A5&"\\"&TEXT(Consommation!E$1,"JJMMAA"),CleU,0),10),0)-IFERROR(OFFSET('BDD PowerBI'!$A$1,MATCH(Consommation!$A5&"\\"&TEXT(DATE(YEAR(E$1)-1,MONTH(E$1),1),"JJMMAA"),CleU,0),10),0)<0,0,IFERROR(OFFSET('BDD PowerBI'!$A$1,MATCH(Consommation!$A5&"\\"&TEXT(Consommation!E$1,"JJMMAA"),CleU,0),10),0)-IFERROR(OFFSET('BDD PowerBI'!$A$1,MATCH(Consommation!$A5&"\\"&TEXT(DATE(YEAR(E$1)-1,MONTH(E$1),1),"JJMMAA"),CleU,0),10),0)) -> 0 | F5: =IF(IFERROR(OFFSET('BDD PowerBI'!$A$1,MATCH(Consommation!$A5&"\\"&TEXT(Consommation!F$1,"JJMMAA"),CleU,0),10),0)-IFERROR(OFFSET('BDD PowerBI'!$A$1,MATCH(Consommation!$A5&"\\"&TEXT(DATE(YEAR(F$1)-1,MONTH(F$1),1),"JJMMAA"),CleU,0),10),0)<0,0,IFERROR(OFFSET('BDD PowerBI'!$A$1,MATCH(Consommation!$A5&"\\"&TEXT(Consommation!F$1,"JJMMAA"),CleU,0),10),0)-IFERROR(OFFSET('BDD PowerBI'!$A$1,MATCH(Consommation!$A5&"\\"&TEXT(DATE(YEAR(F$1)-1,MONTH(F$1),1),"JJMMAA"),CleU,0),10),0)) -> 0 | G5: =IF(IFERROR(OFFSET('BDD PowerBI'!$A$1,MATCH(Consommation!$A5&"\\"&TEXT(Consommation!G$1,"JJMMAA"),CleU,0),10),0)-IFERROR(OFFSET('BDD PowerBI'!$A$1,MATCH(Consommation!$A5&"\\"&TEXT(DATE(YEAR(G$1)-1,MONTH(G$1),1),"JJMMAA"),CleU,0),10),0)<0,0,IFERROR(OFFSET('BDD PowerBI'!$A$1,MATCH(Consommation!$A5&"\\"&TEXT(Consommation!G$1,"JJMMAA"),CleU,0),10),0)-IFERROR(OFFSET('BDD PowerBI'!$A$1,MATCH(Consommation!$A5&"\\"&TEXT(DATE(YEAR(G$1)-1,MONTH(G$1),1),"JJMMAA"),CleU,0),10),0)) -> 0 | H5: =IF(IFERROR(OFFSET('BDD PowerBI'!$A$1,MATCH(Consommation!$A5&"\\"&TEXT(Consommation!H$1,"JJMMAA"),CleU,0),10),0)-IFERROR(OFFSET('BDD PowerBI'!$A$1,MATCH(Consommation!$A5&"\\"&TEXT(DATE(YEAR(H$1)-1,MONTH(H$1),1),"JJMMAA"),CleU,0),10),0)<0,0,IFERROR(OFFSET('BDD PowerBI'!$A$1,MATCH(Consommation!$A5&"\\"&TEXT(Consommation!H$1,"JJMMAA"),CleU,0),10),0)-IFERROR(OFFSET('BDD PowerBI'!$A$1,MATCH(Consommation!$A5&"\\"&TEXT(DATE(YEAR(H$1)-1,MONTH(H$1),1),"JJMMAA"),CleU,0),10),0)) -> 0 | I5: =IF(IFERROR(OFFSET('BDD PowerBI'!$A$1,MATCH(Consommation!$A5&"\\"&TEXT(Consommation!I$1,"JJMMAA"),CleU,0),10),0)-IFERROR(OFFSET('BDD PowerBI'!$A$1,MATCH(Consommation!$A5&"\\"&TEXT(DATE(YEAR(I$1)-1,MONTH(I$1),1),"JJMMAA"),CleU,0),10),0)<0,0,IFERROR(OFFSET('BDD PowerBI'!$A$1,MATCH(Consommation!$A5&"\\"&TEXT(Consommation!I$1,"JJMMAA"),CleU,0),10),0)-IFERROR(OFFSET('BDD PowerBI'!$A$1,MATCH(Consommation!$A5&"\\"&TEXT(DATE(YEAR(I$1)-1,MONTH(I$1),1),"JJMMAA"),CleU,0),10),0)) -> 0 | ... AE5: =IF(IFERROR(OFFSET('BDD PowerBI'!$A$1,MATCH(Consommation!$A5&"\\"&TEXT(Consommation!AE$1,"JJMMAA"),CleU,0),10),0)-IFERROR(OFFSET('BDD PowerBI'!$A$1,MATCH(Consommation!$A5&"\\"&TEXT(DATE(YEAR(AE$1)-1,MONTH(AE$1),1),"JJMMAA"),CleU,0),10),0)<0,0,IFERROR(OFFSET('BDD PowerBI'!$A$1,MATCH(Consommation!$A5&"\\"&TEXT(Consommation!AE$1,"JJMMAA"),CleU,0),10),0)-IFERROR(OFFSET('BDD PowerBI'!$A$1,MATCH(Consommation!$A5&"\\"&TEXT(DATE(YEAR(AE$1)-1,MONTH(AE$1),1),"JJMMAA"),CleU,0),10),0)) -> 0
A6: Compteur EDF_220 E Active 1 P | B6: =IF(IFERROR(OFFSET('BDD PowerBI'!$A$1,MATCH(Consommation!$A6&"\\"&TEXT(Consommation!B$1,"JJMMAA"),CleU,0),10),0)-IFERROR(OFFSET('BDD PowerBI'!$A$1,MATCH(Consommation!$A6&"\\"&TEXT(DATE(YEAR(B$1)-1,MONTH(B$1),1),"JJMMAA"),CleU,0),10),0)<0,0,IFERROR(OFFSET('BDD PowerBI'!$A$1,MATCH(Consommation!$A6&"\\"&TEXT(Consommation!B$1,"JJMMAA"),CleU,0),10),0)-IFERROR(OFFSET('BDD PowerBI'!$A$1,MATCH(Consommation!$A6&"\\"&TEXT(DATE(YEAR(B$1)-1,MONTH(B$1),1),"JJMMAA"),CleU,0),10),0)) -> 0 | C6: =IF(IFERROR(OFFSET('BDD PowerBI'!$A$1,MATCH(Consommation!$A6&"\\"&TEXT(Consommation!C$1,"JJMMAA"),CleU,0),10),0)-IFERROR(OFFSET('BDD PowerBI'!$A$1,MATCH(Consommation!$A6&"\\"&TEXT(DATE(YEAR(C$1)-1,MONTH(C$1),1),"JJMMAA"),CleU,0),10),0)<0,0,IFERROR(OFFSET('BDD PowerBI'!$A$1,MATCH(Consommation!$A6&"\\"&TEXT(Consommation!C$1,"JJMMAA"),CleU,0),10),0)-IFERROR(OFFSET('BDD PowerBI'!$A$1,MATCH(Consommation!$A6&"\\"&TEXT(DATE(YEAR(C$1)-1,MONTH(C$1),1),"JJMMAA"),CleU,0),10),0)) -> 0 | D6: =IF(IFERROR(OFFSET('BDD PowerBI'!$A$1,MATCH(Consommation!$A6&"\\"&TEXT(Consommation!D$1,"JJMMAA"),CleU,0),10),0)-IFERROR(OFFSET('BDD PowerBI'!$A$1,MATCH(Consommation!$A6&"\\"&TEXT(DATE(YEAR(D$1)-1,MONTH(D$1),1),"JJMMAA"),CleU,0),10),0)<0,0,IFERROR(OFFSET('BDD PowerBI'!$A$1,MATCH(Consommation!$A6&"\\"&TEXT(Consommation!D$1,"JJMMAA"),CleU,0),10),0)-IFERROR(OFFSET('BDD PowerBI'!$A$1,MATCH(Consommation!$A6&"\\"&TEXT(DATE(YEAR(D$1)-1,MONTH(D$1),1),"JJMMAA"),CleU,0),10),0)) -> 0 | E6: =IF(IFERROR(OFFSET('BDD PowerBI'!$A$1,MATCH(Consommation!$A6&"\\"&TEXT(Consommation!E$1,"JJMMAA"),CleU,0),10),0)-IFERROR(OFFSET('BDD PowerBI'!$A$1,MATCH(Consommation!$A6&"\\"&TEXT(DATE(YEAR(E$1)-1,MONTH(E$1),1),"JJMMAA"),CleU,0),10),0)<0,0,IFERROR(OFFSET('BDD PowerBI'!$A$1,MATCH(Consommation!$A6&"\\"&TEXT(Consommation!E$1,"JJMMAA"),CleU,0),10),0)-IFERROR(OFFSET('BDD PowerBI'!$A$1,MATCH(Consommation!$A6&"\\"&TEXT(DATE(YEAR(E$1)-1,MONTH(E$1),1),"JJMMAA"),CleU,0),10),0)) -> 0 | F6: =IF(IFERROR(OFFSET('BDD PowerBI'!$A$1,MATCH(Consommation!$A6&"\\"&TEXT(Consommation!F$1,"JJMMAA"),CleU,0),10),0)-IFERROR(OFFSET('BDD PowerBI'!$A$1,MATCH(Consommation!$A6&"\\"&TEXT(DATE(YEAR(F$1)-1,MONTH(F$1),1),"JJMMAA"),CleU,0),10),0)<0,0,IFERROR(OFFSET('BDD PowerBI'!$A$1,MATCH(Consommation!$A6&"\\"&TEXT(Consommation!F$1,"JJMMAA"),CleU,0),10),0)-IFERROR(OFFSET('BDD PowerBI'!$A$1,MATCH(Consommation!$A6&"\\"&TEXT(DATE(YEAR(F$1)-1,MONTH(F$1),1),"JJMMAA"),CleU,0),10),0)) -> 0 | G6: =IF(IFERROR(OFFSET('BDD PowerBI'!$A$1,MATCH(Consommation!$A6&"\\"&TEXT(Consommation!G$1,"JJMMAA"),CleU,0),10),0)-IFERROR(OFFSET('BDD PowerBI'!$A$1,MATCH(Consommation!$A6&"\\"&TEXT(DATE(YEAR(G$1)-1,MONTH(G$1),1),"JJMMAA"),CleU,0),10),0)<0,0,IFERROR(OFFSET('BDD PowerBI'!$A$1,MATCH(Consommation!$A6&"\\"&TEXT(Consommation!G$1,"JJMMAA"),CleU,0),10),0)-IFERROR(OFFSET('BDD PowerBI'!$A$1,MATCH(Consommation!$A6&"\\"&TEXT(DATE(YEAR(G$1)-1,MONTH(G$1),1),"JJMMAA"),CleU,0),10),0)) -> 0 | H6: =IF(IFERROR(OFFSET('BDD PowerBI'!$A$1,MATCH(Consommation!$A6&"\\"&TEXT(Consommation!H$1,"JJMMAA"),CleU,0),10),0)-IFERROR(OFFSET('BDD PowerBI'!$A$1,MATCH(Consommation!$A6&"\\"&TEXT(DATE(YEAR(H$1)-1,MONTH(H$1),1),"JJMMAA"),CleU,0),10),0)<0,0,IFERROR(OFFSET('BDD PowerBI'!$A$1,MATCH(Consommation!$A6&"\\"&TEXT(Consommation!H$1,"JJMMAA"),CleU,0),10),0)-IFERROR(OFFSET('BDD PowerBI'!$A$1,MATCH(Consommation!$A6&"\\"&TEXT(DATE(YEAR(H$1)-1,MONTH(H$1),1),"JJMMAA"),CleU,0),10),0)) -> 0 | I6: =IF(IFERROR(OFFSET('BDD PowerBI'!$A$1,MATCH(Consommation!$A6&"\\"&TEXT(Consommation!I$1,"JJMMAA"),CleU,0),10),0)-IFERROR(OFFSET('BDD PowerBI'!$A$1,MATCH(Consommation!$A6&"\\"&TEXT(DATE(YEAR(I$1)-1,MONTH(I$1),1),"JJMMAA"),CleU,0),10),0)<0,0,IFERROR(OFFSET('BDD PowerBI'!$A$1,MATCH(Consommation!$A6&"\\"&TEXT(Consommation!I$1,"JJMMAA"),CleU,0),10),0)-IFERROR(OFFSET('BDD PowerBI'!$A$1,MATCH(Consommation!$A6&"\\"&TEXT(DATE(YEAR(I$1)-1,MONTH(I$1),1),"JJMMAA"),CleU,0),10),0)) -> 0 | ... AE6: =IF(IFERROR(OFFSET('BDD PowerBI'!$A$1,MATCH(Consommation!$A6&"\\"&TEXT(Consommation!AE$1,"JJMMAA"),CleU,0),10),0)-IFERROR(OFFSET('BDD PowerBI'!$A$1,MATCH(Consommation!$A6&"\\"&TEXT(DATE(YEAR(AE$1)-1,MONTH(AE$1),1),"JJMMAA"),CleU,0),10),0)<0,0,IFERROR(OFFSET('BDD PowerBI'!$A$1,MATCH(Consommation!$A6&"\\"&TEXT(Consommation!AE$1,"JJMMAA"),CleU,0),10),0)-IFERROR(OFFSET('BDD PowerBI'!$A$1,MATCH(Consommation!$A6&"\\"&TEXT(DATE(YEAR(AE$1)-1,MONTH(AE$1),1),"JJMMAA"),CleU,0),10),0)) -> 0
A7: TGBT_ARM_BRANCH_LC | B7: =IF(IFERROR(OFFSET('BDD PowerBI'!$A$1,MATCH(Consommation!$A7&"\\"&TEXT(Consommation!B$1,"JJMMAA"),CleU,0),10),0)-IFERROR(OFFSET('BDD PowerBI'!$A$1,MATCH(Consommation!$A7&"\\"&TEXT(DATE(YEAR(B$1)-1,MONTH(B$1),1),"JJMMAA"),CleU,0),10),0)<0,0,IFERROR(OFFSET('BDD PowerBI'!$A$1,MATCH(Consommation!$A7&"\\"&TEXT(Consommation!B$1,"JJMMAA"),CleU,0),10),0)-IFERROR(OFFSET('BDD PowerBI'!$A$1,MATCH(Consommation!$A7&"\\"&TEXT(DATE(YEAR(B$1)-1,MONTH(B$1),1),"JJMMAA"),CleU,0),10),0)) -> 0 | C7: =IF(IFERROR(OFFSET('BDD PowerBI'!$A$1,MATCH(Consommation!$A7&"\\"&TEXT(Consommation!C$1,"JJMMAA"),CleU,0),10),0)-IFERROR(OFFSET('BDD PowerBI'!$A$1,MATCH(Consommation!$A7&"\\"&TEXT(DATE(YEAR(C$1)-1,MONTH(C$1),1),"JJMMAA"),CleU,0),10),0)<0,0,IFERROR(OFFSET('BDD PowerBI'!$A$1,MATCH(Consommation!$A7&"\\"&TEXT(Consommation!C$1,"JJMMAA"),CleU,0),10),0)-IFERROR(OFFSET('BDD PowerBI'!$A$1,MATCH(Consommation!$A7&"\\"&TEXT(DATE(YEAR(C$1)-1,MONTH(C$1),1),"JJMMAA"),CleU,0),10),0)) -> 0 | D7: =IF(IFERROR(OFFSET('BDD PowerBI'!$A$1,MATCH(Consommation!$A7&"\\"&TEXT(Consommation!D$1,"JJMMAA"),CleU,0),10),0)-IFERROR(OFFSET('BDD PowerBI'!$A$1,MATCH(Consommation!$A7&"\\"&TEXT(DATE(YEAR(D$1)-1,MONTH(D$1),1),"JJMMAA"),CleU,0),10),0)<0,0,IFERROR(OFFSET('BDD PowerBI'!$A$1,MATCH(Consommation!$A7&"\\"&TEXT(Consommation!D$1,"JJMMAA"),CleU,0),10),0)-IFERROR(OFFSET('BDD PowerBI'!$A$1,MATCH(Consommation!$A7&"\\"&TEXT(DATE(YEAR(D$1)-1,MONTH(D$1),1),"JJMMAA"),CleU,0),10),0)) -> 0 | E7: =IF(IFERROR(OFFSET('BDD PowerBI'!$A$1,MATCH(Consommation!$A7&"\\"&TEXT(Consommation!E$1,"JJMMAA"),CleU,0),10),0)-IFERROR(OFFSET('BDD PowerBI'!$A$1,MATCH(Consommation!$A7&"\\"&TEXT(DATE(YEAR(E$1)-1,MONTH(E$1),1),"JJMMAA"),CleU,0),10),0)<0,0,IFERROR(OFFSET('BDD PowerBI'!$A$1,MATCH(Consommation!$A7&"\\"&TEXT(Consommation!E$1,"JJMMAA"),CleU,0),10),0)-IFERROR(OFFSET('BDD PowerBI'!$A$1,MATCH(Consommation!$A7&"\\"&TEXT(DATE(YEAR(E$1)-1,MONTH(E$1),1),"JJMMAA"),CleU,0),10),0)) -> 0 | F7: =IF(IFERROR(OFFSET('BDD PowerBI'!$A$1,MATCH(Consommation!$A7&"\\"&TEXT(Consommation!F$1,"JJMMAA"),CleU,0),10),0)-IFERROR(OFFSET('BDD PowerBI'!$A$1,MATCH(Consommation!$A7&"\\"&TEXT(DATE(YEAR(F$1)-1,MONTH(F$1),1),"JJMMAA"),CleU,0),10),0)<0,0,IFERROR(OFFSET('BDD PowerBI'!$A$1,MATCH(Consommation!$A7&"\\"&TEXT(Consommation!F$1,"JJMMAA"),CleU,0),10),0)-IFERROR(OFFSET('BDD PowerBI'!$A$1,MATCH(Consommation!$A7&"\\"&TEXT(DATE(YEAR(F$1)-1,MONTH(F$1),1),"JJMMAA"),CleU,0),10),0)) -> 0 | G7: =IF(IFERROR(OFFSET('BDD PowerBI'!$A$1,MATCH(Consommation!$A7&"\\"&TEXT(Consommation!G$1,"JJMMAA"),CleU,0),10),0)-IFERROR(OFFSET('BDD PowerBI'!$A$1,MATCH(Consommation!$A7&"\\"&TEXT(DATE(YEAR(G$1)-1,MONTH(G$1),1),"JJMMAA"),CleU,0),10),0)<0,0,IFERROR(OFFSET('BDD PowerBI'!$A$1,MATCH(Consommation!$A7&"\\"&TEXT(Consommation!G$1,"JJMMAA"),CleU,0),10),0)-IFERROR(OFFSET('BDD PowerBI'!$A$1,MATCH(Consommation!$A7&"\\"&TEXT(DATE(YEAR(G$1)-1,MONTH(G$1),1),"JJMMAA"),CleU,0),10),0)) -> 0 | H7: =IF(IFERROR(OFFSET('BDD PowerBI'!$A$1,MATCH(Consommation!$A7&"\\"&TEXT(Consommation!H$1,"JJMMAA"),CleU,0),10),0)-IFERROR(OFFSET('BDD PowerBI'!$A$1,MATCH(Consommation!$A7&"\\"&TEXT(DATE(YEAR(H$1)-1,MONTH(H$1),1),"JJMMAA"),CleU,0),10),0)<0,0,IFERROR(OFFSET('BDD PowerBI'!$A$1,MATCH(Consommation!$A7&"\\"&TEXT(Consommation!H$1,"JJMMAA"),CleU,0),10),0)-IFERROR(OFFSET('BDD PowerBI'!$A$1,MATCH(Consommation!$A7&"\\"&TEXT(DATE(YEAR(H$1)-1,MONTH(H$1),1),"JJMMAA"),CleU,0),10),0)) -> 0 | I7: =IF(IFERROR(OFFSET('BDD PowerBI'!$A$1,MATCH(Consommation!$A7&"\\"&TEXT(Consommation!I$1,"JJMMAA"),CleU,0),10),0)-IFERROR(OFFSET('BDD PowerBI'!$A$1,MATCH(Consommation!$A7&"\\"&TEXT(DATE(YEAR(I$1)-1,MONTH(I$1),1),"JJMMAA"),CleU,0),10),0)<0,0,IFERROR(OFFSET('BDD PowerBI'!$A$1,MATCH(Consommation!$A7&"\\"&TEXT(Consommation!I$1,"JJMMAA"),CleU,0),10),0)-IFERROR(OFFSET('BDD PowerBI'!$A$1,MATCH(Consommation!$A7&"\\"&TEXT(DATE(YEAR(I$1)-1,MONTH(I$1),1),"JJMMAA"),CleU,0),10),0)) -> 0 | ... AE7: =IF(IFERROR(OFFSET('BDD PowerBI'!$A$1,MATCH(Consommation!$A7&"\\"&TEXT(Consommation!AE$1,"JJMMAA"),CleU,0),10),0)-IFERROR(OFFSET('BDD PowerBI'!$A$1,MATCH(Consommation!$A7&"\\"&TEXT(DATE(YEAR(AE$1)-1,MONTH(AE$1),1),"JJMMAA"),CleU,0),10),0)<0,0,IFERROR(OFFSET('BDD PowerBI'!$A$1,MATCH(Consommation!$A7&"\\"&TEXT(Consommation!AE$1,"JJMMAA"),CleU,0),10),0)-IFERROR(OFFSET('BDD PowerBI'!$A$1,MATCH(Consommation!$A7&"\\"&TEXT(DATE(YEAR(AE$1)-1,MONTH(AE$1),1),"JJMMAA"),CleU,0),10),0)) -> 0
A8: TGBT_ARM_CLIM_DET_D_OND1 | B8: =IF(IFERROR(OFFSET('BDD PowerBI'!$A$1,MATCH(Consommation!$A8&"\\"&TEXT(Consommation!B$1,"JJMMAA"),CleU,0),10),0)-IFERROR(OFFSET('BDD PowerBI'!$A$1,MATCH(Consommation!$A8&"\\"&TEXT(DATE(YEAR(B$1)-1,MONTH(B$1),1),"JJMMAA"),CleU,0),10),0)<0,0,IFERROR(OFFSET('BDD PowerBI'!$A$1,MATCH(Consommation!$A8&"\\"&TEXT(Consommation!B$1,"JJMMAA"),CleU,0),10),0)-IFERROR(OFFSET('BDD PowerBI'!$A$1,MATCH(Consommation!$A8&"\\"&TEXT(DATE(YEAR(B$1)-1,MONTH(B$1),1),"JJMMAA"),CleU,0),10),0)) -> 0 | C8: =IF(IFERROR(OFFSET('BDD PowerBI'!$A$1,MATCH(Consommation!$A8&"\\"&TEXT(Consommation!C$1,"JJMMAA"),CleU,0),10),0)-IFERROR(OFFSET('BDD PowerBI'!$A$1,MATCH(Consommation!$A8&"\\"&TEXT(DATE(YEAR(C$1)-1,MONTH(C$1),1),"JJMMAA"),CleU,0),10),0)<0,0,IFERROR(OFFSET('BDD PowerBI'!$A$1,MATCH(Consommation!$A8&"\\"&TEXT(Consommation!C$1,"JJMMAA"),CleU,0),10),0)-IFERROR(OFFSET('BDD PowerBI'!$A$1,MATCH(Consommation!$A8&"\\"&TEXT(DATE(YEAR(C$1)-1,MONTH(C$1),1),"JJMMAA"),CleU,0),10),0)) -> 0 | D8: =IF(IFERROR(OFFSET('BDD PowerBI'!$A$1,MATCH(Consommation!$A8&"\\"&TEXT(Consommation!D$1,"JJMMAA"),CleU,0),10),0)-IFERROR(OFFSET('BDD PowerBI'!$A$1,MATCH(Consommation!$A8&"\\"&TEXT(DATE(YEAR(D$1)-1,MONTH(D$1),1),"JJMMAA"),CleU,0),10),0)<0,0,IFERROR(OFFSET('BDD PowerBI'!$A$1,MATCH(Consommation!$A8&"\\"&TEXT(Consommation!D$1,"JJMMAA"),CleU,0),10),0)-IFERROR(OFFSET('BDD PowerBI'!$A$1,MATCH(Consommation!$A8&"\\"&TEXT(DATE(YEAR(D$1)-1,MONTH(D$1),1),"JJMMAA"),CleU,0),10),0)) -> 0 | E8: =IF(IFERROR(OFFSET('BDD PowerBI'!$A$1,MATCH(Consommation!$A8&"\\"&TEXT(Consommation!E$1,"JJMMAA"),CleU,0),10),0)-IFERROR(OFFSET('BDD PowerBI'!$A$1,MATCH(Consommation!$A8&"\\"&TEXT(DATE(YEAR(E$1)-1,MONTH(E$1),1),"JJMMAA"),CleU,0),10),0)<0,0,IFERROR(OFFSET('BDD PowerBI'!$A$1,MATCH(Consommation!$A8&"\\"&TEXT(Consommation!E$1,"JJMMAA"),CleU,0),10),0)-IFERROR(OFFSET('BDD PowerBI'!$A$1,MATCH(Consommation!$A8&"\\"&TEXT(DATE(YEAR(E$1)-1,MONTH(E$1),1),"JJMMAA"),CleU,0),10),0)) -> 0 | F8: =IF(IFERROR(OFFSET('BDD PowerBI'!$A$1,MATCH(Consommation!$A8&"\\"&TEXT(Consommation!F$1,"JJMMAA"),CleU,0),10),0)-IFERROR(OFFSET('BDD PowerBI'!$A$1,MATCH(Consommation!$A8&"\\"&TEXT(DATE(YEAR(F$1)-1,MONTH(F$1),1),"JJMMAA"),CleU,0),10),0)<0,0,IFERROR(OFFSET('BDD PowerBI'!$A$1,MATCH(Consommation!$A8&"\\"&TEXT(Consommation!F$1,"JJMMAA"),CleU,0),10),0)-IFERROR(OFFSET('BDD PowerBI'!$A$1,MATCH(Consommation!$A8&"\\"&TEXT(DATE(YEAR(F$1)-1,MONTH(F$1),1),"JJMMAA"),CleU,0),10),0)) -> 0 | G8: =IF(IFERROR(OFFSET('BDD PowerBI'!$A$1,MATCH(Consommation!$A8&"\\"&TEXT(Consommation!G$1,"JJMMAA"),CleU,0),10),0)-IFERROR(OFFSET('BDD PowerBI'!$A$1,MATCH(Consommation!$A8&"\\"&TEXT(DATE(YEAR(G$1)-1,MONTH(G$1),1),"JJMMAA"),CleU,0),10),0)<0,0,IFERROR(OFFSET('BDD PowerBI'!$A$1,MATCH(Consommation!$A8&"\\"&TEXT(Consommation!G$1,"JJMMAA"),CleU,0),10),0)-IFERROR(OFFSET('BDD PowerBI'!$A$1,MATCH(Consommation!$A8&"\\"&TEXT(DATE(YEAR(G$1)-1,MONTH(G$1),1),"JJMMAA"),CleU,0),10),0)) -> 0 | H8: =IF(IFERROR(OFFSET('BDD PowerBI'!$A$1,MATCH(Consommation!$A8&"\\"&TEXT(Consommation!H$1,"JJMMAA"),CleU,0),10),0)-IFERROR(OFFSET('BDD PowerBI'!$A$1,MATCH(Consommation!$A8&"\\"&TEXT(DATE(YEAR(H$1)-1,MONTH(H$1),1),"JJMMAA"),CleU,0),10),0)<0,0,IFERROR(OFFSET('BDD PowerBI'!$A$1,MATCH(Consommation!$A8&"\\"&TEXT(Consommation!H$1,"JJMMAA"),CleU,0),10),0)-IFERROR(OFFSET('BDD PowerBI'!$A$1,MATCH(Consommation!$A8&"\\"&TEXT(DATE(YEAR(H$1)-1,MONTH(H$1),1),"JJMMAA"),CleU,0),10),0)) -> 0 | I8: =IF(IFERROR(OFFSET('BDD PowerBI'!$A$1,MATCH(Consommation!$A8&"\\"&TEXT(Consommation!I$1,"JJMMAA"),CleU,0),10),0)-IFERROR(OFFSET('BDD PowerBI'!$A$1,MATCH(Consommation!$A8&"\\"&TEXT(DATE(YEAR(I$1)-1,MONTH(I$1),1),"JJMMAA"),CleU,0),10),0)<0,0,IFERROR(OFFSET('BDD PowerBI'!$A$1,MATCH(Consommation!$A8&"\\"&TEXT(Consommation!I$1,"JJMMAA"),CleU,0),10),0)-IFERROR(OFFSET('BDD PowerBI'!$A$1,MATCH(Consommation!$A8&"\\"&TEXT(DATE(YEAR(I$1)-1,MONTH(I$1),1),"JJMMAA"),CleU,0),10),0)) -> 0 | ... AE8: =IF(IFERROR(OFFSET('BDD PowerBI'!$A$1,MATCH(Consommation!$A8&"\\"&TEXT(Consommation!AE$1,"JJMMAA"),CleU,0),10),0)-IFERROR(OFFSET('BDD PowerBI'!$A$1,MATCH(Consommation!$A8&"\\"&TEXT(DATE(YEAR(AE$1)-1,MONTH(AE$1),1),"JJMMAA"),CleU,0),10),0)<0,0,IFERROR(OFFSET('BDD PowerBI'!$A$1,MATCH(Consommation!$A8&"\\"&TEXT(Consommation!AE$1,"JJMMAA"),CleU,0),10),0)-IFERROR(OFFSET('BDD PowerBI'!$A$1,MATCH(Consommation!$A8&"\\"&TEXT(DATE(YEAR(AE$1)-1,MONTH(AE$1),1),"JJMMAA"),CleU,0),10),0)) -> 0
A9: TGBT_ARM_CLIM_DET_D_OND2 | B9: =IF(IFERROR(OFFSET('BDD PowerBI'!$A$1,MATCH(Consommation!$A9&"\\"&TEXT(Consommation!B$1,"JJMMAA"),CleU,0),10),0)-IFERROR(OFFSET('BDD PowerBI'!$A$1,MATCH(Consommation!$A9&"\\"&TEXT(DATE(YEAR(B$1)-1,MONTH(B$1),1),"JJMMAA"),CleU,0),10),0)<0,0,IFERROR(OFFSET('BDD PowerBI'!$A$1,MATCH(Consommation!$A9&"\\"&TEXT(Consommation!B$1,"JJMMAA"),CleU,0),10),0)-IFERROR(OFFSET('BDD PowerBI'!$A$1,MATCH(Consommation!$A9&"\\"&TEXT(DATE(YEAR(B$1)-1,MONTH(B$1),1),"JJMMAA"),CleU,0),10),0)) -> 0 | C9: =IF(IFERROR(OFFSET('BDD PowerBI'!$A$1,MATCH(Consommation!$A9&"\\"&TEXT(Consommation!C$1,"JJMMAA"),CleU,0),10),0)-IFERROR(OFFSET('BDD PowerBI'!$A$1,MATCH(Consommation!$A9&"\\"&TEXT(DATE(YEAR(C$1)-1,MONTH(C$1),1),"JJMMAA"),CleU,0),10),0)<0,0,IFERROR(OFFSET('BDD PowerBI'!$A$1,MATCH(Consommation!$A9&"\\"&TEXT(Consommation!C$1,"JJMMAA"),CleU,0),10),0)-IFERROR(OFFSET('BDD PowerBI'!$A$1,MATCH(Consommation!$A9&"\\"&TEXT(DATE(YEAR(C$1)-1,MONTH(C$1),1),"JJMMAA"),CleU,0),10),0)) -> 0 | D9: =IF(IFERROR(OFFSET('BDD PowerBI'!$A$1,MATCH(Consommation!$A9&"\\"&TEXT(Consommation!D$1,"JJMMAA"),CleU,0),10),0)-IFERROR(OFFSET('BDD PowerBI'!$A$1,MATCH(Consommation!$A9&"\\"&TEXT(DATE(YEAR(D$1)-1,MONTH(D$1),1),"JJMMAA"),CleU,0),10),0)<0,0,IFERROR(OFFSET('BDD PowerBI'!$A$1,MATCH(Consommation!$A9&"\\"&TEXT(Consommation!D$1,"JJMMAA"),CleU,0),10),0)-IFERROR(OFFSET('BDD PowerBI'!$A$1,MATCH(Consommation!$A9&"\\"&TEXT(DATE(YEAR(D$1)-1,MONTH(D$1),1),"JJMMAA"),CleU,0),10),0)) -> 0 | E9: =IF(IFERROR(OFFSET('BDD PowerBI'!$A$1,MATCH(Consommation!$A9&"\\"&TEXT(Consommation!E$1,"JJMMAA"),CleU,0),10),0)-IFERROR(OFFSET('BDD PowerBI'!$A$1,MATCH(Consommation!$A9&"\\"&TEXT(DATE(YEAR(E$1)-1,MONTH(E$1),1),"JJMMAA"),CleU,0),10),0)<0,0,IFERROR(OFFSET('BDD PowerBI'!$A$1,MATCH(Consommation!$A9&"\\"&TEXT(Consommation!E$1,"JJMMAA"),CleU,0),10),0)-IFERROR(OFFSET('BDD PowerBI'!$A$1,MATCH(Consommation!$A9&"\\"&TEXT(DATE(YEAR(E$1)-1,MONTH(E$1),1),"JJMMAA"),CleU,0),10),0)) -> 0 | F9: =IF(IFERROR(OFFSET('BDD PowerBI'!$A$1,MATCH(Consommation!$A9&"\\"&TEXT(Consommation!F$1,"JJMMAA"),CleU,0),10),0)-IFERROR(OFFSET('BDD PowerBI'!$A$1,MATCH(Consommation!$A9&"\\"&TEXT(DATE(YEAR(F$1)-1,MONTH(F$1),1),"JJMMAA"),CleU,0),10),0)<0,0,IFERROR(OFFSET('BDD PowerBI'!$A$1,MATCH(Consommation!$A9&"\\"&TEXT(Consommation!F$1,"JJMMAA"),CleU,0),10),0)-IFERROR(OFFSET('BDD PowerBI'!$A$1,MATCH(Consommation!$A9&"\\"&TEXT(DATE(YEAR(F$1)-1,MONTH(F$1),1),"JJMMAA"),CleU,0),10),0)) -> 0 | G9: =IF(IFERROR(OFFSET('BDD PowerBI'!$A$1,MATCH(Consommation!$A9&"\\"&TEXT(Consommation!G$1,"JJMMAA"),CleU,0),10),0)-IFERROR(OFFSET('BDD PowerBI'!$A$1,MATCH(Consommation!$A9&"\\"&TEXT(DATE(YEAR(G$1)-1,MONTH(G$1),1),"JJMMAA"),CleU,0),10),0)<0,0,IFERROR(OFFSET('BDD PowerBI'!$A$1,MATCH(Consommation!$A9&"\\"&TEXT(Consommation!G$1,"JJMMAA"),CleU,0),10),0)-IFERROR(OFFSET('BDD PowerBI'!$A$1,MATCH(Consommation!$A9&"\\"&TEXT(DATE(YEAR(G$1)-1,MONTH(G$1),1),"JJMMAA"),CleU,0),10),0)) -> 0 | H9: =IF(IFERROR(OFFSET('BDD PowerBI'!$A$1,MATCH(Consommation!$A9&"\\"&TEXT(Consommation!H$1,"JJMMAA"),CleU,0),10),0)-IFERROR(OFFSET('BDD PowerBI'!$A$1,MATCH(Consommation!$A9&"\\"&TEXT(DATE(YEAR(H$1)-1,MONTH(H$1),1),"JJMMAA"),CleU,0),10),0)<0,0,IFERROR(OFFSET('BDD PowerBI'!$A$1,MATCH(Consommation!$A9&"\\"&TEXT(Consommation!H$1,"JJMMAA"),CleU,0),10),0)-IFERROR(OFFSET('BDD PowerBI'!$A$1,MATCH(Consommation!$A9&"\\"&TEXT(DATE(YEAR(H$1)-1,MONTH(H$1),1),"JJMMAA"),CleU,0),10),0)) -> 0 | I9: =IF(IFERROR(OFFSET('BDD PowerBI'!$A$1,MATCH(Consommation!$A9&"\\"&TEXT(Consommation!I$1,"JJMMAA"),CleU,0),10),0)-IFERROR(OFFSET('BDD PowerBI'!$A$1,MATCH(Consommation!$A9&"\\"&TEXT(DATE(YEAR(I$1)-1,MONTH(I$1),1),"JJMMAA"),CleU,0),10),0)<0,0,IFERROR(OFFSET('BDD PowerBI'!$A$1,MATCH(Consommation!$A9&"\\"&TEXT(Consommation!I$1,"JJMMAA"),CleU,0),10),0)-IFERROR(OFFSET('BDD PowerBI'!$A$1,MATCH(Consommation!$A9&"\\"&TEXT(DATE(YEAR(I$1)-1,MONTH(I$1),1),"JJMMAA"),CleU,0),10),0)) -> 0 | ... AE9: =IF(IFERROR(OFFSET('BDD PowerBI'!$A$1,MATCH(Consommation!$A9&"\\"&TEXT(Consommation!AE$1,"JJMMAA"),CleU,0),10),0)-IFERROR(OFFSET('BDD PowerBI'!$A$1,MATCH(Consommation!$A9&"\\"&TEXT(DATE(YEAR(AE$1)-1,MONTH(AE$1),1),"JJMMAA"),CleU,0),10),0)<0,0,IFERROR(OFFSET('BDD PowerBI'!$A$1,MATCH(Consommation!$A9&"\\"&TEXT(Consommation!AE$1,"JJMMAA"),CleU,0),10),0)-IFERROR(OFFSET('BDD PowerBI'!$A$1,MATCH(Consommation!$A9&"\\"&TEXT(DATE(YEAR(AE$1)-1,MONTH(AE$1),1),"JJMMAA"),CleU,0),10),0)) -> 0
A10: TGBT_ARM_CLIM_DET_D_VDI1 | B10: =IF(IFERROR(OFFSET('BDD PowerBI'!$A$1,MATCH(Consommation!$A10&"\\"&TEXT(Consommation!B$1,"JJMMAA"),CleU,0),10),0)-IFERROR(OFFSET('BDD PowerBI'!$A$1,MATCH(Consommation!$A10&"\\"&TEXT(DATE(YEAR(B$1)-1,MONTH(B$1),1),"JJMMAA"),CleU,0),10),0)<0,0,IFERROR(OFFSET('BDD PowerBI'!$A$1,MATCH(Consommation!$A10&"\\"&TEXT(Consommation!B$1,"JJMMAA"),CleU,0),10),0)-IFERROR(OFFSET('BDD PowerBI'!$A$1,MATCH(Consommation!$A10&"\\"&TEXT(DATE(YEAR(B$1)-1,MONTH(B$1),1),"JJMMAA"),CleU,0),10),0)) -> 0 | C10: =IF(IFERROR(OFFSET('BDD PowerBI'!$A$1,MATCH(Consommation!$A10&"\\"&TEXT(Consommation!C$1,"JJMMAA"),CleU,0),10),0)-IFERROR(OFFSET('BDD PowerBI'!$A$1,MATCH(Consommation!$A10&"\\"&TEXT(DATE(YEAR(C$1)-1,MONTH(C$1),1),"JJMMAA"),CleU,0),10),0)<0,0,IFERROR(OFFSET('BDD PowerBI'!$A$1,MATCH(Consommation!$A10&"\\"&TEXT(Consommation!C$1,"JJMMAA"),CleU,0),10),0)-IFERROR(OFFSET('BDD PowerBI'!$A$1,MATCH(Consommation!$A10&"\\"&TEXT(DATE(YEAR(C$1)-1,MONTH(C$1),1),"JJMMAA"),CleU,0),10),0)) -> 0 | D10: =IF(IFERROR(OFFSET('BDD PowerBI'!$A$1,MATCH(Consommation!$A10&"\\"&TEXT(Consommation!D$1,"JJMMAA"),CleU,0),10),0)-IFERROR(OFFSET('BDD PowerBI'!$A$1,MATCH(Consommation!$A10&"\\"&TEXT(DATE(YEAR(D$1)-1,MONTH(D$1),1),"JJMMAA"),CleU,0),10),0)<0,0,IFERROR(OFFSET('BDD PowerBI'!$A$1,MATCH(Consommation!$A10&"\\"&TEXT(Consommation!D$1,"JJMMAA"),CleU,0),10),0)-IFERROR(OFFSET('BDD PowerBI'!$A$1,MATCH(Consommation!$A10&"\\"&TEXT(DATE(YEAR(D$1)-1,MONTH(D$1),1),"JJMMAA"),CleU,0),10),0)) -> 0 | E10: =IF(IFERROR(OFFSET('BDD PowerBI'!$A$1,MATCH(Consommation!$A10&"\\"&TEXT(Consommation!E$1,"JJMMAA"),CleU,0),10),0)-IFERROR(OFFSET('BDD PowerBI'!$A$1,MATCH(Consommation!$A10&"\\"&TEXT(DATE(YEAR(E$1)-1,MONTH(E$1),1),"JJMMAA"),CleU,0),10),0)<0,0,IFERROR(OFFSET('BDD PowerBI'!$A$1,MATCH(Consommation!$A10&"\\"&TEXT(Consommation!E$1,"JJMMAA"),CleU,0),10),0)-IFERROR(OFFSET('BDD PowerBI'!$A$1,MATCH(Consommation!$A10&"\\"&TEXT(DATE(YEAR(E$1)-1,MONTH(E$1),1),"JJMMAA"),CleU,0),10),0)) -> 0 | F10: =IF(IFERROR(OFFSET('BDD PowerBI'!$A$1,MATCH(Consommation!$A10&"\\"&TEXT(Consommation!F$1,"JJMMAA"),CleU,0),10),0)-IFERROR(OFFSET('BDD PowerBI'!$A$1,MATCH(Consommation!$A10&"\\"&TEXT(DATE(YEAR(F$1)-1,MONTH(F$1),1),"JJMMAA"),CleU,0),10),0)<0,0,IFERROR(OFFSET('BDD PowerBI'!$A$1,MATCH(Consommation!$A10&"\\"&TEXT(Consommation!F$1,"JJMMAA"),CleU,0),10),0)-IFERROR(OFFSET('BDD PowerBI'!$A$1,MATCH(Consommation!$A10&"\\"&TEXT(DATE(YEAR(F$1)-1,MONTH(F$1),1),"JJMMAA"),CleU,0),10),0)) -> 0 | G10: =IF(IFERROR(OFFSET('BDD PowerBI'!$A$1,MATCH(Consommation!$A10&"\\"&TEXT(Consommation!G$1,"JJMMAA"),CleU,0),10),0)-IFERROR(OFFSET('BDD PowerBI'!$A$1,MATCH(Consommation!$A10&"\\"&TEXT(DATE(YEAR(G$1)-1,MONTH(G$1),1),"JJMMAA"),CleU,0),10),0)<0,0,IFERROR(OFFSET('BDD PowerBI'!$A$1,MATCH(Consommation!$A10&"\\"&TEXT(Consommation!G$1,"JJMMAA"),CleU,0),10),0)-IFERROR(OFFSET('BDD PowerBI'!$A$1,MATCH(Consommation!$A10&"\\"&TEXT(DATE(YEAR(G$1)-1,MONTH(G$1),1),"JJMMAA"),CleU,0),10),0)) -> 0 | H10: =IF(IFERROR(OFFSET('BDD PowerBI'!$A$1,MATCH(Consommation!$A10&"\\"&TEXT(Consommation!H$1,"JJMMAA"),CleU,0),10),0)-IFERROR(OFFSET('BDD PowerBI'!$A$1,MATCH(Consommation!$A10&"\\"&TEXT(DATE(YEAR(H$1)-1,MONTH(H$1),1),"JJMMAA"),CleU,0),10),0)<0,0,IFERROR(OFFSET('BDD PowerBI'!$A$1,MATCH(Consommation!$A10&"\\"&TEXT(Consommation!H$1,"JJMMAA"),CleU,0),10),0)-IFERROR(OFFSET('BDD PowerBI'!$A$1,MATCH(Consommation!$A10&"\\"&TEXT(DATE(YEAR(H$1)-1,MONTH(H$1),1),"JJMMAA"),CleU,0),10),0)) -> 0 | I10: =IF(IFERROR(OFFSET('BDD PowerBI'!$A$1,MATCH(Consommation!$A10&"\\"&TEXT(Consommation!I$1,"JJMMAA"),CleU,0),10),0)-IFERROR(OFFSET('BDD PowerBI'!$A$1,MATCH(Consommation!$A10&"\\"&TEXT(DATE(YEAR(I$1)-1,MONTH(I$1),1),"JJMMAA"),CleU,0),10),0)<0,0,IFERROR(OFFSET('BDD PowerBI'!$A$1,MATCH(Consommation!$A10&"\\"&TEXT(Consommation!I$1,"JJMMAA"),CleU,0),10),0)-IFERROR(OFFSET('BDD PowerBI'!$A$1,MATCH(Consommation!$A10&"\\"&TEXT(DATE(YEAR(I$1)-1,MONTH(I$1),1),"JJMMAA"),CleU,0),10),0)) -> 0 | ... AE10: =IF(IFERROR(OFFSET('BDD PowerBI'!$A$1,MATCH(Consommation!$A10&"\\"&TEXT(Consommation!AE$1,"JJMMAA"),CleU,0),10),0)-IFERROR(OFFSET('BDD PowerBI'!$A$1,MATCH(Consommation!$A10&"\\"&TEXT(DATE(YEAR(AE$1)-1,MONTH(AE$1),1),"JJMMAA"),CleU,0),10),0)<0,0,IFERROR(OFFSET('BDD PowerBI'!$A$1,MATCH(Consommation!$A10&"\\"&TEXT(Consommation!AE$1,"JJMMAA"),CleU,0),10),0)-IFERROR(OFFSET('BDD PowerBI'!$A$1,MATCH(Consommation!$A10&"\\"&TEXT(DATE(YEAR(AE$1)-1,MONTH(AE$1),1),"JJMMAA"),CleU,0),10),0)) -> 0
A11: TGBT_ARM_CLIM_DET_D_VDI2 | B11: =IF(IFERROR(OFFSET('BDD PowerBI'!$A$1,MATCH(Consommation!$A11&"\\"&TEXT(Consommation!B$1,"JJMMAA"),CleU,0),10),0)-IFERROR(OFFSET('BDD PowerBI'!$A$1,MATCH(Consommation!$A11&"\\"&TEXT(DATE(YEAR(B$1)-1,MONTH(B$1),1),"JJMMAA"),CleU,0),10),0)<0,0,IFERROR(OFFSET('BDD PowerBI'!$A$1,MATCH(Consommation!$A11&"\\"&TEXT(Consommation!B$1,"JJMMAA"),CleU,0),10),0)-IFERROR(OFFSET('BDD PowerBI'!$A$1,MATCH(Consommation!$A11&"\\"&TEXT(DATE(YEAR(B$1)-1,MONTH(B$1),1),"JJMMAA"),CleU,0),10),0)) -> 0 | C11: =IF(IFERROR(OFFSET('BDD PowerBI'!$A$1,MATCH(Consommation!$A11&"\\"&TEXT(Consommation!C$1,"JJMMAA"),CleU,0),10),0)-IFERROR(OFFSET('BDD PowerBI'!$A$1,MATCH(Consommation!$A11&"\\"&TEXT(DATE(YEAR(C$1)-1,MONTH(C$1),1),"JJMMAA"),CleU,0),10),0)<0,0,IFERROR(OFFSET('BDD PowerBI'!$A$1,MATCH(Consommation!$A11&"\\"&TEXT(Consommation!C$1,"JJMMAA"),CleU,0),10),0)-IFERROR(OFFSET('BDD PowerBI'!$A$1,MATCH(Consommation!$A11&"\\"&TEXT(DATE(YEAR(C$1)-1,MONTH(C$1),1),"JJMMAA"),CleU,0),10),0)) -> 0 | D11: =IF(IFERROR(OFFSET('BDD PowerBI'!$A$1,MATCH(Consommation!$A11&"\\"&TEXT(Consommation!D$1,"JJMMAA"),CleU,0),10),0)-IFERROR(OFFSET('BDD PowerBI'!$A$1,MATCH(Consommation!$A11&"\\"&TEXT(DATE(YEAR(D$1)-1,MONTH(D$1),1),"JJMMAA"),CleU,0),10),0)<0,0,IFERROR(OFFSET('BDD PowerBI'!$A$1,MATCH(Consommation!$A11&"\\"&TEXT(Consommation!D$1,"JJMMAA"),CleU,0),10),0)-IFERROR(OFFSET('BDD PowerBI'!$A$1,MATCH(Consommation!$A11&"\\"&TEXT(DATE(YEAR(D$1)-1,MONTH(D$1),1),"JJMMAA"),CleU,0),10),0)) -> 0 | E11: =IF(IFERROR(OFFSET('BDD PowerBI'!$A$1,MATCH(Consommation!$A11&"\\"&TEXT(Consommation!E$1,"JJMMAA"),CleU,0),10),0)-IFERROR(OFFSET('BDD PowerBI'!$A$1,MATCH(Consommation!$A11&"\\"&TEXT(DATE(YEAR(E$1)-1,MONTH(E$1),1),"JJMMAA"),CleU,0),10),0)<0,0,IFERROR(OFFSET('BDD PowerBI'!$A$1,MATCH(Consommation!$A11&"\\"&TEXT(Consommation!E$1,"JJMMAA"),CleU,0),10),0)-IFERROR(OFFSET('BDD PowerBI'!$A$1,MATCH(Consommation!$A11&"\\"&TEXT(DATE(YEAR(E$1)-1,MONTH(E$1),1),"JJMMAA"),CleU,0),10),0)) -> 0 | F11: =IF(IFERROR(OFFSET('BDD PowerBI'!$A$1,MATCH(Consommation!$A11&"\\"&TEXT(Consommation!F$1,"JJMMAA"),CleU,0),10),0)-IFERROR(OFFSET('BDD PowerBI'!$A$1,MATCH(Consommation!$A11&"\\"&TEXT(DATE(YEAR(F$1)-1,MONTH(F$1),1),"JJMMAA"),CleU,0),10),0)<0,0,IFERROR(OFFSET('BDD PowerBI'!$A$1,MATCH(Consommation!$A11&"\\"&TEXT(Consommation!F$1,"JJMMAA"),CleU,0),10),0)-IFERROR(OFFSET('BDD PowerBI'!$A$1,MATCH(Consommation!$A11&"\\"&TEXT(DATE(YEAR(F$1)-1,MONTH(F$1),1),"JJMMAA"),CleU,0),10),0)) -> 0 | G11: =IF(IFERROR(OFFSET('BDD PowerBI'!$A$1,MATCH(Consommation!$A11&"\\"&TEXT(Consommation!G$1,"JJMMAA"),CleU,0),10),0)-IFERROR(OFFSET('BDD PowerBI'!$A$1,MATCH(Consommation!$A11&"\\"&TEXT(DATE(YEAR(G$1)-1,MONTH(G$1),1),"JJMMAA"),CleU,0),10),0)<0,0,IFERROR(OFFSET('BDD PowerBI'!$A$1,MATCH(Consommation!$A11&"\\"&TEXT(Consommation!G$1,"JJMMAA"),CleU,0),10),0)-IFERROR(OFFSET('BDD PowerBI'!$A$1,MATCH(Consommation!$A11&"\\"&TEXT(DATE(YEAR(G$1)-1,MONTH(G$1),1),"JJMMAA"),CleU,0),10),0)) -> 0 | H11: =IF(IFERROR(OFFSET('BDD PowerBI'!$A$1,MATCH(Consommation!$A11&"\\"&TEXT(Consommation!H$1,"JJMMAA"),CleU,0),10),0)-IFERROR(OFFSET('BDD PowerBI'!$A$1,MATCH(Consommation!$A11&"\\"&TEXT(DATE(YEAR(H$1)-1,MONTH(H$1),1),"JJMMAA"),CleU,0),10),0)<0,0,IFERROR(OFFSET('BDD PowerBI'!$A$1,MATCH(Consommation!$A11&"\\"&TEXT(Consommation!H$1,"JJMMAA"),CleU,0),10),0)-IFERROR(OFFSET('BDD PowerBI'!$A$1,MATCH(Consommation!$A11&"\\"&TEXT(DATE(YEAR(H$1)-1,MONTH(H$1),1),"JJMMAA"),CleU,0),10),0)) -> 0 | I11: =IF(IFERROR(OFFSET('BDD PowerBI'!$A$1,MATCH(Consommation!$A11&"\\"&TEXT(Consommation!I$1,"JJMMAA"),CleU,0),10),0)-IFERROR(OFFSET('BDD PowerBI'!$A$1,MATCH(Consommation!$A11&"\\"&TEXT(DATE(YEAR(I$1)-1,MONTH(I$1),1),"JJMMAA"),CleU,0),10),0)<0,0,IFERROR(OFFSET('BDD PowerBI'!$A$1,MATCH(Consommation!$A11&"\\"&TEXT(Consommation!I$1,"JJMMAA"),CleU,0),10),0)-IFERROR(OFFSET('BDD PowerBI'!$A$1,MATCH(Consommation!$A11&"\\"&TEXT(DATE(YEAR(I$1)-1,MONTH(I$1),1),"JJMMAA"),CleU,0),10),0)) -> 0 | ... AE11: =IF(IFERROR(OFFSET('BDD PowerBI'!$A$1,MATCH(Consommation!$A11&"\\"&TEXT(Consommation!AE$1,"JJMMAA"),CleU,0),10),0)-IFERROR(OFFSET('BDD PowerBI'!$A$1,MATCH(Consommation!$A11&"\\"&TEXT(DATE(YEAR(AE$1)-1,MONTH(AE$1),1),"JJMMAA"),CleU,0),10),0)<0,0,IFERROR(OFFSET('BDD PowerBI'!$A$1,MATCH(Consommation!$A11&"\\"&TEXT(Consommation!AE$1,"JJMMAA"),CleU,0),10),0)-IFERROR(OFFSET('BDD PowerBI'!$A$1,MATCH(Consommation!$A11&"\\"&TEXT(DATE(YEAR(AE$1)-1,MONTH(AE$1),1),"JJMMAA"),CleU,0),10),0)) -> 0
A12: TGBT_ARM_CLIM_EG_LC_VDI1 | B12: =IF(IFERROR(OFFSET('BDD PowerBI'!$A$1,MATCH(Consommation!$A12&"\\"&TEXT(Consommation!B$1,"JJMMAA"),CleU,0),10),0)-IFERROR(OFFSET('BDD PowerBI'!$A$1,MATCH(Consommation!$A12&"\\"&TEXT(DATE(YEAR(B$1)-1,MONTH(B$1),1),"JJMMAA"),CleU,0),10),0)<0,0,IFERROR(OFFSET('BDD PowerBI'!$A$1,MATCH(Consommation!$A12&"\\"&TEXT(Consommation!B$1,"JJMMAA"),CleU,0),10),0)-IFERROR(OFFSET('BDD PowerBI'!$A$1,MATCH(Consommation!$A12&"\\"&TEXT(DATE(YEAR(B$1)-1,MONTH(B$1),1),"JJMMAA"),CleU,0),10),0)) -> 0 | C12: =IF(IFERROR(OFFSET('BDD PowerBI'!$A$1,MATCH(Consommation!$A12&"\\"&TEXT(Consommation!C$1,"JJMMAA"),CleU,0),10),0)-IFERROR(OFFSET('BDD PowerBI'!$A$1,MATCH(Consommation!$A12&"\\"&TEXT(DATE(YEAR(C$1)-1,MONTH(C$1),1),"JJMMAA"),CleU,0),10),0)<0,0,IFERROR(OFFSET('BDD PowerBI'!$A$1,MATCH(Consommation!$A12&"\\"&TEXT(Consommation!C$1,"JJMMAA"),CleU,0),10),0)-IFERROR(OFFSET('BDD PowerBI'!$A$1,MATCH(Consommation!$A12&"\\"&TEXT(DATE(YEAR(C$1)-1,MONTH(C$1),1),"JJMMAA"),CleU,0),10),0)) -> 0 | D12: =IF(IFERROR(OFFSET('BDD PowerBI'!$A$1,MATCH(Consommation!$A12&"\\"&TEXT(Consommation!D$1,"JJMMAA"),CleU,0),10),0)-IFERROR(OFFSET('BDD PowerBI'!$A$1,MATCH(Consommation!$A12&"\\"&TEXT(DATE(YEAR(D$1)-1,MONTH(D$1),1),"JJMMAA"),CleU,0),10),0)<0,0,IFERROR(OFFSET('BDD PowerBI'!$A$1,MATCH(Consommation!$A12&"\\"&TEXT(Consommation!D$1,"JJMMAA"),CleU,0),10),0)-IFERROR(OFFSET('BDD PowerBI'!$A$1,MATCH(Consommation!$A12&"\\"&TEXT(DATE(YEAR(D$1)-1,MONTH(D$1),1),"JJMMAA"),CleU,0),10),0)) -> 0 | E12: =IF(IFERROR(OFFSET('BDD PowerBI'!$A$1,MATCH(Consommation!$A12&"\\"&TEXT(Consommation!E$1,"JJMMAA"),CleU,0),10),0)-IFERROR(OFFSET('BDD PowerBI'!$A$1,MATCH(Consommation!$A12&"\\"&TEXT(DATE(YEAR(E$1)-1,MONTH(E$1),1),"JJMMAA"),CleU,0),10),0)<0,0,IFERROR(OFFSET('BDD PowerBI'!$A$1,MATCH(Consommation!$A12&"\\"&TEXT(Consommation!E$1,"JJMMAA"),CleU,0),10),0)-IFERROR(OFFSET('BDD PowerBI'!$A$1,MATCH(Consommation!$A12&"\\"&TEXT(DATE(YEAR(E$1)-1,MONTH(E$1),1),"JJMMAA"),CleU,0),10),0)) -> 0 | F12: =IF(IFERROR(OFFSET('BDD PowerBI'!$A$1,MATCH(Consommation!$A12&"\\"&TEXT(Consommation!F$1,"JJMMAA"),CleU,0),10),0)-IFERROR(OFFSET('BDD PowerBI'!$A$1,MATCH(Consommation!$A12&"\\"&TEXT(DATE(YEAR(F$1)-1,MONTH(F$1),1),"JJMMAA"),CleU,0),10),0)<0,0,IFERROR(OFFSET('BDD PowerBI'!$A$1,MATCH(Consommation!$A12&"\\"&TEXT(Consommation!F$1,"JJMMAA"),CleU,0),10),0)-IFERROR(OFFSET('BDD PowerBI'!$A$1,MATCH(Consommation!$A12&"\\"&TEXT(DATE(YEAR(F$1)-1,MONTH(F$1),1),"JJMMAA"),CleU,0),10),0)) -> 0 | G12: =IF(IFERROR(OFFSET('BDD PowerBI'!$A$1,MATCH(Consommation!$A12&"\\"&TEXT(Consommation!G$1,"JJMMAA"),CleU,0),10),0)-IFERROR(OFFSET('BDD PowerBI'!$A$1,MATCH(Consommation!$A12&"\\"&TEXT(DATE(YEAR(G$1)-1,MONTH(G$1),1),"JJMMAA"),CleU,0),10),0)<0,0,IFERROR(OFFSET('BDD PowerBI'!$A$1,MATCH(Consommation!$A12&"\\"&TEXT(Consommation!G$1,"JJMMAA"),CleU,0),10),0)-IFERROR(OFFSET('BDD PowerBI'!$A$1,MATCH(Consommation!$A12&"\\"&TEXT(DATE(YEAR(G$1)-1,MONTH(G$1),1),"JJMMAA"),CleU,0),10),0)) -> 0 | H12: =IF(IFERROR(OFFSET('BDD PowerBI'!$A$1,MATCH(Consommation!$A12&"\\"&TEXT(Consommation!H$1,"JJMMAA"),CleU,0),10),0)-IFERROR(OFFSET('BDD PowerBI'!$A$1,MATCH(Consommation!$A12&"\\"&TEXT(DATE(YEAR(H$1)-1,MONTH(H$1),1),"JJMMAA"),CleU,0),10),0)<0,0,IFERROR(OFFSET('BDD PowerBI'!$A$1,MATCH(Consommation!$A12&"\\"&TEXT(Consommation!H$1,"JJMMAA"),CleU,0),10),0)-IFERROR(OFFSET('BDD PowerBI'!$A$1,MATCH(Consommation!$A12&"\\"&TEXT(DATE(YEAR(H$1)-1,MONTH(H$1),1),"JJMMAA"),CleU,0),10),0)) -> 0 | I12: =IF(IFERROR(OFFSET('BDD PowerBI'!$A$1,MATCH(Consommation!$A12&"\\"&TEXT(Consommation!I$1,"JJMMAA"),CleU,0),10),0)-IFERROR(OFFSET('BDD PowerBI'!$A$1,MATCH(Consommation!$A12&"\\"&TEXT(DATE(YEAR(I$1)-1,MONTH(I$1),1),"JJMMAA"),CleU,0),10),0)<0,0,IFERROR(OFFSET('BDD PowerBI'!$A$1,MATCH(Consommation!$A12&"\\"&TEXT(Consommation!I$1,"JJMMAA"),CleU,0),10),0)-IFERROR(OFFSET('BDD PowerBI'!$A$1,MATCH(Consommation!$A12&"\\"&TEXT(DATE(YEAR(I$1)-1,MONTH(I$1),1),"JJMMAA"),CleU,0),10),0)) -> 0 | ... AE12: =IF(IFERROR(OFFSET('BDD PowerBI'!$A$1,MATCH(Consommation!$A12&"\\"&TEXT(Consommation!AE$1,"JJMMAA"),CleU,0),10),0)-IFERROR(OFFSET('BDD PowerBI'!$A$1,MATCH(Consommation!$A12&"\\"&TEXT(DATE(YEAR(AE$1)-1,MONTH(AE$1),1),"JJMMAA"),CleU,0),10),0)<0,0,IFERROR(OFFSET('BDD PowerBI'!$A$1,MATCH(Consommation!$A12&"\\"&TEXT(Consommation!AE$1,"JJMMAA"),CleU,0),10),0)-IFERROR(OFFSET('BDD PowerBI'!$A$1,MATCH(Consommation!$A12&"\\"&TEXT(DATE(YEAR(AE$1)-1,MONTH(AE$1),1),"JJMMAA"),CleU,0),10),0)) -> 0
