Workbook

Sheet Selection
A3: Select type of profile | B3: Profile experience
A4: Presta 1 | B4: >7 yrs Engineer
B5: =MATCH(B4,'Raw data'!3:3,0) -> 15
A6: Ranking matrix
A8: Position | B8: ligne | C8: {=INDEX('Raw data'!3:3,,Selection!B5)} -> >7 yrs Engineer | D8: Service Center No | E8: Profile number | F8: Service Center | G8: Technical Profile | H8: Supplier Name | I8: Currency Fr | J8: Average price France | K8: Ranking France
A9: 1 | B9: {=MOD(IFERROR(_xlfn.AGGREGATE(15,6,(TRUNC(OFFSET(Tabel1[Service Center No],,$B$5-1,,),2)+ROW(OFFSET(Tabel1[Service Center No],,$B$5-1,,))/100000000)/((OFFSET(Tabel1[Service Center No],,$B$5-1,,)<>0)*(Tabel1[Technical Profile]=$A$4)),A9),0)*100000000,1000000)} -> 5 | C9: {=IF($B9>0,INDEX(OFFSET('Raw data'!A:A,,$B$5-1,,),$B9),"-")} -> 480 | D9: {=IF($B9>0,INDEX('Raw data'!A:A,$B9),"-")} -> 1 | E9: {=IF($B9>0,INDEX('Raw data'!B:B,$B9),"-")} -> 1.1 | F9: {=IF($B9>0,INDEX('Raw data'!C:C,$B9),"-")} -> Service 1 | G9: {=IF($B9>0,INDEX('Raw data'!D:D,$B9),"-")} -> Presta 1 | H9: {=IF($B9>0,INDEX('Raw data'!E:E,$B9),"-")} -> Fournisseur 2 | I9: {=IF($B9>0,INDEX('Raw data'!F:F,$B9),"-")} -> Eur | J9: {=IF($B9>0,INDEX('Raw data'!G:G,$B9),"-")} -> 422.22222 | K9: {=IF($B9>0,INDEX('Raw data'!H:H,$B9),"-")} -> 2
A10: 2 | B10: {=MOD(IFERROR(_xlfn.AGGREGATE(15,6,(TRUNC(OFFSET(Tabel1[Service Center No],,$B$5-1,,),2)+ROW(OFFSET(Tabel1[Service Center No],,$B$5-1,,))/100000000)/((OFFSET(Tabel1[Service Center No],,$B$5-1,,)<>0)*(Tabel1[Technical Profile]=$A$4)),A10),0)*100000000,1000000)} -> 13 | C10: {=IF($B10>0,INDEX(OFFSET('Raw data'!A:A,,$B$5-1,,),$B10),"-")} -> 529.2 | D10: {=IF($B10>0,INDEX('Raw data'!A:A,$B10),"-")} -> 1 | E10: {=IF($B10>0,INDEX('Raw data'!B:B,$B10),"-")} -> 1.1 | F10: {=IF($B10>0,INDEX('Raw data'!C:C,$B10),"-")} -> Service 1 | G10: {=IF($B10>0,INDEX('Raw data'!D:D,$B10),"-")} -> Presta 1 | H10: {=IF($B10>0,INDEX('Raw data'!E:E,$B10),"-")} -> Fournisseur 10 | I10: {=IF($B10>0,INDEX('Raw data'!F:F,$B10),"-")} -> Eur | J10: {=IF($B10>0,INDEX('Raw data'!G:G,$B10),"-")} -> 537.6 | K10: {=IF($B10>0,INDEX('Raw data'!H:H,$B10),"-")} -> 10
A11: 3 | B11: {=MOD(IFERROR(_xlfn.AGGREGATE(15,6,(TRUNC(OFFSET(Tabel1[Service Center No],,$B$5-1,,),2)+ROW(OFFSET(Tabel1[Service Center No],,$B$5-1,,))/100000000)/((OFFSET(Tabel1[Service Center No],,$B$5-1,,)<>0)*(Tabel1[Technical Profile]=$A$4)),A11),0)*100000000,1000000)} -> 6.0000076 | C11: {=IF($B11>0,INDEX(OFFSET('Raw data'!A:A,,$B$5-1,,),$B11),"-")} -> 537 | D11: {=IF($B11>0,INDEX('Raw data'!A:A,$B11),"-")} -> 1 | E11: {=IF($B11>0,INDEX('Raw data'!B:B,$B11),"-")} -> 1.1 | F11: {=IF($B11>0,INDEX('Raw data'!C:C,$B11),"-")} -> Service 1 | G11: {=IF($B11>0,INDEX('Raw data'!D:D,$B11),"-")} -> Presta 1 | H11: {=IF($B11>0,INDEX('Raw data'!E:E,$B11),"-")} -> Fournisseur 3 | I11: {=IF($B11>0,INDEX('Raw data'!F:F,$B11),"-")} -> Eur | J11: {=IF($B11>0,INDEX('Raw data'!G:G,$B11),"-")} -> 476.09333 | K11: {=IF($B11>0,INDEX('Raw data'!H:H,$B11),"-")} -> 3
A12: 4 | B12: {=MOD(IFERROR(_xlfn.AGGREGATE(15,6,(TRUNC(OFFSET(Tabel1[Service Center No],,$B$5-1,,),2)+ROW(OFFSET(Tabel1[Service Center No],,$B$5-1,,))/100000000)/((OFFSET(Tabel1[Service Center No],,$B$5-1,,)<>0)*(Tabel1[Technical Profile]=$A$4)),A12),0)*100000000,1000000)} -> 7.9999924 | C12: {=IF($B12>0,INDEX(OFFSET('Raw data'!A:A,,$B$5-1,,),$B12),"-")} -> 572 | D12: {=IF($B12>0,INDEX('Raw data'!A:A,$B12),"-")} -> 1 | E12: {=IF($B12>0,INDEX('Raw data'!B:B,$B12),"-")} -> 1.1 | F12: {=IF($B12>0,INDEX('Raw data'!C:C,$B12),"-")} -> Service 1 | G12: {=IF($B12>0,INDEX('Raw data'!D:D,$B12),"-")} -> Presta 1 | H12: {=IF($B12>0,INDEX('Raw data'!E:E,$B12),"-")} -> Fournisseur 4 | I12: {=IF($B12>0,INDEX('Raw data'!F:F,$B12),"-")} -> Eur | J12: {=IF($B12>0,INDEX('Raw data'!G:G,$B12),"-")} -> 478.53556 | K12: {=IF($B12>0,INDEX('Raw data'!H:H,$B12),"-")} -> 4
A13: 5 | B13: {=MOD(IFERROR(_xlfn.AGGREGATE(15,6,(TRUNC(OFFSET(Tabel1[Service Center No],,$B$5-1,,),2)+ROW(OFFSET(Tabel1[Service Center No],,$B$5-1,,))/100000000)/((OFFSET(Tabel1[Service Center No],,$B$5-1,,)<>0)*(Tabel1[Technical Profile]=$A$4)),A13),0)*100000000,1000000)} -> 11 | C13: {=IF($B13>0,INDEX(OFFSET('Raw data'!A:A,,$B$5-1,,),$B13),"-")} -> 540 | D13: {=IF($B13>0,INDEX('Raw data'!A:A,$B13),"-")} -> 1 | E13: {=IF($B13>0,INDEX('Raw data'!B:B,$B13),"-")} -> 1.1 | F13: {=IF($B13>0,INDEX('Raw data'!C:C,$B13),"-")} -> Service 1 | G13: {=IF($B13>0,INDEX('Raw data'!D:D,$B13),"-")} -> Presta 1 | H13: {=IF($B13>0,INDEX('Raw data'!E:E,$B13),"-")} -> Fournisseur 8 | I13: {=IF($B13>0,INDEX('Raw data'!F:F,$B13),"-")} -> Eur | J13: {=IF($B13>0,INDEX('Raw data'!G:G,$B13),"-")} -> 511.66667 | K13: {=IF($B13>0,INDEX('Raw data'!H:H,$B13),"-")} -> 8
A14: 6 | B14: {=MOD(IFERROR(_xlfn.AGGREGATE(15,6,(TRUNC(OFFSET(Tabel1[Service Center No],,$B$5-1,,),2)+ROW(OFFSET(Tabel1[Service Center No],,$B$5-1,,))/100000000)/((OFFSET(Tabel1[Service Center No],,$B$5-1,,)<>0)*(Tabel1[Technical Profile]=$A$4)),A14),0)*100000000,1000000)} -> 12 | C14: {=IF($B14>0,INDEX(OFFSET('Raw data'!A:A,,$B$5-1,,),$B14),"-")} -> 540 | D14: {=IF($B14>0,INDEX('Raw data'!A:A,$B14),"-")} -> 1 | E14: {=IF($B14>0,INDEX('Raw data'!B:B,$B14),"-")} -> 1.1 | F14: {=IF($B14>0,INDEX('Raw data'!C:C,$B14),"-")} -> Service 1 | G14: {=IF($B14>0,INDEX('Raw data'!D:D,$B14),"-")} -> Presta 1 | H14: {=IF($B14>0,INDEX('Raw data'!E:E,$B14),"-")} -> Fournisseur 9 | I14: {=IF($B14>0,INDEX('Raw data'!F:F,$B14),"-")} -> Eur | J14: {=IF($B14>0,INDEX('Raw data'!G:G,$B14),"-")} -> 533.33333 | K14: {=IF($B14>0,INDEX('Raw data'!H:H,$B14),"-")} -> 9
A15: 7 | B15: {=MOD(IFERROR(_xlfn.AGGREGATE(15,6,(TRUNC(OFFSET(Tabel1[Service Center No],,$B$5-1,,),2)+ROW(OFFSET(Tabel1[Service Center No],,$B$5-1,,))/100000000)/((OFFSET(Tabel1[Service Center No],,$B$5-1,,)<>0)*(Tabel1[Technical Profile]=$A$4)),A15),0)*100000000,1000000)} -> 8.9999924 | C15: {=IF($B15>0,INDEX(OFFSET('Raw data'!A:A,,$B$5-1,,),$B15),"-")} -> 540 | D15: {=IF($B15>0,INDEX('Raw data'!A:A,$B15),"-")} -> 1 | E15: {=IF($B15>0,INDEX('Raw data'!B:B,$B15),"-")} -> 1.1 | F15: {=IF($B15>0,INDEX('Raw data'!C:C,$B15),"-")} -> Service 1 | G15: {=IF($B15>0,INDEX('Raw data'!D:D,$B15),"-")} -> Presta 1 | H15: {=IF($B15>0,INDEX('Raw data'!E:E,$B15),"-")} -> Fournisseur 5 | I15: {=IF($B15>0,INDEX('Raw data'!F:F,$B15),"-")} -> Eur | J15: {=IF($B15>0,INDEX('Raw data'!G:G,$B15),"-")} -> 485.7 | K15: {=IF($B15>0,INDEX('Raw data'!H:H,$B15),"-")} -> 5
A16: 8 | B16: {=MOD(IFERROR(_xlfn.AGGREGATE(15,6,(TRUNC(OFFSET(Tabel1[Service Center No],,$B$5-1,,),2)+ROW(OFFSET(Tabel1[Service Center No],,$B$5-1,,))/100000000)/((OFFSET(Tabel1[Service Center No],,$B$5-1,,)<>0)*(Tabel1[Technical Profile]=$A$4)),A16),0)*100000000,1000000)} -> 10 | C16: {=IF($B16>0,INDEX(OFFSET('Raw data'!A:A,,$B$5-1,,),$B16),"-")} -> 570 | D16: {=IF($B16>0,INDEX('Raw data'!A:A,$B16),"-")} -> 1 | E16: {=IF($B16>0,INDEX('Raw data'!B:B,$B16),"-")} -> 1.1 | F16: {=IF($B16>0,INDEX('Raw data'!C:C,$B16),"-")} -> Service 1 | G16: {=IF($B16>0,INDEX('Raw data'!D:D,$B16),"-")} -> Presta 1 | H16: {=IF($B16>0,INDEX('Raw data'!E:E,$B16),"-")} -> Fournisseur 7 | I16: {=IF($B16>0,INDEX('Raw data'!F:F,$B16),"-")} -> Eur | J16: {=IF($B16>0,INDEX('Raw data'!G:G,$B16),"-")} -> 501.66667 | K16: {=IF($B16>0,INDEX('Raw data'!H:H,$B16),"-")} -> 7
A17: 9 | B17: {=MOD(IFERROR(_xlfn.AGGREGATE(15,6,(TRUNC(OFFSET(Tabel1[Service Center No],,$B$5-1,,),2)+ROW(OFFSET(Tabel1[Service Center No],,$B$5-1,,))/100000000)/((OFFSET(Tabel1[Service Center No],,$B$5-1,,)<>0)*(Tabel1[Technical Profile]=$A$4)),A17),0)*100000000,1000000)} -> 7.0000076 | C17: {=IF($B17>0,INDEX(OFFSET('Raw data'!A:A,,$B$5-1,,),$B17),"-")} -> 572 | D17: {=IF($B17>0,INDEX('Raw data'!A:A,$B17),"-")} -> 1 | E17: {=IF($B17>0,INDEX('Raw data'!B:B,$B17),"-")} -> 1.1 | F17: {=IF($B17>0,INDEX('Raw data'!C:C,$B17),"-")} -> Service 1 | G17: {=IF($B17>0,INDEX('Raw data'!D:D,$B17),"-")} -> Presta 1 | H17: {=IF($B17>0,INDEX('Raw data'!E:E,$B17),"-")} -> Fournisseur 4 | I17: {=IF($B17>0,INDEX('Raw data'!F:F,$B17),"-")} -> Eur | J17: {=IF($B17>0,INDEX('Raw data'!G:G,$B17),"-")} -> 478.53556 | K17: {=IF($B17>0,INDEX('Raw data'!H:H,$B17),"-")} -> 4
A18: 10 | B18: {=MOD(IFERROR(_xlfn.AGGREGATE(15,6,(TRUNC(OFFSET(Tabel1[Service Center No],,$B$5-1,,),2)+ROW(OFFSET(Tabel1[Service Center No],,$B$5-1,,))/100000000)/((OFFSET(Tabel1[Service Center No],,$B$5-1,,)<>0)*(Tabel1[Technical Profile]=$A$4)),A18),0)*100000000,1000000)} -> 14 | C18: {=IF($B18>0,INDEX(OFFSET('Raw data'!A:A,,$B$5-1,,),$B18),"-")} -> 620 | D18: {=IF($B18>0,INDEX('Raw data'!A:A,$B18),"-")} -> 1 | E18: {=IF($B18>0,INDEX('Raw data'!B:B,$B18),"-")} -> 1.1 | F18: {=IF($B18>0,INDEX('Raw data'!C:C,$B18),"-")} -> Service 1 | G18: {=IF($B18>0,INDEX('Raw data'!D:D,$B18),"-")} -> Presta 1 | H18: {=IF($B18>0,INDEX('Raw data'!E:E,$B18),"-")} -> Fournisseur 11 | I18: {=IF($B18>0,INDEX('Raw data'!F:F,$B18),"-")} -> Eur | J18: {=IF($B18>0,INDEX('Raw data'!G:G,$B18),"-")} -> 601.66667 | K18: {=IF($B18>0,INDEX('Raw data'!H:H,$B18),"-")} -> 11
A19: 11 | B19: {=MOD(IFERROR(_xlfn.AGGREGATE(15,6,(TRUNC(OFFSET(Tabel1[Service Center No],,$B$5-1,,),2)+ROW(OFFSET(Tabel1[Service Center No],,$B$5-1,,))/100000000)/((OFFSET(Tabel1[Service Center No],,$B$5-1,,)<>0)*(Tabel1[Technical Profile]=$A$4)),A19),0)*100000000,1000000)} -> 15 | C19: {=IF($B19>0,INDEX(OFFSET('Raw data'!A:A,,$B$5-1,,),$B19),"-")} -> 624 | D19: {=IF($B19>0,INDEX('Raw data'!A:A,$B19),"-")} -> 1 | E19: {=IF($B19>0,INDEX('Raw data'!B:B,$B19),"-")} -> 1.1 | F19: {=IF($B19>0,INDEX('Raw data'!C:C,$B19),"-")} -> Service 1 | G19: {=IF($B19>0,INDEX('Raw data'!D:D,$B19),"-")} -> Presta 1 | H19: {=IF($B19>0,INDEX('Raw data'!E:E,$B19),"-")} -> Fournisseur 12 | I19: {=IF($B19>0,INDEX('Raw data'!F:F,$B19),"-")} -> Eur | J19: {=IF($B19>0,INDEX('Raw data'!G:G,$B19),"-")} -> 621.33333 | K19: {=IF($B19>0,INDEX('Raw data'!H:H,$B19),"-")} -> 12
A20: 12 | B20: {=MOD(IFERROR(_xlfn.AGGREGATE(15,6,(TRUNC(OFFSET(Tabel1[Service Center No],,$B$5-1,,),2)+ROW(OFFSET(Tabel1[Service Center No],,$B$5-1,,))/100000000)/((OFFSET(Tabel1[Service Center No],,$B$5-1,,)<>0)*(Tabel1[Technical Profile]=$A$4)),A20),0)*100000000,1000000)} -> 0 | C20: {=IF($B20>0,INDEX(OFFSET('Raw data'!A:A,,$B$5-1,,),$B20),"-")} -> - | D20: {=IF($B20>0,INDEX('Raw data'!A:A,$B20),"-")} -> - | E20: {=IF($B20>0,INDEX('Raw data'!B:B,$B20),"-")} -> - | F20: {=IF($B20>0,INDEX('Raw data'!C:C,$B20),"-")} -> - | G20: {=IF($B20>0,INDEX('Raw data'!D:D,$B20),"-")} -> - | H20: {=IF($B20>0,INDEX('Raw data'!E:E,$B20),"-")} -> - | I20: {=IF($B20>0,INDEX('Raw data'!F:F,$B20),"-")} -> - | J20: {=IF($B20>0,INDEX('Raw data'!G:G,$B20),"-")} -> - | K20: {=IF($B20>0,INDEX('Raw data'!H:H,$B20),"-")} -> -
... A24: 16 | B24: {=MOD(IFERROR(_xlfn.AGGREGATE(15,6,(TRUNC(OFFSET(Tabel1[Service Center No],,$B$5-1,,),2)+ROW(OFFSET(Tabel1[Service Center No],,$B$5-1,,))/100000000)/((OFFSET(Tabel1[Service Center No],,$B$5-1,,)<>0)*(Tabel1[Technical Profile]=$A$4)),A24),0)*100000000,1000000)} -> 0 | C24: {=IF($B24>0,INDEX(OFFSET('Raw data'!A:A,,$B$5-1,,),$B24),"-")} -> - | D24: {=IF($B24>0,INDEX('Raw data'!A:A,$B24),"-")} -> - | E24: {=IF($B24>0,INDEX('Raw data'!B:B,$B24),"-")} -> - | F24: {=IF($B24>0,INDEX('Raw data'!C:C,$B24),"-")} -> - | G24: {=IF($B24>0,INDEX('Raw data'!D:D,$B24),"-")} -> - | H24: {=IF($B24>0,INDEX('Raw data'!E:E,$B24),"-")} -> - | I24: {=IF($B24>0,INDEX('Raw data'!F:F,$B24),"-")} -> - | J24: {=IF($B24>0,INDEX('Raw data'!G:G,$B24),"-")} -> - | K24: {=IF($B24>0,INDEX('Raw data'!H:H,$B24),"-")} -> -

Sheet Raw data
A3: Service Center No | B3: Profile number | C3: Service Center | D3: Technical Profile | E3: Supplier Name | F3: Currency Fr | G3: Average price France | H3: Ranking France | I3: <3 yrs exp | J3: > 3 yrs exp | K3: >10 yrs exp | L3: <4 yrs Engineer 1 | M3: <4 yrs Engineer 2 | N3: > 4 yrs Engineer | O3: >7 yrs Engineer | P3: >15 yrs Engineer | Q3: >20 yrs Engineer
A4: 1 | B4: 1.1 | C4: Service 1 | D4: Presta 1 | E4: Fournisseur 1 | F4: Eur | G4: =IFERROR(AVERAGE(I4:Q4),"No value") -> 68.333333 | H4: 1 | L4: 65 | M4: =L4 -> 65 | N4: 75
A5: 1 | B5: 1.1 | C5: Service 1 | D5: Presta 1 | E5: Fournisseur 2 | F5: Eur | G5: =IFERROR(AVERAGE(I5:Q5),"No value") -> 422.22222 | H5: =IF(B5=B4,H4+1,1) -> 2 | I5: 300 | J5: 340 | K5: 400 | L5: 390 | M5: =L5 -> 390 | N5: 440 | O5: 480 | P5: 515 | Q5: 545
A6: 1 | B6: 1.1 | C6: Service 1 | D6: Presta 1 | E6: Fournisseur 3 | F6: Eur | G6: =IFERROR(AVERAGE(I6:Q6),"No value") -> 476.09333 | H6: =IF(B6=B5,H5+1,1) -> 3 | I6: 323 | J6: 411 | K6: 466 | L6: 423 | M6: =L6*1.08 -> 456.84 | N6: 470 | O6: 537 | P6: 580 | Q6: 618
A7: 1 | B7: 1.1 | C7: Service 1 | D7: Presta 1 | E7: Fournisseur 4 | F7: Eur | G7: =IFERROR(AVERAGE(I7:Q7),"No value") -> 478.53556 | H7: =IF(B7=B6,H6+1,1) -> 4 | I7: 305 | J7: 377.65 | K7: 412 | L7: 405 | M7: 457.65 | N7: 512 | O7: 572 | P7: 617.76 | Q7: 647.76
A8: 1 | B8: 1.1 | C8: Service 1 | D8: Presta 1 | E8: Fournisseur 5 | F8: Eur | G8: =IFERROR(AVERAGE(I8:Q8),"No value") -> 485.7 | H8: =IF(B8=B7,H7+1,1) -> 5 | I8: 332.1 | J8: 365.4 | K8: 432 | L8: 415.8 | M8: =L8 -> 415.8 | N8: 457.2 | O8: 540 | P8: 665.1 | Q8: 747.9
A9: 1 | B9: 1.1 | C9: Service 1 | D9: Presta 1 | E9: Fournisseur 6 | F9: Eur | G9: =IFERROR(AVERAGE(I9:Q9),"No value") -> 501 | H9: =IF(B9=B8,H8+1,1) -> 6 | L9: 435 | M9: =L9 -> 435 | N9: 495 | O9: 545 | P9: 595
A10: 1 | B10: 1.1 | C10: Service 1 | D10: Presta 1 | E10: Fournisseur 7 | F10: Eur | G10: =IFERROR(AVERAGE(I10:Q10),"No value") -> 501.66667 | H10: =IF(B10=B9,H9+1,1) -> 7 | I10: 360 | J10: 400 | K10: 475 | L10: 440 | M10: =L10 -> 440 | N10: 500 | O10: 570 | P10: 630 | Q10: 700
A11: 1 | B11: 1.1 | C11: Service 1 | D11: Presta 1 | E11: Fournisseur 8 | F11: Eur | G11: =IFERROR(AVERAGE(I11:Q11),"No value") -> 511.66667 | H11: =IF(B11=B10,H10+1,1) -> 8 | L11: 410 | M11: =L11 -> 410 | N11: 450 | O11: 540 | P11: 610 | Q11: 650
A12: 1 | B12: 1.1 | C12: Service 1 | D12: Presta 1 | E12: Fournisseur 9 | F12: Eur | G12: =IFERROR(AVERAGE(I12:Q12),"No value") -> 533.33333 | H12: =IF(B12=B11,H11+1,1) -> 9 | L12: 420 | M12: =L12 -> 420 | N12: 490 | O12: 540 | P12: 630 | Q12: 700
A13: 1 | B13: 1.1 | C13: Service 1 | D13: Presta 1 | E13: Fournisseur 10 | F13: Eur | G13: =IFERROR(AVERAGE(I13:Q13),"No value") -> 537.6 | H13: =IF(B13=B12,H12+1,1) -> 10 | L13: 441 | M13: =L13 -> 441 | N13: 491.4 | O13: 529.2 | P13: 630 | Q13: 693
A14: 1 | B14: 1.1 | C14: Service 1 | D14: Presta 1 | E14: Fournisseur 11 | F14: Eur | G14: =IFERROR(AVERAGE(I14:Q14),"No value") -> 601.66667 | H14: =IF(B14=B13,H13+1,1) -> 11 | L14: 445 | M14: =L14 -> 445 | N14: 530 | O14: 620 | P14: 730 | Q14: 840
A15: 1 | B15: 1.1 | C15: Service 1 | D15: Presta 1 | E15: Fournisseur 12 | F15: Eur | G15: =IFERROR(AVERAGE(I15:Q15),"No value") -> 621.33333 | H15: =IF(B15=B14,H14+1,1) -> 12 | L15: 504 | M15: =L15 -> 504 | N15: 576 | O15: 624 | P15: 728 | Q15: 792
A16: 1 | B16: 1.1 | C16: Service 1 | D16: Presta 1 | E16: Fournisseur 13 | F16: Eur | G16: =IFERROR(AVERAGE(I16:Q16),"No value") -> No value | H16: =IF(B16=B15,H15+1,1) -> 13
A17: 1 | B17: 1.1 | C17: Service 1 | D17: Presta 1 | E17: Fournisseur 14 | F17: Eur | G17: =IFERROR(AVERAGE(I17:Q17),"No value") -> No value | H17: =IF(B17=B16,H16+1,1) -> 14
A18: 1 | B18: 1.1 | C18: Service 1 | D18: Presta 1 | E18: Fournisseur 15 | F18: Eur | G18: =IFERROR(AVERAGE(I18:Q18),"No value") -> No value | H18: =IF(B18=B17,H17+1,1) -> 15
A19: 1 | B19: 1.1 | C19: Service 1 | D19: Presta 1 | E19: Fournisseur 16 | F19: Eur | G19: =IFERROR(AVERAGE(I19:Q19),"No value") -> No value | H19: =IF(B19=B18,H18+1,1) -> 16
A20: 1 | B20: 1.2 | C20: Service 2 | D20: Presta 2 | E20: Fournisseur 1 | F20: Eur | G20: =IFERROR(AVERAGE(I20:Q20),"No value") -> 68.333333 | H20: =IF(B20=B19,H19+1,1) -> 1 | L20: 65 | M20: =L20 -> 65 | N20: 75
A21: 1 | B21: 1.2 | C21: Service 2 | D21: Presta 2 | E21: Fournisseur 2 | F21: Eur | G21: =IFERROR(AVERAGE(I21:Q21),"No value") -> 422.22222 | H21: =IF(B21=B20,H20+1,1) -> 2 | I21: 300 | J21: 340 | K21: 400 | L21: 390 | M21: =L21 -> 390 | N21: 440 | O21: 480 | P21: 515 | Q21: 545
A22: 1 | B22: 1.2 | C22: Service 2 | D22: Presta 2 | E22: Fournisseur 8 | F22: Eur | G22: =IFERROR(AVERAGE(I22:Q22),"No value") -> 447.22222 | H22: =IF(B22=B21,H21+1,1) -> 3 | I22: 275 | J22: 310 | K22: 370 | L22: 410 | M22: =L22 -> 410 | N22: 450 | O22: 540 | P22: 610 | Q22: 650
A23: 1 | B23: 1.2 | C23: Service 2 | D23: Presta 2 | E23: Fournisseur 3 | F23: Eur | G23: =IFERROR(AVERAGE(I23:Q23),"No value") -> 476.09333 | H23: =IF(B23=B22,H22+1,1) -> 4 | I23: 323 | J23: 411 | K23: 466 | L23: 423 | M23: =L23*1.08 -> 456.84 | N23: 470 | O23: 537 | P23: 580 | Q23: 618
A24: 1 | B24: 1.2 | C24: Service 2 | D24: Presta 2 | E24: Fournisseur 4 | F24: Eur | G24: =IFERROR(AVERAGE(I24:Q24),"No value") -> 485.46098 | H24: =IF(B24=B23,H23+1,1) -> 5 | I24: 310 | J24: 384 | K24: 419.68 | L24: 410 | M24: 464 | N24: 519.68 | O24: 579.68 | P24: 626.0544 | Q24: 656.0544
A25: 1 | B25: 1.2 | C25: Service 2 | D25: Presta 2 | E25: Fournisseur 5 | F25: Eur | G25: =IFERROR(AVERAGE(I25:Q25),"No value") -> 485.7 | H25: =IF(B25=B24,H24+1,1) -> 6 | I25: 332.1 | J25: 365.4 | K25: 432 | L25: 415.8 | M25: =L25 -> 415.8 | N25: 457.2 | O25: 540 | P25: 665.1 | Q25: 747.9
A26: 1 | B26: 1.2 | C26: Service 2 | D26: Presta 2 | E26: Fournisseur 6 | F26: Eur | G26: =IFERROR(AVERAGE(I26:Q26),"No value") -> 501 | H26: =IF(B26=B25,H25+1,1) -> 7 | L26: 435 | M26: =L26 -> 435 | N26: 495 | O26: 545 | P26: 595
A27: 1 | B27: 1.2 | C27: Service 2 | D27: Presta 2 | E27: Fournisseur 7 | F27: Eur | G27: =IFERROR(AVERAGE(I27:Q27),"No value") -> 501.66667 | H27: =IF(B27=B26,H26+1,1) -> 8 | I27: 360 | J27: 400 | K27: 475 | L27: 440 | M27: =L27 -> 440 | N27: 500 | O27: 570 | P27: 630 | Q27: 700
A28: 1 | B28: 1.2 | C28: Service 2 | D28: Presta 2 | E28: Fournisseur 9 | F28: Eur | G28: =IFERROR(AVERAGE(I28:Q28),"No value") -> 533.33333 | H28: =IF(B28=B27,H27+1,1) -> 9 | L28: 420 | M28: =L28 -> 420 | N28: 490 | O28: 540 | P28: 630 | Q28: 700
A29: 1 | B29: 1.2 | C29: Service 2 | D29: Presta 2 | E29: Fournisseur 14 | F29: Eur | G29: =IFERROR(AVERAGE(I29:Q29),"No value") -> 533.8 | H29: =IF(B29=B28,H28+1,1) -> 10 | J29: 440 | L29: 486 | M29: =L29 -> 486 | N29: 541 | O29: 716
A30: 1 | B30: 1.2 | C30: Service 2 | D30: Presta 2 | E30: Fournisseur 10 | F30: Eur | G30: =IFERROR(AVERAGE(I30:Q30),"No value") -> 537.6 | H30: =IF(B30=B29,H29+1,1) -> 11 | L30: 441 | M30: =L30 -> 441 | N30: 491.4 | O30: 529.2 | P30: 630 | Q30: 693
A31: 1 | B31: 1.2 | C31: Service 2 | D31: Presta 2 | E31: Fournisseur 11 | F31: Eur | G31: =IFERROR(AVERAGE(I31:Q31),"No value") -> 601.66667 | H31: =IF(B31=B30,H30+1,1) -> 12 | L31: 445 | M31: =L31 -> 445 | N31: 530 | O31: 620 | P31: 730 | Q31: 840
A32: 1 | B32: 1.2 | C32: Service 2 | D32: Presta 2 | E32: Fournisseur 12 | F32: Eur | G32: =IFERROR(AVERAGE(I32:Q32),"No value") -> 621.33333 | H32: =IF(B32=B31,H31+1,1) -> 13 | L32: 504 | M32: =L32 -> 504 | N32: 576 | O32: 624 | P32: 728 | Q32: 792
A33: 1 | B33: 1.2 | C33: Service 2 | D33: Presta 2 | E33: Fournisseur 13 | F33: Eur | G33: =IFERROR(AVERAGE(I33:Q33),"No value") -> No value | H33: =IF(B33=B32,H32+1,1) -> 14
A34: 1 | B34: 1.2 | C34: Service 2 | D34: Presta 2 | E34: Fournisseur 15 | F34: Eur | G34: =IFERROR(AVERAGE(I34:Q34),"No value") -> No value | H34: =IF(B34=B33,H33+1,1) -> 15
A35: 1 | B35: 1.2 | C35: Service 2 | D35: Presta 2 | E35: Fournisseur 16 | F35: Eur | G35: =IFERROR(AVERAGE(I35:Q35),"No value") -> No value | H35: =IF(B35=B34,H34+1,1) -> 16

Sheet Liste
G2: <3 yrs exp
A3: Presta 1 | G3: > 3 yrs exp
A4: Presta 2 | G4: >10 yrs exp
G5: <4 yrs Engineer 1
G6: <4 yrs Engineer 2
G7: > 4 yrs Engineer
G8: >7 yrs Engineer
G9: >15 yrs Engineer
G10: >20 yrs Engineer

Sheet Selection (2)
A3: Select type of profile | B3: Profile experience
A4: Presta 1 | B4: >20 yrs Engineer
A6: Ranking matrix
A8: Position | B8: Supplier name | C8: Average price | D8: Best price
A9: 1 | C9: =SUMIFS('Raw data'!G:G,'Raw data'!H:H,'Selection (2)'!A9,'Raw data'!D:D,'Selection (2)'!$A$4) -> 68.333333
A10: 2 | C10: =SUMIFS('Raw data'!G:G,'Raw data'!H:H,'Selection (2)'!A10,'Raw data'!D:D,'Selection (2)'!$A$4) -> 422.22222
A11: 3 | C11: =SUMIFS('Raw data'!G:G,'Raw data'!H:H,'Selection (2)'!A11,'Raw data'!D:D,'Selection (2)'!$A$4) -> 476.09333
A12: 4 | C12: =SUMIFS('Raw data'!G:G,'Raw data'!H:H,'Selection (2)'!A12,'Raw data'!D:D,'Selection (2)'!$A$4) -> 478.53556
A13: 5 | C13: =SUMIFS('Raw data'!G:G,'Raw data'!H:H,'Selection (2)'!A13,'Raw data'!D:D,'Selection (2)'!$A$4) -> 485.7
A14: 6 | C14: =SUMIFS('Raw data'!G:G,'Raw data'!H:H,'Selection (2)'!A14,'Raw data'!D:D,'Selection (2)'!$A$4) -> 501
A15: 7 | C15: =SUMIFS('Raw data'!G:G,'Raw data'!H:H,'Selection (2)'!A15,'Raw data'!D:D,'Selection (2)'!$A$4) -> 501.66667
A16: 8 | C16: =SUMIFS('Raw data'!G:G,'Raw data'!H:H,'Selection (2)'!A16,'Raw data'!D:D,'Selection (2)'!$A$4) -> 511.66667
A17: 9 | C17: =SUMIFS('Raw data'!G:G,'Raw data'!H:H,'Selection (2)'!A17,'Raw data'!D:D,'Selection (2)'!$A$4) -> 533.33333
A18: 10 | C18: =SUMIFS('Raw data'!G:G,'Raw data'!H:H,'Selection (2)'!A18,'Raw data'!D:D,'Selection (2)'!$A$4) -> 537.6
A19: 11 | C19: =SUMIFS('Raw data'!G:G,'Raw data'!H:H,'Selection (2)'!A19,'Raw data'!D:D,'Selection (2)'!$A$4) -> 601.66667
A20: 12 | C20: =SUMIFS('Raw data'!G:G,'Raw data'!H:H,'Selection (2)'!A20,'Raw data'!D:D,'Selection (2)'!$A$4) -> 621.33333
... A24: 16 | C24: =SUMIFS('Raw data'!G:G,'Raw data'!H:H,'Selection (2)'!A24,'Raw data'!D:D,'Selection (2)'!$A$4) -> 0
