Workbook

Sheet Feuil1
A1: ORIGINE \ DESTINATION | B1: 78240 AIGREMONT | C1: 92160 ANTONY | D1: 95270 ASNIERES SUR OISE | E1: 78610 AUFFARGIS | F1: 95430 AUVERS SUR OISE | G1: 77700 BAILLY ROMAINVILLIERS | H1: 55000 BAR-LE-DUC | I1: 78390 BOIS D'ARCY | J1: 95000 CERGY-VILLAGE | K1: 60230 CHAMBLY | L1: 91160 CHAMPLAN | M1: 55120 CLERMONT EN ARGONNE | N1: 91520 EGLY | O1: 78990 ELANCOURT | P1: 57365 ENNERY | Q1: 51201 EPERNAY CEDEX | R1: 54710 FLEVILLE DEVANT NANCY | S1: 91640 FONTENAY LES BRIIS | T1: 95130 FRANCONVILLE | U1: 94260 FRESNES | V1: 91940 GOMETZ LE CHÂTEL | W1: 77880 Grez sur Loing | X1: 78580 LES ALLUETS LE ROI | Y1: 57740 LONGEVILLE L. SAINT AVOLD | Z1: 95380 LOUVRES | AA1: 54710 LUDRES | AB1: 91460 MARCOUSSIS | AC1: 94440 MAROLLES EN BRIE | AD1: 78310 Maurepas | AE1: 67700 MONSWILLER | AF1: 77120 MOUROUX | AG1: 77330 OZOIR LA FERRIERE | AH1: 78370 PLAISIR | AI1: 78300 POISSY | AJ1: 77160 PROVINS | AK1: 57430 SARRALBE | AL1: 57400 SARREBOURG | AM1: 77170 SERVON | AN1: 77140 ST PIERRE LES NEMOURS | AO1: 77400 ST. THIBAULT DES VIGNES | AP1: 94370 SUCY EN BRIE | AQ1: 77006 VAUX LE PENIL CEDEX | AR1: 54840 VELAINE EN HAYE
A2: 78240 AIGREMONT | B2: 1000 | C2: 45331 | D2: 59427 | E2: 42396 | F2: 32758 | G2: 80318 | H2: 289111 | I2: 28247 | J2: 26724 | K2: 46590 | L2: 57149 | M2: 276772 | N2: 72101 | O2: 21269 | P2: 365849 | Q2: 188018 | R2: 447028 | S2: 61283 | T2: 33675 | U2: 45154 | V2: 57073 | W2: 117663 | X2: 12163 | Y2: 407113 | Z2: 58763 | AA2: 437012 | AB2: 58005 | AC2: 64453 | AD2: 33668 | AE2: 486420 | AF2: 95821 | AG2: 74245 | AH2: 19813 | AI2: 10825 | AJ2: 129461 | AK2: 440442 | AL2: 489666 | AM2: 78431 | AN2: 114505 | AO2: 71290 | AP2: 62229 | AQ2: 109083 | AR2: 439889
A3: 92160 ANTONY | B3: 46523 | C3: 1000 | D3: 71976 | E3: 70442 | F3: 52777 | G3: 51742 | H3: 260535 | I3: 28198 | J3: 61921 | K3: 81541 | L3: 7308 | M3: 248196 | N3: 26331 | O3: 32963 | P3: 337273 | Q3: 159442 | R3: 426401 | S3: 25449 | T3: 40634 | U3: 4676 | V3: 20781 | W3: 76496 | X3: 46925 | Y3: 378537 | Z3: 54510 | AA3: 416385 | AB3: 16678 | AC3: 27239 | AD3: 37575 | AE3: 457844 | AF3: 67245 | AG3: 45669 | AH3: 32692 | AI3: 48918 | AJ3: 100885 | AK3: 411866 | AL3: 461090 | AM3: 30809 | AN3: 73338 | AO3: 42714 | AP3: 25015 | AQ3: 67916 | AR3: 398722
A4: 95270 ASNIERES SUR OISE | B4: 58531 | C4: 70875 | D4: 1000 | E4: 92926 | F4: 32035 | G4: 74845 | H4: 283638 | I4: 73118 | J4: 47350 | K4: 11291 | L4: 73800 | M4: 271299 | N4: 89314 | O4: 83542 | P4: 360376 | Q4: 182545 | R4: 441555 | S4: 88432 | T4: 41046 | U4: 67237 | V4: 83764 | W4: 134322 | X4: 66350 | Y4: 401640 | Z4: 24756 | AA4: 431539 | AB4: 79661 | AC4: 69134 | AD4: 78539 | AE4: 480947 | AF4: 90348 | AG4: 71639 | AH4: 83271 | AI4: 51787 | AJ4: 130651 | AK4: 434969 | AL4: 484193 | AM4: 75825 | AN4: 131164 | AO4: 57146 | AP4: 66910 | AQ4: 116535 | AR4: 425582
A5: 78610 AUFFARGIS | B5: 40199 | C5: 41189 | D5: 93452 | E5: 1000 | F5: 61637 | G5: 86056 | H5: 294849 | I5: 20622 | J5: 55597 | K5: 75469 | L5: 65910 | M5: 282510 | N5: 37202 | O5: 15979 | P5: 371587 | Q5: 193756 | R5: 477315 | S5: 27969 | T5: 69318 | U5: 41012 | V5: 24932 | W5: 127466 | X5: 43932 | Y5: 412851 | Z5: 75986 | AA5: 467299 | AB5: 31292 | AC5: 63575 | AD5: 10010 | AE5: 492158 | AF5: 101559 | AG5: 112494 | AH5: 20468 | AI5: 42594 | AJ5: 167710 | AK5: 446180 | AL5: 495404 | AM5: 100903 | AN5: 124308 | AO5: 77028 | AP5: 61351 | AQ5: 118830 | AR5: 450945
A6: 95430 AUVERS SUR OISE | B6: 32564 | C6: 52187 | D6: 33341 | E6: 64408 | F6: 1000 | G6: 82766 | H6: 291559 | I6: 47151 | J6: 21383 | K6: 20504 | L6: 69587 | M6: 279220 | N6: 78957 | O6: 51916 | P6: 368297 | Q6: 190466 | R6: 449476 | S6: 68139 | T6: 15083 | U6: 63024 | V6: 63929 | W6: 130109 | X6: 40383 | Y6: 409561 | Z6: 32677 | AA6: 439460 | AB6: 75448 | AC6: 64921 | AD6: 52572 | AE6: 488868 | AF6: 98269 | AG6: 67426 | AH6: 51645 | AI6: 25820 | AJ6: 138572 | AK6: 442890 | AL6: 492114 | AM6: 71612 | AN6: 126951 | AO6: 65067 | AP6: 62697 | AQ6: 124456 | AR6: 433503
A7: 77700 BAILLY ROMAINVILLIERS | B7: 77743 | C7: 50590 | D7: 73571 | E7: 86176 | F7: 82031 | G7: 1000 | H7: 213594 | I7: 72027 | J7: 79536 | K7: 83136 | L7: 58347 | M7: 201255 | N7: 82498 | O7: 76792 | P7: 290332 | Q7: 112501 | R7: 371511 | S7: 72979 | T7: 59793 | U7: 46952 | V7: 68311 | W7: 107586 | X7: 81476 | Y7: 331596 | Z7: 53068 | AA7: 361495 | AB7: 64208 | AC7: 40793 | AD7: 77448 | AE7: 410903 | AF7: 18099 | AG7: 22217 | AH7: 76521 | AI7: 80138 | AJ7: 60616 | AK7: 364925 | AL7: 414149 | AM7: 35982 | AN7: 104428 | AO7: 20757 | AP7: 45435 | AQ7: 72896 | AR7: 355538
A8: 55000 BAR-LE-DUC | B8: 289145 | C8: 261992 | D8: 284973 | E8: 297578 | F8: 293433 | G8: 215767 | H8: 1000 | I8: 283429 | J8: 290938 | K8: 294538 | L8: 269749 | M8: 51386 | N8: 293900 | O8: 288194 | P8: 126289 | Q8: 117768 | R8: 117434 | S8: 284381 | T8: 271195 | U8: 258354 | V8: 279713 | W8: 293811 | X8: 292878 | Y8: 167553 | Z8: 264470 | AA8: 107418 | AB8: 275610 | AC8: 252195 | AD8: 288850 | AE8: 211251 | AF8: 216032 | AG8: 243198 | AH8: 287923 | AI8: 291540 | AJ8: 171736 | AK8: 200882 | AL8: 181359 | AM8: 247384 | AN8: 296501 | AO8: 232159 | AP8: 256837 | AQ8: 281911 | AR8: 89755
A9: 78390 BOIS D'ARCY | B9: 26411 | C9: 27174 | D9: 79664 | E9: 20545 | F9: 47849 | G9: 72268 | H9: 281061 | I9: 1000 | J9: 41809 | K9: 61681 | L9: 38295 | M9: 268722 | N9: 54093 | O9: 7310 | P9: 357799 | Q9: 179968 | R9: 448722 | S9: 43275 | T9: 55530 | U9: 26997 | V9: 39065 | W9: 98817 | X9: 21272 | Y9: 399063 | Z9: 62198 | AA9: 438706 | AB9: 39997 | AC9: 49560 | AD9: 11817 | AE9: 478370 | AF9: 87771 | AG9: 66195 | AH9: 7039 | AI9: 28806 | AJ9: 121411 | AK9: 432392 | AL9: 481616 | AM9: 53130 | AN9: 95659 | AO9: 63240 | AP9: 47336 | AQ9: 90237 | AR9: 421043
A10: 95000 CERGY-VILLAGE | B10: 26385 | C10: 61152 | D10: 48039 | E10: 55141 | F10: 21370 | G10: 80858 | H10: 297357 | I10: 40992 | J10: 1000 | K10: 35202 | L10: 76946 | M10: 285018 | N10: 83242 | O10: 45757 | P10: 374095 | Q10: 196264 | R10: 455274 | S10: 72424 | T10: 21865 | U10: 70383 | V10: 68214 | W10: 137468 | X10: 34204 | Y10: 415359 | Z10: 47375 | AA10: 445258 | AB10: 69146 | AC10: 72280 | AD10: 46413 | AE10: 494666 | AF10: 96361 | AG10: 74785 | AH10: 45486 | AI10: 19641 | AJ10: 141947 | AK10: 448688 | AL10: 497912 | AM10: 78971 | AN10: 134310 | AO10: 70865 | AP10: 70056 | AQ10: 114445 | AR10: 439301
A11: 60230 CHAMBLY | B11: 45946 | C11: 79115 | D11: 33660 | E11: 74682 | F11: 19450 | G11: 83085 | H11: 291878 | I11: 60533 | J11: 34765 | K11: 1000 | L11: 82040 | M11: 279539 | N11: 97554 | O11: 65298 | P11: 368616 | Q11: 190785 | R11: 449795 | S11: 96672 | T11: 28461 | U11: 75477 | V11: 92004 | W11: 142562 | X11: 53765 | Y11: 409880 | Z11: 32996 | AA11: 439779 | AB11: 87901 | AC11: 77374 | AD11: 65954 | AE11: 489187 | AF11: 98588 | AG11: 79879 | AH11: 65027 | AI11: 39202 | AJ11: 138891 | AK11: 443209 | AL11: 492433 | AM11: 84065 | AN11: 139404 | AO11: 65386 | AP11: 75150 | AQ11: 124775 | AR11: 433822
A12: 91160 CHAMPLAN | B12: 52950 | C12: 7785 | D12: 72109 | E12: 65524 | F12: 80569 | G12: 56706 | H12: 265499 | I12: 29191 | J12: 65953 | K12: 81674 | L12: 1000 | M12: 253160 | N12: 30867 | O12: 33956 | P12: 342237 | Q12: 164406 | R12: 420579 | S12: 20531 | T12: 54615 | U12: 10974 | V12: 15863 | W12: 70674 | X12: 56683 | Y12: 383501 | Z12: 54643 | AA12: 410563 | AB12: 18009 | AC12: 31686 | AD12: 72971 | AE12: 462808 | AF12: 72209 | AG12: 55758 | AH12: 33685 | AI12: 55345 | AJ12: 110974 | AK12: 416830 | AL12: 466054 | AM12: 44167 | AN12: 67516 | AO12: 47678 | AP12: 29462 | AQ12: 62094 | AR12: 392900
A13: 55120 CLERMONT EN ARGONNE | B13: 274531 | C13: 247378 | D13: 270359 | E13: 282964 | F13: 278819 | G13: 201153 | H13: 46399 | I13: 268815 | J13: 276324 | K13: 279924 | L13: 255135 | M13: 1000 | N13: 279286 | O13: 273580 | P13: 96199 | Q13: 103154 | R13: 177378 | S13: 269767 | T13: 256581 | U13: 243740 | V13: 265099 | W13: 304874 | X13: 278264 | Y13: 137463 | Z13: 249856 | AA13: 167362 | AB13: 260996 | AC13: 237581 | AD13: 274236 | AE13: 216770 | AF13: 201418 | AG13: 228584 | AH13: 273309 | AI13: 276926 | AJ13: 186317 | AK13: 170792 | AL13: 220016 | AM13: 232770 | AN13: 307564 | AO13: 217545 | AP13: 242223 | AQ13: 292974 | AR13: 161405
... A44: 54840 VELAINE EN HAYE | B44: 436204 | C44: 397853 | D44: 369538 | E44: 448094 | F44: 377998 | G44: 300332 | H44: 74771 | I44: 420993 | J44: 444259 | K44: 379103 | L44: 394019 | M44: 162121 | N44: 398704 | O44: 425758 | P44: 79915 | Q44: 202333 | R44: 31596 | S44: 403149 | T44: 355760 | U44: 394215 | V44: 403015 | W44: 363029 | X44: 439937 | Y44: 104483 | Z44: 349035 | AA44: 21580 | AB44: 404405 | AC44: 374401 | AD44: 455541 | AE44: 125413 | AF44: 240596 | AG44: 381181 | AH44: 425487 | AI44: 438599 | AJ44: 228149 | AK44: 137812 | AL44: 95521 | AM44: 369590 | AN44: 365719 | AO44: 316724 | AP44: 379043 | AQ44: 351129 | AR44: 1000

Sheet Route
A1: alea | B1: rang(=ligne-1) | C1: colonne | D1: ville | E1: distance | F1: temps de route | G1: temps arrivée | I1: départ | J1: 0.33333333
A2: =RAND() -> 0.86034304 | B2: =RANK(A2,$A$2:$A$44) -> 7 | C2: =MATCH(D2,Feuil1!$1:$1,0) -> 8 | D2: {=INDEX(Feuil1!A:A,Route!B2+1)} -> 55000 BAR-LE-DUC | G2: =+J1 -> 0.33333333 | I2: délai livraison | J2: 0.0034722222
A3: =RAND() -> 0.72047546 | B3: =RANK(A3,$A$2:$A$44) -> 15 | C3: =MATCH(D3,Feuil1!$1:$1,0) -> 16 | D3: {=INDEX(Feuil1!A:A,Route!B3+1)} -> 57365 ENNERY | E3: {=INDEX(Feuil1!$A$1:$AR$44,$B3+1,$C2)/1000} -> 121.364 | F3: =+E3/70/24 -> 0.072240476 | G3: =+G2+F3+IF(ROW()>3,$J$2,0) -> 0.40557381
A4: =RAND() -> 0.81260786 | B4: =RANK(A4,$A$2:$A$44) -> 10 | C4: =MATCH(D4,Feuil1!$1:$1,0) -> 11 | D4: {=INDEX(Feuil1!A:A,Route!B4+1)} -> 60230 CHAMBLY | E4: {=INDEX(Feuil1!$A$1:$AR$44,$B4+1,$C3)/1000} -> 368.616 | F4: =+E4/70/24 -> 0.21941429 | G4: =+G3+F4+IF(ROW()>3,$J$2,0) -> 0.62846032
A5: =RAND() -> 0.69308841 | B5: =RANK(A5,$A$2:$A$44) -> 16 | C5: =MATCH(D5,Feuil1!$1:$1,0) -> 17 | D5: {=INDEX(Feuil1!A:A,Route!B5+1)} -> 51201 EPERNAY CEDEX | E5: {=INDEX(Feuil1!$A$1:$AR$44,$B5+1,$C4)/1000} -> 185.803 | F5: =+E5/70/24 -> 0.11059702 | G5: =+G4+F5+IF(ROW()>3,$J$2,0) -> 0.74252956
A6: =RAND() -> 0.67099813 | B6: =RANK(A6,$A$2:$A$44) -> 18 | C6: =MATCH(D6,Feuil1!$1:$1,0) -> 19 | D6: {=INDEX(Feuil1!A:A,Route!B6+1)} -> 91640 FONTENAY LES BRIIS | E6: {=INDEX(Feuil1!$A$1:$AR$44,$B6+1,$C5)/1000} -> 194.216 | F6: =+E6/70/24 -> 0.11560476 | G6: =+G5+F6+IF(ROW()>3,$J$2,0) -> 0.86160655
A7: =RAND() -> 0.82616439 | B7: =RANK(A7,$A$2:$A$44) -> 9 | C7: =MATCH(D7,Feuil1!$1:$1,0) -> 10 | D7: {=INDEX(Feuil1!A:A,Route!B7+1)} -> 95000 CERGY-VILLAGE | E7: {=INDEX(Feuil1!$A$1:$AR$44,$B7+1,$C6)/1000} -> 72.424 | F7: =+E7/70/24 -> 0.043109524 | G7: =+G6+F7+IF(ROW()>3,$J$2,0) -> 0.90818829
A8: =RAND() -> 0.23753712 | B8: =RANK(A8,$A$2:$A$44) -> 37 | C8: =MATCH(D8,Feuil1!$1:$1,0) -> 38 | D8: {=INDEX(Feuil1!A:A,Route!B8+1)} -> 57400 SARREBOURG | E8: {=INDEX(Feuil1!$A$1:$AR$44,$B8+1,$C7)/1000} -> 487.699 | F8: =+E8/70/24 -> 0.29029702 | G8: =+G7+F8+IF(ROW()>3,$J$2,0) -> 1.2019575
A9: =RAND() -> 0.46785361 | B9: =RANK(A9,$A$2:$A$44) -> 26 | C9: =MATCH(D9,Feuil1!$1:$1,0) -> 27 | D9: {=INDEX(Feuil1!A:A,Route!B9+1)} -> 54710 LUDRES | E9: {=INDEX(Feuil1!$A$1:$AR$44,$B9+1,$C8)/1000} -> 81.035 | F9: =+E9/70/24 -> 0.048235119 | G9: =+G8+F9+IF(ROW()>3,$J$2,0) -> 1.2536649
A10: =RAND() -> 0.79912417 | B10: =RANK(A10,$A$2:$A$44) -> 12 | C10: =MATCH(D10,Feuil1!$1:$1,0) -> 13 | D10: {=INDEX(Feuil1!A:A,Route!B10+1)} -> 55120 CLERMONT EN ARGONNE | E10: {=INDEX(Feuil1!$A$1:$AR$44,$B10+1,$C9)/1000} -> 167.362 | F10: =+E10/70/24 -> 0.099620238 | G10: =+G9+F10+IF(ROW()>3,$J$2,0) -> 1.3567573
A11: =RAND() -> 0.91056508 | B11: =RANK(A11,$A$2:$A$44) -> 4 | C11: =MATCH(D11,Feuil1!$1:$1,0) -> 5 | D11: {=INDEX(Feuil1!A:A,Route!B11+1)} -> 78610 AUFFARGIS | E11: {=INDEX(Feuil1!$A$1:$AR$44,$B11+1,$C10)/1000} -> 282.51 | F11: =+E11/70/24 -> 0.16816071 | G11: =+G10+F11+IF(ROW()>3,$J$2,0) -> 1.5283903
A12: =RAND() -> 0.66502635 | B12: =RANK(A12,$A$2:$A$44) -> 19 | C12: =MATCH(D12,Feuil1!$1:$1,0) -> 20 | D12: {=INDEX(Feuil1!A:A,Route!B12+1)} -> 95130 FRANCONVILLE | E12: {=INDEX(Feuil1!$A$1:$AR$44,$B12+1,$C11)/1000} -> 56.81 | F12: =+E12/70/24 -> 0.033815476 | G12: =+G11+F12+IF(ROW()>3,$J$2,0) -> 1.565678
A13: =RAND() -> 0.44821182 | B13: =RANK(A13,$A$2:$A$44) -> 27 | C13: =MATCH(D13,Feuil1!$1:$1,0) -> 28 | D13: {=INDEX(Feuil1!A:A,Route!B13+1)} -> 91460 MARCOUSSIS | E13: {=INDEX(Feuil1!$A$1:$AR$44,$B13+1,$C12)/1000} -> 50.704 | F13: =+E13/70/24 -> 0.030180952 | G13: =+G12+F13+IF(ROW()>3,$J$2,0) -> 1.5993312
A14: =RAND() -> 0.8455074 | B14: =RANK(A14,$A$2:$A$44) -> 8 | C14: =MATCH(D14,Feuil1!$1:$1,0) -> 9 | D14: {=INDEX(Feuil1!A:A,Route!B14+1)} -> 78390 BOIS D'ARCY | E14: {=INDEX(Feuil1!$A$1:$AR$44,$B14+1,$C13)/1000} -> 39.997 | F14: =+E14/70/24 -> 0.023807738 | G14: =+G13+F14+IF(ROW()>3,$J$2,0) -> 1.6266111
... A21: =RAND() -> 0.097492871 | B21: =RANK(A21,$A$2:$A$44) -> 43 | C21: =MATCH(D21,Feuil1!$1:$1,0) -> 44 | D21: {=INDEX(Feuil1!A:A,Route!B21+1)} -> 54840 VELAINE EN HAYE | E21: {=INDEX(Feuil1!$A$1:$AR$44,$B21+1,$C20)/1000} -> 379.043 | F21: =+E21/70/24 -> 0.22562083 | G21: =+G20+F21+IF(ROW()>3,$J$2,0) -> 2.5018446
A22: =RAND() -> 0.53295955 | B22: =RANK(A22,$A$2:$A$44) -> 23
A23: =RAND() -> 0.95616708 | B23: =RANK(A23,$A$2:$A$44) -> 2
A24: =RAND() -> 0.9221943 | B24: =RANK(A24,$A$2:$A$44) -> 3
A25: =RAND() -> 0.39541347 | B25: =RANK(A25,$A$2:$A$44) -> 28
A26: =RAND() -> 0.18511694 | B26: =RANK(A26,$A$2:$A$44) -> 39
A27: =RAND() -> 0.88430157 | B27: =RANK(A27,$A$2:$A$44) -> 6
A28: =RAND() -> 0.36883557 | B28: =RANK(A28,$A$2:$A$44) -> 32
A29: =RAND() -> 0.27588586 | B29: =RANK(A29,$A$2:$A$44) -> 35
A30: =RAND() -> 0.56366249 | B30: =RANK(A30,$A$2:$A$44) -> 20
A31: =RAND() -> 0.69240129 | B31: =RANK(A31,$A$2:$A$44) -> 17
A32: =RAND() -> 0.32092577 | B32: =RANK(A32,$A$2:$A$44) -> 33
A33: =RAND() -> 0.53488139 | B33: =RANK(A33,$A$2:$A$44) -> 22
... A44: =RAND() -> 0.55124998 | B44: =RANK(A44,$A$2:$A$44) -> 21
